Workbook

Sheet FTE - Diff FTE Rates
A1: FTE Estimator for Changing FTE Rates
A2: ="For the Month of: "&TEXT(A15,"MMMM")
G6: BOX 1
F7: Month Selector: | G7: March
A8: Schedule
A9: Monday | B9: Tuesday | C9: Wednesday | D9: Thursday | E9: Friday | F9: Saturday | G9: Sunday
A11: 2 | B11: 3 | C11: 4 | D11: 5 | E11: 6 | F11: 7 | G11: 1
A13: Count of Work Days in Month
A14: Month Start | B14: Month End | G14: Work Days
A15: =VLOOKUP(G7,'Month Table'!A:C,2,0) | B15: =VLOOKUP(G7,'Month Table'!A2:C14,3,0) | G15: =IFERROR(NETWORKDAYS(A15,B15,'2022 Holidays'!$B$6:$B$12),"Date Issue - Check")
A16: FTE, Days Worked and Base for Corresponding FTE (BOX 2)
A17: FTE Date Start | B17: FTE Date End | C17: FTE for Period | D17: Monthly Base ($) | F17: FTE Days Worked | G17: Adj Days
A18: 44621 | B18: 44625 | C18: 0 | D18: 0 | F18: =IF(C18=0,0,IFERROR(NETWORKDAYS(A18,B18,'2022 Holidays'!$B$6:$B$12),"Date Issue - Check")) | G18: =C18*F18
A19: 44625 | B19: 44651 | C19: 0.8 | D19: 10202.5 | F19: =IFERROR(NETWORKDAYS(A19,B19,'2022 Holidays'!$B$6:$B$12),"Date Issue - Check") | G19: =C19*F19
A20: Subtotal | F20: =SUM(F18:F19) | G20: =SUM(G18:G19)
A22: FTE Rate: | F22: Base ($) Target
A23: =G20/G15 | F23: =(D18/G15*F18)+(D19/G15*F19)
A28: Instructions:
A29: Only fill out fields that are highlighted in yellow
A31: -BOX1: Select the Month.
A32: -BOX2: -Enter the date ranges for the worked FTE rates.
A33: -Monthly Base is the amount paid if worked for a full month in that respective FTE rate.
A34: -Calculates FTE Worked Days is the days the person worked at that FTE rate.

Sheet FTE - Static FTE
B1: FTE Calculator: No Changes in FTE Rate During Month
B2: ="For the Month of: "&TEXT(B17,"MMMM")
F4: Month Selector: | H4: January
G5: FTE: | H5: Monthly Base:
G6: 0.8 | H6: 2000
B7: Working Days
B8: Mon | C8: Tue | D8: Wed | E8: Thur | F8: Fri | G8: Sat | H8: Sun
B9: Yes | C9: Yes | D9: Yes | E9: Yes | F9: No | G9: No | H9: No
B13: ="Schedule Type: "&COUNTIF(B9:H9,"Yes")&"-Day Work Week"
B15: Number of Days in Month ( BOX 1)
B16: Month Start | C16: Month End | F16: Days Count | G16: FTE ADJ: Days | H16: Est. Daily Base PMT
B17: =VLOOKUP(H4,'Month Table'!A2:C14,2,0) | C17: =VLOOKUP(H4,'Month Table'!A2:C14,3,0) | F17: =IFERROR(NETWORKDAYS(B17,C17,'2022 Holidays'!$B$6:$B$12),"Date Issue - Check") | G17: =F17*G6 | H17: =H6/G17
B20: Days Worked ( BOX 2)
B21: Start Date | C21: End Date | F21: Days Count | G21: FTE ADJ: Days | H21: Target
B22: 44573 | C22: 44592 | F22: =IFERROR(NETWORKDAYS(B22,C22,'2022 Holidays'!$B$6:$B$12),"Date Issue - Check") | G22: =F22*G6 | H22: =G22*H17 | K22: - Looking for a formula in this field G17 and G22 that would calculate the number of workdays between 01/12/2022 and
J23: 01/31/2022 counting only Monday Tuesday Wednesday and Thursday. Based off the dropdowns seen in line 9.
B24: FTE Rate: | F24: FTE Rate:
B25: =G22/G17 | F25: =H22
B30: Instructions:
B31: Only fill out fields that are highlighted in yellow
B33: -BOX1: Enter the date ranges of the selected Months.
B34: -BOX2: Enter the date ranges of when the provider started and the end of the month.

Sheet Month Table
A2: Month | B2: Start of Month | C2: End of Month
A3: January | B3: 44562 | C3: =EOMONTH(B3,0)
A4: February | B4: 44593 | C4: =EOMONTH(B4,0)
A5: March | B5: 44621 | C5: =EOMONTH(B5,0)
A6: April | B6: 44652 | C6: =EOMONTH(B6,0)
A7: May | B7: 44682 | C7: =EOMONTH(B7,0)
A8: June | B8: 44713 | C8: =EOMONTH(B8,0)
A9: July | B9: 44743 | C9: =EOMONTH(B9,0)
A10: August | B10: 44774 | C10: =EOMONTH(B10,0)
A11: September | B11: 44805 | C11: =EOMONTH(B11,0)
A12: October | B12: 44835 | C12: =EOMONTH(B12,0)
A13: November | B13: 44866 | C13: =EOMONTH(B13,0)
A14: December | B14: 44896 | C14: =EOMONTH(B14,0)
