Workbook

Sheet Raw
A1: Associate | B1: Title | C1: Supervisor | D1: Helper
A3: [Person_1] | B3: Technician | C3: [Person_2] | D3: =IF(C3="",99,CODE(C3)+CODE(MID(C3,2,1))/100+CODE(MID(C3,3,1))/1000+ROW()/10^10)
A4: [Person_3] | B4: Technician | C4: [Person_4] | D4: =IF(C4="",99,CODE(C4)+CODE(MID(C4,2,1))/100+CODE(MID(C4,3,1))/1000+ROW()/10^10)
A5: [Person_5] | B5: Technician | C5: [Person_6] | D5: =IF(C5="",99,CODE(C5)+CODE(MID(C5,2,1))/100+CODE(MID(C5,3,1))/1000+ROW()/10^10)
A6: [Person_7] | B6: Technician | C6: [Person_8] | D6: =IF(C6="",99,CODE(C6)+CODE(MID(C6,2,1))/100+CODE(MID(C6,3,1))/1000+ROW()/10^10)
D7: =IF(C7="",99,CODE(C7)+CODE(MID(C7,2,1))/100+CODE(MID(C7,3,1))/1000+ROW()/10^10)
A8: [Person_9] | B8: Technician | C8: [Person_4] | D8: =IF(C8="",99,CODE(C8)+CODE(MID(C8,2,1))/100+CODE(MID(C8,3,1))/1000+ROW()/10^10)
A9: [Person_10] | B9: Technician | C9: [Person_2] | D9: =IF(C9="",99,CODE(C9)+CODE(MID(C9,2,1))/100+CODE(MID(C9,3,1))/1000+ROW()/10^10)
A10: [Person_11] | B10: Technician | C10: [Person_12] | D10: =IF(C10="",99,CODE(C10)+CODE(MID(C10,2,1))/100+CODE(MID(C10,3,1))/1000+ROW()/10^10)
A11: [Person_13] | B11: Technician | C11: [Person_14] | D11: =IF(C11="",99,CODE(C11)+CODE(MID(C11,2,1))/100+CODE(MID(C11,3,1))/1000+ROW()/10^10)
A12: [Person_15] | B12: Technician | C12: [Person_16] | D12: =IF(C12="",99,CODE(C12)+CODE(MID(C12,2,1))/100+CODE(MID(C12,3,1))/1000+ROW()/10^10)
A13: [Person_17] | B13: Technician | C13: [Person_16] | D13: =IF(C13="",99,CODE(C13)+CODE(MID(C13,2,1))/100+CODE(MID(C13,3,1))/1000+ROW()/10^10)
A14: [Person_18] | B14: Technician | C14: [Person_2] | D14: =IF(C14="",99,CODE(C14)+CODE(MID(C14,2,1))/100+CODE(MID(C14,3,1))/1000+ROW()/10^10)
D15: =IF(C15="",99,CODE(C15)+CODE(MID(C15,2,1))/100+CODE(MID(C15,3,1))/1000+ROW()/10^10)
A16: [Person_19] | B16: Technician | C16: [Person_6] | D16: =IF(C16="",99,CODE(C16)+CODE(MID(C16,2,1))/100+CODE(MID(C16,3,1))/1000+ROW()/10^10)
A17: [Person_20] | B17: Technician | C17: [Person_6] | D17: =IF(C17="",99,CODE(C17)+CODE(MID(C17,2,1))/100+CODE(MID(C17,3,1))/1000+ROW()/10^10)
A18: [Person_21] | B18: Technician | C18: [Person_22] | D18: =IF(C18="",99,CODE(C18)+CODE(MID(C18,2,1))/100+CODE(MID(C18,3,1))/1000+ROW()/10^10)
A19: Britney Chitwood | B19: Technician | C19: [Person_6] | D19: =IF(C19="",99,CODE(C19)+CODE(MID(C19,2,1))/100+CODE(MID(C19,3,1))/1000+ROW()/10^10)
A20: [Person_23] | B20: Technician | C20: [Person_16] | D20: =IF(C20="",99,CODE(C20)+CODE(MID(C20,2,1))/100+CODE(MID(C20,3,1))/1000+ROW()/10^10)
A21: [Person_24] | B21: Technician | C21: [Person_2] | D21: =IF(C21="",99,CODE(C21)+CODE(MID(C21,2,1))/100+CODE(MID(C21,3,1))/1000+ROW()/10^10)
D22: =IF(C22="",99,CODE(C22)+CODE(MID(C22,2,1))/100+CODE(MID(C22,3,1))/1000+ROW()/10^10)
D23: =IF(C23="",99,CODE(C23)+CODE(MID(C23,2,1))/100+CODE(MID(C23,3,1))/1000+ROW()/10^10)
A24: [Person_25] | B24: Technician | C24: [Person_6] | D24: =IF(C24="",99,CODE(C24)+CODE(MID(C24,2,1))/100+CODE(MID(C24,3,1))/1000+ROW()/10^10)
A25: Terrence Reese | B25: Technician | C25: [Person_12] | D25: =IF(C25="",99,CODE(C25)+CODE(MID(C25,2,1))/100+CODE(MID(C25,3,1))/1000+ROW()/10^10)
D26: =IF(C26="",99,CODE(C26)+CODE(MID(C26,2,1))/100+CODE(MID(C26,3,1))/1000+ROW()/10^10)
A27: [Person_26] | B27: Technician | C27: [Person_22] | D27: =IF(C27="",99,CODE(C27)+CODE(MID(C27,2,1))/100+CODE(MID(C27,3,1))/1000+ROW()/10^10)
A28: [Person_27] | B28: Technician | C28: [Person_6] | D28: =IF(C28="",99,CODE(C28)+CODE(MID(C28,2,1))/100+CODE(MID(C28,3,1))/1000+ROW()/10^10)
A29: [Person_28] May | B29: Technician | C29: [Person_14] | D29: =IF(C29="",99,CODE(C29)+CODE(MID(C29,2,1))/100+CODE(MID(C29,3,1))/1000+ROW()/10^10)
A30: [Person_29] | B30: Technician | C30: [Person_12] | D30: =IF(C30="",99,CODE(C30)+CODE(MID(C30,2,1))/100+CODE(MID(C30,3,1))/1000+ROW()/10^10)
D31: =IF(C31="",99,CODE(C31)+CODE(MID(C31,2,1))/100+CODE(MID(C31,3,1))/1000+ROW()/10^10)
D32: =IF(C32="",99,CODE(C32)+CODE(MID(C32,2,1))/100+CODE(MID(C32,3,1))/1000+ROW()/10^10)
A33: [Person_30] | B33: Technician | C33: [Person_16] | D33: =IF(C33="",99,CODE(C33)+CODE(MID(C33,2,1))/100+CODE(MID(C33,3,1))/1000+ROW()/10^10)
A34: [Person_31] | B34: Technician | C34: [Person_16] | D34: =IF(C34="",99,CODE(C34)+CODE(MID(C34,2,1))/100+CODE(MID(C34,3,1))/1000+ROW()/10^10)
D35: =IF(C35="",99,CODE(C35)+CODE(MID(C35,2,1))/100+CODE(MID(C35,3,1))/1000+ROW()/10^10)
A36: [Person_32] | B36: Technician | C36: [Person_22] | D36: =IF(C36="",99,CODE(C36)+CODE(MID(C36,2,1))/100+CODE(MID(C36,3,1))/1000+ROW()/10^10)
A37: [Person_33] | B37: Technician | C37: [Person_6] | D37: =IF(C37="",99,CODE(C37)+CODE(MID(C37,2,1))/100+CODE(MID(C37,3,1))/1000+ROW()/10^10)
D38: =IF(C38="",99,CODE(C38)+CODE(MID(C38,2,1))/100+CODE(MID(C38,3,1))/1000+ROW()/10^10)
A39: [Person_34] | B39: Technician | C39: [Person_14] | D39: =IF(C39="",99,CODE(C39)+CODE(MID(C39,2,1))/100+CODE(MID(C39,3,1))/1000+ROW()/10^10)
A40: [Person_35] | B40: Technician | C40: [Person_4] | D40: =IF(C40="",99,CODE(C40)+CODE(MID(C40,2,1))/100+CODE(MID(C40,3,1))/1000+ROW()/10^10)
A41: [Person_36] | B41: Technician | C41: [Person_6] | D41: =IF(C41="",99,CODE(C41)+CODE(MID(C41,2,1))/100+CODE(MID(C41,3,1))/1000+ROW()/10^10)
...

Sheet Output
A1: Order number | B1: Associate | C1: Title | D1: Supervisor
A3: {=IF(MAX($A$2:A2)+1<MAX(RANK(Raw!$D$3:$D$135,Raw!$D$3:$D$135,1)),A2+1,"")} | B3: =IF($A3="","",LOOKUP(2,1/(RANK(Raw!$D$3:$D$135,Raw!$D$3:$D$135,1)=$A3),Raw!A$3:A$135)) | C3: =IF($A3="","",LOOKUP(2,1/(RANK(Raw!$D$3:$D$135,Raw!$D$3:$D$135,1)=$A3),Raw!B$3:B$135)) | D3: =IF($A3="","",LOOKUP(2,1/(RANK(Raw!$D$3:$D$135,Raw!$D$3:$D$135,1)=$A3),Raw!C$3:C$135))
A4: {=IF(MAX($A$2:A3)+1<MAX(RANK(Raw!$D$3:$D$135,Raw!$D$3:$D$135,1)),A3+1,"")} | B4: =IF($A4="","",LOOKUP(2,1/(RANK(Raw!$D$3:$D$135,Raw!$D$3:$D$135,1)=$A4),Raw!A$3:A$135)) | C4: =IF($A4="","",LOOKUP(2,1/(RANK(Raw!$D$3:$D$135,Raw!$D$3:$D$135,1)=$A4),Raw!B$3:B$135)) | D4: =IF($A4="","",LOOKUP(2,1/(RANK(Raw!$D$3:$D$135,Raw!$D$3:$D$135,1)=$A4),Raw!C$3:C$135))
A5: {=IF(MAX($A$2:A4)+1<MAX(RANK(Raw!$D$3:$D$135,Raw!$D$3:$D$135,1)),A4+1,"")} | B5: =IF($A5="","",LOOKUP(2,1/(RANK(Raw!$D$3:$D$135,Raw!$D$3:$D$135,1)=$A5),Raw!A$3:A$135)) | C5: =IF($A5="","",LOOKUP(2,1/(RANK(Raw!$D$3:$D$135,Raw!$D$3:$D$135,1)=$A5),Raw!B$3:B$135)) | D5: =IF($A5="","",LOOKUP(2,1/(RANK(Raw!$D$3:$D$135,Raw!$D$3:$D$135,1)=$A5),Raw!C$3:C$135))
A6: {=IF(MAX($A$2:A5)+1<MAX(RANK(Raw!$D$3:$D$135,Raw!$D$3:$D$135,1)),A5+1,"")} | B6: =IF($A6="","",LOOKUP(2,1/(RANK(Raw!$D$3:$D$135,Raw!$D$3:$D$135,1)=$A6),Raw!A$3:A$135)) | C6: =IF($A6="","",LOOKUP(2,1/(RANK(Raw!$D$3:$D$135,Raw!$D$3:$D$135,1)=$A6),Raw!B$3:B$135)) | D6: =IF($A6="","",LOOKUP(2,1/(RANK(Raw!$D$3:$D$135,Raw!$D$3:$D$135,1)=$A6),Raw!C$3:C$135))
A7: {=IF(MAX($A$2:A6)+1<MAX(RANK(Raw!$D$3:$D$135,Raw!$D$3:$D$135,1)),A6+1,"")} | B7: =IF($A7="","",LOOKUP(2,1/(RANK(Raw!$D$3:$D$135,Raw!$D$3:$D$135,1)=$A7),Raw!A$3:A$135)) | C7: =IF($A7="","",LOOKUP(2,1/(RANK(Raw!$D$3:$D$135,Raw!$D$3:$D$135,1)=$A7),Raw!B$3:B$135)) | D7: =IF($A7="","",LOOKUP(2,1/(RANK(Raw!$D$3:$D$135,Raw!$D$3:$D$135,1)=$A7),Raw!C$3:C$135))
A8: {=IF(MAX($A$2:A7)+1<MAX(RANK(Raw!$D$3:$D$135,Raw!$D$3:$D$135,1)),A7+1,"")} | B8: =IF($A8="","",LOOKUP(2,1/(RANK(Raw!$D$3:$D$135,Raw!$D$3:$D$135,1)=$A8),Raw!A$3:A$135)) | C8: =IF($A8="","",LOOKUP(2,1/(RANK(Raw!$D$3:$D$135,Raw!$D$3:$D$135,1)=$A8),Raw!B$3:B$135)) | D8: =IF($A8="","",LOOKUP(2,1/(RANK(Raw!$D$3:$D$135,Raw!$D$3:$D$135,1)=$A8),Raw!C$3:C$135))
A9: {=IF(MAX($A$2:A8)+1<MAX(RANK(Raw!$D$3:$D$135,Raw!$D$3:$D$135,1)),A8+1,"")} | B9: =IF($A9="","",LOOKUP(2,1/(RANK(Raw!$D$3:$D$135,Raw!$D$3:$D$135,1)=$A9),Raw!A$3:A$135)) | C9: =IF($A9="","",LOOKUP(2,1/(RANK(Raw!$D$3:$D$135,Raw!$D$3:$D$135,1)=$A9),Raw!B$3:B$135)) | D9: =IF($A9="","",LOOKUP(2,1/(RANK(Raw!$D$3:$D$135,Raw!$D$3:$D$135,1)=$A9),Raw!C$3:C$135))
A10: {=IF(MAX($A$2:A9)+1<MAX(RANK(Raw!$D$3:$D$135,Raw!$D$3:$D$135,1)),A9+1,"")} | B10: =IF($A10="","",LOOKUP(2,1/(RANK(Raw!$D$3:$D$135,Raw!$D$3:$D$135,1)=$A10),Raw!A$3:A$135)) | C10: =IF($A10="","",LOOKUP(2,1/(RANK(Raw!$D$3:$D$135,Raw!$D$3:$D$135,1)=$A10),Raw!B$3:B$135)) | D10: =IF($A10="","",LOOKUP(2,1/(RANK(Raw!$D$3:$D$135,Raw!$D$3:$D$135,1)=$A10),Raw!C$3:C$135))
A11: {=IF(MAX($A$2:A10)+1<MAX(RANK(Raw!$D$3:$D$135,Raw!$D$3:$D$135,1)),A10+1,"")} | B11: =IF($A11="","",LOOKUP(2,1/(RANK(Raw!$D$3:$D$135,Raw!$D$3:$D$135,1)=$A11),Raw!A$3:A$135)) | C11: =IF($A11="","",LOOKUP(2,1/(RANK(Raw!$D$3:$D$135,Raw!$D$3:$D$135,1)=$A11),Raw!B$3:B$135)) | D11: =IF($A11="","",LOOKUP(2,1/(RANK(Raw!$D$3:$D$135,Raw!$D$3:$D$135,1)=$A11),Raw!C$3:C$135))
A12: {=IF(MAX($A$2:A11)+1<MAX(RANK(Raw!$D$3:$D$135,Raw!$D$3:$D$135,1)),A11+1,"")} | B12: =IF($A12="","",LOOKUP(2,1/(RANK(Raw!$D$3:$D$135,Raw!$D$3:$D$135,1)=$A12),Raw!A$3:A$135)) | C12: =IF($A12="","",LOOKUP(2,1/(RANK(Raw!$D$3:$D$135,Raw!$D$3:$D$135,1)=$A12),Raw!B$3:B$135)) | D12: =IF($A12="","",LOOKUP(2,1/(RANK(Raw!$D$3:$D$135,Raw!$D$3:$D$135,1)=$A12),Raw!C$3:C$135))
A13: {=IF(MAX($A$2:A12)+1<MAX(RANK(Raw!$D$3:$D$135,Raw!$D$3:$D$135,1)),A12+1,"")} | B13: =IF($A13="","",LOOKUP(2,1/(RANK(Raw!$D$3:$D$135,Raw!$D$3:$D$135,1)=$A13),Raw!A$3:A$135)) | C13: =IF($A13="","",LOOKUP(2,1/(RANK(Raw!$D$3:$D$135,Raw!$D$3:$D$135,1)=$A13),Raw!B$3:B$135)) | D13: =IF($A13="","",LOOKUP(2,1/(RANK(Raw!$D$3:$D$135,Raw!$D$3:$D$135,1)=$A13),Raw!C$3:C$135))
A14: {=IF(MAX($A$2:A13)+1<MAX(RANK(Raw!$D$3:$D$135,Raw!$D$3:$D$135,1)),A13+1,"")} | B14: =IF($A14="","",LOOKUP(2,1/(RANK(Raw!$D$3:$D$135,Raw!$D$3:$D$135,1)=$A14),Raw!A$3:A$135)) | C14: =IF($A14="","",LOOKUP(2,1/(RANK(Raw!$D$3:$D$135,Raw!$D$3:$D$135,1)=$A14),Raw!B$3:B$135)) | D14: =IF($A14="","",LOOKUP(2,1/(RANK(Raw!$D$3:$D$135,Raw!$D$3:$D$135,1)=$A14),Raw!C$3:C$135))
... A52: {=IF(MAX($A$2:A51)+1<MAX(RANK(Raw!$D$3:$D$135,Raw!$D$3:$D$135,1)),A51+1,"")} | B52: =IF($A52="","",LOOKUP(2,1/(RANK(Raw!$D$3:$D$135,Raw!$D$3:$D$135,1)=$A52),Raw!A$3:A$135)) | C52: =IF($A52="","",LOOKUP(2,1/(RANK(Raw!$D$3:$D$135,Raw!$D$3:$D$135,1)=$A52),Raw!B$3:B$135)) | D52: =IF($A52="","",LOOKUP(2,1/(RANK(Raw!$D$3:$D$135,Raw!$D$3:$D$135,1)=$A52),Raw!C$3:C$135))
A53: {=IF(MAX($A$2:A52)+1<MAX(RANK(Raw!$D$3:$D$135,Raw!$D$3:$D$135,1)),A52+1,"")} | B53: =IF($A53="","",LOOKUP(2,1/(RANK(Raw!$D$3:$D$135,Raw!$D$3:$D$135,1)=$A53),Raw!A$3:A$135)) | C53: =IF($A53="","",LOOKUP(2,1/(RANK(Raw!$D$3:$D$135,Raw!$D$3:$D$135,1)=$A53),Raw!B$3:B$135)) | D53: =IF($A53="","",LOOKUP(2,1/(RANK(Raw!$D$3:$D$135,Raw!$D$3:$D$135,1)=$A53),Raw!C$3:C$135)) | F53: =MAX(RANK(Raw!$D$3:$D$135,Raw!$D$3:$D$135,1))
A54: {=IF(MAX($A$2:A53)+1<MAX(RANK(Raw!$D$3:$D$135,Raw!$D$3:$D$135,1)),A53+1,"")} | B54: =IF($A54="","",LOOKUP(2,1/(RANK(Raw!$D$3:$D$135,Raw!$D$3:$D$135,1)=$A54),Raw!A$3:A$135)) | C54: =IF($A54="","",LOOKUP(2,1/(RANK(Raw!$D$3:$D$135,Raw!$D$3:$D$135,1)=$A54),Raw!B$3:B$135)) | D54: =IF($A54="","",LOOKUP(2,1/(RANK(Raw!$D$3:$D$135,Raw!$D$3:$D$135,1)=$A54),Raw!C$3:C$135))
A55: {=IF(MAX($A$2:A54)+1<MAX(RANK(Raw!$D$3:$D$135,Raw!$D$3:$D$135,1)),A54+1,"")} | B55: =IF($A55="","",LOOKUP(2,1/(RANK(Raw!$D$3:$D$135,Raw!$D$3:$D$135,1)=$A55),Raw!A$3:A$135)) | C55: =IF($A55="","",LOOKUP(2,1/(RANK(Raw!$D$3:$D$135,Raw!$D$3:$D$135,1)=$A55),Raw!B$3:B$135)) | D55: =IF($A55="","",LOOKUP(2,1/(RANK(Raw!$D$3:$D$135,Raw!$D$3:$D$135,1)=$A55),Raw!C$3:C$135))
A56: {=IF(MAX($A$2:A55)+1<MAX(RANK(Raw!$D$3:$D$135,Raw!$D$3:$D$135,1)),A55+1,"")} | B56: =IF($A56="","",LOOKUP(2,1/(RANK(Raw!$D$3:$D$135,Raw!$D$3:$D$135,1)=$A56),Raw!A$3:A$135)) | C56: =IF($A56="","",LOOKUP(2,1/(RANK(Raw!$D$3:$D$135,Raw!$D$3:$D$135,1)=$A56),Raw!B$3:B$135)) | D56: =IF($A56="","",LOOKUP(2,1/(RANK(Raw!$D$3:$D$135,Raw!$D$3:$D$135,1)=$A56),Raw!C$3:C$135))
A57: {=IF(MAX($A$2:A56)+1<MAX(RANK(Raw!$D$3:$D$135,Raw!$D$3:$D$135,1)),A56+1,"")} | B57: =IF($A57="","",LOOKUP(2,1/(RANK(Raw!$D$3:$D$135,Raw!$D$3:$D$135,1)=$A57),Raw!A$3:A$135)) | C57: =IF($A57="","",LOOKUP(2,1/(RANK(Raw!$D$3:$D$135,Raw!$D$3:$D$135,1)=$A57),Raw!B$3:B$135)) | D57: =IF($A57="","",LOOKUP(2,1/(RANK(Raw!$D$3:$D$135,Raw!$D$3:$D$135,1)=$A57),Raw!C$3:C$135))
A58: {=IF(MAX($A$2:A57)+1<MAX(RANK(Raw!$D$3:$D$135,Raw!$D$3:$D$135,1)),A57+1,"")} | B58: =IF($A58="","",LOOKUP(2,1/(RANK(Raw!$D$3:$D$135,Raw!$D$3:$D$135,1)=$A58),Raw!A$3:A$135)) | C58: =IF($A58="","",LOOKUP(2,1/(RANK(Raw!$D$3:$D$135,Raw!$D$3:$D$135,1)=$A58),Raw!B$3:B$135)) | D58: =IF($A58="","",LOOKUP(2,1/(RANK(Raw!$D$3:$D$135,Raw!$D$3:$D$135,1)=$A58),Raw!C$3:C$135))
A59: {=IF(MAX($A$2:A58)+1<MAX(RANK(Raw!$D$3:$D$135,Raw!$D$3:$D$135,1)),A58+1,"")} | B59: =IF($A59="","",LOOKUP(2,1/(RANK(Raw!$D$3:$D$135,Raw!$D$3:$D$135,1)=$A59),Raw!A$3:A$135)) | C59: =IF($A59="","",LOOKUP(2,1/(RANK(Raw!$D$3:$D$135,Raw!$D$3:$D$135,1)=$A59),Raw!B$3:B$135)) | D59: =IF($A59="","",LOOKUP(2,1/(RANK(Raw!$D$3:$D$135,Raw!$D$3:$D$135,1)=$A59),Raw!C$3:C$135))
A60: {=IF(MAX($A$2:A59)+1<MAX(RANK(Raw!$D$3:$D$135,Raw!$D$3:$D$135,1)),A59+1,"")} | B60: =IF($A60="","",LOOKUP(2,1/(RANK(Raw!$D$3:$D$135,Raw!$D$3:$D$135,1)=$A60),Raw!A$3:A$135)) | C60: =IF($A60="","",LOOKUP(2,1/(RANK(Raw!$D$3:$D$135,Raw!$D$3:$D$135,1)=$A60),Raw!B$3:B$135)) | D60: =IF($A60="","",LOOKUP(2,1/(RANK(Raw!$D$3:$D$135,Raw!$D$3:$D$135,1)=$A60),Raw!C$3:C$135))
A61: {=IF(MAX($A$2:A60)+1<MAX(RANK(Raw!$D$3:$D$135,Raw!$D$3:$D$135,1)),A60+1,"")} | B61: =IF($A61="","",LOOKUP(2,1/(RANK(Raw!$D$3:$D$135,Raw!$D$3:$D$135,1)=$A61),Raw!A$3:A$135)) | C61: =IF($A61="","",LOOKUP(2,1/(RANK(Raw!$D$3:$D$135,Raw!$D$3:$D$135,1)=$A61),Raw!B$3:B$135)) | D61: =IF($A61="","",LOOKUP(2,1/(RANK(Raw!$D$3:$D$135,Raw!$D$3:$D$135,1)=$A61),Raw!C$3:C$135))
A62: {=IF(MAX($A$2:A61)+1<MAX(RANK(Raw!$D$3:$D$135,Raw!$D$3:$D$135,1)),A61+1,"")} | B62: =IF($A62="","",LOOKUP(2,1/(RANK(Raw!$D$3:$D$135,Raw!$D$3:$D$135,1)=$A62),Raw!A$3:A$135)) | C62: =IF($A62="","",LOOKUP(2,1/(RANK(Raw!$D$3:$D$135,Raw!$D$3:$D$135,1)=$A62),Raw!B$3:B$135)) | D62: =IF($A62="","",LOOKUP(2,1/(RANK(Raw!$D$3:$D$135,Raw!$D$3:$D$135,1)=$A62),Raw!C$3:C$135))
A63: {=IF(MAX($A$2:A62)+1<MAX(RANK(Raw!$D$3:$D$135,Raw!$D$3:$D$135,1)),A62+1,"")} | B63: =IF($A63="","",LOOKUP(2,1/(RANK(Raw!$D$3:$D$135,Raw!$D$3:$D$135,1)=$A63),Raw!A$3:A$135)) | C63: =IF($A63="","",LOOKUP(2,1/(RANK(Raw!$D$3:$D$135,Raw!$D$3:$D$135,1)=$A63),Raw!B$3:B$135)) | D63: =IF($A63="","",LOOKUP(2,1/(RANK(Raw!$D$3:$D$135,Raw!$D$3:$D$135,1)=$A63),Raw!C$3:C$135))
A64: {=IF(MAX($A$2:A63)+1<MAX(RANK(Raw!$D$3:$D$135,Raw!$D$3:$D$135,1)),A63+1,"")} | B64: =IF($A64="","",LOOKUP(2,1/(RANK(Raw!$D$3:$D$135,Raw!$D$3:$D$135,1)=$A64),Raw!A$3:A$135)) | C64: =IF($A64="","",LOOKUP(2,1/(RANK(Raw!$D$3:$D$135,Raw!$D$3:$D$135,1)=$A64),Raw!B$3:B$135)) | D64: =IF($A64="","",LOOKUP(2,1/(RANK(Raw!$D$3:$D$135,Raw!$D$3:$D$135,1)=$A64),Raw!C$3:C$135))
A65: {=IF(MAX($A$2:A64)+1<MAX(RANK(Raw!$D$3:$D$135,Raw!$D$3:$D$135,1)),A64+1,"")} | B65: =IF($A65="","",LOOKUP(2,1/(RANK(Raw!$D$3:$D$135,Raw!$D$3:$D$135,1)=$A65),Raw!A$3:A$135)) | C65: =IF($A65="","",LOOKUP(2,1/(RANK(Raw!$D$3:$D$135,Raw!$D$3:$D$135,1)=$A65),Raw!B$3:B$135)) | D65: =IF($A65="","",LOOKUP(2,1/(RANK(Raw!$D$3:$D$135,Raw!$D$3:$D$135,1)=$A65),Raw!C$3:C$135))
... A205: {=IF(MAX($A$2:A204)+1<MAX(RANK(Raw!$D$3:$D$135,Raw!$D$3:$D$135,1)),A204+1,"")} | B205: =IF($A205="","",LOOKUP(2,1/(RANK(Raw!$D$3:$D$135,Raw!$D$3:$D$135,1)=$A205),Raw!A$3:A$135)) | C205: =IF($A205="","",LOOKUP(2,1/(RANK(Raw!$D$3:$D$135,Raw!$D$3:$D$135,1)=$A205),Raw!B$3:B$135)) | D205: =IF($A205="","",LOOKUP(2,1/(RANK(Raw!$D$3:$D$135,Raw!$D$3:$D$135,1)=$A205),Raw!C$3:C$135))
