Workbook

Sheet Raw
A1: Associate | B1: Title | C1: Supervisor | D1: Helper
A3: [Person_1] | B3: Technician | C3: [Person_2] | D3: =IF(C3="",99,CODE(C3)+CODE(MID(C3,2,1))/100+CODE(MID(C3,3,1))/1000+ROW()/10^10)
A4: [Person_3] | B4: Technician | C4: [Person_4] | D4: =IF(C4="",99,CODE(C4)+CODE(MID(C4,2,1))/100+CODE(MID(C4,3,1))/1000+ROW()/10^10)
A5: [Person_5] | B5: Technician | C5: [Person_6] | D5: =IF(C5="",99,CODE(C5)+CODE(MID(C5,2,1))/100+CODE(MID(C5,3,1))/1000+ROW()/10^10)
A6: [Person_7] | B6: Technician | C6: [Person_8] | D6: =IF(C6="",99,CODE(C6)+CODE(MID(C6,2,1))/100+CODE(MID(C6,3,1))/1000+ROW()/10^10)
D7: =IF(C7="",99,CODE(C7)+CODE(MID(C7,2,1))/100+CODE(MID(C7,3,1))/1000+ROW()/10^10)
A8: [Person_9] | B8: Technician | C8: [Person_4] | D8: =IF(C8="",99,CODE(C8)+CODE(MID(C8,2,1))/100+CODE(MID(C8,3,1))/1000+ROW()/10^10)
A9: [Person_10] | B9: Technician | C9: [Person_2] | D9: =IF(C9="",99,CODE(C9)+CODE(MID(C9,2,1))/100+CODE(MID(C9,3,1))/1000+ROW()/10^10)
A10: [Person_11] | B10: Technician | C10: [Person_12] | D10: =IF(C10="",99,CODE(C10)+CODE(MID(C10,2,1))/100+CODE(MID(C10,3,1))/1000+ROW()/10^10)
A11: [Person_13] | B11: Technician | C11: [Person_14] | D11: =IF(C11="",99,CODE(C11)+CODE(MID(C11,2,1))/100+CODE(MID(C11,3,1))/1000+ROW()/10^10)
A12: [Person_15] | B12: Technician | C12: [Person_16] | D12: =IF(C12="",99,CODE(C12)+CODE(MID(C12,2,1))/100+CODE(MID(C12,3,1))/1000+ROW()/10^10)
A13: [Person_17] | B13: Technician | C13: [Person_16] | D13: =IF(C13="",99,CODE(C13)+CODE(MID(C13,2,1))/100+CODE(MID(C13,3,1))/1000+ROW()/10^10)
A14: [Person_18] | B14: Technician | C14: [Person_2] | D14: =IF(C14="",99,CODE(C14)+CODE(MID(C14,2,1))/100+CODE(MID(C14,3,1))/1000+ROW()/10^10)
D15: =IF(C15="",99,CODE(C15)+CODE(MID(C15,2,1))/100+CODE(MID(C15,3,1))/1000+ROW()/10^10)
A16: [Person_19] | B16: Technician | C16: [Person_6] | D16: =IF(C16="",99,CODE(C16)+CODE(MID(C16,2,1))/100+CODE(MID(C16,3,1))/1000+ROW()/10^10)
A17: [Person_20] | B17: Technician | C17: [Person_6] | D17: =IF(C17="",99,CODE(C17)+CODE(MID(C17,2,1))/100+CODE(MID(C17,3,1))/1000+ROW()/10^10)
A18: [Person_21] | B18: Technician | C18: [Person_22] | D18: =IF(C18="",99,CODE(C18)+CODE(MID(C18,2,1))/100+CODE(MID(C18,3,1))/1000+ROW()/10^10)
A19: Britney Chitwood | B19: Technician | C19: [Person_6] | D19: =IF(C19="",99,CODE(C19)+CODE(MID(C19,2,1))/100+CODE(MID(C19,3,1))/1000+ROW()/10^10)
A20: [Person_23] | B20: Technician | C20: [Person_16] | D20: =IF(C20="",99,CODE(C20)+CODE(MID(C20,2,1))/100+CODE(MID(C20,3,1))/1000+ROW()/10^10)
A21: [Person_24] | B21: Technician | C21: [Person_2] | D21: =IF(C21="",99,CODE(C21)+CODE(MID(C21,2,1))/100+CODE(MID(C21,3,1))/1000+ROW()/10^10)
D22: =IF(C22="",99,CODE(C22)+CODE(MID(C22,2,1))/100+CODE(MID(C22,3,1))/1000+ROW()/10^10)
D23: =IF(C23="",99,CODE(C23)+CODE(MID(C23,2,1))/100+CODE(MID(C23,3,1))/1000+ROW()/10^10)
A24: [Person_25] | B24: Technician | C24: [Person_6] | D24: =IF(C24="",99,CODE(C24)+CODE(MID(C24,2,1))/100+CODE(MID(C24,3,1))/1000+ROW()/10^10)
A25: Terrence Reese | B25: Technician | C25: [Person_12] | D25: =IF(C25="",99,CODE(C25)+CODE(MID(C25,2,1))/100+CODE(MID(C25,3,1))/1000+ROW()/10^10)
D26: =IF(C26="",99,CODE(C26)+CODE(MID(C26,2,1))/100+CODE(MID(C26,3,1))/1000+ROW()/10^10)
A27: [Person_26] | B27: Technician | C27: [Person_22] | D27: =IF(C27="",99,CODE(C27)+CODE(MID(C27,2,1))/100+CODE(MID(C27,3,1))/1000+ROW()/10^10)
A28: [Person_27] | B28: Technician | C28: [Person_6] | D28: =IF(C28="",99,CODE(C28)+CODE(MID(C28,2,1))/100+CODE(MID(C28,3,1))/1000+ROW()/10^10)
A29: [Person_28] May | B29: Technician | C29: [Person_14] | D29: =IF(C29="",99,CODE(C29)+CODE(MID(C29,2,1))/100+CODE(MID(C29,3,1))/1000+ROW()/10^10)
A30: [Person_29] | B30: Technician | C30: [Person_12] | D30: =IF(C30="",99,CODE(C30)+CODE(MID(C30,2,1))/100+CODE(MID(C30,3,1))/1000+ROW()/10^10)
D31: =IF(C31="",99,CODE(C31)+CODE(MID(C31,2,1))/100+CODE(MID(C31,3,1))/1000+ROW()/10^10)
D32: =IF(C32="",99,CODE(C32)+CODE(MID(C32,2,1))/100+CODE(MID(C32,3,1))/1000+ROW()/10^10)
A33: [Person_30] | B33: Technician | C33: [Person_16] | D33: =IF(C33="",99,CODE(C33)+CODE(MID(C33,2,1))/100+CODE(MID(C33,3,1))/1000+ROW()/10^10)
A34: [Person_31] | B34: Technician | C34: [Person_16] | D34: =IF(C34="",99,CODE(C34)+CODE(MID(C34,2,1))/100+CODE(MID(C34,3,1))/1000+ROW()/10^10)
D35: =IF(C35="",99,CODE(C35)+CODE(MID(C35,2,1))/100+CODE(MID(C35,3,1))/1000+ROW()/10^10)
A36: [Person_32] | B36: Technician | C36: [Person_22] | D36: =IF(C36="",99,CODE(C36)+CODE(MID(C36,2,1))/100+CODE(MID(C36,3,1))/1000+ROW()/10^10)
A37: [Person_33] | B37: Technician | C37: [Person_6] | D37: =IF(C37="",99,CODE(C37)+CODE(MID(C37,2,1))/100+CODE(MID(C37,3,1))/1000+ROW()/10^10)
D38: =IF(C38="",99,CODE(C38)+CODE(MID(C38,2,1))/100+CODE(MID(C38,3,1))/1000+ROW()/10^10)
A39: [Person_34] | B39: Technician | C39: [Person_14] | D39: =IF(C39="",99,CODE(C39)+CODE(MID(C39,2,1))/100+CODE(MID(C39,3,1))/1000+ROW()/10^10)
A40: [Person_35] | B40: Technician | C40: [Person_4] | D40: =IF(C40="",99,CODE(C40)+CODE(MID(C40,2,1))/100+CODE(MID(C40,3,1))/1000+ROW()/10^10)
A41: [Person_36] | B41: Technician | C41: [Person_6] | D41: =IF(C41="",99,CODE(C41)+CODE(MID(C41,2,1))/100+CODE(MID(C41,3,1))/1000+ROW()/10^10)
A42: [Person_37] | B42: Technician | C42: [Person_38] | D42: =IF(C42="",99,CODE(C42)+CODE(MID(C42,2,1))/100+CODE(MID(C42,3,1))/1000+ROW()/10^10)
A43: [Person_39] | B43: Technician | C43: [Person_4] | D43: =IF(C43="",99,CODE(C43)+CODE(MID(C43,2,1))/100+CODE(MID(C43,3,1))/1000+ROW()/10^10)
D44: =IF(C44="",99,CODE(C44)+CODE(MID(C44,2,1))/100+CODE(MID(C44,3,1))/1000+ROW()/10^10)
D45: =IF(C45="",99,CODE(C45)+CODE(MID(C45,2,1))/100+CODE(MID(C45,3,1))/1000+ROW()/10^10)
A46: [Person_40] | B46: Technician | C46: [Person_6] | D46: =IF(C46="",99,CODE(C46)+CODE(MID(C46,2,1))/100+CODE(MID(C46,3,1))/1000+ROW()/10^10)
D47: =IF(C47="",99,CODE(C47)+CODE(MID(C47,2,1))/100+CODE(MID(C47,3,1))/1000+ROW()/10^10)
D48: =IF(C48="",99,CODE(C48)+CODE(MID(C48,2,1))/100+CODE(MID(C48,3,1))/1000+ROW()/10^10)
D49: =IF(C49="",99,CODE(C49)+CODE(MID(C49,2,1))/100+CODE(MID(C49,3,1))/1000+ROW()/10^10)
D50: =IF(C50="",99,CODE(C50)+CODE(MID(C50,2,1))/100+CODE(MID(C50,3,1))/1000+ROW()/10^10)
A51: [Person_41] | B51: Technician | C51: [Person_16] | D51: =IF(C51="",99,CODE(C51)+CODE(MID(C51,2,1))/100+CODE(MID(C51,3,1))/1000+ROW()/10^10)
A52: [Person_42] | B52: Technician | C52: [Person_38] | D52: =IF(C52="",99,CODE(C52)+CODE(MID(C52,2,1))/100+CODE(MID(C52,3,1))/1000+ROW()/10^10)
D53: =IF(C53="",99,CODE(C53)+CODE(MID(C53,2,1))/100+CODE(MID(C53,3,1))/1000+ROW()/10^10)
D54: =IF(C54="",99,CODE(C54)+CODE(MID(C54,2,1))/100+CODE(MID(C54,3,1))/1000+ROW()/10^10)
D55: =IF(C55="",99,CODE(C55)+CODE(MID(C55,2,1))/100+CODE(MID(C55,3,1))/1000+ROW()/10^10)
D56: =IF(C56="",99,CODE(C56)+CODE(MID(C56,2,1))/100+CODE(MID(C56,3,1))/1000+ROW()/10^10)
D57: =IF(C57="",99,CODE(C57)+CODE(MID(C57,2,1))/100+CODE(MID(C57,3,1))/1000+ROW()/10^10)
A58: [Person_43] | B58: Technician | C58: [Person_12] | D58: =IF(C58="",99,CODE(C58)+CODE(MID(C58,2,1))/100+CODE(MID(C58,3,1))/1000+ROW()/10^10)
D59: =IF(C59="",99,CODE(C59)+CODE(MID(C59,2,1))/100+CODE(MID(C59,3,1))/1000+ROW()/10^10)
D60: =IF(C60="",99,CODE(C60)+CODE(MID(C60,2,1))/100+CODE(MID(C60,3,1))/1000+ROW()/10^10)
D61: =IF(C61="",99,CODE(C61)+CODE(MID(C61,2,1))/100+CODE(MID(C61,3,1))/1000+ROW()/10^10)
D62: =IF(C62="",99,CODE(C62)+CODE(MID(C62,2,1))/100+CODE(MID(C62,3,1))/1000+ROW()/10^10)
D63: =IF(C63="",99,CODE(C63)+CODE(MID(C63,2,1))/100+CODE(MID(C63,3,1))/1000+ROW()/10^10)
A64: [Person_44] | B64: Technician | C64: [Person_8] | D64: =IF(C64="",99,CODE(C64)+CODE(MID(C64,2,1))/100+CODE(MID(C64,3,1))/1000+ROW()/10^10)
D65: =IF(C65="",99,CODE(C65)+CODE(MID(C65,2,1))/100+CODE(MID(C65,3,1))/1000+ROW()/10^10)
D66: =IF(C66="",99,CODE(C66)+CODE(MID(C66,2,1))/100+CODE(MID(C66,3,1))/1000+ROW()/10^10)
D67: =IF(C67="",99,CODE(C67)+CODE(MID(C67,2,1))/100+CODE(MID(C67,3,1))/1000+ROW()/10^10)
D68: =IF(C68="",99,CODE(C68)+CODE(MID(C68,2,1))/100+CODE(MID(C68,3,1))/1000+ROW()/10^10)
D69: =IF(C69="",99,CODE(C69)+CODE(MID(C69,2,1))/100+CODE(MID(C69,3,1))/1000+ROW()/10^10)
D70: =IF(C70="",99,CODE(C70)+CODE(MID(C70,2,1))/100+CODE(MID(C70,3,1))/1000+ROW()/10^10)
A71: [Person_45] | B71: Technician | C71: [Person_6] | D71: =IF(C71="",99,CODE(C71)+CODE(MID(C71,2,1))/100+CODE(MID(C71,3,1))/1000+ROW()/10^10)
D72: =IF(C72="",99,CODE(C72)+CODE(MID(C72,2,1))/100+CODE(MID(C72,3,1))/1000+ROW()/10^10)
D73: =IF(C73="",99,CODE(C73)+CODE(MID(C73,2,1))/100+CODE(MID(C73,3,1))/1000+ROW()/10^10)
D74: =IF(C74="",99,CODE(C74)+CODE(MID(C74,2,1))/100+CODE(MID(C74,3,1))/1000+ROW()/10^10)
D75: =IF(C75="",99,CODE(C75)+CODE(MID(C75,2,1))/100+CODE(MID(C75,3,1))/1000+ROW()/10^10)
D76: =IF(C76="",99,CODE(C76)+CODE(MID(C76,2,1))/100+CODE(MID(C76,3,1))/1000+ROW()/10^10)
D77: =IF(C77="",99,CODE(C77)+CODE(MID(C77,2,1))/100+CODE(MID(C77,3,1))/1000+ROW()/10^10)
D78: =IF(C78="",99,CODE(C78)+CODE(MID(C78,2,1))/100+CODE(MID(C78,3,1))/1000+ROW()/10^10)
A79: [Person_46] | B79: Technician | C79: [Person_6] | D79: =IF(C79="",99,CODE(C79)+CODE(MID(C79,2,1))/100+CODE(MID(C79,3,1))/1000+ROW()/10^10)
A80: [Person_47] | B80: Technician | C80: [Person_14] | D80: =IF(C80="",99,CODE(C80)+CODE(MID(C80,2,1))/100+CODE(MID(C80,3,1))/1000+ROW()/10^10)
D81: =IF(C81="",99,CODE(C81)+CODE(MID(C81,2,1))/100+CODE(MID(C81,3,1))/1000+ROW()/10^10)
D82: =IF(C82="",99,CODE(C82)+CODE(MID(C82,2,1))/100+CODE(MID(C82,3,1))/1000+ROW()/10^10)
D83: =IF(C83="",99,CODE(C83)+CODE(MID(C83,2,1))/100+CODE(MID(C83,3,1))/1000+ROW()/10^10)
D84: =IF(C84="",99,CODE(C84)+CODE(MID(C84,2,1))/100+CODE(MID(C84,3,1))/1000+ROW()/10^10)
D85: =IF(C85="",99,CODE(C85)+CODE(MID(C85,2,1))/100+CODE(MID(C85,3,1))/1000+ROW()/10^10)
D86: =IF(C86="",99,CODE(C86)+CODE(MID(C86,2,1))/100+CODE(MID(C86,3,1))/1000+ROW()/10^10)
D87: =IF(C87="",99,CODE(C87)+CODE(MID(C87,2,1))/100+CODE(MID(C87,3,1))/1000+ROW()/10^10)
D88: =IF(C88="",99,CODE(C88)+CODE(MID(C88,2,1))/100+CODE(MID(C88,3,1))/1000+ROW()/10^10)
D89: =IF(C89="",99,CODE(C89)+CODE(MID(C89,2,1))/100+CODE(MID(C89,3,1))/1000+ROW()/10^10)
D90: =IF(C90="",99,CODE(C90)+CODE(MID(C90,2,1))/100+CODE(MID(C90,3,1))/1000+ROW()/10^10)
D91: =IF(C91="",99,CODE(C91)+CODE(MID(C91,2,1))/100+CODE(MID(C91,3,1))/1000+ROW()/10^10)
D92: =IF(C92="",99,CODE(C92)+CODE(MID(C92,2,1))/100+CODE(MID(C92,3,1))/1000+ROW()/10^10)
D93: =IF(C93="",99,CODE(C93)+CODE(MID(C93,2,1))/100+CODE(MID(C93,3,1))/1000+ROW()/10^10)
A94: [Person_48] | B94: Technician | C94: [Person_38] | D94: =IF(C94="",99,CODE(C94)+CODE(MID(C94,2,1))/100+CODE(MID(C94,3,1))/1000+ROW()/10^10)
D95: =IF(C95="",99,CODE(C95)+CODE(MID(C95,2,1))/100+CODE(MID(C95,3,1))/1000+ROW()/10^10)
D96: =IF(C96="",99,CODE(C96)+CODE(MID(C96,2,1))/100+CODE(MID(C96,3,1))/1000+ROW()/10^10)
D97: =IF(C97="",99,CODE(C97)+CODE(MID(C97,2,1))/100+CODE(MID(C97,3,1))/1000+ROW()/10^10)
D98: =IF(C98="",99,CODE(C98)+CODE(MID(C98,2,1))/100+CODE(MID(C98,3,1))/1000+ROW()/10^10)
D99: =IF(C99="",99,CODE(C99)+CODE(MID(C99,2,1))/100+CODE(MID(C99,3,1))/1000+ROW()/10^10)
D100: =IF(C100="",99,CODE(C100)+CODE(MID(C100,2,1))/100+CODE(MID(C100,3,1))/1000+ROW()/10^10)
D101: =IF(C101="",99,CODE(C101)+CODE(MID(C101,2,1))/100+CODE(MID(C101,3,1))/1000+ROW()/10^10)
...

Sheet Output
A1: Order number | B1: Associate | C1: Title | D1: Supervisor
A3: {=IF(MAX($A$2:A2)+1<MAX(RANK(Raw!$D$3:$D$135,Raw!$D$3:$D$135,1)),A2+1,"")} | B3: =IF($A3="","",LOOKUP(2,1/(RANK(Raw!$D$3:$D$135,Raw!$D$3:$D$135,1)=$A3),Raw!A$3:A$135)) | C3: =IF($A3="","",LOOKUP(2,1/(RANK(Raw!$D$3:$D$135,Raw!$D$3:$D$135,1)=$A3),Raw!B$3:B$135)) | D3: =IF($A3="","",LOOKUP(2,1/(RANK(Raw!$D$3:$D$135,Raw!$D$3:$D$135,1)=$A3),Raw!C$3:C$135))
A4: {=IF(MAX($A$2:A3)+1<MAX(RANK(Raw!$D$3:$D$135,Raw!$D$3:$D$135,1)),A3+1,"")} | B4: =IF($A4="","",LOOKUP(2,1/(RANK(Raw!$D$3:$D$135,Raw!$D$3:$D$135,1)=$A4),Raw!A$3:A$135)) | C4: =IF($A4="","",LOOKUP(2,1/(RANK(Raw!$D$3:$D$135,Raw!$D$3:$D$135,1)=$A4),Raw!B$3:B$135)) | D4: =IF($A4="","",LOOKUP(2,1/(RANK(Raw!$D$3:$D$135,Raw!$D$3:$D$135,1)=$A4),Raw!C$3:C$135))
A5: {=IF(MAX($A$2:A4)+1<MAX(RANK(Raw!$D$3:$D$135,Raw!$D$3:$D$135,1)),A4+1,"")} | B5: =IF($A5="","",LOOKUP(2,1/(RANK(Raw!$D$3:$D$135,Raw!$D$3:$D$135,1)=$A5),Raw!A$3:A$135)) | C5: =IF($A5="","",LOOKUP(2,1/(RANK(Raw!$D$3:$D$135,Raw!$D$3:$D$135,1)=$A5),Raw!B$3:B$135)) | D5: =IF($A5="","",LOOKUP(2,1/(RANK(Raw!$D$3:$D$135,Raw!$D$3:$D$135,1)=$A5),Raw!C$3:C$135))
A6: {=IF(MAX($A$2:A5)+1<MAX(RANK(Raw!$D$3:$D$135,Raw!$D$3:$D$135,1)),A5+1,"")} | B6: =IF($A6="","",LOOKUP(2,1/(RANK(Raw!$D$3:$D$135,Raw!$D$3:$D$135,1)=$A6),Raw!A$3:A$135)) | C6: =IF($A6="","",LOOKUP(2,1/(RANK(Raw!$D$3:$D$135,Raw!$D$3:$D$135,1)=$A6),Raw!B$3:B$135)) | D6: =IF($A6="","",LOOKUP(2,1/(RANK(Raw!$D$3:$D$135,Raw!$D$3:$D$135,1)=$A6),Raw!C$3:C$135))
A7: {=IF(MAX($A$2:A6)+1<MAX(RANK(Raw!$D$3:$D$135,Raw!$D$3:$D$135,1)),A6+1,"")} | B7: =IF($A7="","",LOOKUP(2,1/(RANK(Raw!$D$3:$D$135,Raw!$D$3:$D$135,1)=$A7),Raw!A$3:A$135)) | C7: =IF($A7="","",LOOKUP(2,1/(RANK(Raw!$D$3:$D$135,Raw!$D$3:$D$135,1)=$A7),Raw!B$3:B$135)) | D7: =IF($A7="","",LOOKUP(2,1/(RANK(Raw!$D$3:$D$135,Raw!$D$3:$D$135,1)=$A7),Raw!C$3:C$135))
A8: {=IF(MAX($A$2:A7)+1<MAX(RANK(Raw!$D$3:$D$135,Raw!$D$3:$D$135,1)),A7+1,"")} | B8: =IF($A8="","",LOOKUP(2,1/(RANK(Raw!$D$3:$D$135,Raw!$D$3:$D$135,1)=$A8),Raw!A$3:A$135)) | C8: =IF($A8="","",LOOKUP(2,1/(RANK(Raw!$D$3:$D$135,Raw!$D$3:$D$135,1)=$A8),Raw!B$3:B$135)) | D8: =IF($A8="","",LOOKUP(2,1/(RANK(Raw!$D$3:$D$135,Raw!$D$3:$D$135,1)=$A8),Raw!C$3:C$135))
A9: {=IF(MAX($A$2:A8)+1<MAX(RANK(Raw!$D$3:$D$135,Raw!$D$3:$D$135,1)),A8+1,"")} | B9: =IF($A9="","",LOOKUP(2,1/(RANK(Raw!$D$3:$D$135,Raw!$D$3:$D$135,1)=$A9),Raw!A$3:A$135)) | C9: =IF($A9="","",LOOKUP(2,1/(RANK(Raw!$D$3:$D$135,Raw!$D$3:$D$135,1)=$A9),Raw!B$3:B$135)) | D9: =IF($A9="","",LOOKUP(2,1/(RANK(Raw!$D$3:$D$135,Raw!$D$3:$D$135,1)=$A9),Raw!C$3:C$135))
A10: {=IF(MAX($A$2:A9)+1<MAX(RANK(Raw!$D$3:$D$135,Raw!$D$3:$D$135,1)),A9+1,"")} | B10: =IF($A10="","",LOOKUP(2,1/(RANK(Raw!$D$3:$D$135,Raw!$D$3:$D$135,1)=$A10),Raw!A$3:A$135)) | C10: =IF($A10="","",LOOKUP(2,1/(RANK(Raw!$D$3:$D$135,Raw!$D$3:$D$135,1)=$A10),Raw!B$3:B$135)) | D10: =IF($A10="","",LOOKUP(2,1/(RANK(Raw!$D$3:$D$135,Raw!$D$3:$D$135,1)=$A10),Raw!C$3:C$135))
A11: {=IF(MAX($A$2:A10)+1<MAX(RANK(Raw!$D$3:$D$135,Raw!$D$3:$D$135,1)),A10+1,"")} | B11: =IF($A11="","",LOOKUP(2,1/(RANK(Raw!$D$3:$D$135,Raw!$D$3:$D$135,1)=$A11),Raw!A$3:A$135)) | C11: =IF($A11="","",LOOKUP(2,1/(RANK(Raw!$D$3:$D$135,Raw!$D$3:$D$135,1)=$A11),Raw!B$3:B$135)) | D11: =IF($A11="","",LOOKUP(2,1/(RANK(Raw!$D$3:$D$135,Raw!$D$3:$D$135,1)=$A11),Raw!C$3:C$135))
A12: {=IF(MAX($A$2:A11)+1<MAX(RANK(Raw!$D$3:$D$135,Raw!$D$3:$D$135,1)),A11+1,"")} | B12: =IF($A12="","",LOOKUP(2,1/(RANK(Raw!$D$3:$D$135,Raw!$D$3:$D$135,1)=$A12),Raw!A$3:A$135)) | C12: =IF($A12="","",LOOKUP(2,1/(RANK(Raw!$D$3:$D$135,Raw!$D$3:$D$135,1)=$A12),Raw!B$3:B$135)) | D12: =IF($A12="","",LOOKUP(2,1/(RANK(Raw!$D$3:$D$135,Raw!$D$3:$D$135,1)=$A12),Raw!C$3:C$135))
A13: {=IF(MAX($A$2:A12)+1<MAX(RANK(Raw!$D$3:$D$135,Raw!$D$3:$D$135,1)),A12+1,"")} | B13: =IF($A13="","",LOOKUP(2,1/(RANK(Raw!$D$3:$D$135,Raw!$D$3:$D$135,1)=$A13),Raw!A$3:A$135)) | C13: =IF($A13="","",LOOKUP(2,1/(RANK(Raw!$D$3:$D$135,Raw!$D$3:$D$135,1)=$A13),Raw!B$3:B$135)) | D13: =IF($A13="","",LOOKUP(2,1/(RANK(Raw!$D$3:$D$135,Raw!$D$3:$D$135,1)=$A13),Raw!C$3:C$135))
A14: {=IF(MAX($A$2:A13)+1<MAX(RANK(Raw!$D$3:$D$135,Raw!$D$3:$D$135,1)),A13+1,"")} | B14: =IF($A14="","",LOOKUP(2,1/(RANK(Raw!$D$3:$D$135,Raw!$D$3:$D$135,1)=$A14),Raw!A$3:A$135)) | C14: =IF($A14="","",LOOKUP(2,1/(RANK(Raw!$D$3:$D$135,Raw!$D$3:$D$135,1)=$A14),Raw!B$3:B$135)) | D14: =IF($A14="","",LOOKUP(2,1/(RANK(Raw!$D$3:$D$135,Raw!$D$3:$D$135,1)=$A14),Raw!C$3:C$135))
... A52: {=IF(MAX($A$2:A51)+1<MAX(RANK(Raw!$D$3:$D$135,Raw!$D$3:$D$135,1)),A51+1,"")} | B52: =IF($A52="","",LOOKUP(2,1/(RANK(Raw!$D$3:$D$135,Raw!$D$3:$D$135,1)=$A52),Raw!A$3:A$135)) | C52: =IF($A52="","",LOOKUP(2,1/(RANK(Raw!$D$3:$D$135,Raw!$D$3:$D$135,1)=$A52),Raw!B$3:B$135)) | D52: =IF($A52="","",LOOKUP(2,1/(RANK(Raw!$D$3:$D$135,Raw!$D$3:$D$135,1)=$A52),Raw!C$3:C$135))
A53: {=IF(MAX($A$2:A52)+1<MAX(RANK(Raw!$D$3:$D$135,Raw!$D$3:$D$135,1)),A52+1,"")} | B53: =IF($A53="","",LOOKUP(2,1/(RANK(Raw!$D$3:$D$135,Raw!$D$3:$D$135,1)=$A53),Raw!A$3:A$135)) | C53: =IF($A53="","",LOOKUP(2,1/(RANK(Raw!$D$3:$D$135,Raw!$D$3:$D$135,1)=$A53),Raw!B$3:B$135)) | D53: =IF($A53="","",LOOKUP(2,1/(RANK(Raw!$D$3:$D$135,Raw!$D$3:$D$135,1)=$A53),Raw!C$3:C$135)) | F53: =MAX(RANK(Raw!$D$3:$D$135,Raw!$D$3:$D$135,1))
A54: {=IF(MAX($A$2:A53)+1<MAX(RANK(Raw!$D$3:$D$135,Raw!$D$3:$D$135,1)),A53+1,"")} | B54: =IF($A54="","",LOOKUP(2,1/(RANK(Raw!$D$3:$D$135,Raw!$D$3:$D$135,1)=$A54),Raw!A$3:A$135)) | C54: =IF($A54="","",LOOKUP(2,1/(RANK(Raw!$D$3:$D$135,Raw!$D$3:$D$135,1)=$A54),Raw!B$3:B$135)) | D54: =IF($A54="","",LOOKUP(2,1/(RANK(Raw!$D$3:$D$135,Raw!$D$3:$D$135,1)=$A54),Raw!C$3:C$135))
A55: {=IF(MAX($A$2:A54)+1<MAX(RANK(Raw!$D$3:$D$135,Raw!$D$3:$D$135,1)),A54+1,"")} | B55: =IF($A55="","",LOOKUP(2,1/(RANK(Raw!$D$3:$D$135,Raw!$D$3:$D$135,1)=$A55),Raw!A$3:A$135)) | C55: =IF($A55="","",LOOKUP(2,1/(RANK(Raw!$D$3:$D$135,Raw!$D$3:$D$135,1)=$A55),Raw!B$3:B$135)) | D55: =IF($A55="","",LOOKUP(2,1/(RANK(Raw!$D$3:$D$135,Raw!$D$3:$D$135,1)=$A55),Raw!C$3:C$135))
A56: {=IF(MAX($A$2:A55)+1<MAX(RANK(Raw!$D$3:$D$135,Raw!$D$3:$D$135,1)),A55+1,"")} | B56: =IF($A56="","",LOOKUP(2,1/(RANK(Raw!$D$3:$D$135,Raw!$D$3:$D$135,1)=$A56),Raw!A$3:A$135)) | C56: =IF($A56="","",LOOKUP(2,1/(RANK(Raw!$D$3:$D$135,Raw!$D$3:$D$135,1)=$A56),Raw!B$3:B$135)) | D56: =IF($A56="","",LOOKUP(2,1/(RANK(Raw!$D$3:$D$135,Raw!$D$3:$D$135,1)=$A56),Raw!C$3:C$135))
A57: {=IF(MAX($A$2:A56)+1<MAX(RANK(Raw!$D$3:$D$135,Raw!$D$3:$D$135,1)),A56+1,"")} | B57: =IF($A57="","",LOOKUP(2,1/(RANK(Raw!$D$3:$D$135,Raw!$D$3:$D$135,1)=$A57),Raw!A$3:A$135)) | C57: =IF($A57="","",LOOKUP(2,1/(RANK(Raw!$D$3:$D$135,Raw!$D$3:$D$135,1)=$A57),Raw!B$3:B$135)) | D57: =IF($A57="","",LOOKUP(2,1/(RANK(Raw!$D$3:$D$135,Raw!$D$3:$D$135,1)=$A57),Raw!C$3:C$135))
A58: {=IF(MAX($A$2:A57)+1<MAX(RANK(Raw!$D$3:$D$135,Raw!$D$3:$D$135,1)),A57+1,"")} | B58: =IF($A58="","",LOOKUP(2,1/(RANK(Raw!$D$3:$D$135,Raw!$D$3:$D$135,1)=$A58),Raw!A$3:A$135)) | C58: =IF($A58="","",LOOKUP(2,1/(RANK(Raw!$D$3:$D$135,Raw!$D$3:$D$135,1)=$A58),Raw!B$3:B$135)) | D58: =IF($A58="","",LOOKUP(2,1/(RANK(Raw!$D$3:$D$135,Raw!$D$3:$D$135,1)=$A58),Raw!C$3:C$135))
A59: {=IF(MAX($A$2:A58)+1<MAX(RANK(Raw!$D$3:$D$135,Raw!$D$3:$D$135,1)),A58+1,"")} | B59: =IF($A59="","",LOOKUP(2,1/(RANK(Raw!$D$3:$D$135,Raw!$D$3:$D$135,1)=$A59),Raw!A$3:A$135)) | C59: =IF($A59="","",LOOKUP(2,1/(RANK(Raw!$D$3:$D$135,Raw!$D$3:$D$135,1)=$A59),Raw!B$3:B$135)) | D59: =IF($A59="","",LOOKUP(2,1/(RANK(Raw!$D$3:$D$135,Raw!$D$3:$D$135,1)=$A59),Raw!C$3:C$135))
A60: {=IF(MAX($A$2:A59)+1<MAX(RANK(Raw!$D$3:$D$135,Raw!$D$3:$D$135,1)),A59+1,"")} | B60: =IF($A60="","",LOOKUP(2,1/(RANK(Raw!$D$3:$D$135,Raw!$D$3:$D$135,1)=$A60),Raw!A$3:A$135)) | C60: =IF($A60="","",LOOKUP(2,1/(RANK(Raw!$D$3:$D$135,Raw!$D$3:$D$135,1)=$A60),Raw!B$3:B$135)) | D60: =IF($A60="","",LOOKUP(2,1/(RANK(Raw!$D$3:$D$135,Raw!$D$3:$D$135,1)=$A60),Raw!C$3:C$135))
A61: {=IF(MAX($A$2:A60)+1<MAX(RANK(Raw!$D$3:$D$135,Raw!$D$3:$D$135,1)),A60+1,"")} | B61: =IF($A61="","",LOOKUP(2,1/(RANK(Raw!$D$3:$D$135,Raw!$D$3:$D$135,1)=$A61),Raw!A$3:A$135)) | C61: =IF($A61="","",LOOKUP(2,1/(RANK(Raw!$D$3:$D$135,Raw!$D$3:$D$135,1)=$A61),Raw!B$3:B$135)) | D61: =IF($A61="","",LOOKUP(2,1/(RANK(Raw!$D$3:$D$135,Raw!$D$3:$D$135,1)=$A61),Raw!C$3:C$135))
A62: {=IF(MAX($A$2:A61)+1<MAX(RANK(Raw!$D$3:$D$135,Raw!$D$3:$D$135,1)),A61+1,"")} | B62: =IF($A62="","",LOOKUP(2,1/(RANK(Raw!$D$3:$D$135,Raw!$D$3:$D$135,1)=$A62),Raw!A$3:A$135)) | C62: =IF($A62="","",LOOKUP(2,1/(RANK(Raw!$D$3:$D$135,Raw!$D$3:$D$135,1)=$A62),Raw!B$3:B$135)) | D62: =IF($A62="","",LOOKUP(2,1/(RANK(Raw!$D$3:$D$135,Raw!$D$3:$D$135,1)=$A62),Raw!C$3:C$135))
A63: {=IF(MAX($A$2:A62)+1<MAX(RANK(Raw!$D$3:$D$135,Raw!$D$3:$D$135,1)),A62+1,"")} | B63: =IF($A63="","",LOOKUP(2,1/(RANK(Raw!$D$3:$D$135,Raw!$D$3:$D$135,1)=$A63),Raw!A$3:A$135)) | C63: =IF($A63="","",LOOKUP(2,1/(RANK(Raw!$D$3:$D$135,Raw!$D$3:$D$135,1)=$A63),Raw!B$3:B$135)) | D63: =IF($A63="","",LOOKUP(2,1/(RANK(Raw!$D$3:$D$135,Raw!$D$3:$D$135,1)=$A63),Raw!C$3:C$135))
A64: {=IF(MAX($A$2:A63)+1<MAX(RANK(Raw!$D$3:$D$135,Raw!$D$3:$D$135,1)),A63+1,"")} | B64: =IF($A64="","",LOOKUP(2,1/(RANK(Raw!$D$3:$D$135,Raw!$D$3:$D$135,1)=$A64),Raw!A$3:A$135)) | C64: =IF($A64="","",LOOKUP(2,1/(RANK(Raw!$D$3:$D$135,Raw!$D$3:$D$135,1)=$A64),Raw!B$3:B$135)) | D64: =IF($A64="","",LOOKUP(2,1/(RANK(Raw!$D$3:$D$135,Raw!$D$3:$D$135,1)=$A64),Raw!C$3:C$135))
A65: {=IF(MAX($A$2:A64)+1<MAX(RANK(Raw!$D$3:$D$135,Raw!$D$3:$D$135,1)),A64+1,"")} | B65: =IF($A65="","",LOOKUP(2,1/(RANK(Raw!$D$3:$D$135,Raw!$D$3:$D$135,1)=$A65),Raw!A$3:A$135)) | C65: =IF($A65="","",LOOKUP(2,1/(RANK(Raw!$D$3:$D$135,Raw!$D$3:$D$135,1)=$A65),Raw!B$3:B$135)) | D65: =IF($A65="","",LOOKUP(2,1/(RANK(Raw!$D$3:$D$135,Raw!$D$3:$D$135,1)=$A65),Raw!C$3:C$135))
... A205: {=IF(MAX($A$2:A204)+1<MAX(RANK(Raw!$D$3:$D$135,Raw!$D$3:$D$135,1)),A204+1,"")} | B205: =IF($A205="","",LOOKUP(2,1/(RANK(Raw!$D$3:$D$135,Raw!$D$3:$D$135,1)=$A205),Raw!A$3:A$135)) | C205: =IF($A205="","",LOOKUP(2,1/(RANK(Raw!$D$3:$D$135,Raw!$D$3:$D$135,1)=$A205),Raw!B$3:B$135)) | D205: =IF($A205="","",LOOKUP(2,1/(RANK(Raw!$D$3:$D$135,Raw!$D$3:$D$135,1)=$A205),Raw!C$3:C$135))
