Workbook
Name Agents: OFFSET(#REF!,1,0,COUNTA(#REF!)-1,1)

Sheet Sheet1
A1: CALL CENTER | B1: Owner Day Tour
A2: DAY OF YEAR | B2: (All)
B4: Values
A5: Row Labels | B5: Sum of QUAL TOURS | C5: Sum of NET SALES VOLUME | D5: Sum of VPG1
A6: Unassigned Opc, | B6: 1 | C6: 14960 | D6: 14960
A7: [Person_1], [Person_2] | B7: 2 | C7: 23000 | D7: 11500
A8: Unknown | B8: 8 | C8: 33606 | D8: 4200.75
A9: [Person_3], [Person_4] | B9: 4 | C9: 16500 | D9: 4125
A10: Sutton, Belinda | B10: 250 | C10: 898481 | D10: 3593.924
A11: Quiroga, Kristine | B11: 291 | C11: 929064 | D11: 3192.6598
A12: [Person_5], [Person_6] | B12: 420 | C12: 1333041 | D12: 3173.9071
A13: Code, [Person_7] | B13: 177 | C13: 537762 | D13: 3038.2034
A14: Lipshin, [Person_8] | B14: 63 | C14: 182285 | D14: 2893.4127
A15: Fernandez, [Person_9] | B15: 6 | C15: 15730 | D15: 2621.6667
A16: Priest, [Person_10] | B16: 238 | C16: 623784 | D16: 2620.9412
A17: Mckelvey, Gina | B17: 364 | C17: 934786 | D17: 2568.0934
... A28: Rivera, [Person_23] | B28: 2 | C28: 0 | D28: 0
A29: Dunn, [Person_24] | B29: 0 | C29: 0 | D29: #[Person_25]!
A30: Mainez, [Person_26] | B30: 0 | C30: 0 | D30: #[Person_25]!
A31: Galindo, Teresa | B31: 0 | C31: 0 | D31: #[Person_25]!
A32: Thompson, [Person_27] | B32: 0 | C32: 0 | D32: #[Person_25]!
A33: Grand Total | B33: 2134 | C33: 6266375 | D33: 2936.4456

Sheet Sales
A1: Salesman | B1: CUSTOMER | C1: CHANGE DATE | D1: SOLD DATE | E1: CONTRACT | F1: STATUS | G1: NET VOLUME | H1: helper [Person_28] | I1: helper column2
A2: [Person_29] | B2: 2012 A J And Carol Manker Family Trust Dated 06/22/2012, 9-180038527 | C2: 41342 | D2: 41342 | E2: 16684645 | F2: GOOD | G2: 10196 | H2: =A2&COUNTIF($A$2:A2,A2) | I2: =IF(AND(F2="Cancel",SUMPRODUCT(--($A$2:$A$15=A2),--($F$2:$F$15="Good"))),G2,"") | J2: =SUMPRODUCT(--($A$2:$A$15=A2),--($F$2:$F$15="good"))
A3: VIOLETTA | B3: Abalos, Heather Oro 9-178537891 | C3: 41353 | D3: 41353 | E3: 16687558 | F3: GOOD | G3: 13760 | H3: =A3&COUNTIF($A$2:A3,A3) | I3: =IF(AND(F3="Cancel",SUMPRODUCT(--($A$2:$A$15=A3),--($F$2:$F$15="Good"))),G3,"") | J3: =SUMPRODUCT(--($A$2:$A$15=A3),--($F$2:$F$15="good"))
A4: VIOLETTA | B4: Abalos, Heather Oro 9-178537891 | C4: 41402 | D4: 41353 | E4: 16687558 | F4: CANCEL | G4: -13760 | H4: =A4&COUNTIF($A$2:A4,A4) | I4: =IF(AND(F4="Cancel",SUMPRODUCT(--($A$2:$A$15=A4),--($F$2:$F$15="Good"))),G4,"") | J4: =SUMPRODUCT(--($A$2:$A$15=A4),--($F$2:$F$15="good"))
A5: SHARON | B5: Abantao, [Person_30] 9-178524376 | C5: 41363 | D5: 41363 | E5: 16690348 | F5: PENDING | G5: 20499 | H5: =A5&COUNTIF($A$2:A5,A5) | I5: =IF(AND(F5="Cancel",SUMPRODUCT(--($A$2:$A$15=A5),--($F$2:$F$15="Good"))),G5,"") | J5: =SUMPRODUCT(--($A$2:$A$15=A5),--($F$2:$F$15="good"))
A6: MARILYN | B6: Abshire, Kimberly D 9-175949879 | C6: 41231 | D6: 41231 | E6: 16659635 | F6: GOOD | G6: 9770 | H6: =A6&COUNTIF($A$2:A6,A6) | I6: =IF(AND(F6="Cancel",SUMPRODUCT(--($A$2:$A$15=A6),--($F$2:$F$15="Good"))),G6,"") | J6: =SUMPRODUCT(--($A$2:$A$15=A6),--($F$2:$F$15="good"))
A7: STEVE | B7: Academia, [Person_31] | C7: 41490 | D7: 41490 | E7: 16870401 | F7: GOOD | G7: 14420 | H7: =A7&COUNTIF($A$2:A7,A7) | I7: =IF(AND(F7="Cancel",SUMPRODUCT(--($A$2:$A$15=A7),--($F$2:$F$15="Good"))),G7,"") | J7: =SUMPRODUCT(--($A$2:$A$15=A7),--($F$2:$F$15="good"))
A8: STEVE | B8: Academia, [Person_31] | C8: 41496 | D8: 41490 | E8: 16870401 | F8: CANCEL | G8: -14420 | H8: =A8&COUNTIF($A$2:A8,A8) | I8: =IF(AND(F8="Cancel",SUMPRODUCT(--($A$2:$A$15=A8),--($F$2:$F$15="Good"))),G8,"") | J8: =SUMPRODUCT(--($A$2:$A$15=A8),--($F$2:$F$15="good"))
A9: RUBEN | B9: Acosta, Josafath 9-177958678 | C9: 41293 | D9: 41293 | E9: 16673452 | F9: PENDING | G9: 7000 | H9: =A9&COUNTIF($A$2:A9,A9) | I9: =IF(AND(F9="Cancel",SUMPRODUCT(--($A$2:$A$15=A9),--($F$2:$F$15="Good"))),G9,"") | J9: =SUMPRODUCT(--($A$2:$A$15=A9),--($F$2:$F$15="good"))
A10: RUBEN | B10: Acosta, Josafath 9-177958678 | C10: 41302 | D10: 41293 | E10: 16673452 | F10: CANCEL | G10: -7000 | H10: =A10&COUNTIF($A$2:A10,A10) | I10: =IF(AND(F10="Cancel",SUMPRODUCT(--($A$2:$A$15=A10),--($F$2:$F$15="Good"))),G10,"") | J10: =SUMPRODUCT(--($A$2:$A$15=A10),--($F$2:$F$15="good"))
A11: WILLIAM | B11: Adams, Jr, [Person_32] 9-178588989 | C11: 41350 | D11: 41350 | E11: 16686589 | F11: GOOD | G11: 14420 | H11: =A11&COUNTIF($A$2:A11,A11) | I11: =IF(AND(F11="Cancel",SUMPRODUCT(--($A$2:$A$15=A11),--($F$2:$F$15="Good"))),G11,"") | J11: =SUMPRODUCT(--($A$2:$A$15=A11),--($F$2:$F$15="good"))
A12: VERONICA | B12: Adams, Lannia Alvanie 9-178968403 | C12: 41398 | D12: 41398 | E12: 16701220 | F12: PENDING | G12: 2420 | H12: =A12&COUNTIF($A$2:A12,A12) | I12: =IF(AND(F12="Cancel",SUMPRODUCT(--($A$2:$A$15=A12),--($F$2:$F$15="Good"))),G12,"") | J12: =SUMPRODUCT(--($A$2:$A$15=A12),--($F$2:$F$15="good"))
A13: VERONICA | B13: Adams, Lannia Alvanie 9-178968403 | C13: 41408 | D13: 41398 | E13: 16701220 | F13: CANCEL | G13: -2420 | H13: =A13&COUNTIF($A$2:A13,A13) | I13: =IF(AND(F13="Cancel",SUMPRODUCT(--($A$2:$A$15=A13),--($F$2:$F$15="Good"))),G13,"") | J13: =SUMPRODUCT(--($A$2:$A$15=A13),--($F$2:$F$15="good"))
... A15: SHARON | B15: Abantao, [Person_30] 9-178524376 | C15: 41363 | D15: 41363 | E15: 16690348 | F15: CANCEL | G15: -20499 | H15: =A15&COUNTIF($A$2:A15,A15) | I15: =IF(AND(F15="Cancel",SUMPRODUCT(--($A$2:$A$15=A15),--($F$2:$F$15="Good"))),G15,"") | J15: =SUMPRODUCT(--($A$2:$A$15=A15),--($F$2:$F$15="good"))

Sheet Report
A1: Date From | B1: 41275
A2: Date To | B2: 41513
A4: Agent | B4: Customer | C4: PENDING | D4: CANCEL | E4: GOOD | F4: Total | G4: Column2
A5: =INDEX(Sales!$A$2:$A$15,MATCH(Table3[[#This Row],[Customer]],Sales!$B$2:$B$15,0)) | B5: 2012 A J And Carol Manker Family Trust Dated 06/22/2012, 9-180038527 | C5: =SUMIFS(Sales!$G:$G,Sales!$A:$A,$A5,Sales!$D:$D,">="&$B$1,Sales!$D:$D,"<="&$B$2,Sales!F:F,$C$4) | D5: =(IF(SUMPRODUCT(--(Sales!$B$2:$B$15=Table3[[#This Row],[Customer]]),--(Sales!$F$2:$F$15="good"))-SUMPRODUCT(--(Sales!$B$2:$B$15=Table3[[#This Row],[Customer]]),--(Sales!$F$2:$F$15="cancel"))=0,(INDEX(Sales!$G$2:$G$15,MATCH(Table3[[#This Row],[Agent]],Sales!$A$2:$A$15,0))*-1),"")) | E5: =SUMIFS(Sales!$G:$G,Sales!$A:$A,$A5,Sales!$D:$D,">="&$B$1,Sales!$D:$D,"<="&$B$2,Sales!F:F,$E$4) | F5: =SUM(C5:E5) | G5: =SUMPRODUCT(--(Sales!$B$2:$B$15=Table3[[#This Row],[Customer]]),--(Sales!$F$2:$F$15="good"))-SUMPRODUCT(--(Sales!$B$2:$B$15=Table3[[#This Row],[Customer]]),--(Sales!$F$2:$F$15="cancel"))
A6: =INDEX(Sales!$A$2:$A$15,MATCH(Table3[[#This Row],[Customer]],Sales!$B$2:$B$15,0)) | B6: Abalos, Heather Oro 9-178537891 | C6: =SUMIFS(Sales!$G:$G,Sales!$A:$A,$A6,Sales!$D:$D,">="&$B$1,Sales!$D:$D,"<="&$B$2,Sales!F:F,$C$4) | D6: =(IF(SUMPRODUCT(--(Sales!$B$2:$B$15=Table3[[#This Row],[Customer]]),--(Sales!$F$2:$F$15="good"))-SUMPRODUCT(--(Sales!$B$2:$B$15=Table3[[#This Row],[Customer]]),--(Sales!$F$2:$F$15="cancel"))=0,(INDEX(Sales!$G$2:$G$15,MATCH(Table3[[#This Row],[Agent]],Sales!$A$2:$A$15,0))*-1),"")) | E6: =SUMIFS(Sales!$G:$G,Sales!$A:$A,$A6,Sales!$D:$D,">="&$B$1,Sales!$D:$D,"<="&$B$2,Sales!F:F,$E$4) | F6: =SUM(C6:E6) | G6: =SUMPRODUCT(--(Sales!$B$2:$B$15=Table3[[#This Row],[Customer]]),--(Sales!$F$2:$F$15="good"))-SUMPRODUCT(--(Sales!$B$2:$B$15=Table3[[#This Row],[Customer]]),--(Sales!$F$2:$F$15="cancel"))
A7: =INDEX(Sales!$A$2:$A$15,MATCH(Table3[[#This Row],[Customer]],Sales!$B$2:$B$15,0)) | B7: Abantao, [Person_30] 9-178524376 | C7: =SUMIFS(Sales!$G:$G,Sales!$A:$A,$A7,Sales!$D:$D,">="&$B$1,Sales!$D:$D,"<="&$B$2,Sales!F:F,$C$4) | D7: =(IF(SUMPRODUCT(--(Sales!$B$2:$B$15=Table3[[#This Row],[Customer]]),--(Sales!$F$2:$F$15="good"))-SUMPRODUCT(--(Sales!$B$2:$B$15=Table3[[#This Row],[Customer]]),--(Sales!$F$2:$F$15="cancel"))=0,(INDEX(Sales!$G$2:$G$15,MATCH(Table3[[#This Row],[Agent]],Sales!$A$2:$A$15,0))*-1),"")) | E7: =SUMIFS(Sales!$G:$G,Sales!$A:$A,$A7,Sales!$D:$D,">="&$B$1,Sales!$D:$D,"<="&$B$2,Sales!F:F,$E$4) | F7: =SUM(C7:E7) | G7: =SUMPRODUCT(--(Sales!$B$2:$B$15=Table3[[#This Row],[Customer]]),--(Sales!$F$2:$F$15="good"))-SUMPRODUCT(--(Sales!$B$2:$B$15=Table3[[#This Row],[Customer]]),--(Sales!$F$2:$F$15="cancel"))
A8: =INDEX(Sales!$A$2:$A$15,MATCH(Table3[[#This Row],[Customer]],Sales!$B$2:$B$15,0)) | B8: Abshire, Kimberly D 9-175949879 | C8: =SUMIFS(Sales!$G:$G,Sales!$A:$A,$A8,Sales!$D:$D,">="&$B$1,Sales!$D:$D,"<="&$B$2,Sales!F:F,$C$4) | D8: =(IF(SUMPRODUCT(--(Sales!$B$2:$B$15=Table3[[#This Row],[Customer]]),--(Sales!$F$2:$F$15="good"))-SUMPRODUCT(--(Sales!$B$2:$B$15=Table3[[#This Row],[Customer]]),--(Sales!$F$2:$F$15="cancel"))=0,(INDEX(Sales!$G$2:$G$15,MATCH(Table3[[#This Row],[Agent]],Sales!$A$2:$A$15,0))*-1),"")) | E8: =SUMIFS(Sales!$G:$G,Sales!$A:$A,$A8,Sales!$D:$D,">="&$B$1,Sales!$D:$D,"<="&$B$2,Sales!F:F,$E$4) | F8: =SUM(C8:E8) | G8: =SUMPRODUCT(--(Sales!$B$2:$B$15=Table3[[#This Row],[Customer]]),--(Sales!$F$2:$F$15="good"))-SUMPRODUCT(--(Sales!$B$2:$B$15=Table3[[#This Row],[Customer]]),--(Sales!$F$2:$F$15="cancel"))
A9: =INDEX(Sales!$A$2:$A$15,MATCH(Table3[[#This Row],[Customer]],Sales!$B$2:$B$15,0)) | B9: Academia, [Person_31] | C9: =SUMIFS(Sales!$G:$G,Sales!$A:$A,$A9,Sales!$D:$D,">="&$B$1,Sales!$D:$D,"<="&$B$2,Sales!F:F,$C$4) | D9: =(IF(SUMPRODUCT(--(Sales!$B$2:$B$15=Table3[[#This Row],[Customer]]),--(Sales!$F$2:$F$15="good"))-SUMPRODUCT(--(Sales!$B$2:$B$15=Table3[[#This Row],[Customer]]),--(Sales!$F$2:$F$15="cancel"))=0,(INDEX(Sales!$G$2:$G$15,MATCH(Table3[[#This Row],[Agent]],Sales!$A$2:$A$15,0))*-1),"")) | E9: =SUMIFS(Sales!$G:$G,Sales!$A:$A,$A9,Sales!$D:$D,">="&$B$1,Sales!$D:$D,"<="&$B$2,Sales!F:F,$E$4) | F9: =SUM(C9:E9) | G9: =SUMPRODUCT(--(Sales!$B$2:$B$15=Table3[[#This Row],[Customer]]),--(Sales!$F$2:$F$15="good"))-SUMPRODUCT(--(Sales!$B$2:$B$15=Table3[[#This Row],[Customer]]),--(Sales!$F$2:$F$15="cancel"))
A10: =INDEX(Sales!$A$2:$A$15,MATCH(Table3[[#This Row],[Customer]],Sales!$B$2:$B$15,0)) | B10: Acosta, Josafath 9-177958678 | C10: =SUMIFS(Sales!$G:$G,Sales!$A:$A,$A10,Sales!$D:$D,">="&$B$1,Sales!$D:$D,"<="&$B$2,Sales!F:F,$C$4) | D10: =(IF(SUMPRODUCT(--(Sales!$B$2:$B$15=Table3[[#This Row],[Customer]]),--(Sales!$F$2:$F$15="good"))-SUMPRODUCT(--(Sales!$B$2:$B$15=Table3[[#This Row],[Customer]]),--(Sales!$F$2:$F$15="cancel"))=0,(INDEX(Sales!$G$2:$G$15,MATCH(Table3[[#This Row],[Agent]],Sales!$A$2:$A$15,0))*-1),"")) | E10: =SUMIFS(Sales!$G:$G,Sales!$A:$A,$A10,Sales!$D:$D,">="&$B$1,Sales!$D:$D,"<="&$B$2,Sales!F:F,$E$4) | F10: =SUM(C10:E10) | G10: =SUMPRODUCT(--(Sales!$B$2:$B$15=Table3[[#This Row],[Customer]]),--(Sales!$F$2:$F$15="good"))-SUMPRODUCT(--(Sales!$B$2:$B$15=Table3[[#This Row],[Customer]]),--(Sales!$F$2:$F$15="cancel"))
A11: =INDEX(Sales!$A$2:$A$15,MATCH(Table3[[#This Row],[Customer]],Sales!$B$2:$B$15,0)) | B11: Adams, Jr, [Person_32] 9-178588989 | C11: =SUMIFS(Sales!$G:$G,Sales!$A:$A,$A11,Sales!$D:$D,">="&$B$1,Sales!$D:$D,"<="&$B$2,Sales!F:F,$C$4) | D11: =(IF(SUMPRODUCT(--(Sales!$B$2:$B$15=Table3[[#This Row],[Customer]]),--(Sales!$F$2:$F$15="good"))-SUMPRODUCT(--(Sales!$B$2:$B$15=Table3[[#This Row],[Customer]]),--(Sales!$F$2:$F$15="cancel"))=0,(INDEX(Sales!$G$2:$G$15,MATCH(Table3[[#This Row],[Agent]],Sales!$A$2:$A$15,0))*-1),"")) | E11: =SUMIFS(Sales!$G:$G,Sales!$A:$A,$A11,Sales!$D:$D,">="&$B$1,Sales!$D:$D,"<="&$B$2,Sales!F:F,$E$4) | F11: =SUM(C11:E11) | G11: =SUMPRODUCT(--(Sales!$B$2:$B$15=Table3[[#This Row],[Customer]]),--(Sales!$F$2:$F$15="good"))-SUMPRODUCT(--(Sales!$B$2:$B$15=Table3[[#This Row],[Customer]]),--(Sales!$F$2:$F$15="cancel"))
A12: =INDEX(Sales!$A$2:$A$15,MATCH(Table3[[#This Row],[Customer]],Sales!$B$2:$B$15,0)) | B12: Adams, Lannia Alvanie 9-178968403 | C12: =SUMIFS(Sales!$G:$G,Sales!$A:$A,$A12,Sales!$D:$D,">="&$B$1,Sales!$D:$D,"<="&$B$2,Sales!F:F,$C$4) | D12: =(IF(SUMPRODUCT(--(Sales!$B$2:$B$15=Table3[[#This Row],[Customer]]),--(Sales!$F$2:$F$15="good"))-SUMPRODUCT(--(Sales!$B$2:$B$15=Table3[[#This Row],[Customer]]),--(Sales!$F$2:$F$15="cancel"))=0,(INDEX(Sales!$G$2:$G$15,MATCH(Table3[[#This Row],[Agent]],Sales!$A$2:$A$15,0))*-1),"")) | E12: =SUMIFS(Sales!$G:$G,Sales!$A:$A,$A12,Sales!$D:$D,">="&$B$1,Sales!$D:$D,"<="&$B$2,Sales!F:F,$E$4) | F12: =SUM(C12:E12) | G12: =SUMPRODUCT(--(Sales!$B$2:$B$15=Table3[[#This Row],[Customer]]),--(Sales!$F$2:$F$15="good"))-SUMPRODUCT(--(Sales!$B$2:$B$15=Table3[[#This Row],[Customer]]),--(Sales!$F$2:$F$15="cancel"))
A13: Total | C13: =SUBTOTAL(109,Table3[PENDING]) | D13: =SUBTOTAL(109,Table3[CANCEL]) | E13: =SUBTOTAL(109,Table3[GOOD]) | F13: =SUBTOTAL(109,Table3[Total])
