Workbook

Sheet 3rd Party Deals
N2: 656574
F3: EOG | J3: EES | N3: New Power Pool Supply
B4: A06 | F4: [Person_1] | J4: [Person_2] | N4: P10 | S4: Total | T4: Net
B5: 597271 | C5: Price | D5: Amount | F5: 597290 | G5: Price | H5: Amount | J5: 597293 | K5: Price | L5: Amount | O5: Price | P5: Amount | S5: Receipt | T5: Citygate
A6: 1 | B6: 3285 | C6: =5.29+0.0125 | D6: =+B6*C6 | F6: 3942 | G6: =5.29+0.0125 | H6: =+F6*G6 | J6: 3026 | K6: =5.29+0.0125 | L6: =+J6*K6 | N6: 0 | O6: =5.29+0.0125 | P6: =+N6*O6 | S6: =SUM(B6,F6,J6,N6) | T6: =ROUND(+S6*(1-0.02184),0)-1
A7: =+A6+1 | B7: =+B6 | C7: =+C6 | D7: =+B7*C7 | F7: =+F6 | G7: =+G6 | H7: =+F7*G7 | J7: =+J6 | K7: =+K6 | L7: =+J7*K7 | N7: =+N6 | O7: =+O6 | P7: =+N7*O7 | S7: =SUM(B7,F7,J7,N7) | T7: =ROUND(+S7*(1-0.02184),0)-1
A8: =+A7+1 | B8: =+B7 | C8: =+C7 | D8: =+B8*C8 | F8: =+F7 | G8: =+G7 | H8: =+F8*G8 | J8: =+J7 | K8: =+K7 | L8: =+J8*K8 | N8: =+N7 | O8: =+O7 | P8: =+N8*O8 | S8: =SUM(B8,F8,J8,N8) | T8: =ROUND(+S8*(1-0.02184),0)-1
A9: =+A8+1 | B9: =+B8 | C9: =+C8 | D9: =+B9*C9 | F9: =+F8 | G9: =+G8 | H9: =+F9*G9 | J9: =+J8 | K9: =+K8 | L9: =+J9*K9 | N9: =+N8 | O9: =+O8 | P9: =+N9*O9 | S9: =SUM(B9,F9,J9,N9) | T9: =ROUND(+S9*(1-0.02184),0)-1
A10: =+A9+1 | B10: =+B9 | C10: =+C9 | D10: =+B10*C10 | F10: =+F9 | G10: =+G9 | H10: =+F10*G10 | J10: =+J9 | K10: =+K9 | L10: =+J10*K10 | N10: =+N9 | O10: =+O9 | P10: =+N10*O10 | S10: =SUM(B10,F10,J10,N10) | T10: =ROUND(+S10*(1-0.02184),0)-1
A11: =+A10+1 | B11: =+B10 | C11: =+C10 | D11: =+B11*C11 | F11: =+F10 | G11: =+G10 | H11: =+F11*G11 | J11: =+J10 | K11: =+K10 | L11: =+J11*K11 | N11: =+N10 | O11: =+O10 | P11: =+N11*O11 | S11: =SUM(B11,F11,J11,N11) | T11: =ROUND(+S11*(1-0.02184),0)-1
A12: =+A11+1 | B12: =+B11 | C12: =+C11 | D12: =+B12*C12 | F12: =+F11 | G12: =+G11 | H12: =+F12*G12 | J12: =+J11 | K12: =+K11 | L12: =+J12*K12 | N12: 15418 | O12: =+O11 | P12: =+N12*O12 | S12: =SUM(B12,F12,J12,N12) | T12: =ROUND(+S12*(1-0.02184),0)-1
A13: =+A12+1 | B13: =+B12 | C13: =+C12 | D13: =+B13*C13 | F13: =+F12 | G13: =+G12 | H13: =+F13*G13 | J13: 0 | K13: =+K12 | L13: =+J13*K13 | N13: 14333 | O13: =+O12 | P13: =+N13*O13 | S13: =SUM(B13,F13,J13,N13) | T13: =ROUND(+S13*(1-0.02184),0)-1
A14: =+A13+1 | B14: =+B13 | C14: =+C13 | D14: =+B14*C14 | F14: =+F13 | G14: =+G13 | H14: =+F14*G14 | J14: =+J13 | K14: =+K13 | L14: =+J14*K14 | N14: 18970 | O14: =+O13 | P14: =+N14*O14 | S14: =SUM(B14,F14,J14,N14) | T14: =ROUND(+S14*(1-0.02184),0)-1
A15: =+A14+1 | B15: =+B14 | C15: =+C14 | D15: =+B15*C15 | F15: =+F14 | G15: =+G14 | H15: =+F15*G15 | J15: =+J14 | K15: =+K14 | L15: =+J15*K15 | N15: 11000 | O15: =+O14 | P15: =+N15*O15 | S15: =SUM(B15,F15,J15,N15) | T15: =ROUND(+S15*(1-0.02184),0)-1
A16: =+A15+1 | B16: =+B15 | C16: =+C15 | D16: =+B16*C16 | F16: =+F15 | G16: =+G15 | H16: =+F16*G16 | J16: =+J15 | K16: =+K15 | L16: =+J16*K16 | N16: =+N15 | O16: =+O15 | P16: =+N16*O16 | S16: =SUM(B16,F16,J16,N16) | T16: =ROUND(+S16*(1-0.02184),0)-1
A17: =+A16+1 | B17: =+B16 | C17: =+C16 | D17: =+B17*C17 | F17: =+F16 | G17: =+G16 | H17: =+F17*G17 | J17: =+J16 | K17: =+K16 | L17: =+J17*K17 | N17: =+N16 | O17: =+O16 | P17: =+N17*O17 | S17: =SUM(B17,F17,J17,N17) | T17: =ROUND(+S17*(1-0.02184),0)-1
A18: =+A17+1 | B18: =+B17 | C18: =+C17 | D18: =+B18*C18 | F18: =+F17 | G18: =+G17 | H18: =+F18*G18 | J18: =+J17 | K18: =+K17 | L18: =+J18*K18 | N18: 8912 | O18: =+O17 | P18: =+N18*O18 | S18: =SUM(B18,F18,J18,N18) | T18: =ROUND(+S18*(1-0.02184),0)-1
A19: =+A18+1 | B19: =+B18 | C19: =+C18 | D19: =+B19*C19 | F19: =+F18 | G19: =+G18 | H19: =+F19*G19 | J19: =+J18 | K19: =+K18 | L19: =+J19*K19 | N19: 8912 | O19: =+O18 | P19: =+N19*O19 | S19: =SUM(B19,F19,J19,N19) | T19: =ROUND(+S19*(1-0.02184),0)-1
A20: =+A19+1 | B20: =+B19 | C20: =+C19 | D20: =+B20*C20 | F20: =+F19 | G20: =+G19 | H20: =+F20*G20 | J20: =+J19 | K20: =+K19 | L20: =+J20*K20 | N20: 8912 | O20: =+O19 | P20: =+N20*O20 | S20: =SUM(B20,F20,J20,N20) | T20: =ROUND(+S20*(1-0.02184),0)-1
A21: =+A20+1 | B21: =+B20 | C21: =+C20 | D21: =+B21*C21 | F21: =+F20 | G21: =+G20 | H21: =+F21*G21 | J21: =+J20 | K21: =+K20 | L21: =+J21*K21 | N21: 8912 | O21: =+O20 | P21: =+N21*O21 | S21: =SUM(B21,F21,J21,N21) | T21: =ROUND(+S21*(1-0.02184),0)-1
A22: =+A21+1 | B22: =+B21 | C22: =+C21 | D22: =+B22*C22 | F22: =+F21 | G22: =+G21 | H22: =+F22*G22 | J22: =+J21 | K22: =+K21 | L22: =+J22*K22 | N22: 0 | O22: =+O21 | P22: =+N22*O22 | S22: =SUM(B22,F22,J22,N22) | T22: =ROUND(+S22*(1-0.02184),0)-1
A23: =+A22+1 | B23: =+B22 | C23: =+C22 | D23: =+B23*C23 | F23: =+F22 | G23: =+G22 | H23: =+F23*G23 | J23: =+J22 | K23: =+K22 | L23: =+J23*K23 | N23: =+N22 | O23: =+O22 | P23: =+N23*O23 | S23: =SUM(B23,F23,J23,N23) | T23: =ROUND(+S23*(1-0.02184),0)-1
A24: =+A23+1 | B24: =+B23 | C24: =+C23 | D24: =+B24*C24 | F24: =+F23 | G24: =+G23 | H24: =+F24*G24 | J24: =+J23 | K24: =+K23 | L24: =+J24*K24 | N24: =+N23 | O24: =+O23 | P24: =+N24*O24 | S24: =SUM(B24,F24,J24,N24) | T24: =ROUND(+S24*(1-0.02184),0)-1
A25: =+A24+1 | B25: =+B24 | C25: =+C24 | D25: =+B25*C25 | F25: =+F24 | G25: =+G24 | H25: =+F25*G25 | J25: =+J24 | K25: =+K24 | L25: =+J25*K25 | N25: =+N24 | O25: =+O24 | P25: =+N25*O25 | S25: =SUM(B25,F25,J25,N25) | T25: =ROUND(+S25*(1-0.02184),0)-1
A26: =+A25+1 | B26: =+B25 | C26: =+C25 | D26: =+B26*C26 | F26: =+F25 | G26: =+G25 | H26: =+F26*G26 | J26: =+J25 | K26: =+K25 | L26: =+J26*K26 | N26: =+N25 | O26: =+O25 | P26: =+N26*O26 | S26: =SUM(B26,F26,J26,N26) | T26: =ROUND(+S26*(1-0.02184),0)-1
A27: =+A26+1 | B27: =+B26 | C27: =+C26 | D27: =+B27*C27 | F27: =+F26 | G27: =+G26 | H27: =+F27*G27 | J27: =+J26 | K27: =+K26 | L27: =+J27*K27 | N27: =+N26 | O27: =+O26 | P27: =+N27*O27 | S27: =SUM(B27,F27,J27,N27) | T27: =ROUND(+S27*(1-0.02184),0)-1
A28: =+A27+1 | B28: =+B27 | C28: =+C27 | D28: =+B28*C28 | F28: =+F27 | G28: =+G27 | H28: =+F28*G28 | J28: =+J27 | K28: =+K27 | L28: =+J28*K28 | N28: =+N27 | O28: =+O27 | P28: =+N28*O28 | S28: =SUM(B28,F28,J28,N28) | T28: =ROUND(+S28*(1-0.02184),0)-1
A29: =+A28+1 | B29: =+B28 | C29: =+C28 | D29: =+B29*C29 | F29: =+F28 | G29: =+G28 | H29: =+F29*G29 | J29: =+J28 | K29: =+K28 | L29: =+J29*K29 | N29: =+N28 | O29: =+O28 | P29: =+N29*O29 | S29: =SUM(B29,F29,J29,N29) | T29: =ROUND(+S29*(1-0.02184),0)-1
A30: =+A29+1 | B30: =+B29 | C30: =+C29 | D30: =+B30*C30 | F30: =+F29 | G30: =+G29 | H30: =+F30*G30 | J30: =+J29 | K30: =+K29 | L30: =+J30*K30 | N30: =+N29 | O30: =+O29 | P30: =+N30*O30 | S30: =SUM(B30,F30,J30,N30) | T30: =ROUND(+S30*(1-0.02184),0)-1
A31: =+A30+1 | B31: =+B30 | C31: =+C30 | D31: =+B31*C31 | F31: =+F30 | G31: =+G30 | H31: =+F31*G31 | J31: =+J30 | K31: =+K30 | L31: =+J31*K31 | N31: =+N30 | O31: =+O30 | P31: =+N31*O31 | S31: =SUM(B31,F31,J31,N31) | T31: =ROUND(+S31*(1-0.02184),0)-1
A32: =+A31+1 | B32: =+B31 | C32: =+C31 | D32: =+B32*C32 | F32: =+F31 | G32: =+G31 | H32: =+F32*G32 | J32: =+J31 | K32: =+K31 | L32: =+J32*K32 | N32: =+N31 | O32: =+O31 | P32: =+N32*O32 | S32: =SUM(B32,F32,J32,N32) | T32: =ROUND(+S32*(1-0.02184),0)-1
A33: =+A32+1 | B33: =+B32 | C33: =+C32 | D33: =+B33*C33 | F33: =+F32 | G33: =+G32 | H33: =+F33*G33 | J33: =+J32 | K33: =+K32 | L33: =+J33*K33 | N33: =+N32 | O33: =+O32 | P33: =+N33*O33 | S33: =SUM(B33,F33,J33,N33) | T33: =ROUND(+S33*(1-0.02184),0)-1
A34: 29 | B34: =+B33 | C34: =+C33 | D34: =+B34*C34 | F34: =+F33 | G34: =+G33 | H34: =+F34*G34 | J34: =+J33 | K34: =+K33 | L34: =+J34*K34 | N34: =+N33 | O34: =+O33 | P34: =+N34*O34 | S34: =SUM(B34,F34,J34,N34) | T34: =ROUND(+S34*(1-0.02184),0)-1
A35: 30 | B35: =+B34 | C35: =+C34 | D35: =+B35*C35 | F35: =+F34 | G35: =+G34 | H35: =+F35*G35 | J35: =+J34 | K35: =+K34 | L35: =+J35*K35 | N35: =+N34 | O35: =+O34 | P35: =+N35*O35 | S35: =SUM(B35,F35,J35,N35) | T35: =ROUND(+S35*(1-0.02184),0)-1
A36: 31 | B36: =+B35 | C36: =+C35 | D36: =+B36*C36 | F36: =+F35 | G36: =+G35 | H36: =+F36*G36 | J36: =+J35 | K36: =+K35 | L36: =+J36*K36 | N36: =+N35 | O36: =+O35 | P36: =+N36*O36 | S36: =SUM(B36,F36,J36,N36) | T36: =ROUND(+S36*(1-0.02184),0)-1

Sheet CGAS
B3: Citygate | C3: Pool | E3: 456379 | R3: IF On | Y3: Deal 549411
B4: Deal | C4: Deal | E4: Storage | F4: Storage | H4: CES | I4: ENA | K4: Actuals | P4: Adjusted | R4: Deal | T4: [Person_3] | V4: Undertakes | Y4: Citygate | AA4: Per Jeff's Sheet
B5: 649352 | C5: 657466 | E5: Gross | F5: Net | H5: Transport | I5: Transport | K5: From ENA | M5: FOM | N5: 3rd Party | O5: Spot Deals | P5: FOM | R5: =+B5 | T5: [Person_4] SALES | V5: [Person_5] | X5: Gas Daily | Y5: Price | AA5: COH-Stor | AB5: COH | AC5: Buy/(Sell)
A6: 1 | B6: 63357 | C6: 11621 | E6: 49986 | F6: =ROUND(+E6*(1-0.02184),0) | H6: 140099 | I6: =IF(B6-H6>0,+B6-H6,0) | K6: =+B6+C6-F6 | M6: 15553 | N6: =SUM('3rd Party Deals'!T6) | O6: =SUM('Spot wENA'!Z6) | P6: =SUM(M6:O6) | R6: =IF(T6>0,+B6-T6,0) | T6: =IF(K6-P6>0,K6-P6,0) | V6: =IF(P6-K6>0,P6-K6,0) | Y6: =ROUND((+X6+0.01)/(1-0.02184)+0.0227,2) | AA6: 50765 | AB6: 7282 | AC6: ?? | AE6: =+F6-AA6 | AF6: =+T6-AC6 | AH6: =10.8-Y6 | AI6: =+AH6*T6
A7: =+A6+1 | B7: 74902 | C7: =+C6 | E7: 61791 | F7: =ROUND(+E7*(1-0.02184),0) | H7: =+H6 | I7: =IF(B7-H7>0,+B7-H7,0) | K7: =+B7+C7-F7 | M7: =+M6 | N7: =SUM('3rd Party Deals'!T7) | O7: =SUM('Spot wENA'!Z7) | P7: =SUM(M7:O7) | R7: =IF(T7>0,+B7-T7,0) | T7: =IF(K7-P7>0,K7-P7,0) | V7: =IF(P7-K7>0,P7-K7,0) | Y7: =ROUND((+X7+0.01)/(1-0.02184)+0.0227,2) | AA7: 82932 | AB7: 7282 | AC7: -566 | AE7: =+F7-AA7 | AF7: =+T7-AC7 | AH7: =10.8-Y7 | AI7: =+AH7*T7
A8: =+A7+1 | B8: 82646 | C8: =+C7 | E8: 69707 | F8: =ROUND(+E8*(1-0.02184),0) | H8: =+H7 | I8: =IF(B8-H8>0,+B8-H8,0) | K8: =+B8+C8-F8 | M8: =+M7 | N8: =SUM('3rd Party Deals'!T8) | O8: =SUM('Spot wENA'!Z8) | P8: =SUM(M8:O8) | R8: =IF(T8>0,+B8-T8,0) | T8: =IF(K8-P8>0,K8-P8,0) | V8: =IF(P8-K8>0,P8-K8,0) | Y8: =ROUND((+X8+0.01)/(1-0.02184)+0.0227,2) | AA8: 62086 | AB8: 7282 | AC8: -566 | AE8: =+F8-AA8 | AF8: =+T8-AC8 | AH8: =10.8-Y8 | AI8: =+AH8*T8
A9: =+A8+1 | B9: 77711 | C9: =+C8 | E9: 64662 | F9: =ROUND(+E9*(1-0.02184),0) | H9: =+H8 | I9: =IF(B9-H9>0,+B9-H9,0) | K9: =+B9+C9-F9 | M9: =+M8 | N9: =SUM('3rd Party Deals'!T9) | O9: =SUM('Spot wENA'!Z9) | P9: =SUM(M9:O9) | R9: =IF(T9>0,+B9-T9,0) | T9: =IF(K9-P9>0,K9-P9,0) | V9: =IF(P9-K9>0,P9-K9,0) | Y9: =ROUND((+X9+0.01)/(1-0.02184)+0.0227,2) | AA9: 38139 | AB9: 7282 | AC9: -566 | AE9: =+F9-AA9 | AF9: =+T9-AC9 | AH9: =10.8-Y9 | AI9: =+AH9*T9
A10: =+A9+1 | B10: 84890 | C10: =+C9 | E10: 72002 | F10: =ROUND(+E10*(1-0.02184),0) | H10: =+H9 | I10: =IF(B10-H10>0,+B10-H10,0) | K10: =+B10+C10-F10 | M10: =+M9 | N10: =SUM('3rd Party Deals'!T10) | O10: =SUM('Spot wENA'!Z10) | P10: =SUM(M10:O10) | R10: =IF(T10>0,+B10-T10,0) | T10: =IF(K10-P10>0,K10-P10,0) | V10: =IF(P10-K10>0,P10-K10,0) | Y10: =ROUND((+X10+0.01)/(1-0.02184)+0.0227,2) | AA10: 45668 | AB10: 7282 | AC10: -566 | AE10: =+F10-AA10 | AF10: =+T10-AC10 | AH10: =10.8-Y10 | AI10: =+AH10*T10
A11: =+A10+1 | B11: 73713 | C11: =+C10 | E11: 60575 | F11: =ROUND(+E11*(1-0.02184),0) | H11: =+H10 | I11: =IF(B11-H11>0,+B11-H11,0) | K11: =+B11+C11-F11 | M11: =+M10 | N11: =SUM('3rd Party Deals'!T11) | O11: =SUM('Spot wENA'!Z11) | P11: =SUM(M11:O11) | R11: =IF(T11>0,+B11-T11,0) | T11: =IF(K11-P11>0,K11-P11,0) | V11: =IF(P11-K11>0,P11-K11,0) | Y11: =ROUND((+X11+0.01)/(1-0.02184)+0.0227,2) | AA11: 54979 | AB11: 7282 | AC11: -566 | AE11: =+F11-AA11 | AF11: =+T11-AC11 | AH11: =10.8-Y11 | AI11: =+AH11*T11
A12: =+A11+1 | B12: 71462 | C12: 0 | E12: 32630 | F12: =ROUND(+E12*(1-0.02184),0) | H12: =+H11 | I12: =IF(B12-H12>0,+B12-H12,0) | K12: =+B12+C12-F12 | M12: =+M11 | N12: =SUM('3rd Party Deals'!T12) | O12: =SUM('Spot wENA'!Z12) | P12: =SUM(M12:O12) | R12: =IF(T12>0,+B12-T12,0) | T12: =IF(K12-P12>0,K12-P12,0) | V12: =IF(P12-K12>0,P12-K12,0) | Y12: =ROUND((+X12+0.01)/(1-0.02184)+0.0227,2) | AE12: =+F12-AA12 | AF12: =+T12-AC12 | AH12: =10.8-Y12 | AI12: =+AH12*T12
A13: =+A12+1 | B13: 72718 | C13: =+C12 | E13: 35118 | F13: =ROUND(+E13*(1-0.02184),0) | H13: =+H12 | I13: =IF(B13-H13>0,+B13-H13,0) | K13: =+B13+C13-F13 | M13: =+M12 | N13: =SUM('3rd Party Deals'!T13) | O13: =SUM('Spot wENA'!Z13) | P13: =SUM(M13:O13) | R13: =IF(T13>0,+B13-T13,0) | T13: =IF(K13-P13>0,K13-P13,0) | V13: =IF(P13-K13>0,P13-K13,0) | Y13: =ROUND((+X13+0.01)/(1-0.02184)+0.0227,2) | AE13: =+F13-AA13 | AF13: =+T13-AC13 | AH13: =10.8-Y13 | AI13: =+AH13*T13
A14: =+A13+1 | B14: 76499 | C14: =+C13 | E14: 34439 | F14: =ROUND(+E14*(1-0.02184),0) | H14: =+H13 | I14: =IF(B14-H14>0,+B14-H14,0) | K14: =+B14+C14-F14 | M14: =+M13 | N14: =SUM('3rd Party Deals'!T14) | O14: =SUM('Spot wENA'!Z14) | P14: =SUM(M14:O14) | R14: =IF(T14>0,+B14-T14,0) | T14: =IF(K14-P14>0,K14-P14,0) | V14: =IF(P14-K14>0,P14-K14,0) | Y14: =ROUND((+X14+0.01)/(1-0.02184)+0.0227,2) | AE14: =+F14-AA14 | AF14: =+T14-AC14 | AH14: =10.8-Y14 | AI14: =+AH14*T14
A15: =+A14+1 | B15: 56042 | C15: =+C14 | E15: 21203 | F15: =ROUND(+E15*(1-0.02184),0) | H15: =+H14 | I15: =IF(B15-H15>0,+B15-H15,0) | K15: =+B15+C15-F15 | M15: =+M14 | N15: =SUM('3rd Party Deals'!T15) | O15: =SUM('Spot wENA'!Z15) | P15: =SUM(M15:O15) | R15: =IF(T15>0,+B15-T15,0) | T15: =IF(K15-P15>0,K15-P15,0) | V15: =IF(P15-K15>0,P15-K15,0) | Y15: =ROUND((+X15+0.01)/(1-0.02184)+0.0227,2) | AE15: =+F15-AA15 | AF15: =+T15-AC15 | AH15: =10.8-Y15 | AI15: =+AH15*T15
A16: =+A15+1 | B16: 58863 | C16: =+C15 | E16: 24538 | F16: =ROUND(+E16*(1-0.02184),0) | H16: =+H15 | I16: =IF(B16-H16>0,+B16-H16,0) | K16: =+B16+C16-F16 | M16: =+M15 | N16: =SUM('3rd Party Deals'!T16) | O16: =SUM('Spot wENA'!Z16) | P16: =SUM(M16:O16) | R16: =IF(T16>0,+B16-T16,0) | T16: =IF(K16-P16>0,K16-P16,0) | V16: =IF(P16-K16>0,P16-K16,0) | Y16: =ROUND((+X16+0.01)/(1-0.02184)+0.0227,2) | AE16: =+F16-AA16 | AF16: =+T16-AC16 | AH16: =10.8-Y16 | AI16: =+AH16*T16
A17: =+A16+1 | B17: 36291 | C17: =+C16 | E17: 1562 | F17: =ROUND(+E17*(1-0.02184),0) | H17: =+H16 | I17: =IF(B17-H17>0,+B17-H17,0) | K17: =+B17+C17-F17 | M17: =+M16 | N17: =SUM('3rd Party Deals'!T17) | O17: =SUM('Spot wENA'!Z17) | P17: =SUM(M17:O17) | R17: =IF(T17>0,+B17-T17,0) | T17: =IF(K17-P17>0,K17-P17,0) | V17: =IF(P17-K17>0,P17-K17,0) | Y17: =ROUND((+X17+0.01)/(1-0.02184)+0.0227,2) | AE17: =+F17-AA17 | AF17: =+T17-AC17
A18: =+A17+1 | B18: 51294 | C18: =+C17 | E18: 17389 | F18: =ROUND(+E18*(1-0.02184),0) | H18: =+H17 | I18: =IF(B18-H18>0,+B18-H18,0) | K18: =+B18+C18-F18 | M18: =+M17 | N18: =SUM('3rd Party Deals'!T18) | O18: =SUM('Spot wENA'!Z18) | P18: =SUM(M18:O18) | R18: =IF(T18>0,+B18-T18,0) | T18: =IF(K18-P18>0,K18-P18,0) | V18: =IF(P18-K18>0,P18-K18,0) | Y18: =ROUND((+X18+0.01)/(1-0.02184)+0.0227,2) | AE18: =+F18-AA18 | AF18: =+T18-AC18 | AI18: =SUM(AI6:AI17)
A19: =+A18+1 | B19: 57332 | C19: =+C18 | E19: 22484 | F19: =ROUND(+E19*(1-0.02184),0) | H19: =+H18 | I19: =IF(B19-H19>0,+B19-H19,0) | K19: =+B19+C19-F19 | M19: =+M18 | N19: =SUM('3rd Party Deals'!T19) | O19: =SUM('Spot wENA'!Z19) | P19: =SUM(M19:O19) | R19: =IF(T19>0,+B19-T19,0) | T19: =IF(K19-P19>0,K19-P19,0) | V19: =IF(P19-K19>0,P19-K19,0) | Y19: =ROUND((+X19+0.01)/(1-0.02184)+0.0227,2) | AE19: =+F19-AA19 | AF19: =+T19-AC19
A20: =+A19+1 | B20: 75676 | C20: =+C19 | E20: 62583 | F20: =ROUND(+E20*(1-0.02184),0) | H20: =+H19 | I20: =IF(B20-H20>0,+B20-H20,0) | K20: =+B20+C20-F20 | M20: =+M19 | N20: =SUM('3rd Party Deals'!T20) | O20: =SUM('Spot wENA'!Z20) | P20: =SUM(M20:O20) | R20: =IF(T20>0,+B20-T20,0) | T20: =IF(K20-P20>0,K20-P20,0) | V20: =IF(P20-K20>0,P20-K20,0) | Y20: =ROUND((+X20+0.01)/(1-0.02184)+0.0227,2) | AE20: =+F20-AA20 | AF20: =+T20-AC20
A21: =+A20+1 | B21: =+B20 | C21: =+C20 | E21: =+E20 | F21: =ROUND(+E21*(1-0.02184),0) | H21: =+H20 | I21: =IF(B21-H21>0,+B21-H21,0) | K21: =+B21+C21-F21 | M21: =+M20 | N21: =SUM('3rd Party Deals'!T21) | O21: =SUM('Spot wENA'!Z21) | P21: =SUM(M21:O21) | R21: =IF(T21>0,+B21-T21,0) | T21: =IF(K21-P21>0,K21-P21,0) | V21: =IF(P21-K21>0,P21-K21,0) | Y21: =ROUND((+X21+0.01)/(1-0.02184)+0.0227,2) | AE21: =+F21-AA21 | AF21: =+T21-AC21
A22: =+A21+1 | B22: =+B21 | C22: =+C21 | E22: =+E21 | F22: =ROUND(+E22*(1-0.02184),0) | H22: =+H21 | I22: =IF(B22-H22>0,+B22-H22,0) | K22: =+B22+C22-F22 | M22: =+M21 | N22: =SUM('3rd Party Deals'!T22) | O22: =SUM('Spot wENA'!Z22) | P22: =SUM(M22:O22) | R22: =IF(T22>0,+B22-T22,0) | T22: =IF(K22-P22>0,K22-P22,0) | V22: =IF(P22-K22>0,P22-K22,0) | Y22: =ROUND((+X22+0.01)/(1-0.02184)+0.0227,2) | AE22: =+F22-AA22 | AF22: =+T22-AC22
A23: =+A22+1 | B23: =+B22 | C23: =+C22 | E23: =+E22 | F23: =ROUND(+E23*(1-0.02184),0) | H23: =+H22 | I23: =IF(B23-H23>0,+B23-H23,0) | K23: =+B23+C23-F23 | M23: =+M22 | N23: =SUM('3rd Party Deals'!T23) | O23: =SUM('Spot wENA'!Z23) | P23: =SUM(M23:O23) | R23: =IF(T23>0,+B23-T23,0) | T23: =IF(K23-P23>0,K23-P23,0) | V23: =IF(P23-K23>0,P23-K23,0) | Y23: =ROUND((+X23+0.01)/(1-0.02184)+0.0227,2) | AE23: =+F23-AA23 | AF23: =+T23-AC23
A24: =+A23+1 | B24: =+B23 | C24: =+C23 | E24: =+E23 | F24: =ROUND(+E24*(1-0.02184),0) | H24: =+H23 | I24: =IF(B24-H24>0,+B24-H24,0) | K24: =+B24+C24-F24 | M24: =+M23 | N24: =SUM('3rd Party Deals'!T24) | O24: =SUM('Spot wENA'!Z24) | P24: =SUM(M24:O24) | R24: =IF(T24>0,+B24-T24,0) | T24: =IF(K24-P24>0,K24-P24,0) | V24: =IF(P24-K24>0,P24-K24,0) | Y24: =ROUND((+X24+0.01)/(1-0.02184)+0.0227,2) | AE24: =+F24-AA24 | AF24: =+T24-AC24
A25: =+A24+1 | B25: =+B24 | C25: =+C24 | E25: =+E24 | F25: =ROUND(+E25*(1-0.02184),0) | H25: =+H24 | I25: =IF(B25-H25>0,+B25-H25,0) | K25: =+B25+C25-F25 | M25: =+M24 | N25: =SUM('3rd Party Deals'!T25) | O25: =SUM('Spot wENA'!Z25) | P25: =SUM(M25:O25) | R25: =IF(T25>0,+B25-T25,0) | T25: =IF(K25-P25>0,K25-P25,0) | V25: =IF(P25-K25>0,P25-K25,0) | Y25: =ROUND((+X25+0.01)/(1-0.02184)+0.0227,2) | AE25: =+F25-AA25 | AF25: =+T25-AC25
A26: =+A25+1 | B26: =+B25 | C26: =+C25 | E26: =+E25 | F26: =ROUND(+E26*(1-0.02184),0) | H26: =+H25 | I26: =IF(B26-H26>0,+B26-H26,0) | K26: =+B26+C26-F26 | M26: =+M25 | N26: =SUM('3rd Party Deals'!T26) | O26: =SUM('Spot wENA'!Z26) | P26: =SUM(M26:O26) | R26: =IF(T26>0,+B26-T26,0) | T26: =IF(K26-P26>0,K26-P26,0) | V26: =IF(P26-K26>0,P26-K26,0) | Y26: =ROUND((+X26+0.01)/(1-0.02184)+0.0227,2) | AE26: =+F26-AA26 | AF26: =+T26-AC26
A27: =+A26+1 | B27: =+B26 | C27: =+C26 | E27: =+E26 | F27: =ROUND(+E27*(1-0.02184),0) | H27: =+H26 | I27: =IF(B27-H27>0,+B27-H27,0) | K27: =+B27+C27-F27 | M27: =+M26 | N27: =SUM('3rd Party Deals'!T27) | O27: =SUM('Spot wENA'!Z27) | P27: =SUM(M27:O27) | R27: =IF(T27>0,+B27-T27,0) | T27: =IF(K27-P27>0,K27-P27,0) | V27: =IF(P27-K27>0,P27-K27,0) | Y27: =ROUND((+X27+0.01)/(1-0.02184)+0.0227,2) | AE27: =+F27-AA27 | AF27: =+T27-AC27
A28: =+A27+1 | B28: =+B27 | C28: =+C27 | E28: =+E27 | F28: =ROUND(+E28*(1-0.02184),0) | H28: =+H27 | I28: =IF(B28-H28>0,+B28-H28,0) | K28: =+B28+C28-F28 | M28: =+M27 | N28: =SUM('3rd Party Deals'!T28) | O28: =SUM('Spot wENA'!Z28) | P28: =SUM(M28:O28) | R28: =IF(T28>0,+B28-T28,0) | T28: =IF(K28-P28>0,K28-P28,0) | V28: =IF(P28-K28>0,P28-K28,0) | Y28: =ROUND((+X28+0.01)/(1-0.02184)+0.0227,2) | AE28: =+F28-AA28 | AF28: =+T28-AC28
A29: =+A28+1 | B29: =+B28 | C29: =+C28 | E29: =+E28 | F29: =ROUND(+E29*(1-0.02184),0) | H29: =+H28 | I29: =IF(B29-H29>0,+B29-H29,0) | K29: =+B29+C29-F29 | M29: =+M28 | N29: =SUM('3rd Party Deals'!T29) | O29: =SUM('Spot wENA'!Z29) | P29: =SUM(M29:O29) | R29: =IF(T29>0,+B29-T29,0) | T29: =IF(K29-P29>0,K29-P29,0) | V29: =IF(P29-K29>0,P29-K29,0) | Y29: =ROUND((+X29+0.01)/(1-0.02184)+0.0227,2) | AE29: =+F29-AA29 | AF29: =+T29-AC29
A30: =+A29+1 | B30: =+B29 | C30: =+C29 | E30: =+E29 | F30: =ROUND(+E30*(1-0.02184),0) | H30: =+H29 | I30: =IF(B30-H30>0,+B30-H30,0) | K30: =+B30+C30-F30 | M30: =+M29 | N30: =SUM('3rd Party Deals'!T30) | O30: =SUM('Spot wENA'!Z30) | P30: =SUM(M30:O30) | R30: =IF(T30>0,+B30-T30,0) | T30: =IF(K30-P30>0,K30-P30,0) | V30: =IF(P30-K30>0,P30-K30,0) | Y30: =ROUND((+X30+0.01)/(1-0.02184)+0.0227,2) | AE30: =+F30-AA30 | AF30: =+T30-AC30
A31: =+A30+1 | B31: =+B30 | C31: =+C30 | E31: =+E30 | F31: =ROUND(+E31*(1-0.02184),0) | H31: =+H30 | I31: =IF(B31-H31>0,+B31-H31,0) | K31: =+B31+C31-F31 | M31: =+M30 | N31: =SUM('3rd Party Deals'!T31) | O31: =SUM('Spot wENA'!Z31) | P31: =SUM(M31:O31) | R31: =IF(T31>0,+B31-T31,0) | T31: =IF(K31-P31>0,K31-P31,0) | V31: =IF(P31-K31>0,P31-K31,0) | Y31: =ROUND((+X31+0.01)/(1-0.02184)+0.0227,2)
A32: =+A31+1 | B32: =+B31 | C32: =+C31 | E32: =+E31 | F32: =ROUND(+E32*(1-0.02184),0) | H32: =+H31 | I32: =IF(B32-H32>0,+B32-H32,0) | K32: =+B32+C32-F32 | M32: =+M31 | N32: =SUM('3rd Party Deals'!T32) | O32: =SUM('Spot wENA'!Z32) | P32: =SUM(M32:O32) | R32: =IF(T32>0,+B32-T32,0) | T32: =IF(K32-P32>0,K32-P32,0) | V32: =IF(P32-K32>0,P32-K32,0) | Y32: =ROUND((+X32+0.01)/(1-0.02184)+0.0227,2)
A33: =+A32+1 | B33: =+B32 | C33: =+C32 | E33: =+E32 | F33: =ROUND(+E33*(1-0.02184),0) | H33: =+H32 | I33: =IF(B33-H33>0,+B33-H33,0) | K33: =+B33+C33-F33 | M33: =+M32 | N33: =SUM('3rd Party Deals'!T33) | O33: =SUM('Spot wENA'!Z33) | P33: =SUM(M33:O33) | R33: =IF(T33>0,+B33-T33,0) | T33: =IF(K33-P33>0,K33-P33,0) | V33: =IF(P33-K33>0,P33-K33,0) | Y33: =ROUND((+X33+0.01)/(1-0.02184)+0.0227,2)
A34: =+A33+1 | B34: =+B33 | C34: =+C33 | E34: =+E33 | F34: =ROUND(+E34*(1-0.02184),0) | H34: =+H33 | I34: =IF(B34-H34>0,+B34-H34,0) | K34: =+B34+C34-F34 | M34: =+M33 | N34: =SUM('3rd Party Deals'!T34) | O34: =SUM('Spot wENA'!Z34) | P34: =SUM(M34:O34) | R34: =IF(T34>0,+B34-T34,0) | T34: =IF(K34-P34>0,K34-P34,0) | V34: =IF(P34-K34>0,P34-K34,0) | Y34: =ROUND((+X34+0.01)/(1-0.02184)+0.0227,2)
A35: =+A34+1 | B35: =+B34 | C35: =+C34 | E35: =+E34 | F35: =ROUND(+E35*(1-0.02184),0) | H35: =+H34 | I35: =IF(B35-H35>0,+B35-H35,0) | K35: =+B35+C35-F35 | M35: =+M34 | N35: =SUM('3rd Party Deals'!T35) | O35: =SUM('Spot wENA'!Z35) | P35: =SUM(M35:O35) | R35: =IF(T35>0,+B35-T35,0) | T35: =IF(K35-P35>0,K35-P35,0) | V35: =IF(P35-K35>0,P35-K35,0) | Y35: =ROUND((+X35+0.01)/(1-0.02184)+0.0227,2)
A36: =+A35+1 | B36: =+B35 | C36: =+C35 | E36: =+E35 | F36: =ROUND(+E36*(1-0.02184),0) | H36: =+H35 | I36: =IF(B36-H36>0,+B36-H36,0) | K36: =+B36+C36-F36 | M36: =+M35 | N36: =SUM('3rd Party Deals'!T36) | O36: =SUM('Spot wENA'!Z36) | P36: =SUM(M36:O36) | R36: =IF(T36>0,+B36-T36,0) | T36: =IF(K36-P36>0,K36-P36,0) | V36: =IF(P36-K36>0,P36-K36,0) | Y36: =ROUND((+X36+0.01)/(1-0.02184)+0.0227,2)
B38: =SUM(B6:B37) | C38: =SUM(C6:C37) | E38: =SUM(E6:E37) | F38: =SUM(F6:F37) | K38: =SUM(K6:K37) | M38: =SUM(M6:M37) | N38: =SUM(N6:N37) | O38: =SUM(O6:O37) | P38: =SUM(P6:P37) | R38: =SUM(R6:R37) | T38: =SUM(T6:T37) | V38: =SUM(V6:V37)
E40: 1448997
E41: =+E40-E38
