Workbook

Sheet Results
C1: HOSPITAL
C2: Hospital First Focus
C3: Reported Events - Sat., 7/21/12 thru [Person_1]., 7/27/12
C4: Source: Database
A5: Hospital | C5: Event Report # | D5: Event Date | E5: Time | F5: Age | G5: Nature of Event | H5: FINAL EVENT Severity | I5: Narrative Description | J5: Follow up comments by all managers involved | K5: Risk Manager Comments
A6: 1 | B6: =A6&$A$5 | C6: =IF(ISERROR(VLOOKUP($B6,Source!$B$2:$N$160,3,FALSE)),"",(VLOOKUP($B6,Source!$B$2:$N$160,3,FALSE))) | D6: =IF(ISERROR(VLOOKUP($B6,Source!$B$2:$N$160,4,FALSE)),"",(VLOOKUP($B6,Source!$B$2:$N$160,4,FALSE))) | E6: =IF(ISERROR(VLOOKUP($B6,Source!$B$2:$N$160,5,FALSE)),"",(VLOOKUP($B6,Source!$B$2:$N$160,5,FALSE))) | F6: =IF(ISERROR(VLOOKUP($B6,Source!$B$2:$N$160,13,FALSE)),"",(VLOOKUP($B6,Source!$B$2:$N$160,13,FALSE))) | G6: =IF(ISERROR(VLOOKUP($B6,Source!$B$2:$N$160,7,FALSE)),"",(VLOOKUP($B6,Source!$B$2:$N$160,7,FALSE))) | H6: =IF(ISERROR(VLOOKUP($B6,Source!$B$2:$N$160,8,FALSE)),"",(VLOOKUP($B6,Source!$B$2:$N$160,8,FALSE))) | I6: =IF(ISERROR(VLOOKUP($B6,Source!$B$2:$N$160,9,FALSE)),"",(VLOOKUP($B6,Source!$B$2:$N$160,9,FALSE))) | J6: =IF(ISERROR(VLOOKUP($B6,Source!$B$2:$N$160,10,FALSE)),"",(VLOOKUP($B6,Source!$B$2:$N$160,10,FALSE))) | K6: =IF(ISERROR(VLOOKUP($B6,Source!$B$2:$N$160,11,FALSE)),"",(VLOOKUP($B6,Source!$B$2:$N$160,11,FALSE)))
A7: 2 | B7: =A7&$A$5 | C7: =IF(ISERROR(VLOOKUP($B7,Source!$B$2:$N$160,3,FALSE)),"",(VLOOKUP($B7,Source!$B$2:$N$160,3,FALSE))) | D7: =IF(ISERROR(VLOOKUP($B7,Source!$B$2:$N$160,4,FALSE)),"",(VLOOKUP($B7,Source!$B$2:$N$160,4,FALSE))) | E7: =IF(ISERROR(VLOOKUP($B7,Source!$B$2:$N$160,5,FALSE)),"",(VLOOKUP($B7,Source!$B$2:$N$160,5,FALSE))) | F7: =IF(ISERROR(VLOOKUP($B7,Source!$B$2:$N$160,13,FALSE)),"",(VLOOKUP($B7,Source!$B$2:$N$160,13,FALSE))) | G7: =IF(ISERROR(VLOOKUP($B7,Source!$B$2:$N$160,7,FALSE)),"",(VLOOKUP($B7,Source!$B$2:$N$160,7,FALSE))) | H7: =IF(ISERROR(VLOOKUP($B7,Source!$B$2:$N$160,8,FALSE)),"",(VLOOKUP($B7,Source!$B$2:$N$160,8,FALSE))) | I7: =IF(ISERROR(VLOOKUP($B7,Source!$B$2:$N$160,9,FALSE)),"",(VLOOKUP($B7,Source!$B$2:$N$160,9,FALSE))) | J7: =IF(ISERROR(VLOOKUP($B7,Source!$B$2:$N$160,10,FALSE)),"",(VLOOKUP($B7,Source!$B$2:$N$160,10,FALSE))) | K7: =IF(ISERROR(VLOOKUP($B7,Source!$B$2:$N$160,11,FALSE)),"",(VLOOKUP($B7,Source!$B$2:$N$160,11,FALSE)))
A8: 3 | B8: =A8&$A$5 | C8: =IF(ISERROR(VLOOKUP($B8,Source!$B$2:$N$160,3,FALSE)),"",(VLOOKUP($B8,Source!$B$2:$N$160,3,FALSE))) | D8: =IF(ISERROR(VLOOKUP($B8,Source!$B$2:$N$160,4,FALSE)),"",(VLOOKUP($B8,Source!$B$2:$N$160,4,FALSE))) | E8: =IF(ISERROR(VLOOKUP($B8,Source!$B$2:$N$160,5,FALSE)),"",(VLOOKUP($B8,Source!$B$2:$N$160,5,FALSE))) | F8: =IF(ISERROR(VLOOKUP($B8,Source!$B$2:$N$160,13,FALSE)),"",(VLOOKUP($B8,Source!$B$2:$N$160,13,FALSE))) | G8: =IF(ISERROR(VLOOKUP($B8,Source!$B$2:$N$160,7,FALSE)),"",(VLOOKUP($B8,Source!$B$2:$N$160,7,FALSE))) | H8: =IF(ISERROR(VLOOKUP($B8,Source!$B$2:$N$160,8,FALSE)),"",(VLOOKUP($B8,Source!$B$2:$N$160,8,FALSE))) | I8: =IF(ISERROR(VLOOKUP($B8,Source!$B$2:$N$160,9,FALSE)),"",(VLOOKUP($B8,Source!$B$2:$N$160,9,FALSE))) | J8: =IF(ISERROR(VLOOKUP($B8,Source!$B$2:$N$160,10,FALSE)),"",(VLOOKUP($B8,Source!$B$2:$N$160,10,FALSE))) | K8: =IF(ISERROR(VLOOKUP($B8,Source!$B$2:$N$160,11,FALSE)),"",(VLOOKUP($B8,Source!$B$2:$N$160,11,FALSE)))
A9: 4 | B9: =A9&$A$5 | C9: =IF(ISERROR(VLOOKUP($B9,Source!$B$2:$N$160,3,FALSE)),"",(VLOOKUP($B9,Source!$B$2:$N$160,3,FALSE))) | D9: =IF(ISERROR(VLOOKUP($B9,Source!$B$2:$N$160,4,FALSE)),"",(VLOOKUP($B9,Source!$B$2:$N$160,4,FALSE))) | E9: =IF(ISERROR(VLOOKUP($B9,Source!$B$2:$N$160,5,FALSE)),"",(VLOOKUP($B9,Source!$B$2:$N$160,5,FALSE))) | F9: =IF(ISERROR(VLOOKUP($B9,Source!$B$2:$N$160,13,FALSE)),"",(VLOOKUP($B9,Source!$B$2:$N$160,13,FALSE))) | G9: =IF(ISERROR(VLOOKUP($B9,Source!$B$2:$N$160,7,FALSE)),"",(VLOOKUP($B9,Source!$B$2:$N$160,7,FALSE))) | H9: =IF(ISERROR(VLOOKUP($B9,Source!$B$2:$N$160,8,FALSE)),"",(VLOOKUP($B9,Source!$B$2:$N$160,8,FALSE))) | I9: =IF(ISERROR(VLOOKUP($B9,Source!$B$2:$N$160,9,FALSE)),"",(VLOOKUP($B9,Source!$B$2:$N$160,9,FALSE))) | J9: =IF(ISERROR(VLOOKUP($B9,Source!$B$2:$N$160,10,FALSE)),"",(VLOOKUP($B9,Source!$B$2:$N$160,10,FALSE))) | K9: =IF(ISERROR(VLOOKUP($B9,Source!$B$2:$N$160,11,FALSE)),"",(VLOOKUP($B9,Source!$B$2:$N$160,11,FALSE)))
A10: 5 | B10: =A10&$A$5 | C10: =IF(ISERROR(VLOOKUP($B10,Source!$B$2:$N$160,3,FALSE)),"",(VLOOKUP($B10,Source!$B$2:$N$160,3,FALSE))) | D10: =IF(ISERROR(VLOOKUP($B10,Source!$B$2:$N$160,4,FALSE)),"",(VLOOKUP($B10,Source!$B$2:$N$160,4,FALSE))) | E10: =IF(ISERROR(VLOOKUP($B10,Source!$B$2:$N$160,5,FALSE)),"",(VLOOKUP($B10,Source!$B$2:$N$160,5,FALSE))) | F10: =IF(ISERROR(VLOOKUP($B10,Source!$B$2:$N$160,13,FALSE)),"",(VLOOKUP($B10,Source!$B$2:$N$160,13,FALSE))) | G10: =IF(ISERROR(VLOOKUP($B10,Source!$B$2:$N$160,7,FALSE)),"",(VLOOKUP($B10,Source!$B$2:$N$160,7,FALSE))) | H10: =IF(ISERROR(VLOOKUP($B10,Source!$B$2:$N$160,8,FALSE)),"",(VLOOKUP($B10,Source!$B$2:$N$160,8,FALSE))) | I10: =IF(ISERROR(VLOOKUP($B10,Source!$B$2:$N$160,9,FALSE)),"",(VLOOKUP($B10,Source!$B$2:$N$160,9,FALSE))) | J10: =IF(ISERROR(VLOOKUP($B10,Source!$B$2:$N$160,10,FALSE)),"",(VLOOKUP($B10,Source!$B$2:$N$160,10,FALSE))) | K10: =IF(ISERROR(VLOOKUP($B10,Source!$B$2:$N$160,11,FALSE)),"",(VLOOKUP($B10,Source!$B$2:$N$160,11,FALSE)))
A11: 6 | B11: =A11&$A$5 | C11: =IF(ISERROR(VLOOKUP($B11,Source!$B$2:$N$160,3,FALSE)),"",(VLOOKUP($B11,Source!$B$2:$N$160,3,FALSE))) | D11: =IF(ISERROR(VLOOKUP($B11,Source!$B$2:$N$160,4,FALSE)),"",(VLOOKUP($B11,Source!$B$2:$N$160,4,FALSE))) | E11: =IF(ISERROR(VLOOKUP($B11,Source!$B$2:$N$160,5,FALSE)),"",(VLOOKUP($B11,Source!$B$2:$N$160,5,FALSE))) | F11: =IF(ISERROR(VLOOKUP($B11,Source!$B$2:$N$160,13,FALSE)),"",(VLOOKUP($B11,Source!$B$2:$N$160,13,FALSE))) | G11: =IF(ISERROR(VLOOKUP($B11,Source!$B$2:$N$160,7,FALSE)),"",(VLOOKUP($B11,Source!$B$2:$N$160,7,FALSE))) | H11: =IF(ISERROR(VLOOKUP($B11,Source!$B$2:$N$160,8,FALSE)),"",(VLOOKUP($B11,Source!$B$2:$N$160,8,FALSE))) | I11: =IF(ISERROR(VLOOKUP($B11,Source!$B$2:$N$160,9,FALSE)),"",(VLOOKUP($B11,Source!$B$2:$N$160,9,FALSE))) | J11: =IF(ISERROR(VLOOKUP($B11,Source!$B$2:$N$160,10,FALSE)),"",(VLOOKUP($B11,Source!$B$2:$N$160,10,FALSE))) | K11: =IF(ISERROR(VLOOKUP($B11,Source!$B$2:$N$160,11,FALSE)),"",(VLOOKUP($B11,Source!$B$2:$N$160,11,FALSE)))
A12: 7 | B12: =A12&$A$5 | C12: =IF(ISERROR(VLOOKUP($B12,Source!$B$2:$N$160,3,FALSE)),"",(VLOOKUP($B12,Source!$B$2:$N$160,3,FALSE))) | D12: =IF(ISERROR(VLOOKUP($B12,Source!$B$2:$N$160,4,FALSE)),"",(VLOOKUP($B12,Source!$B$2:$N$160,4,FALSE))) | E12: =IF(ISERROR(VLOOKUP($B12,Source!$B$2:$N$160,5,FALSE)),"",(VLOOKUP($B12,Source!$B$2:$N$160,5,FALSE))) | F12: =IF(ISERROR(VLOOKUP($B12,Source!$B$2:$N$160,13,FALSE)),"",(VLOOKUP($B12,Source!$B$2:$N$160,13,FALSE))) | G12: =IF(ISERROR(VLOOKUP($B12,Source!$B$2:$N$160,7,FALSE)),"",(VLOOKUP($B12,Source!$B$2:$N$160,7,FALSE))) | H12: =IF(ISERROR(VLOOKUP($B12,Source!$B$2:$N$160,8,FALSE)),"",(VLOOKUP($B12,Source!$B$2:$N$160,8,FALSE))) | I12: =IF(ISERROR(VLOOKUP($B12,Source!$B$2:$N$160,9,FALSE)),"",(VLOOKUP($B12,Source!$B$2:$N$160,9,FALSE))) | J12: =IF(ISERROR(VLOOKUP($B12,Source!$B$2:$N$160,10,FALSE)),"",(VLOOKUP($B12,Source!$B$2:$N$160,10,FALSE))) | K12: =IF(ISERROR(VLOOKUP($B12,Source!$B$2:$N$160,11,FALSE)),"",(VLOOKUP($B12,Source!$B$2:$N$160,11,FALSE)))
A13: 8 | B13: =A13&$A$5 | C13: =IF(ISERROR(VLOOKUP($B13,Source!$B$2:$N$160,3,FALSE)),"",(VLOOKUP($B13,Source!$B$2:$N$160,3,FALSE))) | D13: =IF(ISERROR(VLOOKUP($B13,Source!$B$2:$N$160,4,FALSE)),"",(VLOOKUP($B13,Source!$B$2:$N$160,4,FALSE))) | E13: =IF(ISERROR(VLOOKUP($B13,Source!$B$2:$N$160,5,FALSE)),"",(VLOOKUP($B13,Source!$B$2:$N$160,5,FALSE))) | F13: =IF(ISERROR(VLOOKUP($B13,Source!$B$2:$N$160,13,FALSE)),"",(VLOOKUP($B13,Source!$B$2:$N$160,13,FALSE))) | G13: =IF(ISERROR(VLOOKUP($B13,Source!$B$2:$N$160,7,FALSE)),"",(VLOOKUP($B13,Source!$B$2:$N$160,7,FALSE))) | H13: =IF(ISERROR(VLOOKUP($B13,Source!$B$2:$N$160,8,FALSE)),"",(VLOOKUP($B13,Source!$B$2:$N$160,8,FALSE))) | I13: =IF(ISERROR(VLOOKUP($B13,Source!$B$2:$N$160,9,FALSE)),"",(VLOOKUP($B13,Source!$B$2:$N$160,9,FALSE))) | J13: =IF(ISERROR(VLOOKUP($B13,Source!$B$2:$N$160,10,FALSE)),"",(VLOOKUP($B13,Source!$B$2:$N$160,10,FALSE))) | K13: =IF(ISERROR(VLOOKUP($B13,Source!$B$2:$N$160,11,FALSE)),"",(VLOOKUP($B13,Source!$B$2:$N$160,11,FALSE)))
A14: 9 | B14: =A14&$A$5 | C14: =IF(ISERROR(VLOOKUP($B14,Source!$B$2:$N$160,3,FALSE)),"",(VLOOKUP($B14,Source!$B$2:$N$160,3,FALSE))) | D14: =IF(ISERROR(VLOOKUP($B14,Source!$B$2:$N$160,4,FALSE)),"",(VLOOKUP($B14,Source!$B$2:$N$160,4,FALSE))) | E14: =IF(ISERROR(VLOOKUP($B14,Source!$B$2:$N$160,5,FALSE)),"",(VLOOKUP($B14,Source!$B$2:$N$160,5,FALSE))) | F14: =IF(ISERROR(VLOOKUP($B14,Source!$B$2:$N$160,13,FALSE)),"",(VLOOKUP($B14,Source!$B$2:$N$160,13,FALSE))) | G14: =IF(ISERROR(VLOOKUP($B14,Source!$B$2:$N$160,7,FALSE)),"",(VLOOKUP($B14,Source!$B$2:$N$160,7,FALSE))) | H14: =IF(ISERROR(VLOOKUP($B14,Source!$B$2:$N$160,8,FALSE)),"",(VLOOKUP($B14,Source!$B$2:$N$160,8,FALSE))) | I14: =IF(ISERROR(VLOOKUP($B14,Source!$B$2:$N$160,9,FALSE)),"",(VLOOKUP($B14,Source!$B$2:$N$160,9,FALSE))) | J14: =IF(ISERROR(VLOOKUP($B14,Source!$B$2:$N$160,10,FALSE)),"",(VLOOKUP($B14,Source!$B$2:$N$160,10,FALSE))) | K14: =IF(ISERROR(VLOOKUP($B14,Source!$B$2:$N$160,11,FALSE)),"",(VLOOKUP($B14,Source!$B$2:$N$160,11,FALSE)))
A15: 10 | B15: =A15&$A$5 | C15: =IF(ISERROR(VLOOKUP($B15,Source!$B$2:$N$160,3,FALSE)),"",(VLOOKUP($B15,Source!$B$2:$N$160,3,FALSE))) | D15: =IF(ISERROR(VLOOKUP($B15,Source!$B$2:$N$160,4,FALSE)),"",(VLOOKUP($B15,Source!$B$2:$N$160,4,FALSE))) | E15: =IF(ISERROR(VLOOKUP($B15,Source!$B$2:$N$160,5,FALSE)),"",(VLOOKUP($B15,Source!$B$2:$N$160,5,FALSE))) | F15: =IF(ISERROR(VLOOKUP($B15,Source!$B$2:$N$160,13,FALSE)),"",(VLOOKUP($B15,Source!$B$2:$N$160,13,FALSE))) | G15: =IF(ISERROR(VLOOKUP($B15,Source!$B$2:$N$160,7,FALSE)),"",(VLOOKUP($B15,Source!$B$2:$N$160,7,FALSE))) | H15: =IF(ISERROR(VLOOKUP($B15,Source!$B$2:$N$160,8,FALSE)),"",(VLOOKUP($B15,Source!$B$2:$N$160,8,FALSE))) | I15: =IF(ISERROR(VLOOKUP($B15,Source!$B$2:$N$160,9,FALSE)),"",(VLOOKUP($B15,Source!$B$2:$N$160,9,FALSE))) | J15: =IF(ISERROR(VLOOKUP($B15,Source!$B$2:$N$160,10,FALSE)),"",(VLOOKUP($B15,Source!$B$2:$N$160,10,FALSE))) | K15: =IF(ISERROR(VLOOKUP($B15,Source!$B$2:$N$160,11,FALSE)),"",(VLOOKUP($B15,Source!$B$2:$N$160,11,FALSE)))
A16: 11 | B16: =A16&$A$5 | C16: =IF(ISERROR(VLOOKUP($B16,Source!$B$2:$N$160,3,FALSE)),"",(VLOOKUP($B16,Source!$B$2:$N$160,3,FALSE))) | D16: =IF(ISERROR(VLOOKUP($B16,Source!$B$2:$N$160,4,FALSE)),"",(VLOOKUP($B16,Source!$B$2:$N$160,4,FALSE))) | E16: =IF(ISERROR(VLOOKUP($B16,Source!$B$2:$N$160,5,FALSE)),"",(VLOOKUP($B16,Source!$B$2:$N$160,5,FALSE))) | F16: =IF(ISERROR(VLOOKUP($B16,Source!$B$2:$N$160,13,FALSE)),"",(VLOOKUP($B16,Source!$B$2:$N$160,13,FALSE))) | G16: =IF(ISERROR(VLOOKUP($B16,Source!$B$2:$N$160,7,FALSE)),"",(VLOOKUP($B16,Source!$B$2:$N$160,7,FALSE))) | H16: =IF(ISERROR(VLOOKUP($B16,Source!$B$2:$N$160,8,FALSE)),"",(VLOOKUP($B16,Source!$B$2:$N$160,8,FALSE))) | I16: =IF(ISERROR(VLOOKUP($B16,Source!$B$2:$N$160,9,FALSE)),"",(VLOOKUP($B16,Source!$B$2:$N$160,9,FALSE))) | J16: =IF(ISERROR(VLOOKUP($B16,Source!$B$2:$N$160,10,FALSE)),"",(VLOOKUP($B16,Source!$B$2:$N$160,10,FALSE))) | K16: =IF(ISERROR(VLOOKUP($B16,Source!$B$2:$N$160,11,FALSE)),"",(VLOOKUP($B16,Source!$B$2:$N$160,11,FALSE)))
A17: 12 | B17: =A17&$A$5 | C17: =IF(ISERROR(VLOOKUP($B17,Source!$B$2:$N$160,3,FALSE)),"",(VLOOKUP($B17,Source!$B$2:$N$160,3,FALSE))) | D17: =IF(ISERROR(VLOOKUP($B17,Source!$B$2:$N$160,4,FALSE)),"",(VLOOKUP($B17,Source!$B$2:$N$160,4,FALSE))) | E17: =IF(ISERROR(VLOOKUP($B17,Source!$B$2:$N$160,5,FALSE)),"",(VLOOKUP($B17,Source!$B$2:$N$160,5,FALSE))) | F17: =IF(ISERROR(VLOOKUP($B17,Source!$B$2:$N$160,13,FALSE)),"",(VLOOKUP($B17,Source!$B$2:$N$160,13,FALSE))) | G17: =IF(ISERROR(VLOOKUP($B17,Source!$B$2:$N$160,7,FALSE)),"",(VLOOKUP($B17,Source!$B$2:$N$160,7,FALSE))) | H17: =IF(ISERROR(VLOOKUP($B17,Source!$B$2:$N$160,8,FALSE)),"",(VLOOKUP($B17,Source!$B$2:$N$160,8,FALSE))) | I17: =IF(ISERROR(VLOOKUP($B17,Source!$B$2:$N$160,9,FALSE)),"",(VLOOKUP($B17,Source!$B$2:$N$160,9,FALSE))) | J17: =IF(ISERROR(VLOOKUP($B17,Source!$B$2:$N$160,10,FALSE)),"",(VLOOKUP($B17,Source!$B$2:$N$160,10,FALSE))) | K17: =IF(ISERROR(VLOOKUP($B17,Source!$B$2:$N$160,11,FALSE)),"",(VLOOKUP($B17,Source!$B$2:$N$160,11,FALSE)))
... A130: 125 | B130: =A130&$A$5 | C130: =IF(ISERROR(VLOOKUP($B130,Source!$B$2:$N$160,3,FALSE)),"",(VLOOKUP($B130,Source!$B$2:$N$160,3,FALSE))) | D130: =IF(ISERROR(VLOOKUP($B130,Source!$B$2:$N$160,4,FALSE)),"",(VLOOKUP($B130,Source!$B$2:$N$160,4,FALSE))) | E130: =IF(ISERROR(VLOOKUP($B130,Source!$B$2:$N$160,5,FALSE)),"",(VLOOKUP($B130,Source!$B$2:$N$160,5,FALSE))) | F130: =IF(ISERROR(VLOOKUP($B130,Source!$B$2:$N$160,13,FALSE)),"",(VLOOKUP($B130,Source!$B$2:$N$160,13,FALSE))) | G130: =IF(ISERROR(VLOOKUP($B130,Source!$B$2:$N$160,7,FALSE)),"",(VLOOKUP($B130,Source!$B$2:$N$160,7,FALSE))) | H130: =IF(ISERROR(VLOOKUP($B130,Source!$B$2:$N$160,8,FALSE)),"",(VLOOKUP($B130,Source!$B$2:$N$160,8,FALSE))) | I130: =IF(ISERROR(VLOOKUP($B130,Source!$B$2:$N$160,9,FALSE)),"",(VLOOKUP($B130,Source!$B$2:$N$160,9,FALSE))) | J130: =IF(ISERROR(VLOOKUP($B130,Source!$B$2:$N$160,10,FALSE)),"",(VLOOKUP($B130,Source!$B$2:$N$160,10,FALSE))) | K130: =IF(ISERROR(VLOOKUP($B130,Source!$B$2:$N$160,11,FALSE)),"",(VLOOKUP($B130,Source!$B$2:$N$160,11,FALSE)))
I133: MDH VOLUME
G134: ADR | I134: =IF(ISERROR(VLOOKUP(G134,Source!$Q$2:$S$13,3,FALSE)),"0",(VLOOKUP(G134,Source!$Q$2:$S$13,3,FALSE)))
G135: Equip/Device | I135: =IF(ISERROR(VLOOKUP(G135,Source!$Q$2:$S$13,3,FALSE)),"0",(VLOOKUP(G135,Source!$Q$2:$S$13,3,FALSE)))
G136: Fall | I136: =IF(ISERROR(VLOOKUP(G136,Source!$Q$2:$S$13,3,FALSE)),"0",(VLOOKUP(G136,Source!$Q$2:$S$13,3,FALSE)))
G137: IV/Blood | I137: =IF(ISERROR(VLOOKUP(G137,Source!$Q$2:$S$13,3,FALSE)),"0",(VLOOKUP(G137,Source!$Q$2:$S$13,3,FALSE)))
G138: Med Event | I138: =IF(ISERROR(VLOOKUP(G138,Source!$Q$2:$S$13,3,FALSE)),"0",(VLOOKUP(G138,Source!$Q$2:$S$13,3,FALSE)))
G139: Misc | I139: =IF(ISERROR(VLOOKUP(G139,Source!$Q$2:$S$13,3,FALSE)),"0",(VLOOKUP(G139,Source!$Q$2:$S$13,3,FALSE)))
G140: OB/Newborn | I140: =IF(ISERROR(VLOOKUP(G140,Source!$Q$2:$S$13,3,FALSE)),"0",(VLOOKUP(G140,Source!$Q$2:$S$13,3,FALSE)))
G141: [Person_2] | I141: =IF(ISERROR(VLOOKUP(G141,Source!$Q$2:$S$13,3,FALSE)),"0",(VLOOKUP(G141,Source!$Q$2:$S$13,3,FALSE)))
G142: Security | I142: =IF(ISERROR(VLOOKUP(G142,Source!$Q$2:$S$13,3,FALSE)),"0",(VLOOKUP(G142,Source!$Q$2:$S$13,3,FALSE)))
G143: NPU/[Person_3] | I143: =IF(ISERROR(VLOOKUP(G143,Source!$Q$2:$S$13,3,FALSE)),"0",(VLOOKUP(G143,Source!$Q$2:$S$13,3,FALSE)))
G144: Surgery/Prc | I144: =IF(ISERROR(VLOOKUP(G144,Source!$Q$2:$S$13,3,FALSE)),"0",(VLOOKUP(G144,Source!$Q$2:$S$13,3,FALSE)))
G145: Visitor Fall | I145: =IF(ISERROR(VLOOKUP(G145,Source!$Q$2:$S$13,3,FALSE)),"0",(VLOOKUP(G145,Source!$Q$2:$S$13,3,FALSE)))
G146: TOTAL | I146: =SUM(I134:I145)

Sheet Source
C1: Facility Involved | D1: Event Report Number | E1: Event Date | F1: Time Event Occurred (Military Time: e.g., 0900) If Unknown enter 0000 | G1: Date of Birth (MM/DD/YYYY) | H1: Nature of the Event | I1: FINAL EVENT Severity | J1: Narrative Description (500 Characters Maximum) | K1: Follow up comments by all managers involved | L1: Risk Manager Comments | M1: Record ID | N1: Age | R1: Nature of the Event
A2: 1 | B2: =A2&C2 | C2: Hospital | D2: _0136614 | E2: 41110 | F2: 1550 | G2: 22358 | H2: Equipment / Device / Catheter | I2: E - Treatment/intervention - (3) Significant | J2: Something | K2: stuff happened | L2: person | M2: 106206 | N2: =DATEDIF(G2,E2,"y") | Q2: ADR | R2: Adverse Drug Reaction | S2: =COUNTIF($H$2:$H$164,R2)
A3: 2 | B3: =A3&C3 | C3: Hospital | D3: _0136799 | E3: 41114 | F3: 650 | G3: 15746 | H3: Fall | I3: 3 - Tests, injury ruled out - Minor | J3: Something else | K3: something else happened | M3: 106370 | N3: =DATEDIF(G3,E3,"y") | Q3: Equip/Device | R3: Equipment / Device / Catheter | S3: =COUNTIF($H$2:$H$164,R3)
A4: 3 | B4: =A4&C4 | C4: Hospital | D4: _0136651 | E4: 41111 | F4: 1945 | G4: 21743 | H4: Fall | I4: 2 - Minor injury, no tests - Minor | J4: more | K4: stuff happened | M4: 106241 | N4: =DATEDIF(G4,E4,"y") | Q4: Fall | R4: Fall | S4: =COUNTIF($H$2:$H$164,R4)
A5: 4 | B5: =A5&C5 | C5: Hospital | D5: _0136662 | E5: 41112 | F5: 715 | G5: 13496 | H5: IV Access / Blood Transfusion | I5: 4+ Infiltration of any amount of vesicant - Significant | J5: a bunch | K5: something else happened | M5: 106252 | N5: =DATEDIF(G5,E5,"y") | Q5: IV/Blood | R5: IV Access / Blood Transfusion | S5: =COUNTIF($H$2:$H$164,R5)
A6: 5 | B6: =A6&C6 | C6: Hospital | D6: _0136727 | E6: 41113 | F6: 1100 | G6: 11495 | H6: IV Access / Blood Transfusion | I6: 4+ Infiltration of any amount of irritant - Significant | J6: stuff | K6: stuff happened | M6: 106306 | N6: =DATEDIF(G6,E6,"y") | Q6: Med Event | R6: Medication Event | S6: =COUNTIF($H$2:$H$164,R6)
A7: 6 | B7: =A7&C7 | C7: Hospital | D7: _0136728 | E7: 41113 | F7: 1630 | G7: 17257 | H7: IV Access / Blood Transfusion | I7: 4+ Infiltration of any amount of irritant - Significant | J7: had med | K7: something else happened | M7: 106307 | N7: =DATEDIF(G7,E7,"y") | Q7: Misc | R7: Misc / Delivery of Care / Testing Related | S7: =COUNTIF($H$2:$H$164,R7)
A8: 7 | B8: =A8&C8 | C8: Hospital | D8: _0136837 | E8: 41114 | F8: 1430 | G8: 13795 | H8: IV Access / Blood Transfusion | I8: 4+ Infiltration of any amount of irritant - Significant | J8: had IV | K8: stuff happened | M8: 106409 | N8: =DATEDIF(G8,E8,"y") | Q8: OB/Newborn | R8: OB/Newborn | S8: =COUNTIF($H$2:$H$164,R8)
A9: 8 | B9: =A9&C9 | C9: Hospital | D9: _0136904 | E9: 41116 | F9: 1530 | G9: 23264 | H9: IV Access / Blood Transfusion | I9: 4+ Infiltration of any amount of irritant - Significant | J9: something hurt | K9: something else happened | L9: person | M9: 106468 | N9: =DATEDIF(G9,E9,"y") | Q9: [Person_2] | R9: Outpatient Fall | S9: =COUNTIF($H$2:$H$164,R9)
A10: 9 | B10: =A10&C10 | C10: Hospital | D10: _0136895 | E10: 41116 | F10: 1405 | G10: 20411 | H10: IV Access / Blood Transfusion | I10: 2+ Skin blanched; edema 1-6 inches | J10: had IV | M10: 106459 | N10: =DATEDIF(G10,E10,"y") | Q10: Security | R10: Security / Personal Property | S10: =COUNTIF($H$2:$H$164,R10)
A11: 10 | B11: =A11&C11 | C11: Hospital | D11: _0136808 | E11: 41115 | F11: 309 | G11: 15351 | H11: IV Access / Blood Transfusion | I11: 2- Minor | J11: Something else | K11: something else happened | M11: 106380 | N11: =DATEDIF(G11,E11,"y") | Q11: NPU/[Person_3] | R11: [Person_3] / Pressure Ulcer | S11: =COUNTIF($H$2:$H$164,R11)
A12: 11 | B12: =A12&C12 | C12: Hospital | D12: _0136863 | E12: 41115 | F12: 1700 | G12: 22932 | H12: IV Access / Blood Transfusion | I12: 2- Minor | J12: more | K12: stuff happened | M12: 106434 | N12: =DATEDIF(G12,E12,"y") | Q12: Surgery/Prc | R12: Surgery / Invasive Procedure | S12: =COUNTIF($H$2:$H$164,R12)
A13: 12 | B13: =A13&C13 | C13: Hospital | D13: _0136935 | E13: 41116 | F13: 332 | G13: 10700 | H13: IV Access / Blood Transfusion | I13: 2- Minor | J13: a bunch | K13: something else happened | M13: 106497 | N13: =DATEDIF(G13,E13,"y") | Q13: Visitor Fall | R13: [Person_4] | S13: =COUNTIF($H$2:$H$164,R13)
A14: 13 | B14: =A14&C14 | C14: Hospital | D14: _0136583 | E14: 41110 | F14: 1415 | G14: 17360 | H14: Medication Event | I14: C - Did not cause harm - (2) Minor | J14: stuff | K14: stuff happened | M14: 106174 | N14: =DATEDIF(G14,E14,"y")
A15: 14 | B15: =A15&C15 | C15: Hospital | D15: _0136589 | E15: 41110 | F15: 1130 | G15: 34623 | H15: Medication Event | I15: C - Did not cause harm - (2) Minor | J15: had med | M15: 106181 | N15: =DATEDIF(G15,E15,"y")
A16: 15 | B16: =A16&C16 | C16: Hospital | D16: _0136825 | E16: 41114 | F16: 1200 | G16: 16277 | H16: Medication Event | I16: C - Did not cause harm - (2) Minor | J16: had IV | K16: something else happened | M16: 106397 | N16: =DATEDIF(G16,E16,"y")
A17: 16 | B17: =A17&C17 | C17: Hospital | D17: _0136841 | E17: 41115 | F17: 1410 | G17: 34564 | H17: Medication Event | I17: C - Did not cause harm - (2) Minor | J17: something hurt | L17: somebody else | M17: 106413 | N17: =DATEDIF(G17,E17,"y")
A18: 17 | B18: =A18&C18 | C18: Hospital | D18: _0136611 | E18: 41110 | F18: 0 | G18: 24298 | H18: Medication Event | I18: B - Identified before reached patient - (1) No Known Injury | J18: had IV | K18: something else happened | M18: 106203 | N18: =DATEDIF(G18,E18,"y")
A19: 18 | B19: =A19&C19 | C19: Hospital | D19: _0136617 | E19: 41110 | F19: 2000 | G19: 21127 | H19: Medication Event | I19: B - Identified before reached patient - (1) No Known Injury | J19: Something else | K19: something else happened | M19: 106209 | N19: =DATEDIF(G19,E19,"y")
A20: 19 | B20: =A20&C20 | C20: Hospital | D20: _0136620 | E20: 41110 | F20: 2000 | G20: 21127 | H20: Medication Event | I20: B - Identified before reached patient - (1) No Known Injury | J20: more | K20: stuff happened | M20: 106212 | N20: =DATEDIF(G20,E20,"y")
A21: 20 | B21: =A21&C21 | C21: Hospital | D21: _0136623 | E21: 41110 | F21: 2000 | G21: 19113 | H21: Medication Event | I21: B - Identified before reached patient - (1) No Known Injury | J21: a bunch | K21: something else happened | M21: 106214 | N21: =DATEDIF(G21,E21,"y")
A22: 21 | B22: =A22&C22 | C22: Hospital | D22: _0136625 | E22: 41111 | F22: 300 | G22: 13327 | H22: Medication Event | I22: B - Identified before reached patient - (1) No Known Injury | J22: stuff | K22: stuff happened | M22: 106217 | N22: =DATEDIF(G22,E22,"y")
A23: 22 | B23: =A23&C23 | C23: Hospital | D23: _0136705 | E23: 41110 | F23: 1300 | G23: 7631 | H23: Medication Event | I23: B - Identified before reached patient - (1) No Known Injury | J23: had med | K23: something else happened | M23: 106286 | N23: =DATEDIF(G23,E23,"y")
A24: 23 | B24: =A24&C24 | C24: Hospital | D24: _0136725 | E24: 41113 | F24: 1550 | G24: 11457 | H24: Medication Event | I24: B - Identified before reached patient - (1) No Known Injury | J24: had IV | K24: stuff happened | L24: somebody else | M24: 106305 | N24: =DATEDIF(G24,E24,"y")
A25: 24 | B25: =A25&C25 | C25: Hospital | D25: _0136844 | E25: 41115 | F25: 1620 | G25: 18346 | H25: Medication Event | I25: B - Identified before reached patient - (1) No Known Injury | J25: something hurt | K25: something else happened | M25: 106416 | N25: =DATEDIF(G25,E25,"y")
A26: 25 | B26: =A26&C26 | C26: Hospital | D26: _0136862 | E26: 41115 | F26: 0 | G26: 15758 | H26: Medication Event | I26: B - Identified before reached patient - (1) No Known Injury | J26: had IV | K26: stuff happened | M26: 106433 | N26: =DATEDIF(G26,E26,"y")
A27: 26 | B27: =A27&C27 | C27: Hospital | D27: _0136618 | E27: 41110 | F27: 2000 | G27: 21127 | H27: Medication Event | I27: A - Potential event - (1) No Known Injury | J27: Something else | K27: something else happened | M27: 106210 | N27: =DATEDIF(G27,E27,"y")
A28: 27 | B28: =A28&C28 | C28: Hospital | D28: _0136744 | E28: 41113 | F28: 1500 | G28: 13775 | H28: Medication Event | I28: A - Potential event - (1) No Known Injury | J28: more | K28: stuff happened | M28: 106324 | N28: =DATEDIF(G28,E28,"y")
A29: 28 | B29: =A29&C29 | C29: Hospital | D29: _0136745 | E29: 41113 | F29: 2000 | G29: 13591 | H29: Medication Event | I29: A - Potential event - (1) No Known Injury | J29: a bunch | K29: something else happened | M29: 106325 | N29: =DATEDIF(G29,E29,"y")
A30: 29 | B30: =A30&C30 | C30: Hospital | D30: _0136746 | E30: 41113 | F30: 0 | G30: 20867 | H30: Medication Event | I30: A - Potential event - (1) No Known Injury | J30: stuff | K30: stuff happened | M30: 106326 | N30: =DATEDIF(G30,E30,"y")
A31: 30 | B31: =A31&C31 | C31: Hospital | D31: _0136791 | E31: 41114 | F31: 1100 | G31: 13591 | H31: Medication Event | I31: A - Potential event - (1) No Known Injury | J31: had med | K31: something else happened | M31: 106365 | N31: =DATEDIF(G31,E31,"y")
A32: 31 | B32: =A32&C32 | C32: Hospital | D32: _0136839 | E32: 41115 | F32: 1110 | G32: 23821 | H32: Misc / Delivery of Care / Testing Related | I32: 3- Significant | J32: had IV | K32: stuff happened | L32: person | M32: 106411 | N32: =DATEDIF(G32,E32,"y")
A33: 32 | B33: =A33&C33 | C33: Hospital | D33: _0136842 | E33: 41115 | F33: 1610 | G33: 32434 | H33: Misc / Delivery of Care / Testing Related | I33: 2- Minor | J33: something hurt | M33: 106414 | N33: =DATEDIF(G33,E33,"y")
A34: 33 | B34: =A34&C34 | C34: Hospital | D34: _0136631 | E34: 41111 | F34: 1000 | G34: 13166 | H34: Misc / Delivery of Care / Testing Related | I34: 1- No injury | J34: had IV | K34: something else happened | L34: somebody else | M34: 106223 | N34: =DATEDIF(G34,E34,"y")
A35: 34 | B35: =A35&C35 | C35: Hospital | D35: _0136646 | E35: 41111 | F35: 1800 | G35: 31284 | H35: Misc / Delivery of Care / Testing Related | I35: 1- No injury | J35: Something else | K35: stuff happened | M35: 106236 | N35: =DATEDIF(G35,E35,"y")
A36: 35 | B36: =A36&C36 | C36: Hospital | D36: _0136658 | E36: 41112 | F36: 545 | G36: 20395 | H36: Misc / Delivery of Care / Testing Related | I36: 1- No injury | J36: more | K36: something else happened | L36: person | M36: 106249 | N36: =DATEDIF(G36,E36,"y")
A37: 36 | B37: =A37&C37 | C37: Hospital | D37: _0136756 | E37: 41114 | F37: 330 | G37: 11364 | H37: Misc / Delivery of Care / Testing Related | I37: 1- No injury | J37: a bunch | K37: stuff happened | L37: somebody else | M37: 106334 | N37: =DATEDIF(G37,E37,"y")
A38: 37 | B38: =A38&C38 | C38: Hospital | D38: _0136826 | E38: 41110 | F38: 835 | G38: 34751 | H38: Misc / Delivery of Care / Testing Related | I38: 1- No injury | J38: stuff | K38: something else happened | M38: 106398 | N38: =DATEDIF(G38,E38,"y")
A39: 38 | B39: =A39&C39 | C39: Hospital | D39: _0136831 | E39: 41114 | F39: 1155 | G39: 13981 | H39: Misc / Delivery of Care / Testing Related | I39: 1- No injury | J39: had med | K39: stuff happened | M39: 106403 | N39: =DATEDIF(G39,E39,"y")
A40: 39 | B40: =A40&C40 | C40: Hospital | D40: _0136835 | E40: 41115 | F40: 1400 | G40: 15105 | H40: Misc / Delivery of Care / Testing Related | I40: 1- No injury | J40: had IV | K40: something else happened | M40: 106407 | N40: =DATEDIF(G40,E40,"y")
...
