Workbook

Sheet Enter Data Here
A1: DBGL 13/14
A4: DA BOYZ GOLF LEAGUE
A5: Players | D5: Pts | E5: Pts | F5: Pts | G5: Pts | H5: Pts | I5: Pts | J5: Pts | K5: Pts | L5: Pts | M5: Pts | N5: Pts | O5: Pts | P5: Pts | Q5: Pts | R5: Pts | S5: Pts | T5: Total Points | U5: Rank
A6: White River Country Club - Nelspruit Golf Club - Sabie River Sun - Kruger Park Lodge
A7: Player 1 | D7: 22 | E7: 11 | T7: =D7+E7+F7+G7+H7+I7+J7+K7+L7+M7+N7+O7+P7+Q7+R7+S7 | U7: =RANK(T7,$T$7:$T$14)+COUNTIF($T$7:T7,T7)-1
A8: Player 2 | D8: 33 | E8: 12 | T8: =D8+E8+F8+G8+H8+I8+J8+K8+L8+M8+N8+O8+P8+Q8+R8+S8 | U8: =RANK(T8,$T$7:$T$14)+COUNTIF($T$7:T8,T8)-1
A9: Player 3 | D9: 22 | E9: 28 | T9: =D9+E9+F9+G9+H9+I9+J9+K9+L9+M9+N9+O9+P9+Q9+R9+S9 | U9: =RANK(T9,$T$7:$T$14)+COUNTIF($T$7:T9,T9)-1
A10: [Person_1] | D10: 9 | E10: 387 | T10: =D10+E10+F10+G10+H10+I10+J10+K10+L10+M10+N10+O10+P10+Q10+R10+S10 | U10: =RANK(T10,$T$7:$T$14)+COUNTIF($T$7:T10,T10)-1
A11: Player 5 | D11: 12 | E11: 35 | T11: =D11+E11+F11+G11+H11+I11+J11+K11+L11+M11+N11+O11+P11+Q11+R11+S11 | U11: =RANK(T11,$T$7:$T$14)+COUNTIF($T$7:T11,T11)-1
A12: Batman | D12: 17 | E12: 25 | T12: =D12+E12+F12+G12+H12+I12+J12+K12+L12+M12+N12+O12+P12+Q12+R12+S12 | U12: =RANK(T12,$T$7:$T$14)+COUNTIF($T$7:T12,T12)-1
A13: Player 7 | D13: 23 | E13: 1 | T13: =D13+E13+F13+G13+H13+I13+J13+K13+L13+M13+N13+O13+P13+Q13+R13+S13 | U13: =RANK(T13,$T$7:$T$14)+COUNTIF($T$7:T13,T13)-1
A14: [Person_2] Daffodil-11 Swain | D14: 1 | E14: 39 | T14: =D14+E14+F14+G14+H14+I14+J14+K14+L14+M14+N14+O14+P14+Q14+R14+S14 | U14: =RANK(T14,$T$7:$T$14)+COUNTIF($T$7:T14,T14)-1
D15: League Standings

Sheet Data Summarized Here
B1: DBGL 13/14
B4: DA BOYZ GOLF LEAGUE
A5: Rank | B5: Players | E5: Pts | F5: Pts | G5: Pts | H5: Pts | I5: Pts | J5: Pts | K5: Pts | L5: Pts | M5: Pts | N5: Pts | O5: Pts | P5: Pts | Q5: Pts | R5: Pts | S5: Pts | T5: Pts | U5: Average Points | V5: Total Points
B6: White River Country Club - Nelspruit Golf Club - Sabie River Sun - Kruger Park Lodge
A7: 1 | B7: =INDEX('Enter Data Here'!$A$7:$T$14,MATCH('Data Summarized Here'!$A7,'Enter Data Here'!$U$7:$U$14,0),1) | E7: =IF(INDEX('Enter Data Here'!$A$7:$T$14,MATCH('Data Summarized Here'!$A7,'Enter Data Here'!$U$7:$U$14,0),COLUMN(D4))=0,"",INDEX('Enter Data Here'!$A$7:$T$14,MATCH('Data Summarized Here'!$A7,'Enter Data Here'!$U$7:$U$14,0),COLUMN(D4))) | F7: =IF(INDEX('Enter Data Here'!$A$7:$T$14,MATCH('Data Summarized Here'!$A7,'Enter Data Here'!$U$7:$U$14,0),COLUMN(E4))=0,"",INDEX('Enter Data Here'!$A$7:$T$14,MATCH('Data Summarized Here'!$A7,'Enter Data Here'!$U$7:$U$14,0),COLUMN(E4))) | G7: =IF(INDEX('Enter Data Here'!$A$7:$T$14,MATCH('Data Summarized Here'!$A7,'Enter Data Here'!$U$7:$U$14,0),COLUMN(F4))=0,"",INDEX('Enter Data Here'!$A$7:$T$14,MATCH('Data Summarized Here'!$A7,'Enter Data Here'!$U$7:$U$14,0),COLUMN(F4))) | H7: =IF(INDEX('Enter Data Here'!$A$7:$T$14,MATCH('Data Summarized Here'!$A7,'Enter Data Here'!$U$7:$U$14,0),COLUMN(G4))=0,"",INDEX('Enter Data Here'!$A$7:$T$14,MATCH('Data Summarized Here'!$A7,'Enter Data Here'!$U$7:$U$14,0),COLUMN(G4))) | I7: =IF(INDEX('Enter Data Here'!$A$7:$T$14,MATCH('Data Summarized Here'!$A7,'Enter Data Here'!$U$7:$U$14,0),COLUMN(H4))=0,"",INDEX('Enter Data Here'!$A$7:$T$14,MATCH('Data Summarized Here'!$A7,'Enter Data Here'!$U$7:$U$14,0),COLUMN(H4))) | J7: =IF(INDEX('Enter Data Here'!$A$7:$T$14,MATCH('Data Summarized Here'!$A7,'Enter Data Here'!$U$7:$U$14,0),COLUMN(I4))=0,"",INDEX('Enter Data Here'!$A$7:$T$14,MATCH('Data Summarized Here'!$A7,'Enter Data Here'!$U$7:$U$14,0),COLUMN(I4))) | K7: =IF(INDEX('Enter Data Here'!$A$7:$T$14,MATCH('Data Summarized Here'!$A7,'Enter Data Here'!$U$7:$U$14,0),COLUMN(J4))=0,"",INDEX('Enter Data Here'!$A$7:$T$14,MATCH('Data Summarized Here'!$A7,'Enter Data Here'!$U$7:$U$14,0),COLUMN(J4))) | L7: =IF(INDEX('Enter Data Here'!$A$7:$T$14,MATCH('Data Summarized Here'!$A7,'Enter Data Here'!$U$7:$U$14,0),COLUMN(K4))=0,"",INDEX('Enter Data Here'!$A$7:$T$14,MATCH('Data Summarized Here'!$A7,'Enter Data Here'!$U$7:$U$14,0),COLUMN(K4))) | ... T7: =IF(INDEX('Enter Data Here'!$A$7:$T$14,MATCH('Data Summarized Here'!$A7,'Enter Data Here'!$U$7:$U$14,0),COLUMN(S4))=0,"",INDEX('Enter Data Here'!$A$7:$T$14,MATCH('Data Summarized Here'!$A7,'Enter Data Here'!$U$7:$U$14,0),COLUMN(S4))) | U7: =IFERROR(AVERAGEIF(E7:T7,">"&0),"") | V7: =SUM(E7:T7)
A8: 2 | B8: =INDEX('Enter Data Here'!$A$7:$T$14,MATCH('Data Summarized Here'!$A8,'Enter Data Here'!$U$7:$U$14,0),1) | E8: =IF(INDEX('Enter Data Here'!$A$7:$T$14,MATCH('Data Summarized Here'!$A8,'Enter Data Here'!$U$7:$U$14,0),COLUMN(D5))=0,"",INDEX('Enter Data Here'!$A$7:$T$14,MATCH('Data Summarized Here'!$A8,'Enter Data Here'!$U$7:$U$14,0),COLUMN(D5))) | F8: =IF(INDEX('Enter Data Here'!$A$7:$T$14,MATCH('Data Summarized Here'!$A8,'Enter Data Here'!$U$7:$U$14,0),COLUMN(E5))=0,"",INDEX('Enter Data Here'!$A$7:$T$14,MATCH('Data Summarized Here'!$A8,'Enter Data Here'!$U$7:$U$14,0),COLUMN(E5))) | G8: =IF(INDEX('Enter Data Here'!$A$7:$T$14,MATCH('Data Summarized Here'!$A8,'Enter Data Here'!$U$7:$U$14,0),COLUMN(F5))=0,"",INDEX('Enter Data Here'!$A$7:$T$14,MATCH('Data Summarized Here'!$A8,'Enter Data Here'!$U$7:$U$14,0),COLUMN(F5))) | H8: =IF(INDEX('Enter Data Here'!$A$7:$T$14,MATCH('Data Summarized Here'!$A8,'Enter Data Here'!$U$7:$U$14,0),COLUMN(G5))=0,"",INDEX('Enter Data Here'!$A$7:$T$14,MATCH('Data Summarized Here'!$A8,'Enter Data Here'!$U$7:$U$14,0),COLUMN(G5))) | I8: =IF(INDEX('Enter Data Here'!$A$7:$T$14,MATCH('Data Summarized Here'!$A8,'Enter Data Here'!$U$7:$U$14,0),COLUMN(H5))=0,"",INDEX('Enter Data Here'!$A$7:$T$14,MATCH('Data Summarized Here'!$A8,'Enter Data Here'!$U$7:$U$14,0),COLUMN(H5))) | J8: =IF(INDEX('Enter Data Here'!$A$7:$T$14,MATCH('Data Summarized Here'!$A8,'Enter Data Here'!$U$7:$U$14,0),COLUMN(I5))=0,"",INDEX('Enter Data Here'!$A$7:$T$14,MATCH('Data Summarized Here'!$A8,'Enter Data Here'!$U$7:$U$14,0),COLUMN(I5))) | K8: =IF(INDEX('Enter Data Here'!$A$7:$T$14,MATCH('Data Summarized Here'!$A8,'Enter Data Here'!$U$7:$U$14,0),COLUMN(J5))=0,"",INDEX('Enter Data Here'!$A$7:$T$14,MATCH('Data Summarized Here'!$A8,'Enter Data Here'!$U$7:$U$14,0),COLUMN(J5))) | L8: =IF(INDEX('Enter Data Here'!$A$7:$T$14,MATCH('Data Summarized Here'!$A8,'Enter Data Here'!$U$7:$U$14,0),COLUMN(K5))=0,"",INDEX('Enter Data Here'!$A$7:$T$14,MATCH('Data Summarized Here'!$A8,'Enter Data Here'!$U$7:$U$14,0),COLUMN(K5))) | ... T8: =IF(INDEX('Enter Data Here'!$A$7:$T$14,MATCH('Data Summarized Here'!$A8,'Enter Data Here'!$U$7:$U$14,0),COLUMN(S5))=0,"",INDEX('Enter Data Here'!$A$7:$T$14,MATCH('Data Summarized Here'!$A8,'Enter Data Here'!$U$7:$U$14,0),COLUMN(S5))) | U8: =IFERROR(AVERAGEIF(E8:T8,">"&0),"") | V8: =SUM(E8:T8)
A9: 3 | B9: =INDEX('Enter Data Here'!$A$7:$T$14,MATCH('Data Summarized Here'!$A9,'Enter Data Here'!$U$7:$U$14,0),1) | E9: =IF(INDEX('Enter Data Here'!$A$7:$T$14,MATCH('Data Summarized Here'!$A9,'Enter Data Here'!$U$7:$U$14,0),COLUMN(D6))=0,"",INDEX('Enter Data Here'!$A$7:$T$14,MATCH('Data Summarized Here'!$A9,'Enter Data Here'!$U$7:$U$14,0),COLUMN(D6))) | F9: =IF(INDEX('Enter Data Here'!$A$7:$T$14,MATCH('Data Summarized Here'!$A9,'Enter Data Here'!$U$7:$U$14,0),COLUMN(E6))=0,"",INDEX('Enter Data Here'!$A$7:$T$14,MATCH('Data Summarized Here'!$A9,'Enter Data Here'!$U$7:$U$14,0),COLUMN(E6))) | G9: =IF(INDEX('Enter Data Here'!$A$7:$T$14,MATCH('Data Summarized Here'!$A9,'Enter Data Here'!$U$7:$U$14,0),COLUMN(F6))=0,"",INDEX('Enter Data Here'!$A$7:$T$14,MATCH('Data Summarized Here'!$A9,'Enter Data Here'!$U$7:$U$14,0),COLUMN(F6))) | H9: =IF(INDEX('Enter Data Here'!$A$7:$T$14,MATCH('Data Summarized Here'!$A9,'Enter Data Here'!$U$7:$U$14,0),COLUMN(G6))=0,"",INDEX('Enter Data Here'!$A$7:$T$14,MATCH('Data Summarized Here'!$A9,'Enter Data Here'!$U$7:$U$14,0),COLUMN(G6))) | I9: =IF(INDEX('Enter Data Here'!$A$7:$T$14,MATCH('Data Summarized Here'!$A9,'Enter Data Here'!$U$7:$U$14,0),COLUMN(H6))=0,"",INDEX('Enter Data Here'!$A$7:$T$14,MATCH('Data Summarized Here'!$A9,'Enter Data Here'!$U$7:$U$14,0),COLUMN(H6))) | J9: =IF(INDEX('Enter Data Here'!$A$7:$T$14,MATCH('Data Summarized Here'!$A9,'Enter Data Here'!$U$7:$U$14,0),COLUMN(I6))=0,"",INDEX('Enter Data Here'!$A$7:$T$14,MATCH('Data Summarized Here'!$A9,'Enter Data Here'!$U$7:$U$14,0),COLUMN(I6))) | K9: =IF(INDEX('Enter Data Here'!$A$7:$T$14,MATCH('Data Summarized Here'!$A9,'Enter Data Here'!$U$7:$U$14,0),COLUMN(J6))=0,"",INDEX('Enter Data Here'!$A$7:$T$14,MATCH('Data Summarized Here'!$A9,'Enter Data Here'!$U$7:$U$14,0),COLUMN(J6))) | L9: =IF(INDEX('Enter Data Here'!$A$7:$T$14,MATCH('Data Summarized Here'!$A9,'Enter Data Here'!$U$7:$U$14,0),COLUMN(K6))=0,"",INDEX('Enter Data Here'!$A$7:$T$14,MATCH('Data Summarized Here'!$A9,'Enter Data Here'!$U$7:$U$14,0),COLUMN(K6))) | ... T9: =IF(INDEX('Enter Data Here'!$A$7:$T$14,MATCH('Data Summarized Here'!$A9,'Enter Data Here'!$U$7:$U$14,0),COLUMN(S6))=0,"",INDEX('Enter Data Here'!$A$7:$T$14,MATCH('Data Summarized Here'!$A9,'Enter Data Here'!$U$7:$U$14,0),COLUMN(S6))) | U9: =IFERROR(AVERAGEIF(E9:T9,">"&0),"") | V9: =SUM(E9:T9)
A10: 4 | B10: =INDEX('Enter Data Here'!$A$7:$T$14,MATCH('Data Summarized Here'!$A10,'Enter Data Here'!$U$7:$U$14,0),1) | E10: =IF(INDEX('Enter Data Here'!$A$7:$T$14,MATCH('Data Summarized Here'!$A10,'Enter Data Here'!$U$7:$U$14,0),COLUMN(D7))=0,"",INDEX('Enter Data Here'!$A$7:$T$14,MATCH('Data Summarized Here'!$A10,'Enter Data Here'!$U$7:$U$14,0),COLUMN(D7))) | F10: =IF(INDEX('Enter Data Here'!$A$7:$T$14,MATCH('Data Summarized Here'!$A10,'Enter Data Here'!$U$7:$U$14,0),COLUMN(E7))=0,"",INDEX('Enter Data Here'!$A$7:$T$14,MATCH('Data Summarized Here'!$A10,'Enter Data Here'!$U$7:$U$14,0),COLUMN(E7))) | G10: =IF(INDEX('Enter Data Here'!$A$7:$T$14,MATCH('Data Summarized Here'!$A10,'Enter Data Here'!$U$7:$U$14,0),COLUMN(F7))=0,"",INDEX('Enter Data Here'!$A$7:$T$14,MATCH('Data Summarized Here'!$A10,'Enter Data Here'!$U$7:$U$14,0),COLUMN(F7))) | H10: =IF(INDEX('Enter Data Here'!$A$7:$T$14,MATCH('Data Summarized Here'!$A10,'Enter Data Here'!$U$7:$U$14,0),COLUMN(G7))=0,"",INDEX('Enter Data Here'!$A$7:$T$14,MATCH('Data Summarized Here'!$A10,'Enter Data Here'!$U$7:$U$14,0),COLUMN(G7))) | I10: =IF(INDEX('Enter Data Here'!$A$7:$T$14,MATCH('Data Summarized Here'!$A10,'Enter Data Here'!$U$7:$U$14,0),COLUMN(H7))=0,"",INDEX('Enter Data Here'!$A$7:$T$14,MATCH('Data Summarized Here'!$A10,'Enter Data Here'!$U$7:$U$14,0),COLUMN(H7))) | J10: =IF(INDEX('Enter Data Here'!$A$7:$T$14,MATCH('Data Summarized Here'!$A10,'Enter Data Here'!$U$7:$U$14,0),COLUMN(I7))=0,"",INDEX('Enter Data Here'!$A$7:$T$14,MATCH('Data Summarized Here'!$A10,'Enter Data Here'!$U$7:$U$14,0),COLUMN(I7))) | K10: =IF(INDEX('Enter Data Here'!$A$7:$T$14,MATCH('Data Summarized Here'!$A10,'Enter Data Here'!$U$7:$U$14,0),COLUMN(J7))=0,"",INDEX('Enter Data Here'!$A$7:$T$14,MATCH('Data Summarized Here'!$A10,'Enter Data Here'!$U$7:$U$14,0),COLUMN(J7))) | L10: =IF(INDEX('Enter Data Here'!$A$7:$T$14,MATCH('Data Summarized Here'!$A10,'Enter Data Here'!$U$7:$U$14,0),COLUMN(K7))=0,"",INDEX('Enter Data Here'!$A$7:$T$14,MATCH('Data Summarized Here'!$A10,'Enter Data Here'!$U$7:$U$14,0),COLUMN(K7))) | ... T10: =IF(INDEX('Enter Data Here'!$A$7:$T$14,MATCH('Data Summarized Here'!$A10,'Enter Data Here'!$U$7:$U$14,0),COLUMN(S7))=0,"",INDEX('Enter Data Here'!$A$7:$T$14,MATCH('Data Summarized Here'!$A10,'Enter Data Here'!$U$7:$U$14,0),COLUMN(S7))) | U10: =IFERROR(AVERAGEIF(E10:T10,">"&0),"") | V10: =SUM(E10:T10)
A11: 5 | B11: =INDEX('Enter Data Here'!$A$7:$T$14,MATCH('Data Summarized Here'!$A11,'Enter Data Here'!$U$7:$U$14,0),1) | E11: =IF(INDEX('Enter Data Here'!$A$7:$T$14,MATCH('Data Summarized Here'!$A11,'Enter Data Here'!$U$7:$U$14,0),COLUMN(D8))=0,"",INDEX('Enter Data Here'!$A$7:$T$14,MATCH('Data Summarized Here'!$A11,'Enter Data Here'!$U$7:$U$14,0),COLUMN(D8))) | F11: =IF(INDEX('Enter Data Here'!$A$7:$T$14,MATCH('Data Summarized Here'!$A11,'Enter Data Here'!$U$7:$U$14,0),COLUMN(E8))=0,"",INDEX('Enter Data Here'!$A$7:$T$14,MATCH('Data Summarized Here'!$A11,'Enter Data Here'!$U$7:$U$14,0),COLUMN(E8))) | G11: =IF(INDEX('Enter Data Here'!$A$7:$T$14,MATCH('Data Summarized Here'!$A11,'Enter Data Here'!$U$7:$U$14,0),COLUMN(F8))=0,"",INDEX('Enter Data Here'!$A$7:$T$14,MATCH('Data Summarized Here'!$A11,'Enter Data Here'!$U$7:$U$14,0),COLUMN(F8))) | H11: =IF(INDEX('Enter Data Here'!$A$7:$T$14,MATCH('Data Summarized Here'!$A11,'Enter Data Here'!$U$7:$U$14,0),COLUMN(G8))=0,"",INDEX('Enter Data Here'!$A$7:$T$14,MATCH('Data Summarized Here'!$A11,'Enter Data Here'!$U$7:$U$14,0),COLUMN(G8))) | I11: =IF(INDEX('Enter Data Here'!$A$7:$T$14,MATCH('Data Summarized Here'!$A11,'Enter Data Here'!$U$7:$U$14,0),COLUMN(H8))=0,"",INDEX('Enter Data Here'!$A$7:$T$14,MATCH('Data Summarized Here'!$A11,'Enter Data Here'!$U$7:$U$14,0),COLUMN(H8))) | J11: =IF(INDEX('Enter Data Here'!$A$7:$T$14,MATCH('Data Summarized Here'!$A11,'Enter Data Here'!$U$7:$U$14,0),COLUMN(I8))=0,"",INDEX('Enter Data Here'!$A$7:$T$14,MATCH('Data Summarized Here'!$A11,'Enter Data Here'!$U$7:$U$14,0),COLUMN(I8))) | K11: =IF(INDEX('Enter Data Here'!$A$7:$T$14,MATCH('Data Summarized Here'!$A11,'Enter Data Here'!$U$7:$U$14,0),COLUMN(J8))=0,"",INDEX('Enter Data Here'!$A$7:$T$14,MATCH('Data Summarized Here'!$A11,'Enter Data Here'!$U$7:$U$14,0),COLUMN(J8))) | L11: =IF(INDEX('Enter Data Here'!$A$7:$T$14,MATCH('Data Summarized Here'!$A11,'Enter Data Here'!$U$7:$U$14,0),COLUMN(K8))=0,"",INDEX('Enter Data Here'!$A$7:$T$14,MATCH('Data Summarized Here'!$A11,'Enter Data Here'!$U$7:$U$14,0),COLUMN(K8))) | ... T11: =IF(INDEX('Enter Data Here'!$A$7:$T$14,MATCH('Data Summarized Here'!$A11,'Enter Data Here'!$U$7:$U$14,0),COLUMN(S8))=0,"",INDEX('Enter Data Here'!$A$7:$T$14,MATCH('Data Summarized Here'!$A11,'Enter Data Here'!$U$7:$U$14,0),COLUMN(S8))) | U11: =IFERROR(AVERAGEIF(E11:T11,">"&0),"") | V11: =SUM(E11:T11)
A12: 6 | B12: =INDEX('Enter Data Here'!$A$7:$T$14,MATCH('Data Summarized Here'!$A12,'Enter Data Here'!$U$7:$U$14,0),1) | E12: =IF(INDEX('Enter Data Here'!$A$7:$T$14,MATCH('Data Summarized Here'!$A12,'Enter Data Here'!$U$7:$U$14,0),COLUMN(D9))=0,"",INDEX('Enter Data Here'!$A$7:$T$14,MATCH('Data Summarized Here'!$A12,'Enter Data Here'!$U$7:$U$14,0),COLUMN(D9))) | F12: =IF(INDEX('Enter Data Here'!$A$7:$T$14,MATCH('Data Summarized Here'!$A12,'Enter Data Here'!$U$7:$U$14,0),COLUMN(E9))=0,"",INDEX('Enter Data Here'!$A$7:$T$14,MATCH('Data Summarized Here'!$A12,'Enter Data Here'!$U$7:$U$14,0),COLUMN(E9))) | G12: =IF(INDEX('Enter Data Here'!$A$7:$T$14,MATCH('Data Summarized Here'!$A12,'Enter Data Here'!$U$7:$U$14,0),COLUMN(F9))=0,"",INDEX('Enter Data Here'!$A$7:$T$14,MATCH('Data Summarized Here'!$A12,'Enter Data Here'!$U$7:$U$14,0),COLUMN(F9))) | H12: =IF(INDEX('Enter Data Here'!$A$7:$T$14,MATCH('Data Summarized Here'!$A12,'Enter Data Here'!$U$7:$U$14,0),COLUMN(G9))=0,"",INDEX('Enter Data Here'!$A$7:$T$14,MATCH('Data Summarized Here'!$A12,'Enter Data Here'!$U$7:$U$14,0),COLUMN(G9))) | I12: =IF(INDEX('Enter Data Here'!$A$7:$T$14,MATCH('Data Summarized Here'!$A12,'Enter Data Here'!$U$7:$U$14,0),COLUMN(H9))=0,"",INDEX('Enter Data Here'!$A$7:$T$14,MATCH('Data Summarized Here'!$A12,'Enter Data Here'!$U$7:$U$14,0),COLUMN(H9))) | J12: =IF(INDEX('Enter Data Here'!$A$7:$T$14,MATCH('Data Summarized Here'!$A12,'Enter Data Here'!$U$7:$U$14,0),COLUMN(I9))=0,"",INDEX('Enter Data Here'!$A$7:$T$14,MATCH('Data Summarized Here'!$A12,'Enter Data Here'!$U$7:$U$14,0),COLUMN(I9))) | K12: =IF(INDEX('Enter Data Here'!$A$7:$T$14,MATCH('Data Summarized Here'!$A12,'Enter Data Here'!$U$7:$U$14,0),COLUMN(J9))=0,"",INDEX('Enter Data Here'!$A$7:$T$14,MATCH('Data Summarized Here'!$A12,'Enter Data Here'!$U$7:$U$14,0),COLUMN(J9))) | L12: =IF(INDEX('Enter Data Here'!$A$7:$T$14,MATCH('Data Summarized Here'!$A12,'Enter Data Here'!$U$7:$U$14,0),COLUMN(K9))=0,"",INDEX('Enter Data Here'!$A$7:$T$14,MATCH('Data Summarized Here'!$A12,'Enter Data Here'!$U$7:$U$14,0),COLUMN(K9))) | ... T12: =IF(INDEX('Enter Data Here'!$A$7:$T$14,MATCH('Data Summarized Here'!$A12,'Enter Data Here'!$U$7:$U$14,0),COLUMN(S9))=0,"",INDEX('Enter Data Here'!$A$7:$T$14,MATCH('Data Summarized Here'!$A12,'Enter Data Here'!$U$7:$U$14,0),COLUMN(S9))) | U12: =IFERROR(AVERAGEIF(E12:T12,">"&0),"") | V12: =SUM(E12:T12)
A13: 7 | B13: =INDEX('Enter Data Here'!$A$7:$T$14,MATCH('Data Summarized Here'!$A13,'Enter Data Here'!$U$7:$U$14,0),1) | E13: =IF(INDEX('Enter Data Here'!$A$7:$T$14,MATCH('Data Summarized Here'!$A13,'Enter Data Here'!$U$7:$U$14,0),COLUMN(D10))=0,"",INDEX('Enter Data Here'!$A$7:$T$14,MATCH('Data Summarized Here'!$A13,'Enter Data Here'!$U$7:$U$14,0),COLUMN(D10))) | F13: =IF(INDEX('Enter Data Here'!$A$7:$T$14,MATCH('Data Summarized Here'!$A13,'Enter Data Here'!$U$7:$U$14,0),COLUMN(E10))=0,"",INDEX('Enter Data Here'!$A$7:$T$14,MATCH('Data Summarized Here'!$A13,'Enter Data Here'!$U$7:$U$14,0),COLUMN(E10))) | G13: =IF(INDEX('Enter Data Here'!$A$7:$T$14,MATCH('Data Summarized Here'!$A13,'Enter Data Here'!$U$7:$U$14,0),COLUMN(F10))=0,"",INDEX('Enter Data Here'!$A$7:$T$14,MATCH('Data Summarized Here'!$A13,'Enter Data Here'!$U$7:$U$14,0),COLUMN(F10))) | H13: =IF(INDEX('Enter Data Here'!$A$7:$T$14,MATCH('Data Summarized Here'!$A13,'Enter Data Here'!$U$7:$U$14,0),COLUMN(G10))=0,"",INDEX('Enter Data Here'!$A$7:$T$14,MATCH('Data Summarized Here'!$A13,'Enter Data Here'!$U$7:$U$14,0),COLUMN(G10))) | I13: =IF(INDEX('Enter Data Here'!$A$7:$T$14,MATCH('Data Summarized Here'!$A13,'Enter Data Here'!$U$7:$U$14,0),COLUMN(H10))=0,"",INDEX('Enter Data Here'!$A$7:$T$14,MATCH('Data Summarized Here'!$A13,'Enter Data Here'!$U$7:$U$14,0),COLUMN(H10))) | J13: =IF(INDEX('Enter Data Here'!$A$7:$T$14,MATCH('Data Summarized Here'!$A13,'Enter Data Here'!$U$7:$U$14,0),COLUMN(I10))=0,"",INDEX('Enter Data Here'!$A$7:$T$14,MATCH('Data Summarized Here'!$A13,'Enter Data Here'!$U$7:$U$14,0),COLUMN(I10))) | K13: =IF(INDEX('Enter Data Here'!$A$7:$T$14,MATCH('Data Summarized Here'!$A13,'Enter Data Here'!$U$7:$U$14,0),COLUMN(J10))=0,"",INDEX('Enter Data Here'!$A$7:$T$14,MATCH('Data Summarized Here'!$A13,'Enter Data Here'!$U$7:$U$14,0),COLUMN(J10))) | L13: =IF(INDEX('Enter Data Here'!$A$7:$T$14,MATCH('Data Summarized Here'!$A13,'Enter Data Here'!$U$7:$U$14,0),COLUMN(K10))=0,"",INDEX('Enter Data Here'!$A$7:$T$14,MATCH('Data Summarized Here'!$A13,'Enter Data Here'!$U$7:$U$14,0),COLUMN(K10))) | ... T13: =IF(INDEX('Enter Data Here'!$A$7:$T$14,MATCH('Data Summarized Here'!$A13,'Enter Data Here'!$U$7:$U$14,0),COLUMN(S10))=0,"",INDEX('Enter Data Here'!$A$7:$T$14,MATCH('Data Summarized Here'!$A13,'Enter Data Here'!$U$7:$U$14,0),COLUMN(S10))) | U13: =IFERROR(AVERAGEIF(E13:T13,">"&0),"") | V13: =SUM(E13:T13)
A14: 8 | B14: =INDEX('Enter Data Here'!$A$7:$T$14,MATCH('Data Summarized Here'!$A14,'Enter Data Here'!$U$7:$U$14,0),1) | E14: =IF(INDEX('Enter Data Here'!$A$7:$T$14,MATCH('Data Summarized Here'!$A14,'Enter Data Here'!$U$7:$U$14,0),COLUMN(D11))=0,"",INDEX('Enter Data Here'!$A$7:$T$14,MATCH('Data Summarized Here'!$A14,'Enter Data Here'!$U$7:$U$14,0),COLUMN(D11))) | F14: =IF(INDEX('Enter Data Here'!$A$7:$T$14,MATCH('Data Summarized Here'!$A14,'Enter Data Here'!$U$7:$U$14,0),COLUMN(E11))=0,"",INDEX('Enter Data Here'!$A$7:$T$14,MATCH('Data Summarized Here'!$A14,'Enter Data Here'!$U$7:$U$14,0),COLUMN(E11))) | G14: =IF(INDEX('Enter Data Here'!$A$7:$T$14,MATCH('Data Summarized Here'!$A14,'Enter Data Here'!$U$7:$U$14,0),COLUMN(F11))=0,"",INDEX('Enter Data Here'!$A$7:$T$14,MATCH('Data Summarized Here'!$A14,'Enter Data Here'!$U$7:$U$14,0),COLUMN(F11))) | H14: =IF(INDEX('Enter Data Here'!$A$7:$T$14,MATCH('Data Summarized Here'!$A14,'Enter Data Here'!$U$7:$U$14,0),COLUMN(G11))=0,"",INDEX('Enter Data Here'!$A$7:$T$14,MATCH('Data Summarized Here'!$A14,'Enter Data Here'!$U$7:$U$14,0),COLUMN(G11))) | I14: =IF(INDEX('Enter Data Here'!$A$7:$T$14,MATCH('Data Summarized Here'!$A14,'Enter Data Here'!$U$7:$U$14,0),COLUMN(H11))=0,"",INDEX('Enter Data Here'!$A$7:$T$14,MATCH('Data Summarized Here'!$A14,'Enter Data Here'!$U$7:$U$14,0),COLUMN(H11))) | J14: =IF(INDEX('Enter Data Here'!$A$7:$T$14,MATCH('Data Summarized Here'!$A14,'Enter Data Here'!$U$7:$U$14,0),COLUMN(I11))=0,"",INDEX('Enter Data Here'!$A$7:$T$14,MATCH('Data Summarized Here'!$A14,'Enter Data Here'!$U$7:$U$14,0),COLUMN(I11))) | K14: =IF(INDEX('Enter Data Here'!$A$7:$T$14,MATCH('Data Summarized Here'!$A14,'Enter Data Here'!$U$7:$U$14,0),COLUMN(J11))=0,"",INDEX('Enter Data Here'!$A$7:$T$14,MATCH('Data Summarized Here'!$A14,'Enter Data Here'!$U$7:$U$14,0),COLUMN(J11))) | L14: =IF(INDEX('Enter Data Here'!$A$7:$T$14,MATCH('Data Summarized Here'!$A14,'Enter Data Here'!$U$7:$U$14,0),COLUMN(K11))=0,"",INDEX('Enter Data Here'!$A$7:$T$14,MATCH('Data Summarized Here'!$A14,'Enter Data Here'!$U$7:$U$14,0),COLUMN(K11))) | ... T14: =IF(INDEX('Enter Data Here'!$A$7:$T$14,MATCH('Data Summarized Here'!$A14,'Enter Data Here'!$U$7:$U$14,0),COLUMN(S11))=0,"",INDEX('Enter Data Here'!$A$7:$T$14,MATCH('Data Summarized Here'!$A14,'Enter Data Here'!$U$7:$U$14,0),COLUMN(S11))) | U14: =IFERROR(AVERAGEIF(E14:T14,">"&0),"") | V14: =SUM(E14:T14)
E15: League Standings
