Workbook
Name Carton: 'Rev Crease Range'!$B$23:$B$27
Name Corrugated: 'Rev Crease Range'!$C$23:$C$27

Sheet Example
J4: Solid Board | L4: 0.7 | M4: 0.8
J5: Thickness | K5: 0.85 | L5: =INDEX('Rev Crease Range'!F6:F19,MATCH($K5,'Rev Crease Range'!$E6:E19,0)) | M5: =INDEX('Rev Crease Range'!G6:G19,MATCH($K5,'Rev Crease Range'!$E6:E19,0))
J8: Product Code | K8: {=IFERROR(INDEX('Rev Crease Range'!J$31:J$75,_xlfn.AGGREGATE(15,6,(ROW(J$31:J$75)-ROW(J$30))/('Rev Crease Range'!K$31:K$75=TRUE),ROWS(A$1:A1))),"")}
K9: {=IFERROR(INDEX('Rev Crease Range'!J$31:J$75,_xlfn.AGGREGATE(15,6,(ROW(J$31:J$75)-ROW(J$30))/('Rev Crease Range'!K$31:K$75=TRUE),ROWS(A$1:A2))),"")}
K10: {=IFERROR(INDEX('Rev Crease Range'!J$31:J$75,_xlfn.AGGREGATE(15,6,(ROW(J$31:J$75)-ROW(J$30))/('Rev Crease Range'!K$31:K$75=TRUE),ROWS(A$1:A3))),"")}
K11: {=IFERROR(INDEX('Rev Crease Range'!J$31:J$75,_xlfn.AGGREGATE(15,6,(ROW(J$31:J$75)-ROW(J$30))/('Rev Crease Range'!K$31:K$75=TRUE),ROWS(A$1:A4))),"")}
K12: {=IFERROR(INDEX('Rev Crease Range'!J$31:J$75,_xlfn.AGGREGATE(15,6,(ROW(J$31:J$75)-ROW(J$30))/('Rev Crease Range'!K$31:K$75=TRUE),ROWS(A$1:A5))),"")}
K13: {=IFERROR(INDEX('Rev Crease Range'!J$31:J$75,_xlfn.AGGREGATE(15,6,(ROW(J$31:J$75)-ROW(J$30))/('Rev Crease Range'!K$31:K$75=TRUE),ROWS(A$1:A6))),"")}
J15: Corrugated | L15: 1 | M15: 1.1 | N15: 1.2 | O15: 1.5 | P15: 2 | Q15: 2.5 | R15: 3
J16: Thickness | K16: 0.6 | L16: =INDEX('Rev Crease Range'!M7:M25,MATCH($K16,'Rev Crease Range'!$L7:L25,0)) | M16: =INDEX('Rev Crease Range'!N7:N25,MATCH($K16,'Rev Crease Range'!$L7:L25,0)) | N16: =INDEX('Rev Crease Range'!O7:O25,MATCH($K16,'Rev Crease Range'!$L7:L25,0)) | O16: =INDEX('Rev Crease Range'!P7:P25,MATCH($K16,'Rev Crease Range'!$L7:L25,0)) | P16: =INDEX('Rev Crease Range'!Q7:Q25,MATCH($K16,'Rev Crease Range'!$L7:L25,0)) | Q16: =INDEX('Rev Crease Range'!R7:R25,MATCH($K16,'Rev Crease Range'!$L7:L25,0)) | R16: =INDEX('Rev Crease Range'!S7:S25,MATCH($K16,'Rev Crease Range'!$L7:L25,0))
J20: Product Code | K20: {=IFERROR(INDEX('Rev Crease Range'!J$39:J$75,_xlfn.AGGREGATE(15,6,(ROW(J$39:J$75)-ROW(J$30))/('Rev Crease Range'!K$39:K$75=TRUE),ROWS(A$1:A1))),"")}

Sheet Rev Crease Range
B2: Solid Board | C2: 1.5 | F2: found in B | G2: Found in B | I2: Corrugate | J2: 2 | M2: found in B | N2: Found in B | O2: found in B | P2: Found in B | Q2: Found in B | R2: Found in B | S2: Found in B | U2: Solid Board | W2: 0.7 | X2: 0.8
B3: Nib Width | C3: 0.7 | E3: F | F3: 0.7 | G3: 0.8 | I3: NIB Width | J3: 1 | L3: F | M3: 1 | N3: 1.1 | O3: 1.2 | P3: 1.5 | Q3: 2 | R3: 2.5 | S3: 3 | U3: Thickness | V3: 0.7 | W3: =INDEX(F6:F19,MATCH($V3,$E6:$E19,0)) | X3: =INDEX(G6:G19,MATCH($V3,$E6:$E19,0))
B4: Nib Width | C4: 0.8 | E4: thickness | F4: [Person_1] | G4: [Person_1] | I4: NIB Width | J4: 1.1 | L4: thickness | M4: [Person_1] | N4: [Person_1] | O4: [Person_1] | P4: [Person_1] | Q4: [Person_1] | R4: [Person_1] | S4: [Person_1]
I5: NIB Width | J5: 1.2
E6: 0.35 | F6: =ROUND(E6*C$2+C$3,1) | G6: =ROUND(E6*C$2+C$4,1) | I6: NIB Width | J6: 1.5 | U6: Corrugate | W6: 1 | X6: 1.1 | Y6: 1.2 | Z6: 1.5 | AA6: 2 | AB6: 2.5 | AC6: 3
E7: 0.4 | F7: =ROUND(E7*C$2+C$3,1) | G7: =ROUND(E7*C$2+C$4,1) | I7: NIB Width | J7: 2 | L7: 0.6 | M7: =ROUND(L7*J$2+J$3,1) | N7: =ROUND(L7*J$2+J$4,1) | O7: =ROUND(L7*J$2+J$5,1) | P7: =ROUND(L7*J$2+J$6,1) | Q7: =ROUND(L7*J$2+J$7,1) | R7: =ROUND(L7*J$2+J$8,1) | S7: =ROUND(L7*J$2+J$9,1) | U7: Thickness | V7: 2 | W7: =INDEX(M7:M25,MATCH($V7,$L7:L25,0)) | X7: =INDEX(N7:N25,MATCH($V7,$L7:L25,0)) | Y7: =INDEX(O7:O25,MATCH($V7,$L7:L25,0)) | Z7: =INDEX(P7:P25,MATCH($V7,$L7:L25,0)) | AA7: =INDEX(Q7:Q25,MATCH($V7,$L7:L25,0)) | AB7: =INDEX(R7:R25,MATCH($V7,$L7:L25,0)) | AC7: =INDEX(S7:S25,MATCH($V7,$L7:L25,0))
E8: 0.45 | F8: =ROUND(E8*C$2+C$3,1) | G8: =ROUND(E8*C$2+C$4,1) | I8: NIB Width | J8: 2.5 | L8: 0.65 | M8: =ROUND(L8*J$2+J$3,1) | N8: =ROUND(L8*J$2+J$4,1) | O8: =ROUND(L8*J$2+J$5,1) | P8: =SUM(L8*J$2)+J$6 | Q8: =ROUND(L8*J$2+J$7,1) | R8: =ROUND(L8*J$2+J$8,1) | S8: =ROUND(L8*J$2+J$9,1)
E9: 0.5 | F9: =ROUND(E9*C$2+C$3,1) | G9: =ROUND(E9*C$2+C$4,1) | I9: NIB Width | J9: 3 | L9: 0.7 | M9: =ROUND(L9*J$2+J$3,1) | N9: =ROUND(L9*J$2+J$4,1) | O9: =ROUND(L9*J$2+J$5,1) | P9: =SUM(L9*J$2)+J$6 | Q9: =ROUND(L9*J$2+J$7,1) | R9: =ROUND(L9*J$2+J$8,1) | S9: =ROUND(L9*J$2+J$9,1)
E10: 0.55 | F10: =ROUND(E10*C$2+C$3,1) | G10: =ROUND(E10*C$2+C$4,1) | L10: 0.75 | M10: =ROUND(L10*J$2+J$3,1) | N10: =ROUND(L10*J$2+J$4,1) | O10: =ROUND(L10*J$2+J$5,1) | P10: =SUM(L10*J$2)+J$6 | Q10: =ROUND(L10*J$2+J$7,1) | R10: =ROUND(L10*J$2+J$8,1) | S10: =ROUND(L10*J$2+J$9,1)
E11: 0.6 | F11: =ROUND(E11*C$2+C$3,1) | G11: =ROUND(E11*C$2+C$4,1) | L11: 0.8 | M11: =ROUND(L11*J$2+J$3,1) | N11: =ROUND(L11*J$2+J$4,1) | O11: =ROUND(L11*J$2+J$5,1) | P11: =SUM(L11*J$2)+J$6 | Q11: =ROUND(L11*J$2+J$7,1) | R11: =ROUND(L11*J$2+J$8,1) | S11: =ROUND(L11*J$2+J$9,1)
E12: 0.65 | F12: =ROUND(E12*C$2+C$3,1) | G12: =ROUND(E12*C$2+C$4,1) | L12: 0.85 | M12: =ROUND(L12*J$2+J$3,1) | N12: =ROUND(L12*J$2+J$4,1) | O12: =ROUND(L12*J$2+J$5,1) | P12: =SUM(L12*J$2)+J$6 | Q12: =ROUND(L12*J$2+J$7,1) | R12: =ROUND(L12*J$2+J$8,1) | S12: =ROUND(L12*J$2+J$9,1)
E13: 0.7 | F13: =ROUND(E13*C$2+C$3,1) | G13: =ROUND(E13*C$2+C$4,1) | L13: 0.9 | M13: =ROUND(L13*J$2+J$3,1) | N13: =ROUND(L13*J$2+J$4,1) | O13: =ROUND(L13*J$2+J$5,1) | P13: =SUM(L13*J$2)+J$6 | Q13: =ROUND(L13*J$2+J$7,1) | R13: =ROUND(L13*J$2+J$8,1) | S13: =ROUND(L13*J$2+J$9,1)
E14: 0.75 | F14: =ROUND(E14*C$2+C$3,1) | G14: =ROUND(E14*C$2+C$4,1) | L14: 0.95 | M14: =ROUND(L14*J$2+J$3,1) | N14: =ROUND(L14*J$2+J$4,1) | O14: =ROUND(L14*J$2+J$5,1) | P14: =SUM(L14*J$2)+J$6 | Q14: =ROUND(L14*J$2+J$7,1) | R14: =ROUND(L14*J$2+J$8,1) | S14: =ROUND(L14*J$2+J$9,1)
E15: 0.8 | F15: =ROUND(E15*C$2+C$3,1) | G15: =ROUND(E15*C$2+C$4,1) | L15: 1 | M15: =ROUND(L15*J$2+J$3,1) | N15: =ROUND(L15*J$2+J$4,1) | O15: =ROUND(L15*J$2+J$5,1) | P15: =SUM(L15*J$2)+J$6 | Q15: =ROUND(L15*J$2+J$7,1) | R15: =ROUND(L15*J$2+J$8,1) | S15: =ROUND(L15*J$2+J$9,1) | V15: {=IFERROR(_xlfn.SINGLE(INDEX('Rev Crease Range'!J$31:J$75,_xlfn.AGGREGATE(15,6,(ROW('Rev Crease Range'!J$31:J$75)-ROW('Rev Crease Range'!J$30))/('Rev Crease Range'!A$31:A$75<=W$3)/('Rev Crease Range'!B$31:B$75>=X$3),ROWS(A$1:A3)))),"")}
E16: 0.85 | F16: =ROUND(E16*C$2+C$3,1) | G16: =ROUND(E16*C$2+C$4,1) | L16: 1.1 | M16: =ROUND(L16*J$2+J$3,1) | N16: =ROUND(L16*J$2+J$4,1) | O16: =ROUND(L16*J$2+J$5,1) | P16: =SUM(L16*J$2)+J$6 | Q16: =ROUND(L16*J$2+J$7,1) | R16: =ROUND(L16*J$2+J$8,1) | S16: =ROUND(L16*J$2+J$9,1)
E17: 0.9 | F17: =ROUND(E17*C$2+C$3,1) | G17: =ROUND(E17*C$2+C$4,1) | L17: 1.2 | M17: =ROUND(L17*J$2+J$3,1) | N17: =ROUND(L17*J$2+J$4,1) | O17: =ROUND(L17*J$2+J$5,1) | P17: =SUM(L17*J$2)+J$6 | Q17: =ROUND(L17*J$2+J$7,1) | R17: =ROUND(L17*J$2+J$8,1) | S17: =ROUND(L17*J$2+J$9,1)
E18: 0.95 | F18: =ROUND(E18*C$2+C$3,1) | G18: =ROUND(E18*C$2+C$4,1) | L18: 1.3 | M18: =ROUND(L18*J$2+J$3,1) | N18: =ROUND(L18*J$2+J$4,1) | O18: =ROUND(L18*J$2+J$5,1) | P18: =SUM(L18*J$2)+J$6 | Q18: =ROUND(L18*J$2+J$7,1) | R18: =ROUND(L18*J$2+J$8,1) | S18: =ROUND(L18*J$2+J$9,1)
E19: 1 | F19: =ROUND(E19*C$2+C$3,1) | G19: =ROUND(E19*C$2+C$4,1) | L19: 1.4 | M19: =ROUND(L19*J$2+J$3,1) | N19: =ROUND(L19*J$2+J$4,1) | O19: =ROUND(L19*J$2+J$5,1) | P19: =SUM(L19*J$2)+J$6 | Q19: =ROUND(L19*J$2+J$7,1) | R19: =ROUND(L19*J$2+J$8,1) | S19: =ROUND(L19*J$2+J$9,1)
L20: 1.5 | M20: =ROUND(L20*J$2+J$3,1) | N20: =ROUND(L20*J$2+J$4,1) | O20: =ROUND(L20*J$2+J$5,1) | P20: =SUM(L20*J$2)+J$6 | Q20: =ROUND(L20*J$2+J$7,1) | R20: =ROUND(L20*J$2+J$8,1) | S20: =ROUND(L20*J$2+J$9,1)
L21: 1.6 | M21: =ROUND(L21*J$2+J$3,1) | N21: =ROUND(L21*J$2+J$4,1) | O21: =ROUND(L21*J$2+J$5,1) | P21: =SUM(L21*J$2)+J$6 | Q21: =ROUND(L21*J$2+J$7,1) | R21: =ROUND(L21*J$2+J$8,1) | S21: =ROUND(L21*J$2+J$9,1)
L22: 1.7 | M22: =ROUND(L22*J$2+J$3,1) | N22: =ROUND(L22*J$2+J$4,1) | O22: =ROUND(L22*J$2+J$5,1) | P22: =SUM(L22*J$2)+J$6 | Q22: =ROUND(L22*J$2+J$7,1) | R22: =ROUND(L22*J$2+J$8,1) | S22: =ROUND(L22*J$2+J$9,1)
L23: 1.8 | M23: =ROUND(L23*J$2+J$3,1) | N23: =ROUND(L23*J$2+J$4,1) | O23: =ROUND(L23*J$2+J$5,1) | P23: =SUM(L23*J$2)+J$6 | Q23: =ROUND(L23*J$2+J$7,1) | R23: =ROUND(L23*J$2+J$8,1) | S23: =ROUND(L23*J$2+J$9,1)
L24: 1.9 | M24: =ROUND(L24*J$2+J$3,1) | N24: =ROUND(L24*J$2+J$4,1) | O24: =ROUND(L24*J$2+J$5,1) | P24: =SUM(L24*J$2)+J$6 | Q24: =ROUND(L24*J$2+J$7,1) | R24: =ROUND(L24*J$2+J$8,1) | S24: =ROUND(L24*J$2+J$9,1)
L25: 2 | M25: =ROUND(L25*J$2+J$3,1) | N25: =ROUND(L25*J$2+J$4,1) | O25: =ROUND(L25*J$2+J$5,1) | P25: =SUM(L25*J$2)+J$6 | Q25: =ROUND(L25*J$2+J$7,1) | R25: =ROUND(L25*J$2+J$8,1) | S25: =ROUND(L25*J$2+J$9,1)
A28: lower range | B28: upper range | C28: Channel | D28: A | E28: B | F28: C | G28: D | H28: E | I28: Tape Specifiction | J28: Product Code
E29: [Person_1]
K30: Solid | L30: Corrugate
A31: 1.2 | B31: 1.6 | C31: 1.2 - 1.6 | D31: 1.9 - 2.3 | E31: 0.7 | F31: 0.5 | G31: 0.3 | H31: 12 | I31: Normal | J31: SRB1-ABSNL | K31: =OR(AND(Example!L$5>=A31,Example!L$5<=B31,Example!L$4=E31),AND(Example!M$4>=A31,Example!K$5<=B31,Example!M$4=E36))
A32: 1.2 | B32: 1.6 | C32: 1.2 - 1.6 | D32: 1.9 - 2.3 | E32: 0.7 | F32: 0.5 | G32: 0.3 | H32: 12 | I32: Strong | J32: SBSR1-ABSNL | K32: =OR(AND(Example!L$5>=A32,Example!L$5<=B32,Example!L$4=E32),AND(Example!M$4>=A32,Example!K$5<=B32,Example!M$4=E36))
A33: 1.3 | B33: 1.3 | C33: 1.3 | D33: 2 | E33: 0.7 | F33: 0.7 | G33: 0.6 | H33: 8 | I33: Normal | J33: SRBZ | K33: =OR(AND(Example!L$5>=A33,Example!L$5<=B33,Example!L$4=E33),AND(Example!M$4>=A33,Example!K$5<=B33,Example!M$4=E33))
A34: 1.7 | B34: 2.3 | C34: 1.7 - 2.3 | D34: 2.4 - 3.0 | E34: 0.7 | F34: 0.5 | G34: 0.3 | H34: 12 | I34: Normal | J34: SRB1ML2 | K34: =OR(AND(Example!L$5>=A34,Example!L$5<=B34,Example!L$4=E34),AND(Example!M$4>=A34,Example!K$5<=B34,Example!M$4=E34))
A35: 1.8 | B35: 2.3 | C35: 1.8 - 2.3 | D35: 2.5 - 3.0 | E35: 0.7 | F35: 0.7 | G35: 0.4 | H35: 12 | I35: Normal | J35: XR-270-007 | K35: =OR(AND(Example!L$5>=A35,Example!L$5<=B35,Example!L$4=E35),AND(Example!M$4>=A35,Example!K$5<=B35,Example!M$4=E35))
A36: 1.7 | B36: 2.3 | C36: 1.7 - 2.3 | D36: 2.4 - 3.0 | E36: 0.8 | F36: 0.3 | G36: 0.3 | H36: 12 | I36: Normal | J36: SRBMLZ | K36: =OR(AND(Example!L$5>=A36,Example!L$5<=B36,Example!L$4=E36),AND(Example!M$4>=A36,Example!K$5<=B36,Example!M$4=E36))
A37: 1.8 | B37: 2.3 | C37: 1.8 - 2.3 | D37: 2.5 - 3.0 | E37: 0.8 | F37: 0.8 | G37: 0.4 | H37: 12 | I37: Normal | J37: XR-270-008 | K37: =OR(AND(Example!L$5>=A37,Example!L$5<=B37,Example!L$4=E37),AND(Example!M$4>=A37,Example!K$5<=B37,Example!M$4=E37))
K38: =OR(AND(Example!L$5>=A38,Example!L$5<=B38,Example!L$4=E38),AND(Example!M$4>=A38,Example!K$5<=B38,Example!M$4=E38))
A39: 2.7 | B39: 2.7 | C39: 2.7 | D39: 2.7 | E39: 1 | F39: 1.2 | G39: 0.3 | H39: 7 | I39: Normal | J39: SRBA/BABS | K39: =OR(AND(Example!L$5>=A39,Example!L$5<=B39,Example!L$4=E39),AND(Example!M$4>=A39,Example!K$5<=B39,Example!M$4=E39)) | L39: =OR(AND(Example!L$16>=A39,Example!L$16<=B39,Example!L$15=E39),AND(Example!M$16>=A39,Example!M$16<=B39,Example!M$15=E43),AND(Example!N$16>=A39,Example!N$16<=B39,Example!N$15=E44),AND(Example!O$16>=A39,Example!O$16<=B39,Example!K5=E45),AND(Example!P$16>=A39,Example!P$16<=B39,Example!P$15=E55),AND(Example!Q$16>=A39,Example!Q$16<=B39,Example!Q$15=E69),AND(Example!R$16>=A39,Example!R$16<=B39,Example!R$15=E71))
A40: 2.5 | B40: 3 | C40: 2.5 - 3.0 | D40: 2.5 - 3.0 | E40: 1 | F40: 1 | G40: 0.4 | H40: 12 | I40: Normal | J40: XR-270-010 | K40: =OR(AND(Example!L$5>=A40,Example!L$5<=B40,Example!L$4=E40),AND(Example!M$4>=A40,Example!K$5<=B40,Example!M$4=E40)) | L40: =OR(AND(Example!L$16>=A40,Example!L$16<=B40,Example!L$15=E40),AND(Example!M$16>=A40,Example!M$16<=B40,Example!M$15=E44),AND(Example!N$16>=A40,Example!N$16<=B40,Example!N$15=E45),AND(Example!O$16>=A40,Example!O$16<=B40,Example!K6=E46),AND(Example!P$16>=A40,Example!P$16<=B40,Example!P$15=E56),AND(Example!Q$16>=A40,Example!Q$16<=B40,Example!Q$15=E70),AND(Example!R$16>=A40,Example!R$16<=B40,Example!R$15=E72))
A41: 2.5 | B41: 3 | C41: 2.5 - 3.0 | D41: 2.5 - 3.0 | E41: 1 | F41: 0.7 | G41: 0.3 | H41: 12 | I41: Normal | J41: SRB2-ABSNL | K41: =OR(AND(Example!L$5>=A41,Example!L$5<=B41,Example!L$4=E41),AND(Example!M$4>=A41,Example!K$5<=B41,Example!M$4=E41)) | L41: =OR(AND(Example!L$16>=A41,Example!L$16<=B41,Example!L$15=E41),AND(Example!M$16>=A41,Example!M$16<=B41,Example!M$15=E45),AND(Example!N$16>=A41,Example!N$16<=B41,Example!N$15=E46),AND(Example!O$16>=A41,Example!O$16<=B41,Example!K7=E47),AND(Example!P$16>=A41,Example!P$16<=B41,Example!P$15=E57),AND(Example!Q$16>=A41,Example!Q$16<=B41,Example!Q$15=E71),AND(Example!R$16>=A41,Example!R$16<=B41,Example!R$15=E73))
A42: 2.5 | B42: 3 | C42: 2.5 - 3.0 | D42: 2.5 - 3.0 | E42: 1 | F42: 0.7 | G42: 0.3 | H42: 12 | I42: Strong | J42: SBSRB2-ABSNL | K42: =OR(AND(Example!L$5>=A42,Example!L$5<=B42,Example!L$4=E42),AND(Example!M$4>=A42,Example!K$5<=B42,Example!M$4=E42)) | L42: =OR(AND(Example!L$16>=A42,Example!L$16<=B42,Example!L$15=E42),AND(Example!M$16>=A42,Example!M$16<=B42,Example!M$15=E46),AND(Example!N$16>=A42,Example!N$16<=B42,Example!N$15=E47),AND(Example!O$16>=A42,Example!O$16<=B42,Example!K8=E48),AND(Example!P$16>=A42,Example!P$16<=B42,Example!P$15=E58),AND(Example!Q$16>=A42,Example!Q$16<=B42,Example!Q$15=E72),AND(Example!R$16>=A42,Example!R$16<=B42,Example!R$15=E74))
A43: 3.8 | B43: 4.3 | C43: 3.8 - 4.3 | D43: 3.8 - 4.3 | E43: 1.1 | F43: 1 | G43: 0.7 | H43: 12 | I43: Normal | J43: SRB7 | K43: =OR(AND(Example!L$5>=A43,Example!L$5<=B43,Example!L$4=E43),AND(Example!M$4>=A43,Example!K$5<=B43,Example!M$4=E43)) | L43: =OR(AND(Example!L$16>=A43,Example!L$16<=B43,Example!L$15=E43),AND(Example!M$16>=A43,Example!M$16<=B43,Example!M$15=E47),AND(Example!N$16>=A43,Example!N$16<=B43,Example!N$15=E48),AND(Example!O$16>=A43,Example!O$16<=B43,Example!K9=E49),AND(Example!P$16>=A43,Example!P$16<=B43,Example!P$15=E59),AND(Example!Q$16>=A43,Example!Q$16<=B43,Example!Q$15=E73),AND(Example!R$16>=A43,Example!R$16<=B43,Example!R$15=E75))
A44: 2.5 | B44: 3 | C44: 2.5 - 3.0 | D44: 2.5 - 3.0 | E44: 1.2 | F44: 0.8 | G44: 0.3 | H44: 12 | I44: Normal | J44: XR-270-012 | K44: =OR(AND(Example!L$5>=A44,Example!L$5<=B44,Example!L$4=E44),AND(Example!M$4>=A44,Example!K$5<=B44,Example!M$4=E44)) | L44: =OR(AND(Example!L$16>=A44,Example!L$16<=B44,Example!L$15=E44),AND(Example!M$16>=A44,Example!M$16<=B44,Example!M$15=E48),AND(Example!N$16>=A44,Example!N$16<=B44,Example!N$15=E49),AND(Example!O$16>=A44,Example!O$16<=B44,Example!K10=E50),AND(Example!P$16>=A44,Example!P$16<=B44,Example!P$15=E60),AND(Example!Q$16>=A44,Example!Q$16<=B44,Example!Q$15=E74),AND(Example!R$16>=A44,Example!R$16<=B44,Example!R$15=E76))
A45: 3.8 | B45: 4.3 | C45: 3.8 - 4.3 | D45: 3.8 - 4.3 | E45: 1.5 | F45: 0.9 | G45: 0.3 | H45: 12 | I45: Normal | J45: SRB3-ABSNL | K45: =OR(AND(Example!L$5>=A45,Example!L$5<=B45,Example!L$4=E45),AND(Example!M$4>=A45,Example!K$5<=B45,Example!M$4=E45)) | L45: =OR(AND(Example!L$16>=A45,Example!L$16<=B45,Example!L$15=E45),AND(Example!M$16>=A45,Example!M$16<=B45,Example!M$15=E49),AND(Example!N$16>=A45,Example!N$16<=B45,Example!N$15=E50),AND(Example!O$16>=A45,Example!O$16<=B45,Example!K11=E51),AND(Example!P$16>=A45,Example!P$16<=B45,Example!P$15=E61),AND(Example!Q$16>=A45,Example!Q$16<=B45,Example!Q$15=E75),AND(Example!R$16>=A45,Example!R$16<=B45,Example!R$15=E77))
A46: 3.8 | B46: 4.3 | C46: 3.8 - 4.3 | D46: 3.8 - 4.3 | E46: 1.5 | F46: 0.9 | G46: 0.3 | H46: 12 | I46: Strong | J46: SBSRB3-ABSNL | K46: =OR(AND(Example!L$5>=A46,Example!L$5<=B46,Example!L$4=E46),AND(Example!M$4>=A46,Example!K$5<=B46,Example!M$4=E46)) | L46: =OR(AND(Example!L$16>=A46,Example!L$16<=B46,Example!L$15=E46),AND(Example!M$16>=A46,Example!M$16<=B46,Example!M$15=E50),AND(Example!N$16>=A46,Example!N$16<=B46,Example!N$15=E51),AND(Example!O$16>=A46,Example!O$16<=B46,Example!K12=E52),AND(Example!P$16>=A46,Example!P$16<=B46,Example!P$15=E62),AND(Example!Q$16>=A46,Example!Q$16<=B46,Example!Q$15=E76),AND(Example!R$16>=A46,Example!R$16<=B46,Example!R$15=E78))
A47: 3.8 | B47: 4.3 | C47: 3.8 - 4.3 | D47: 3.8 - 4.3 | E47: 1.5 | F47: 1.4 | G47: 0.2 | H47: 12 | I47: Normal | J47: SRBC | K47: =OR(AND(Example!L$5>=A47,Example!L$5<=B47,Example!L$4=E47),AND(Example!M$4>=A47,Example!K$5<=B47,Example!M$4=E47)) | L47: =OR(AND(Example!L$16>=A47,Example!L$16<=B47,Example!L$15=E47),AND(Example!M$16>=A47,Example!M$16<=B47,Example!M$15=E51),AND(Example!N$16>=A47,Example!N$16<=B47,Example!N$15=E52),AND(Example!O$16>=A47,Example!O$16<=B47,Example!K13=E53),AND(Example!P$16>=A47,Example!P$16<=B47,Example!P$15=E63),AND(Example!Q$16>=A47,Example!Q$16<=B47,Example!Q$15=E77),AND(Example!R$16>=A47,Example!R$16<=B47,Example!R$15=E79))
A48: 3.8 | B48: 4.3 | C48: 3.8 - 4.3 | D48: 3.8 - 4.3 | E48: 1.5 | F48: 1.4 | G48: 0.2 | H48: 12 | I48: Strong | J48: SBSRBC | K48: =OR(AND(Example!L$5>=A48,Example!L$5<=B48,Example!L$4=E48),AND(Example!M$4>=A48,Example!K$5<=B48,Example!M$4=E48)) | L48: =OR(AND(Example!L$16>=A48,Example!L$16<=B48,Example!L$15=E48),AND(Example!M$16>=A48,Example!M$16<=B48,Example!M$15=E52),AND(Example!N$16>=A48,Example!N$16<=B48,Example!N$15=E53),AND(Example!O$16>=A48,Example!O$16<=B48,Example!K14=E54),AND(Example!P$16>=A48,Example!P$16<=B48,Example!P$15=E64),AND(Example!Q$16>=A48,Example!Q$16<=B48,Example!Q$15=E78),AND(Example!R$16>=A48,Example!R$16<=B48,Example!R$15=E80))
A49: 4.9 | B49: 5.3 | C49: 4.9 - 5.3 | D49: 4.9 - 5.3 | E49: 1.5 | F49: 1.5 | G49: 0.3 | H49: 12 | I49: Normal | J49: SRBF | K49: =OR(AND(Example!L$5>=A49,Example!L$5<=B49,Example!L$4=E49),AND(Example!M$4>=A49,Example!K$5<=B49,Example!M$4=E49)) | L49: =OR(AND(Example!L$16>=A49,Example!L$16<=B49,Example!L$15=E49),AND(Example!M$16>=A49,Example!M$16<=B49,Example!M$15=E53),AND(Example!N$16>=A49,Example!N$16<=B49,Example!N$15=E54),AND(Example!O$16>=A49,Example!O$16<=B49,Example!K15=E55),AND(Example!P$16>=A49,Example!P$16<=B49,Example!P$15=E65),AND(Example!Q$16>=A49,Example!Q$16<=B49,Example!Q$15=E79),AND(Example!R$16>=A49,Example!R$16<=B49,Example!R$15=E81))
A50: 4.9 | B50: 5.3 | C50: 4.9 - 5.3 | D50: 4.9 - 5.3 | E50: 1.5 | F50: 1.5 | G50: 0.3 | H50: 12 | I50: Strong | J50: SBSRBF | K50: =OR(AND(Example!L$5>=A50,Example!L$5<=B50,Example!L$4=E50),AND(Example!M$4>=A50,Example!K$5<=B50,Example!M$4=E50)) | L50: =OR(AND(Example!L$16>=A50,Example!L$16<=B50,Example!L$15=E50),AND(Example!M$16>=A50,Example!M$16<=B50,Example!M$15=E54),AND(Example!N$16>=A50,Example!N$16<=B50,Example!N$15=E55),AND(Example!O$16>=A50,Example!O$16<=B50,Example!K16=E56),AND(Example!P$16>=A50,Example!P$16<=B50,Example!P$15=E66),AND(Example!Q$16>=A50,Example!Q$16<=B50,Example!Q$15=E80),AND(Example!R$16>=A50,Example!R$16<=B50,Example!R$15=E82))
A51: 4.9 | B51: 5.3 | C51: 4.9 - 5.3 | D51: 4.9 - 5.3 | E51: 1.5 | F51: 1.5 | G51: 0.7 | H51: 12 | I51: Normal | J51: SRBG | K51: =OR(AND(Example!L$5>=A51,Example!L$5<=B51,Example!L$4=E51),AND(Example!M$4>=A51,Example!K$5<=B51,Example!M$4=E51)) | L51: =OR(AND(Example!L$16>=A51,Example!L$16<=B51,Example!L$15=E51),AND(Example!M$16>=A51,Example!M$16<=B51,Example!M$15=E55),AND(Example!N$16>=A51,Example!N$16<=B51,Example!N$15=E56),AND(Example!O$16>=A51,Example!O$16<=B51,Example!K17=E57),AND(Example!P$16>=A51,Example!P$16<=B51,Example!P$15=E67),AND(Example!Q$16>=A51,Example!Q$16<=B51,Example!Q$15=E81),AND(Example!R$16>=A51,Example!R$16<=B51,Example!R$15=E83))
... A75: 5.7 | B75: 6.3 | C75: 5.7 - 6.3 | D75: 5.7 - 6.3 | E75: 3 | F75: 1.8 | G75: 0.3 | H75: 12 | I75: Strong | J75: SBSRB6-ABSNL | K75: =OR(AND(Example!L$5>=A75,Example!L$5<=B75,Example!L$4=E75),AND(Example!M$4>=A75,Example!K$5<=B75,Example!M$4=E75)) | L75: =OR(AND(Example!L$16>=A75,Example!L$16<=B75,Example!L$15=E75),AND(Example!M$16>=A75,Example!M$16<=B75,Example!M$15=E79),AND(Example!N$16>=A75,Example!N$16<=B75,Example!N$15=E80),AND(Example!O$16>=A75,Example!O$16<=B75,Example!K41=E81),AND(Example!P$16>=A75,Example!P$16<=B75,Example!P$15=E91),AND(Example!Q$16>=A75,Example!Q$16<=B75,Example!Q$15=E105),AND(Example!R$16>=A75,Example!R$16<=B75,Example!R$15=E107))
