Workbook

Sheet 7 Day Plan
A1: 44316 | E1: 44317 | I1: 44318 | M1: 44319
A2: Friday | E2: Saturday | I2: Sunday | M2: Monday
A4: =IFERROR(INDEX(INDIRECT(_xlfn.CONCAT("Exam!",SUBSTITUTE(ADDRESS(1,COLUMN(INDEX(Exam!$J$2:$BT$2,MATCH($A$1,Exam!$J$2:$BT$2,0))),4),1,""),"3:",SUBSTITUTE(ADDRESS(1,COLUMN(INDEX(Exam!$J$2:$BT$2,MATCH($A$1,Exam!$J$2:$BT$2,0))),4),1,""),(COUNTA(INDIRECT(_xlfn.CONCAT("Exam!",SUBSTITUTE(ADDRESS(1,COLUMN(INDEX(Exam!$J$2:$BT$2,MATCH($A$1,Exam!$J$2:$BT$2,0))),4),1,""),"3:",SUBSTITUTE(ADDRESS(1,COLUMN(INDEX(Exam!$J$2:$BT$2,MATCH($A$1,Exam!$J$2:$BT$2,0))),4),1,""),"13")))-1)+3)),1),"") | B4: =IFERROR(INDEX(INDIRECT(_xlfn.CONCAT("Exam!",SUBSTITUTE(ADDRESS(1,COLUMN(INDEX(Exam!$J$2:$BT$2,MATCH($A$1,Exam!$J$2:$BT$2,0))),4),1,""),"3:",SUBSTITUTE(ADDRESS(1,COLUMN(INDEX(Exam!$J$2:$BT$2,MATCH($A$1,Exam!$J$2:$BT$2,0))),4),1,""),(COUNTA(INDIRECT(_xlfn.CONCAT("Exam!",SUBSTITUTE(ADDRESS(1,COLUMN(INDEX(Exam!$J$2:$BT$2,MATCH($A$1,Exam!$J$2:$BT$2,0))),4),1,""),"3:",SUBSTITUTE(ADDRESS(1,COLUMN(INDEX(Exam!$J$2:$BT$2,MATCH($A$1,Exam!$J$2:$BT$2,0))),4),1,""),"13")))-1)+3)),2),"") | C4: =IFERROR(INDEX(INDIRECT(_xlfn.CONCAT("Exam!",SUBSTITUTE(ADDRESS(1,COLUMN(INDEX(Exam!$J$2:$BT$2,MATCH($A$1,Exam!$J$2:$BT$2,0))),4),1,""),"3:",SUBSTITUTE(ADDRESS(1,COLUMN(INDEX(Exam!$J$2:$BT$2,MATCH($A$1,Exam!$J$2:$BT$2,0))),4),1,""),(COUNTA(INDIRECT(_xlfn.CONCAT("Exam!",SUBSTITUTE(ADDRESS(1,COLUMN(INDEX(Exam!$J$2:$BT$2,MATCH($A$1,Exam!$J$2:$BT$2,0))),4),1,""),"3:",SUBSTITUTE(ADDRESS(1,COLUMN(INDEX(Exam!$J$2:$BT$2,MATCH($A$1,Exam!$J$2:$BT$2,0))),4),1,""),"13")))-1)+3)),3),"") | E4: =IFERROR(INDEX(INDIRECT(_xlfn.CONCAT("Exam!",SUBSTITUTE(ADDRESS(1,COLUMN(INDEX(Exam!$J$2:$BT$2,MATCH($E$1,Exam!$J$2:$BT$2,0))),4),1,""),"3:",SUBSTITUTE(ADDRESS(1,COLUMN(INDEX(Exam!$J$2:$BT$2,MATCH($E$1,Exam!$J$2:$BT$2,0))),4),1,""),(COUNTA(INDIRECT(_xlfn.CONCAT("Exam!",SUBSTITUTE(ADDRESS(1,COLUMN(INDEX(Exam!$J$2:$BT$2,MATCH($E$1,Exam!$J$2:$BT$2,0))),4),1,""),"3:",SUBSTITUTE(ADDRESS(1,COLUMN(INDEX(Exam!$J$2:$BT$2,MATCH($E$1,Exam!$J$2:$BT$2,0))),4),1,""),"13")))-1)+3)),1),"") | F4: =IFERROR(INDEX(INDIRECT(_xlfn.CONCAT("Exam!",SUBSTITUTE(ADDRESS(1,COLUMN(INDEX(Exam!$J$2:$BT$2,MATCH($E$1,Exam!$J$2:$BT$2,0))),4),1,""),"3:",SUBSTITUTE(ADDRESS(1,COLUMN(INDEX(Exam!$J$2:$BT$2,MATCH($E$1,Exam!$J$2:$BT$2,0))),4),1,""),(COUNTA(INDIRECT(_xlfn.CONCAT("Exam!",SUBSTITUTE(ADDRESS(1,COLUMN(INDEX(Exam!$J$2:$BT$2,MATCH($E$1,Exam!$J$2:$BT$2,0))),4),1,""),"3:",SUBSTITUTE(ADDRESS(1,COLUMN(INDEX(Exam!$J$2:$BT$2,MATCH($E$1,Exam!$J$2:$BT$2,0))),4),1,""),"13")))-1)+3)),2),"") | G4: =IFERROR(INDEX(INDIRECT(_xlfn.CONCAT("Exam!",SUBSTITUTE(ADDRESS(1,COLUMN(INDEX(Exam!$J$2:$BT$2,MATCH($E$1,Exam!$J$2:$BT$2,0))),4),1,""),"3:",SUBSTITUTE(ADDRESS(1,COLUMN(INDEX(Exam!$J$2:$BT$2,MATCH($E$1,Exam!$J$2:$BT$2,0))),4),1,""),(COUNTA(INDIRECT(_xlfn.CONCAT("Exam!",SUBSTITUTE(ADDRESS(1,COLUMN(INDEX(Exam!$J$2:$BT$2,MATCH($E$1,Exam!$J$2:$BT$2,0))),4),1,""),"3:",SUBSTITUTE(ADDRESS(1,COLUMN(INDEX(Exam!$J$2:$BT$2,MATCH($E$1,Exam!$J$2:$BT$2,0))),4),1,""),"13")))-1)+3)),3),"") | I4: =IFERROR(INDEX(INDIRECT(_xlfn.CONCAT("Exam!",SUBSTITUTE(ADDRESS(1,COLUMN(INDEX(Exam!$J$2:$BT$2,MATCH($I$1,Exam!$J$2:$BT$2,0))),4),1,""),"3:",SUBSTITUTE(ADDRESS(1,COLUMN(INDEX(Exam!$J$2:$BT$2,MATCH($I$1,Exam!$J$2:$BT$2,0))),4),1,""),(COUNTA(INDIRECT(_xlfn.CONCAT("Exam!",SUBSTITUTE(ADDRESS(1,COLUMN(INDEX(Exam!$J$2:$BT$2,MATCH($I$1,Exam!$J$2:$BT$2,0))),4),1,""),"3:",SUBSTITUTE(ADDRESS(1,COLUMN(INDEX(Exam!$J$2:$BT$2,MATCH($I$1,Exam!$J$2:$BT$2,0))),4),1,""),"13")))-1)+3)),1),"") | J4: =IFERROR(INDEX(INDIRECT(_xlfn.CONCAT("Exam!",SUBSTITUTE(ADDRESS(1,COLUMN(INDEX(Exam!$J$2:$BT$2,MATCH($I$1,Exam!$J$2:$BT$2,0))),4),1,""),"3:",SUBSTITUTE(ADDRESS(1,COLUMN(INDEX(Exam!$J$2:$BT$2,MATCH($I$1,Exam!$J$2:$BT$2,0))),4),1,""),(COUNTA(INDIRECT(_xlfn.CONCAT("Exam!",SUBSTITUTE(ADDRESS(1,COLUMN(INDEX(Exam!$J$2:$BT$2,MATCH($I$1,Exam!$J$2:$BT$2,0))),4),1,""),"3:",SUBSTITUTE(ADDRESS(1,COLUMN(INDEX(Exam!$J$2:$BT$2,MATCH($I$1,Exam!$J$2:$BT$2,0))),4),1,""),"13")))-1)+3)),2),"") | K4: =IFERROR(INDEX(INDIRECT(_xlfn.CONCAT("Exam!",SUBSTITUTE(ADDRESS(1,COLUMN(INDEX(Exam!$J$2:$BT$2,MATCH($I$1,Exam!$J$2:$BT$2,0))),4),1,""),"3:",SUBSTITUTE(ADDRESS(1,COLUMN(INDEX(Exam!$J$2:$BT$2,MATCH($I$1,Exam!$J$2:$BT$2,0))),4),1,""),(COUNTA(INDIRECT(_xlfn.CONCAT("Exam!",SUBSTITUTE(ADDRESS(1,COLUMN(INDEX(Exam!$J$2:$BT$2,MATCH($I$1,Exam!$J$2:$BT$2,0))),4),1,""),"3:",SUBSTITUTE(ADDRESS(1,COLUMN(INDEX(Exam!$J$2:$BT$2,MATCH($I$1,Exam!$J$2:$BT$2,0))),4),1,""),"13")))-1)+3)),3),"") | M4: =IFERROR(INDEX(INDIRECT(_xlfn.CONCAT("Exam!",SUBSTITUTE(ADDRESS(1,COLUMN(INDEX(Exam!$J$2:$BT$2,MATCH($M$1,Exam!$J$2:$BT$2,0))),4),1,""),"3:",SUBSTITUTE(ADDRESS(1,COLUMN(INDEX(Exam!$J$2:$BT$2,MATCH($M$1,Exam!$J$2:$BT$2,0))),4),1,""),(COUNTA(INDIRECT(_xlfn.CONCAT("Exam!",SUBSTITUTE(ADDRESS(1,COLUMN(INDEX(Exam!$J$2:$BT$2,MATCH($M$1,Exam!$J$2:$BT$2,0))),4),1,""),"3:",SUBSTITUTE(ADDRESS(1,COLUMN(INDEX(Exam!$J$2:$BT$2,MATCH($M$1,Exam!$J$2:$BT$2,0))),4),1,""),"13")))-1)+3)),1),"") | N4: =IFERROR(INDEX(INDIRECT(_xlfn.CONCAT("Exam!",SUBSTITUTE(ADDRESS(1,COLUMN(INDEX(Exam!$J$2:$BT$2,MATCH($M$1,Exam!$J$2:$BT$2,0))),4),1,""),"3:",SUBSTITUTE(ADDRESS(1,COLUMN(INDEX(Exam!$J$2:$BT$2,MATCH($M$1,Exam!$J$2:$BT$2,0))),4),1,""),(COUNTA(INDIRECT(_xlfn.CONCAT("Exam!",SUBSTITUTE(ADDRESS(1,COLUMN(INDEX(Exam!$J$2:$BT$2,MATCH($M$1,Exam!$J$2:$BT$2,0))),4),1,""),"3:",SUBSTITUTE(ADDRESS(1,COLUMN(INDEX(Exam!$J$2:$BT$2,MATCH($M$1,Exam!$J$2:$BT$2,0))),4),1,""),"13")))-1)+3)),2),"") | O4: =IFERROR(INDEX(INDIRECT(_xlfn.CONCAT("Exam!",SUBSTITUTE(ADDRESS(1,COLUMN(INDEX(Exam!$J$2:$BT$2,MATCH($M$1,Exam!$J$2:$BT$2,0))),4),1,""),"3:",SUBSTITUTE(ADDRESS(1,COLUMN(INDEX(Exam!$J$2:$BT$2,MATCH($M$1,Exam!$J$2:$BT$2,0))),4),1,""),(COUNTA(INDIRECT(_xlfn.CONCAT("Exam!",SUBSTITUTE(ADDRESS(1,COLUMN(INDEX(Exam!$J$2:$BT$2,MATCH($M$1,Exam!$J$2:$BT$2,0))),4),1,""),"3:",SUBSTITUTE(ADDRESS(1,COLUMN(INDEX(Exam!$J$2:$BT$2,MATCH($M$1,Exam!$J$2:$BT$2,0))),4),1,""),"13")))-1)+3)),3),"")
A5: =IFERROR(INDEX(INDIRECT(_xlfn.CONCAT("Exam!",SUBSTITUTE(ADDRESS(1,COLUMN(INDEX(Exam!$J$2:$BT$2,MATCH($A$1,Exam!$J$2:$BT$2,0))),4),1,""),"3:",SUBSTITUTE(ADDRESS(1,COLUMN(INDEX(Exam!$J$2:$BT$2,MATCH($A$1,Exam!$J$2:$BT$2,0))),4),1,""),(COUNTA(INDIRECT(_xlfn.CONCAT("Exam!",SUBSTITUTE(ADDRESS(1,COLUMN(INDEX(Exam!$J$2:$BT$2,MATCH($A$1,Exam!$J$2:$BT$2,0))),4),1,""),"3:",SUBSTITUTE(ADDRESS(1,COLUMN(INDEX(Exam!$J$2:$BT$2,MATCH($A$1,Exam!$J$2:$BT$2,0))),4),1,""),"13")))-1)+3)),4),"") | B5: =IFERROR(INDEX(INDIRECT(_xlfn.CONCAT("Exam!",SUBSTITUTE(ADDRESS(1,COLUMN(INDEX(Exam!$J$2:$BT$2,MATCH($A$1,Exam!$J$2:$BT$2,0))),4),1,""),"3:",SUBSTITUTE(ADDRESS(1,COLUMN(INDEX(Exam!$J$2:$BT$2,MATCH($A$1,Exam!$J$2:$BT$2,0))),4),1,""),(COUNTA(INDIRECT(_xlfn.CONCAT("Exam!",SUBSTITUTE(ADDRESS(1,COLUMN(INDEX(Exam!$J$2:$BT$2,MATCH($A$1,Exam!$J$2:$BT$2,0))),4),1,""),"3:",SUBSTITUTE(ADDRESS(1,COLUMN(INDEX(Exam!$J$2:$BT$2,MATCH($A$1,Exam!$J$2:$BT$2,0))),4),1,""),"13")))-1)+3)),5),"") | C5: =IFERROR(INDEX(INDIRECT(_xlfn.CONCAT("Exam!",SUBSTITUTE(ADDRESS(1,COLUMN(INDEX(Exam!$J$2:$BT$2,MATCH($A$1,Exam!$J$2:$BT$2,0))),4),1,""),"3:",SUBSTITUTE(ADDRESS(1,COLUMN(INDEX(Exam!$J$2:$BT$2,MATCH($A$1,Exam!$J$2:$BT$2,0))),4),1,""),(COUNTA(INDIRECT(_xlfn.CONCAT("Exam!",SUBSTITUTE(ADDRESS(1,COLUMN(INDEX(Exam!$J$2:$BT$2,MATCH($A$1,Exam!$J$2:$BT$2,0))),4),1,""),"3:",SUBSTITUTE(ADDRESS(1,COLUMN(INDEX(Exam!$J$2:$BT$2,MATCH($A$1,Exam!$J$2:$BT$2,0))),4),1,""),"13")))-1)+3)),6),"") | E5: =IFERROR(INDEX(INDIRECT(_xlfn.CONCAT("Exam!",SUBSTITUTE(ADDRESS(1,COLUMN(INDEX(Exam!$J$2:$BT$2,MATCH($E$1,Exam!$J$2:$BT$2,0))),4),1,""),"3:",SUBSTITUTE(ADDRESS(1,COLUMN(INDEX(Exam!$J$2:$BT$2,MATCH($E$1,Exam!$J$2:$BT$2,0))),4),1,""),(COUNTA(INDIRECT(_xlfn.CONCAT("Exam!",SUBSTITUTE(ADDRESS(1,COLUMN(INDEX(Exam!$J$2:$BT$2,MATCH($E$1,Exam!$J$2:$BT$2,0))),4),1,""),"3:",SUBSTITUTE(ADDRESS(1,COLUMN(INDEX(Exam!$J$2:$BT$2,MATCH($E$1,Exam!$J$2:$BT$2,0))),4),1,""),"13")))-1)+3)),4),"") | F5: =IFERROR(INDEX(INDIRECT(_xlfn.CONCAT("Exam!",SUBSTITUTE(ADDRESS(1,COLUMN(INDEX(Exam!$J$2:$BT$2,MATCH($E$1,Exam!$J$2:$BT$2,0))),4),1,""),"3:",SUBSTITUTE(ADDRESS(1,COLUMN(INDEX(Exam!$J$2:$BT$2,MATCH($E$1,Exam!$J$2:$BT$2,0))),4),1,""),(COUNTA(INDIRECT(_xlfn.CONCAT("Exam!",SUBSTITUTE(ADDRESS(1,COLUMN(INDEX(Exam!$J$2:$BT$2,MATCH($E$1,Exam!$J$2:$BT$2,0))),4),1,""),"3:",SUBSTITUTE(ADDRESS(1,COLUMN(INDEX(Exam!$J$2:$BT$2,MATCH($E$1,Exam!$J$2:$BT$2,0))),4),1,""),"13")))-1)+3)),5),"") | G5: =IFERROR(INDEX(INDIRECT(_xlfn.CONCAT("Exam!",SUBSTITUTE(ADDRESS(1,COLUMN(INDEX(Exam!$J$2:$BT$2,MATCH($E$1,Exam!$J$2:$BT$2,0))),4),1,""),"3:",SUBSTITUTE(ADDRESS(1,COLUMN(INDEX(Exam!$J$2:$BT$2,MATCH($E$1,Exam!$J$2:$BT$2,0))),4),1,""),(COUNTA(INDIRECT(_xlfn.CONCAT("Exam!",SUBSTITUTE(ADDRESS(1,COLUMN(INDEX(Exam!$J$2:$BT$2,MATCH($E$1,Exam!$J$2:$BT$2,0))),4),1,""),"3:",SUBSTITUTE(ADDRESS(1,COLUMN(INDEX(Exam!$J$2:$BT$2,MATCH($E$1,Exam!$J$2:$BT$2,0))),4),1,""),"13")))-1)+3)),6),"") | I5: =IFERROR(INDEX(INDIRECT(_xlfn.CONCAT("Exam!",SUBSTITUTE(ADDRESS(1,COLUMN(INDEX(Exam!$J$2:$BT$2,MATCH($I$1,Exam!$J$2:$BT$2,0))),4),1,""),"3:",SUBSTITUTE(ADDRESS(1,COLUMN(INDEX(Exam!$J$2:$BT$2,MATCH($I$1,Exam!$J$2:$BT$2,0))),4),1,""),(COUNTA(INDIRECT(_xlfn.CONCAT("Exam!",SUBSTITUTE(ADDRESS(1,COLUMN(INDEX(Exam!$J$2:$BT$2,MATCH($I$1,Exam!$J$2:$BT$2,0))),4),1,""),"3:",SUBSTITUTE(ADDRESS(1,COLUMN(INDEX(Exam!$J$2:$BT$2,MATCH($I$1,Exam!$J$2:$BT$2,0))),4),1,""),"13")))-1)+3)),4),"") | J5: =IFERROR(INDEX(INDIRECT(_xlfn.CONCAT("Exam!",SUBSTITUTE(ADDRESS(1,COLUMN(INDEX(Exam!$J$2:$BT$2,MATCH($I$1,Exam!$J$2:$BT$2,0))),4),1,""),"3:",SUBSTITUTE(ADDRESS(1,COLUMN(INDEX(Exam!$J$2:$BT$2,MATCH($I$1,Exam!$J$2:$BT$2,0))),4),1,""),(COUNTA(INDIRECT(_xlfn.CONCAT("Exam!",SUBSTITUTE(ADDRESS(1,COLUMN(INDEX(Exam!$J$2:$BT$2,MATCH($I$1,Exam!$J$2:$BT$2,0))),4),1,""),"3:",SUBSTITUTE(ADDRESS(1,COLUMN(INDEX(Exam!$J$2:$BT$2,MATCH($I$1,Exam!$J$2:$BT$2,0))),4),1,""),"13")))-1)+3)),5),"") | K5: =IFERROR(INDEX(INDIRECT(_xlfn.CONCAT("Exam!",SUBSTITUTE(ADDRESS(1,COLUMN(INDEX(Exam!$J$2:$BT$2,MATCH($I$1,Exam!$J$2:$BT$2,0))),4),1,""),"3:",SUBSTITUTE(ADDRESS(1,COLUMN(INDEX(Exam!$J$2:$BT$2,MATCH($I$1,Exam!$J$2:$BT$2,0))),4),1,""),(COUNTA(INDIRECT(_xlfn.CONCAT("Exam!",SUBSTITUTE(ADDRESS(1,COLUMN(INDEX(Exam!$J$2:$BT$2,MATCH($I$1,Exam!$J$2:$BT$2,0))),4),1,""),"3:",SUBSTITUTE(ADDRESS(1,COLUMN(INDEX(Exam!$J$2:$BT$2,MATCH($I$1,Exam!$J$2:$BT$2,0))),4),1,""),"13")))-1)+3)),6),"") | M5: =IFERROR(INDEX(INDIRECT(_xlfn.CONCAT("Exam!",SUBSTITUTE(ADDRESS(1,COLUMN(INDEX(Exam!$J$2:$BT$2,MATCH($M$1,Exam!$J$2:$BT$2,0))),4),1,""),"3:",SUBSTITUTE(ADDRESS(1,COLUMN(INDEX(Exam!$J$2:$BT$2,MATCH($M$1,Exam!$J$2:$BT$2,0))),4),1,""),(COUNTA(INDIRECT(_xlfn.CONCAT("Exam!",SUBSTITUTE(ADDRESS(1,COLUMN(INDEX(Exam!$J$2:$BT$2,MATCH($M$1,Exam!$J$2:$BT$2,0))),4),1,""),"3:",SUBSTITUTE(ADDRESS(1,COLUMN(INDEX(Exam!$J$2:$BT$2,MATCH($M$1,Exam!$J$2:$BT$2,0))),4),1,""),"13")))-1)+3)),4),"") | N5: =IFERROR(INDEX(INDIRECT(_xlfn.CONCAT("Exam!",SUBSTITUTE(ADDRESS(1,COLUMN(INDEX(Exam!$J$2:$BT$2,MATCH($M$1,Exam!$J$2:$BT$2,0))),4),1,""),"3:",SUBSTITUTE(ADDRESS(1,COLUMN(INDEX(Exam!$J$2:$BT$2,MATCH($M$1,Exam!$J$2:$BT$2,0))),4),1,""),(COUNTA(INDIRECT(_xlfn.CONCAT("Exam!",SUBSTITUTE(ADDRESS(1,COLUMN(INDEX(Exam!$J$2:$BT$2,MATCH($M$1,Exam!$J$2:$BT$2,0))),4),1,""),"3:",SUBSTITUTE(ADDRESS(1,COLUMN(INDEX(Exam!$J$2:$BT$2,MATCH($M$1,Exam!$J$2:$BT$2,0))),4),1,""),"13")))-1)+3)),5),"") | O5: =IFERROR(INDEX(INDIRECT(_xlfn.CONCAT("Exam!",SUBSTITUTE(ADDRESS(1,COLUMN(INDEX(Exam!$J$2:$BT$2,MATCH($M$1,Exam!$J$2:$BT$2,0))),4),1,""),"3:",SUBSTITUTE(ADDRESS(1,COLUMN(INDEX(Exam!$J$2:$BT$2,MATCH($M$1,Exam!$J$2:$BT$2,0))),4),1,""),(COUNTA(INDIRECT(_xlfn.CONCAT("Exam!",SUBSTITUTE(ADDRESS(1,COLUMN(INDEX(Exam!$J$2:$BT$2,MATCH($M$1,Exam!$J$2:$BT$2,0))),4),1,""),"3:",SUBSTITUTE(ADDRESS(1,COLUMN(INDEX(Exam!$J$2:$BT$2,MATCH($M$1,Exam!$J$2:$BT$2,0))),4),1,""),"13")))-1)+3)),6),"")
I8: =COLUMN(INDEX(Exam!$J$2:$BT$2,MATCH($I$1,Exam!$J$2:$BT$2,0))) | J8: Column
I9: =ADDRESS(1,COLUMN(INDEX(Exam!$J$2:$BT$2,MATCH($I$1,Exam!$J$2:$BT$2,0)))) | J9: Letter
I10: =COUNTA(Exam!L3:L13) | J10: Value Count
I11: =SUBSTITUTE(ADDRESS(1,COLUMN(INDEX(Exam!J2:BT2,MATCH($I$1,Exam!J2:BT2,0))),4),1,"") | J11: Letter
I12: =_xlfn.CONCAT("Exam!",I11,"3:",I11,(I10-1)+3) | J12: Value Range
I13: =IFERROR(INDEX(INDIRECT(I12),1),"") | J13: Values

Sheet Exam
B1: Friday | C1: Saturday | D1: Sunday | E1: Monday | J1: Friday | K1: Saturday | L1: Sunday | M1: Monday | N1: Tuesday | O1: Wednesday | P1: Thursday | Q1: Friday | R1: Saturday | S1: Sunday | T1: Monday | U1: Tuesday | V1: Wednesday | W1: Thursday | X1: Friday | Y1: Saturday | Z1: Sunday | AA1: Monday | AB1: Tuesday | AC1: Wednesday | AD1: Thursday | AE1: Friday | AF1: Saturday | AG1: Sunday | AH1: Monday | AI1: Tuesday | AJ1: Wednesday | AK1: Thursday | AL1: Friday | AM1: Saturday | AN1: Sunday | AO1: Monday | AP1: Tuesday | AQ1: Wednesday | AR1: Thursday | AS1: Friday | AT1: Saturday | AU1: Sunday | AV1: Monday | AW1: Tuesday | AX1: Wednesday | AY1: Thursday | AZ1: Friday | BA1: Saturday | BB1: Sunday | BC1: Monday | BD1: Tuesday | BE1: Wednesday | BF1: Thursday | BG1: Friday | BH1: Saturday | BI1: Sunday | BJ1: Monday | BK1: Tuesday | BL1: Wednesday | BM1: Thursday | BN1: Friday | BO1: Saturday | BP1: Sunday | BQ1: Monday | BR1: Tuesday | BS1: Wednesday | BT1: Thursday
B2: 44316 | C2: 44317 | D2: 44318 | E2: 44319 | J2: 44316 | K2: 44317 | L2: 44318 | M2: 44319 | N2: 44320 | O2: 44321 | P2: 44322 | Q2: 44323 | R2: 44324 | S2: 44325 | T2: 44326 | U2: 44327 | V2: 44328 | W2: 44329 | X2: 44330 | Y2: 44331 | Z2: 44332 | AA2: 44333 | AB2: 44334 | AC2: 44335 | AD2: 44336 | AE2: 44337 | AF2: 44338 | AG2: 44339 | AH2: 44340 | AI2: 44341 | AJ2: 44342 | AK2: 44343 | AL2: 44344 | AM2: 44345 | AN2: 44346 | AO2: 44347 | AP2: 44348 | AQ2: 44349 | AR2: 44350 | AS2: 44351 | AT2: 44352 | AU2: 44353 | AV2: 44354 | AW2: 44355 | AX2: 44356 | AY2: 44357 | AZ2: 44358 | BA2: 44359 | BB2: 44360 | BC2: 44361 | BD2: 44362 | BE2: 44363 | BF2: 44364 | BG2: 44365 | BH2: 44366 | BI2: 44367 | BJ2: 44368 | BK2: 44369 | BL2: 44370 | BM2: 44371 | BN2: 44372 | BO2: 44373 | BP2: 44374 | BQ2: 44375 | BR2: 44376 | BS2: 44377 | BT2: 44378
B3: 350111 | C3: 350233 | D3: 350124 | E3: 350246 | J3: 350111 | K3: 350233 | L3: 350124 | M3: 350246 | N3: 350266 | O3: 350107 | P3: 350104 | Q3: 350249 | R3: 350110 | S3: 350251 | T3: 350121 | U3: 350102 | V3: 350112 | W3: 350257 | X3: 350115 | Y3: 350404 | Z3: 319215 | AA3: 350236 | AB3: 350129 | AC3: 350247 | AD3: 319433 | AE3: 350122 | AF3: 350240 | AG3: 350101 | AH3: 319429 | AI3: 350237 | AJ3: 350239 | AK3: 350403 | AL3: 350241 | AM3: 350267 | AN3: 319218 | AO3: 350402 | AP3: 350114 | AQ3: 350264 | AR3: 350408 | AS3: 350105 | AT3: 319214 | AU3: 350127 | AV3: 350259 | AW3: 319460 | AX3: 350371 | AY3: 319441 | AZ3: 350260 | BA3: 319216 | BB3: 350265 | BC3: 350130 | BD3: 319220 | BE3: 350243 | BF3: 350377 | BG3: 350120 | BH3: 319457 | BI3: 350117 | BJ3: 350113 | BK3: 350376 | BL3: 319013 | BM3: 350119 | BN3: 350244 | BO3: 350118 | BP3: 319217 | BQ3: 350109 | BR3: 350248 | BS3: 350262
B4: 350116 | E4: 350369 | J4: 350116 | M4: 350369 | N4: 350103 | O4: 350234 | T4: 350406 | V4: 350375 | X4: 350242 | Z4: 350108 | AA4: 350407 | AB4: 350255 | AC4: 350370 | AD4: 350106 | AE4: 350232 | AG4: 350238 | AH4: 350126 | AJ4: 350258 | AN4: 350253 | AT4: 350128 | AW4: 350123 | AX4: 350374 | AY4: 350409 | AZ4: 350372 | BA4: 350250 | BB4: 350405 | BC4: 350401 | BD4: 350245 | BE4: 350368 | BG4: 350261 | BH4: 350256 | BI4: 350235 | BJ4: 350125 | BL4: 350231 | BM4: 350263 | BO4: 350373 | BP4: 350252 | BQ4: 350410
B5: 350254 | J5: 350254
J16: =COLUMN(INDEX(J2:BT2,MATCH(D17,J2:BT2,0))) | K16: Founded in Column number
D17: 44316 | J17: =ADDRESS(1,COLUMN(INDEX(J2:BT2,MATCH(D17,J2:BT2,0)))) | K17: Column
J18: =COUNTA(INDIRECT(_xlfn.CONCAT(SUBSTITUTE(ADDRESS(1,COLUMN(INDEX(J2:BT2,MATCH(D17,J2:BT2,0))),4),1,""),"3:",SUBSTITUTE(ADDRESS(1,COLUMN(INDEX(J2:BT2,MATCH(D17,J2:BT2,0))),4),1,""),"13"))) | K18: Count of Values
D19: =IFERROR(INDEX(INDIRECT(_xlfn.CONCAT(SUBSTITUTE(ADDRESS(1,COLUMN(INDEX($J$2:$BT$2,MATCH($D$17,$J$2:$BT$2,0))),4),1,""),"3:",SUBSTITUTE(ADDRESS(1,COLUMN(INDEX($J$2:$BT$2,MATCH($D$17,$J$2:$BT$2,0))),4),1,""),(COUNTA(INDIRECT(_xlfn.CONCAT(SUBSTITUTE(ADDRESS(1,COLUMN(INDEX($J$2:$BT$2,MATCH($D$17,$J$2:$BT$2,0))),4),1,""),"3:",SUBSTITUTE(ADDRESS(1,COLUMN(INDEX($J$2:$BT$2,MATCH($D$17,$J$2:$BT$2,0))),4),1,""),"13")))-1)+3)),1),"") | J19: =_xlfn.CONCAT(SUBSTITUTE(ADDRESS(1,COLUMN(INDEX(J2:BT2,MATCH(D17,J2:BT2,0))),4),1,""),"3:",SUBSTITUTE(ADDRESS(1,COLUMN(INDEX(J2:BT2,MATCH(D17,J2:BT2,0))),4),1,""),(COUNTA(INDIRECT(_xlfn.CONCAT(SUBSTITUTE(ADDRESS(1,COLUMN(INDEX(J2:BT2,MATCH(D17,J2:BT2,0))),4),1,""),"3:",SUBSTITUTE(ADDRESS(1,COLUMN(INDEX(J2:BT2,MATCH(D17,J2:BT2,0))),4),1,""),"13")))-1)+3) | O19: =_xlfn.CONCAT(SUBSTITUTE(ADDRESS(1,COLUMN(INDEX(J2:BT2,MATCH(D17,J2:BT2,0))),4),1,""),"3:",SUBSTITUTE(ADDRESS(1,COLUMN(INDEX(J2:BT2,MATCH(D17,J2:BT2,0))),4),1,""),"13")
D20: =IFERROR(INDEX(INDIRECT(_xlfn.CONCAT(SUBSTITUTE(ADDRESS(1,COLUMN(INDEX($J$2:$BT$2,MATCH($D$17,$J$2:$BT$2,0))),4),1,""),"3:",SUBSTITUTE(ADDRESS(1,COLUMN(INDEX($J$2:$BT$2,MATCH($D$17,$J$2:$BT$2,0))),4),1,""),(COUNTA(INDIRECT(_xlfn.CONCAT(SUBSTITUTE(ADDRESS(1,COLUMN(INDEX($J$2:$BT$2,MATCH($D$17,$J$2:$BT$2,0))),4),1,""),"3:",SUBSTITUTE(ADDRESS(1,COLUMN(INDEX($J$2:$BT$2,MATCH($D$17,$J$2:$BT$2,0))),4),1,""),"13")))-1)+3)),2),"") | J20: =SUBSTITUTE(ADDRESS(1,COLUMN(INDEX(J2:BT2,MATCH(D17,J2:BT2,0))),4),1,"") | M20: =COUNTA(J3:J13) | Q20: =COUNTA(INDIRECT(_xlfn.CONCAT(SUBSTITUTE(ADDRESS(1,COLUMN(INDEX(J2:BT2,MATCH(D17,J2:BT2,0))),4),1,""),"3:",SUBSTITUTE(ADDRESS(1,COLUMN(INDEX(J2:BT2,MATCH(D17,J2:BT2,0))),4),1,""),"13")))
D21: =IFERROR(INDEX(INDIRECT(_xlfn.CONCAT(SUBSTITUTE(ADDRESS(1,COLUMN(INDEX($J$2:$BT$2,MATCH($D$17,$J$2:$BT$2,0))),4),1,""),"3:",SUBSTITUTE(ADDRESS(1,COLUMN(INDEX($J$2:$BT$2,MATCH($D$17,$J$2:$BT$2,0))),4),1,""),(COUNTA(INDIRECT(_xlfn.CONCAT(SUBSTITUTE(ADDRESS(1,COLUMN(INDEX($J$2:$BT$2,MATCH($D$17,$J$2:$BT$2,0))),4),1,""),"3:",SUBSTITUTE(ADDRESS(1,COLUMN(INDEX($J$2:$BT$2,MATCH($D$17,$J$2:$BT$2,0))),4),1,""),"13")))-1)+3)),3),"") | J21: =IFERROR(INDEX(INDIRECT($J$19),1),"") | O21: {=INDIRECT(_xlfn.CONCAT(SUBSTITUTE(ADDRESS(1,COLUMN(INDEX(J2:BT2,MATCH(D17,J2:BT2,0))),4),1,""),"3:",SUBSTITUTE(ADDRESS(1,COLUMN(INDEX(J2:BT2,MATCH(D17,J2:BT2,0))),4),1,""),"13"))} | Q21: =_xlfn.CONCAT(SUBSTITUTE(ADDRESS(1,COLUMN(INDEX(J2:BT2,MATCH(D17,J2:BT2,0))),4),1,""),"3:",SUBSTITUTE(ADDRESS(1,COLUMN(INDEX(J2:BT2,MATCH(D17,J2:BT2,0))),4),1,""),"13")
D22: =IFERROR(INDEX(INDIRECT(_xlfn.CONCAT(SUBSTITUTE(ADDRESS(1,COLUMN(INDEX($J$2:$BT$2,MATCH($D$17,$J$2:$BT$2,0))),4),1,""),"3:",SUBSTITUTE(ADDRESS(1,COLUMN(INDEX($J$2:$BT$2,MATCH($D$17,$J$2:$BT$2,0))),4),1,""),(COUNTA(INDIRECT(_xlfn.CONCAT(SUBSTITUTE(ADDRESS(1,COLUMN(INDEX($J$2:$BT$2,MATCH($D$17,$J$2:$BT$2,0))),4),1,""),"3:",SUBSTITUTE(ADDRESS(1,COLUMN(INDEX($J$2:$BT$2,MATCH($D$17,$J$2:$BT$2,0))),4),1,""),"13")))-1)+3)),4),"") | J22: =IFERROR(INDEX(INDIRECT($J$19),2),"")
D23: =IFERROR(INDEX(INDIRECT(_xlfn.CONCAT(SUBSTITUTE(ADDRESS(1,COLUMN(INDEX($J$2:$BT$2,MATCH($D$17,$J$2:$BT$2,0))),4),1,""),"3:",SUBSTITUTE(ADDRESS(1,COLUMN(INDEX($J$2:$BT$2,MATCH($D$17,$J$2:$BT$2,0))),4),1,""),(COUNTA(INDIRECT(_xlfn.CONCAT(SUBSTITUTE(ADDRESS(1,COLUMN(INDEX($J$2:$BT$2,MATCH($D$17,$J$2:$BT$2,0))),4),1,""),"3:",SUBSTITUTE(ADDRESS(1,COLUMN(INDEX($J$2:$BT$2,MATCH($D$17,$J$2:$BT$2,0))),4),1,""),"13")))-1)+3)),5),"") | J23: =IFERROR(INDEX(INDIRECT($J$19),3),"")
D24: =IFERROR(INDEX(INDIRECT(_xlfn.CONCAT(SUBSTITUTE(ADDRESS(1,COLUMN(INDEX($J$2:$BT$2,MATCH($D$17,$J$2:$BT$2,0))),4),1,""),"3:",SUBSTITUTE(ADDRESS(1,COLUMN(INDEX($J$2:$BT$2,MATCH($D$17,$J$2:$BT$2,0))),4),1,""),(COUNTA(INDIRECT(_xlfn.CONCAT(SUBSTITUTE(ADDRESS(1,COLUMN(INDEX($J$2:$BT$2,MATCH($D$17,$J$2:$BT$2,0))),4),1,""),"3:",SUBSTITUTE(ADDRESS(1,COLUMN(INDEX($J$2:$BT$2,MATCH($D$17,$J$2:$BT$2,0))),4),1,""),"13")))-1)+3)),6),"") | J24: =IFERROR(INDEX(INDIRECT($J$19),4),"")
J25: =IFERROR(INDEX(INDIRECT($J$19),5),"")
J26: =IFERROR(INDEX(INDIRECT($J$19),6),"")
