Workbook

Sheet User Inputs
A1: User Inputs | E1: Layer | F1: Thickness | G1: Angle | I1: Layer | J1: Thickness | K1: Angle | M1: Layer | N1: Thickness | O1: Angle | Q1: Layer | R1: Thickness | S1: Angle | U1: Layer | V1: Thickness | W1: Angle | Y1: Layer | Z1: Thickness | AA1: Angle | AC1: Layer | AD1: Thickness | AE1: Angle | AH1: Pa
A2: Ef1 | B2: 220 | C2: Gpa | E2: 1 | I2: 41 | M2: 81 | Q2: 121 | U2: 161 | Y2: 201 | AC2: 241 | AH2: Mpa
A3: Ef2 | B3: 12 | C3: Gpa | E3: 2 | I3: 42 | M3: 82 | Q3: 122 | U3: 162 | Y3: 202 | AC3: 242 | AH3: Gpa
A4: Em | B4: 4 | C4: Gpa | E4: 3 | I4: 43 | M4: 83 | Q4: 123 | U4: 163 | Y4: 203 | AC4: 243
A5: Vf | B5: 0.55 | C5: % | E5: 4 | I5: 44 | M5: 84 | Q5: 124 | U5: 164 | Y5: 204 | AC5: 244
A6: √12 | B6: 0.33 | E6: 5 | I6: 45 | M6: 85 | Q6: 125 | U6: 165 | Y6: 205 | AC6: 245
A7: G12 | B7: 5.65 | C7: Gpa | E7: 6 | I7: 46 | M7: 86 | Q7: 126 | U7: 166 | Y7: 206 | AC7: 246
A8: # | C8: Layers | E8: 7 | I8: 47 | M8: 87 | Q8: 127 | U8: 167 | Y8: 207 | AC8: 247
E9: 8 | I9: 48 | M9: 88 | Q9: 128 | U9: 168 | Y9: 208 | AC9: 248
E10: 9 | I10: 49 | M10: 89 | Q10: 129 | U10: 169 | Y10: 209 | AC10: 249
E11: 10 | I11: 50 | M11: 90 | Q11: 130 | U11: 170 | Y11: 210 | AC11: 250
E12: 11 | I12: 51 | M12: 91 | Q12: 131 | U12: 171 | Y12: 211 | AC12: 251
E13: 12 | I13: 52 | M13: 92 | Q13: 132 | U13: 172 | Y13: 212 | AC13: 252
E14: 13 | I14: 53 | M14: 93 | Q14: 133 | U14: 173 | Y14: 213 | AC14: 253
E15: 14 | I15: 54 | M15: 94 | Q15: 134 | U15: 174 | Y15: 214 | AC15: 254
E16: 15 | I16: 55 | M16: 95 | Q16: 135 | U16: 175 | Y16: 215 | AC16: 255
E17: 16 | I17: 56 | M17: 96 | Q17: 136 | U17: 176 | Y17: 216 | AC17: 256
E18: 17 | I18: 57 | M18: 97 | Q18: 137 | U18: 177 | Y18: 217
E19: 18 | I19: 58 | M19: 98 | Q19: 138 | U19: 178 | Y19: 218
E20: 19 | I20: 59 | M20: 99 | Q20: 139 | U20: 179 | Y20: 219
E21: 20 | I21: 60 | M21: 100 | Q21: 140 | U21: 180 | Y21: 220
E22: 21 | I22: 61 | M22: 101 | Q22: 141 | U22: 181 | Y22: 221
E23: 22 | I23: 62 | M23: 102 | Q23: 142 | U23: 182 | Y23: 222
E24: 23 | I24: 63 | M24: 103 | Q24: 143 | U24: 183 | Y24: 223
E25: 24 | I25: 64 | M25: 104 | Q25: 144 | U25: 184 | Y25: 224
E26: 25 | I26: 65 | M26: 105 | Q26: 145 | U26: 185 | Y26: 225
E27: 26 | I27: 66 | M27: 106 | Q27: 146 | U27: 186 | Y27: 226
E28: 27 | I28: 67 | M28: 107 | Q28: 147 | U28: 187 | Y28: 227
E29: 28 | I29: 68 | M29: 108 | Q29: 148 | U29: 188 | Y29: 228
... E41: 40 | I41: 80 | M41: 120 | Q41: 160 | U41: 200 | Y41: 240

Sheet Calculations
A1: Calculating Values | E1: Angle Values
A2: Vm | B2: =1-'User Inputs'!B5 | C2: % | E2: m | G2: cosθ | H2: n | J2: sinθ
A3: E1 | B3: =('User Inputs'!B2*'User Inputs'!B5 +Calculations!B2*'User Inputs'!B4) | C3: Gpa | E3: m2 | G3: (cosθ)2 | H3: n2 | J3: (sinθ)2
A4: E2 | B4: =('User Inputs'!B3*'User Inputs'!B4)/('User Inputs'!B3*Calculations!B2 + 'User Inputs'!B5*'User Inputs'!B4) | C4: Gpa | E4: m3 | G4: (cosθ)3 | H4: n3 | J4: (sinθ)3
A5: √12 | B5: =(B4/B3)*'User Inputs'!B6 | E5: m4 | G5: (cosθ)4 | H5: n4 | J5: (sinθ)4
A8: Q Values | E8: Values
A9: Q11 | B9: =B3/(1-B5*'User Inputs'!B6) | E9: Q11
A10: Q12 | B10: =(B5*B4)/(1-B5*'User Inputs'!B6) | E10: Q12
A11: Q22 | B11: =B10/B5 | E11: Q22
A12: Q66 | B12: ='User Inputs'!B7 | E12: Q66

Sheet Q11bar
A1: Layer | B1: Angle | C1: Q11 | E1: Layer | F1: Angle | G1: Q11 | I1: Layer | J1: Angle | K1: Q11 | M1: Layer | N1: Angle | O1: Q11 | Q1: Layer | R1: Angle | S1: Q11 | U1: Layer | V1: Angle | W1: Q11 | Y1: Layer | Z1: Angle | AA1: Q11 | AC1: Q Values | AF1: Angle Values
A2: 1 | B2: ='User Inputs'!G2 | C2: =$AD$2*AG5 + 2*($AD$3 + 2*$AD$5)*AG3*AJ3 + $AD$4*AJ5 | E2: 41 | F2: ='User Inputs'!K2 | I2: 81 | J2: ='User Inputs'!O2 | M2: 121 | N2: ='User Inputs'!S2 | Q2: 161 | R2: ='User Inputs'!W2 | U2: 201 | V2: ='User Inputs'!AA2 | Y2: 241 | Z2: ='User Inputs'!AE2 | AC2: Q11 | AD2: =Calculations!B9 | AE2: 1 | AF2: m | AG2: =COS(B2) | AH2: cosθ | AI2: n | AJ2: =SIN(B2) | AK2: sinθ | AM2: m | AN2: =COS(I2) | AO2: cosθ | AP2: n | AQ2: =SIN(I2) | AR2: sinθ
A3: 2 | B3: ='User Inputs'!G3 | C3: =$AD$2*AG9 + 2*($AD$3 + 2*$AD$5)*AG7*AJ7 + $AD$4*AJ9 | E3: 42 | F3: ='User Inputs'!K3 | I3: 82 | J3: ='User Inputs'!O3 | M3: 122 | N3: ='User Inputs'!S3 | Q3: 162 | R3: ='User Inputs'!W3 | U3: 202 | V3: ='User Inputs'!AA3 | Y3: 242 | Z3: ='User Inputs'!AE3 | AC3: Q12 | AD3: =Calculations!B10 | AF3: m2 | AG3: =AG2^2 | AH3: (cosθ)2 | AI3: n2 | AJ3: =AJ2^2 | AK3: (sinθ)2 | AM3: m2 | AN3: =AN2^2 | AO3: (cosθ)2 | AP3: n2 | AQ3: =AQ2^2 | AR3: (sinθ)2
A4: 3 | B4: ='User Inputs'!G4 | C4: =$AD$2*AG13 + 2*($AD$3 + 2*$AD$5)*AG11*AJ11 + $AD$4*AJ13 | E4: 43 | F4: ='User Inputs'!K4 | I4: 83 | J4: ='User Inputs'!O4 | M4: 123 | N4: ='User Inputs'!S4 | Q4: 163 | R4: ='User Inputs'!W4 | U4: 203 | V4: ='User Inputs'!AA4 | Y4: 243 | Z4: ='User Inputs'!AE4 | AC4: Q22 | AD4: =Calculations!B11 | AF4: m3 | AG4: =AG2^3 | AH4: (cosθ)3 | AI4: n3 | AJ4: =AJ2^3 | AK4: (sinθ)3 | AM4: m3 | AN4: =AN2^3 | AO4: (cosθ)3 | AP4: n3 | AQ4: =AQ2^3 | AR4: (sinθ)3
A5: 4 | B5: ='User Inputs'!G5 | C5: =$AD$2*AG17 + 2*($AD$3 + 2*$AD$5)*AG15*AJ15 + $AD$4*AJ17 | E5: 44 | F5: ='User Inputs'!K5 | I5: 84 | J5: ='User Inputs'!O5 | M5: 124 | N5: ='User Inputs'!S5 | Q5: 164 | R5: ='User Inputs'!W5 | U5: 204 | V5: ='User Inputs'!AA5 | Y5: 244 | Z5: ='User Inputs'!AE5 | AC5: Q66 | AD5: =Calculations!B12 | AF5: m4 | AG5: =AG2^4 | AH5: (cosθ)4 | AI5: n4 | AJ5: =AJ2^4 | AK5: (sinθ)4 | AM5: m4 | AN5: =AN2^4 | AO5: (cosθ)4 | AP5: n4 | AQ5: =AQ2^4 | AR5: (sinθ)4
A6: 5 | B6: ='User Inputs'!G6 | C6: =$AD$2*AG21 + 2*($AD$3 + 2*$AD$5)*AG19*AJ19 + $AD$4*AJ21 | E6: 45 | F6: ='User Inputs'!K6 | I6: 85 | J6: ='User Inputs'!O6 | M6: 125 | N6: ='User Inputs'!S6 | Q6: 165 | R6: ='User Inputs'!W6 | U6: 205 | V6: ='User Inputs'!AA6 | Y6: 245 | Z6: ='User Inputs'!AE6 | AE6: 2 | AF6: m | AG6: =COS(B3) | AH6: cosθ | AI6: n | AJ6: =SIN(B3) | AK6: sinθ
A7: 6 | B7: ='User Inputs'!G7 | C7: =$AD$2*AG25 + 2*($AD$3 + 2*$AD$5)*AG23*AJ23 + $AD$4*AJ25 | E7: 46 | F7: ='User Inputs'!K7 | I7: 86 | J7: ='User Inputs'!O7 | M7: 126 | N7: ='User Inputs'!S7 | Q7: 166 | R7: ='User Inputs'!W7 | U7: 206 | V7: ='User Inputs'!AA7 | Y7: 246 | Z7: ='User Inputs'!AE7 | AF7: m2 | AG7: =AG6^2 | AH7: (cosθ)2 | AI7: n2 | AJ7: =AJ6^2 | AK7: (sinθ)2
A8: 7 | B8: ='User Inputs'!G8 | C8: =$AD$2*AG29 + 2*($AD$3 + 2*$AD$5)*AG27*AJ27 + $AD$4*AJ29 | E8: 47 | F8: ='User Inputs'!K8 | I8: 87 | J8: ='User Inputs'!O8 | M8: 127 | N8: ='User Inputs'!S8 | Q8: 167 | R8: ='User Inputs'!W8 | U8: 207 | V8: ='User Inputs'!AA8 | Y8: 247 | Z8: ='User Inputs'!AE8 | AF8: m3 | AG8: =AG6^3 | AH8: (cosθ)3 | AI8: n3 | AJ8: =AJ6^3 | AK8: (sinθ)3
A9: 8 | B9: ='User Inputs'!G9 | C9: =$AD$2*AG33 + 2*($AD$3 + 2*$AD$5)*AG31*AJ31 + $AD$4*AJ33 | E9: 48 | F9: ='User Inputs'!K9 | I9: 88 | J9: ='User Inputs'!O9 | M9: 128 | N9: ='User Inputs'!S9 | Q9: 168 | R9: ='User Inputs'!W9 | U9: 208 | V9: ='User Inputs'!AA9 | Y9: 248 | Z9: ='User Inputs'!AE9 | AF9: m4 | AG9: =AG6^4 | AH9: (cosθ)4 | AI9: n4 | AJ9: =AJ6^4 | AK9: (sinθ)4
A10: 9 | B10: ='User Inputs'!G10 | C10: =$AD$2*AG37 + 2*($AD$3 + 2*$AD$5)*AG35*AJ35 + $AD$4*AJ37 | E10: 49 | F10: ='User Inputs'!K10 | I10: 89 | J10: ='User Inputs'!O10 | M10: 129 | N10: ='User Inputs'!S10 | Q10: 169 | R10: ='User Inputs'!W10 | U10: 209 | V10: ='User Inputs'!AA10 | Y10: 249 | Z10: ='User Inputs'!AE10 | AE10: 3 | AF10: m | AG10: =COS(B7) | AH10: cosθ | AI10: n | AJ10: =SIN(B7) | AK10: sinθ
A11: 10 | B11: ='User Inputs'!G11 | C11: =$AD$2*AG41 + 2*($AD$3 + 2*$AD$5)*AG39*AJ39 + $AD$4*AJ41 | E11: 50 | F11: ='User Inputs'!K11 | I11: 90 | J11: ='User Inputs'!O11 | M11: 130 | N11: ='User Inputs'!S11 | Q11: 170 | R11: ='User Inputs'!W11 | U11: 210 | V11: ='User Inputs'!AA11 | Y11: 250 | Z11: ='User Inputs'!AE11 | AF11: m2 | AG11: =AG10^2 | AH11: (cosθ)2 | AI11: n2 | AJ11: =AJ10^2 | AK11: (sinθ)2
A12: 11 | B12: ='User Inputs'!G12 | C12: =$AD$2*AG24 + 2*($AD$3 + 2*$AD$5)*AG22*AJ22 + $AD$4*AJ24 | E12: 51 | F12: ='User Inputs'!K12 | I12: 91 | J12: ='User Inputs'!O12 | M12: 131 | N12: ='User Inputs'!S12 | Q12: 171 | R12: ='User Inputs'!W12 | U12: 211 | V12: ='User Inputs'!AA12 | Y12: 251 | Z12: ='User Inputs'!AE12 | AF12: m3 | AG12: =AG10^3 | AH12: (cosθ)3 | AI12: n3 | AJ12: =AJ10^3 | AK12: (sinθ)3
A13: 12 | B13: ='User Inputs'!G13 | C13: =$AD$2*AG25 + 2*($AD$3 + 2*$AD$5)*AG23*AJ23 + $AD$4*AJ25 | E13: 52 | F13: ='User Inputs'!K13 | I13: 92 | J13: ='User Inputs'!O13 | M13: 132 | N13: ='User Inputs'!S13 | Q13: 172 | R13: ='User Inputs'!W13 | U13: 212 | V13: ='User Inputs'!AA13 | Y13: 252 | Z13: ='User Inputs'!AE13 | AF13: m4 | AG13: =AG10^4 | AH13: (cosθ)4 | AI13: n4 | AJ13: =AJ10^4 | AK13: (sinθ)4
A14: 13 | B14: ='User Inputs'!G14 | C14: =$AD$2*AG26 + 2*($AD$3 + 2*$AD$5)*AG24*AJ24 + $AD$4*AJ26 | E14: 53 | F14: ='User Inputs'!K14 | I14: 93 | J14: ='User Inputs'!O14 | M14: 133 | N14: ='User Inputs'!S14 | Q14: 173 | R14: ='User Inputs'!W14 | U14: 213 | V14: ='User Inputs'!AA14 | Y14: 253 | Z14: ='User Inputs'!AE14 | AE14: 4 | AF14: m | AG14: =COS(B11) | AH14: cosθ | AI14: n | AJ14: =SIN(B11) | AK14: sinθ
A15: 14 | B15: ='User Inputs'!G15 | C15: =$AD$2*AG27 + 2*($AD$3 + 2*$AD$5)*AG25*AJ25 + $AD$4*AJ27 | E15: 54 | F15: ='User Inputs'!K15 | I15: 94 | J15: ='User Inputs'!O15 | M15: 134 | N15: ='User Inputs'!S15 | Q15: 174 | R15: ='User Inputs'!W15 | U15: 214 | V15: ='User Inputs'!AA15 | Y15: 254 | Z15: ='User Inputs'!AE15 | AF15: m2 | AG15: =AG14^2 | AH15: (cosθ)2 | AI15: n2 | AJ15: =AJ14^2 | AK15: (sinθ)2
A16: 15 | B16: ='User Inputs'!G16 | C16: =$AD$2*AG28 + 2*($AD$3 + 2*$AD$5)*AG26*AJ26 + $AD$4*AJ28 | E16: 55 | F16: ='User Inputs'!K16 | I16: 95 | J16: ='User Inputs'!O16 | M16: 135 | N16: ='User Inputs'!S16 | Q16: 175 | R16: ='User Inputs'!W16 | U16: 215 | V16: ='User Inputs'!AA16 | Y16: 255 | Z16: ='User Inputs'!AE16 | AF16: m3 | AG16: =AG14^3 | AH16: (cosθ)3 | AI16: n3 | AJ16: =AJ14^3 | AK16: (sinθ)3
A17: 16 | B17: ='User Inputs'!G17 | C17: =$AD$2*AG29 + 2*($AD$3 + 2*$AD$5)*AG27*AJ27 + $AD$4*AJ29 | E17: 56 | F17: ='User Inputs'!K17 | I17: 96 | J17: ='User Inputs'!O17 | M17: 136 | N17: ='User Inputs'!S17 | Q17: 176 | R17: ='User Inputs'!W17 | U17: 216 | V17: ='User Inputs'!AA17 | Y17: 256 | Z17: ='User Inputs'!AE17 | AF17: m4 | AG17: =AG14^4 | AH17: (cosθ)4 | AI17: n4 | AJ17: =AJ14^4 | AK17: (sinθ)4
A18: 17 | B18: ='User Inputs'!G18 | C18: =$AD$2*AG30 + 2*($AD$3 + 2*$AD$5)*AG28*AJ28 + $AD$4*AJ30 | E18: 57 | F18: ='User Inputs'!K18 | I18: 97 | J18: ='User Inputs'!O18 | M18: 137 | N18: ='User Inputs'!S18 | Q18: 177 | R18: ='User Inputs'!W18 | U18: 217 | V18: ='User Inputs'!AA18 | AE18: 5 | AF18: m | AG18: =COS(B15) | AH18: cosθ | AI18: n | AJ18: =SIN(B15) | AK18: sinθ
A19: 18 | B19: ='User Inputs'!G19 | C19: =$AD$2*AG31 + 2*($AD$3 + 2*$AD$5)*AG29*AJ29 + $AD$4*AJ31 | E19: 58 | F19: ='User Inputs'!K19 | I19: 98 | J19: ='User Inputs'!O19 | M19: 138 | N19: ='User Inputs'!S19 | Q19: 178 | R19: ='User Inputs'!W19 | U19: 218 | V19: ='User Inputs'!AA19 | AF19: m2 | AG19: =AG18^2 | AH19: (cosθ)2 | AI19: n2 | AJ19: =AJ18^2 | AK19: (sinθ)2
A20: 19 | B20: ='User Inputs'!G20 | C20: =$AD$2*AG32 + 2*($AD$3 + 2*$AD$5)*AG30*AJ30 + $AD$4*AJ32 | E20: 59 | F20: ='User Inputs'!K20 | I20: 99 | J20: ='User Inputs'!O20 | M20: 139 | N20: ='User Inputs'!S20 | Q20: 179 | R20: ='User Inputs'!W20 | U20: 219 | V20: ='User Inputs'!AA20 | AF20: m3 | AG20: =AG18^3 | AH20: (cosθ)3 | AI20: n3 | AJ20: =AJ18^3 | AK20: (sinθ)3
A21: 20 | B21: ='User Inputs'!G21 | C21: =$AD$2*AG33 + 2*($AD$3 + 2*$AD$5)*AG31*AJ31 + $AD$4*AJ33 | E21: 60 | F21: ='User Inputs'!K21 | I21: 100 | J21: ='User Inputs'!O21 | M21: 140 | N21: ='User Inputs'!S21 | Q21: 180 | R21: ='User Inputs'!W21 | U21: 220 | V21: ='User Inputs'!AA21 | AF21: m4 | AG21: =AG18^4 | AH21: (cosθ)4 | AI21: n4 | AJ21: =AJ18^4 | AK21: (sinθ)4
A22: 21 | B22: ='User Inputs'!G22 | C22: =$AD$2*AG34 + 2*($AD$3 + 2*$AD$5)*AG32*AJ32 + $AD$4*AJ34 | E22: 61 | F22: ='User Inputs'!K22 | I22: 101 | J22: ='User Inputs'!O22 | M22: 141 | N22: ='User Inputs'!S22 | Q22: 181 | R22: ='User Inputs'!W22 | U22: 221 | V22: ='User Inputs'!AA22 | AE22: 6 | AF22: m | AG22: =COS(B19) | AH22: cosθ | AI22: n | AJ22: =SIN(B19) | AK22: sinθ
A23: 22 | B23: ='User Inputs'!G23 | C23: =$AD$2*AG35 + 2*($AD$3 + 2*$AD$5)*AG33*AJ33 + $AD$4*AJ35 | E23: 62 | F23: ='User Inputs'!K23 | I23: 102 | J23: ='User Inputs'!O23 | M23: 142 | N23: ='User Inputs'!S23 | Q23: 182 | R23: ='User Inputs'!W23 | U23: 222 | V23: ='User Inputs'!AA23 | AF23: m2 | AG23: =AG22^2 | AH23: (cosθ)2 | AI23: n2 | AJ23: =AJ22^2 | AK23: (sinθ)2
A24: 23 | B24: ='User Inputs'!G24 | C24: =$AD$2*AG36 + 2*($AD$3 + 2*$AD$5)*AG34*AJ34 + $AD$4*AJ36 | E24: 63 | F24: ='User Inputs'!K24 | I24: 103 | J24: ='User Inputs'!O24 | M24: 143 | N24: ='User Inputs'!S24 | Q24: 183 | R24: ='User Inputs'!W24 | U24: 223 | V24: ='User Inputs'!AA24 | AF24: m3 | AG24: =AG22^3 | AH24: (cosθ)3 | AI24: n3 | AJ24: =AJ22^3 | AK24: (sinθ)3
A25: 24 | B25: ='User Inputs'!G25 | C25: =$AD$2*AG37 + 2*($AD$3 + 2*$AD$5)*AG35*AJ35 + $AD$4*AJ37 | E25: 64 | F25: ='User Inputs'!K25 | I25: 104 | J25: ='User Inputs'!O25 | M25: 144 | N25: ='User Inputs'!S25 | Q25: 184 | R25: ='User Inputs'!W25 | U25: 224 | V25: ='User Inputs'!AA25 | AF25: m4 | AG25: =AG22^4 | AH25: (cosθ)4 | AI25: n4 | AJ25: =AJ22^4 | AK25: (sinθ)4
A26: 25 | B26: ='User Inputs'!G26 | C26: =$AD$2*AG38 + 2*($AD$3 + 2*$AD$5)*AG36*AJ36 + $AD$4*AJ38 | E26: 65 | F26: ='User Inputs'!K26 | I26: 105 | J26: ='User Inputs'!O26 | M26: 145 | N26: ='User Inputs'!S26 | Q26: 185 | R26: ='User Inputs'!W26 | U26: 225 | V26: ='User Inputs'!AA26 | AE26: 7 | AF26: m | AG26: =COS(B23) | AH26: cosθ | AI26: n | AJ26: =SIN(B23) | AK26: sinθ
A27: 26 | B27: ='User Inputs'!G27 | C27: =$AD$2*AG39 + 2*($AD$3 + 2*$AD$5)*AG37*AJ37 + $AD$4*AJ39 | E27: 66 | F27: ='User Inputs'!K27 | I27: 106 | J27: ='User Inputs'!O27 | M27: 146 | N27: ='User Inputs'!S27 | Q27: 186 | R27: ='User Inputs'!W27 | U27: 226 | V27: ='User Inputs'!AA27 | AF27: m2 | AG27: =AG26^2 | AH27: (cosθ)2 | AI27: n2 | AJ27: =AJ26^2 | AK27: (sinθ)2
A28: 27 | B28: ='User Inputs'!G28 | C28: =$AD$2*AG40 + 2*($AD$3 + 2*$AD$5)*AG38*AJ38 + $AD$4*AJ40 | E28: 67 | F28: ='User Inputs'!K28 | I28: 107 | J28: ='User Inputs'!O28 | M28: 147 | N28: ='User Inputs'!S28 | Q28: 187 | R28: ='User Inputs'!W28 | U28: 227 | V28: ='User Inputs'!AA28 | AF28: m3 | AG28: =AG26^3 | AH28: (cosθ)3 | AI28: n3 | AJ28: =AJ26^3 | AK28: (sinθ)3
A29: 28 | B29: ='User Inputs'!G29 | C29: =$AD$2*AG41 + 2*($AD$3 + 2*$AD$5)*AG39*AJ39 + $AD$4*AJ41 | E29: 68 | F29: ='User Inputs'!K29 | I29: 108 | J29: ='User Inputs'!O29 | M29: 148 | N29: ='User Inputs'!S29 | Q29: 188 | R29: ='User Inputs'!W29 | U29: 228 | V29: ='User Inputs'!AA29 | AF29: m4 | AG29: =AG26^4 | AH29: (cosθ)4 | AI29: n4 | AJ29: =AJ26^4 | AK29: (sinθ)4
A30: 29 | B30: ='User Inputs'!G30 | C30: =$AD$2*AG42 + 2*($AD$3 + 2*$AD$5)*AG40*AJ40 + $AD$4*AJ42 | E30: 69 | F30: ='User Inputs'!K30 | I30: 109 | J30: ='User Inputs'!O30 | M30: 149 | N30: ='User Inputs'!S30 | Q30: 189 | R30: ='User Inputs'!W30 | U30: 229 | V30: ='User Inputs'!AA30 | AE30: 8 | AF30: m | AG30: =COS(B27) | AH30: cosθ | AI30: n | AJ30: =SIN(B27) | AK30: sinθ
A31: 30 | B31: ='User Inputs'!G31 | C31: =$AD$2*AG43 + 2*($AD$3 + 2*$AD$5)*AG41*AJ41 + $AD$4*AJ43 | E31: 70 | F31: ='User Inputs'!K31 | I31: 110 | J31: ='User Inputs'!O31 | M31: 150 | N31: ='User Inputs'!S31 | Q31: 190 | R31: ='User Inputs'!W31 | U31: 230 | V31: ='User Inputs'!AA31 | AF31: m2 | AG31: =AG30^2 | AH31: (cosθ)2 | AI31: n2 | AJ31: =AJ30^2 | AK31: (sinθ)2
A32: 31 | B32: ='User Inputs'!G32 | C32: =$AD$2*AG44 + 2*($AD$3 + 2*$AD$5)*AG42*AJ42 + $AD$4*AJ44 | E32: 71 | F32: ='User Inputs'!K32 | I32: 111 | J32: ='User Inputs'!O32 | M32: 151 | N32: ='User Inputs'!S32 | Q32: 191 | R32: ='User Inputs'!W32 | U32: 231 | V32: ='User Inputs'!AA32 | AF32: m3 | AG32: =AG30^3 | AH32: (cosθ)3 | AI32: n3 | AJ32: =AJ30^3 | AK32: (sinθ)3
A33: 32 | B33: ='User Inputs'!G33 | C33: =$AD$2*AG45 + 2*($AD$3 + 2*$AD$5)*AG43*AJ43 + $AD$4*AJ45 | E33: 72 | F33: ='User Inputs'!K33 | I33: 112 | J33: ='User Inputs'!O33 | M33: 152 | N33: ='User Inputs'!S33 | Q33: 192 | R33: ='User Inputs'!W33 | U33: 232 | V33: ='User Inputs'!AA33 | AF33: m4 | AG33: =AG30^4 | AH33: (cosθ)4 | AI33: n4 | AJ33: =AJ30^4 | AK33: (sinθ)4
A34: 33 | B34: ='User Inputs'!G34 | C34: =$AD$2*AG46 + 2*($AD$3 + 2*$AD$5)*AG44*AJ44 + $AD$4*AJ46 | E34: 73 | F34: ='User Inputs'!K34 | I34: 113 | J34: ='User Inputs'!O34 | M34: 153 | N34: ='User Inputs'!S34 | Q34: 193 | R34: ='User Inputs'!W34 | U34: 233 | V34: ='User Inputs'!AA34 | AE34: 9 | AF34: m | AG34: =COS(B31) | AH34: cosθ | AI34: n | AJ34: =SIN(B31) | AK34: sinθ
A35: 34 | B35: ='User Inputs'!G35 | C35: =$AD$2*AG47 + 2*($AD$3 + 2*$AD$5)*AG45*AJ45 + $AD$4*AJ47 | E35: 74 | F35: ='User Inputs'!K35 | I35: 114 | J35: ='User Inputs'!O35 | M35: 154 | N35: ='User Inputs'!S35 | Q35: 194 | R35: ='User Inputs'!W35 | U35: 234 | V35: ='User Inputs'!AA35 | AF35: m2 | AG35: =AG34^2 | AH35: (cosθ)2 | AI35: n2 | AJ35: =AJ34^2 | AK35: (sinθ)2
A36: 35 | B36: ='User Inputs'!G36 | C36: =$AD$2*AG48 + 2*($AD$3 + 2*$AD$5)*AG46*AJ46 + $AD$4*AJ48 | E36: 75 | F36: ='User Inputs'!K36 | I36: 115 | J36: ='User Inputs'!O36 | M36: 155 | N36: ='User Inputs'!S36 | Q36: 195 | R36: ='User Inputs'!W36 | U36: 235 | V36: ='User Inputs'!AA36 | AF36: m3 | AG36: =AG34^3 | AH36: (cosθ)3 | AI36: n3 | AJ36: =AJ34^3 | AK36: (sinθ)3
A37: 36 | B37: ='User Inputs'!G37 | C37: =$AD$2*AG49 + 2*($AD$3 + 2*$AD$5)*AG47*AJ47 + $AD$4*AJ49 | E37: 76 | F37: ='User Inputs'!K37 | I37: 116 | J37: ='User Inputs'!O37 | M37: 156 | N37: ='User Inputs'!S37 | Q37: 196 | R37: ='User Inputs'!W37 | U37: 236 | V37: ='User Inputs'!AA37 | AF37: m4 | AG37: =AG34^4 | AH37: (cosθ)4 | AI37: n4 | AJ37: =AJ34^4 | AK37: (sinθ)4
A38: 37 | B38: ='User Inputs'!G38 | C38: =$AD$2*AG50 + 2*($AD$3 + 2*$AD$5)*AG48*AJ48 + $AD$4*AJ50 | E38: 77 | F38: ='User Inputs'!K38 | I38: 117 | J38: ='User Inputs'!O38 | M38: 157 | N38: ='User Inputs'!S38 | Q38: 197 | R38: ='User Inputs'!W38 | U38: 237 | V38: ='User Inputs'!AA38 | AE38: 10 | AF38: m | AG38: =COS(B35) | AH38: cosθ | AI38: n | AJ38: =SIN(B35) | AK38: sinθ
A39: 38 | B39: ='User Inputs'!G39 | C39: =$AD$2*AG51 + 2*($AD$3 + 2*$AD$5)*AG49*AJ49 + $AD$4*AJ51 | E39: 78 | F39: ='User Inputs'!K39 | I39: 118 | J39: ='User Inputs'!O39 | M39: 158 | N39: ='User Inputs'!S39 | Q39: 198 | R39: ='User Inputs'!W39 | U39: 238 | V39: ='User Inputs'!AA39 | AF39: m2 | AG39: =AG38^2 | AH39: (cosθ)2 | AI39: n2 | AJ39: =AJ38^2 | AK39: (sinθ)2
A40: 39 | B40: ='User Inputs'!G40 | C40: =$AD$2*AG52 + 2*($AD$3 + 2*$AD$5)*AG50*AJ50 + $AD$4*AJ52 | E40: 79 | F40: ='User Inputs'!K40 | I40: 119 | J40: ='User Inputs'!O40 | M40: 159 | N40: ='User Inputs'!S40 | Q40: 199 | R40: ='User Inputs'!W40 | U40: 239 | V40: ='User Inputs'!AA40 | AF40: m3 | AG40: =AG38^3 | AH40: (cosθ)3 | AI40: n3 | AJ40: =AJ38^3 | AK40: (sinθ)3
...
