Workbook
Name round1: 'Saturday 8th'!$A$8:$X$117
Name round2: 'Sunday 9th'!$A$8:$X$38
Name round3: 'Saturday 15th'!$A$8:$AE$150
Name round4: 'Sunday 16th'!$A$8:$AE$150
Name round5: 'Saturday 22nd'!$A$8:$AE$150
Name round6: 'Sunday 23rd'!$A$8:$AE$150
Name round7: 'Saturday 29th'!$A$8:$AE$150
Name round8: 'Sunday 30th'!$A$8:$AE$150
Name SheetList: Helper!$B$1:$B$8

Sheet Master
A1: [Person_1]
AE2: {=MIN(IF(CHOOSE(ROW(INDIRECT("1:"&MATCH(4,AI9:AP9,0))),AA9,AB9,AC9,AD9,AE9,AF9,AG9,AH9)>0,CHOOSE(ROW(INDIRECT("1:"&MATCH(4,AI9:AP9,0))),AA9,AB9,AC9,AD9,AE9,AF9,AG9,AH9)))} | AM2: =MIN(AA9:INDEX(AA9:AH9,MATCH(4,AI9:AP9,0)))
A3: Competition Hole-by-hole Scores | AE3: {=MIN(IF(CHOOSE(ROW(INDIRECT("1:"&MATCH(4,AI10:AP10,0))),AA10,AB10,AC10,AD10,AE10,AF10,AG10,AH10)>0,CHOOSE(ROW(INDIRECT("1:"&MATCH(4,AI10:AP10,0))),AA10,AB10,AC10,AD10,AE10,AF10,AG10,AH10)))} | AG3: =MATCH(4,AI9:AO9,0) | AM3: =MATCH(4,AI9:AP9,0)
AE4: =MIN(IF(CHOOSE(ROW(INDIRECT("1:"&MATCH(4,AI11:AP11,0))),AA11,AB11,AC11,AD11,AE11,AF11,AG11,AH11)>0,CHOOSE(ROW(INDIRECT("1:"&MATCH(4,AI11:AP11,0))),AA11,AB11,AC11,AD11,AE11,AF11,AG11,AH11)))
A5: Competition: | B5: Turkey Shoot Ecclectic
A6: Date:
AA7: Hole 1 Scores in each Round | AI7: Cumulative number of valid scores | AQ7: Hole 2 Scores in each Round | AY7: Cumulative number of valid scores
A8: Player | B8: ID | C8: Hole 1 | D8: Hole 2 | E8: Hole 3 | F8: Hole 4 | G8: Hole 5 | H8: Hole 6 | I8: Hole 7 | J8: Hole 8 | K8: Hole 9 | L8: Out | M8: Hole 10 | N8: Hole 11 | O8: Hole 12 | P8: Hole 13 | Q8: Hole 14 | R8: Hole 15 | S8: Hole 16 | T8: Hole 17 | U8: Hole 18 | V8: In | W8: Hcap | X8: Gross | Y8: Rounds Played | AA8: R1 | AB8: R2 | AC8: R3 | AD8: R4 | AE8: R5 | AF8: R6 | AG8: R7 | AH8: R8 | AI8: R1 | AJ8: R2 | AK8: R3 | AL8: R4 | AM8: R5 | AN8: R6 | AO8: R7 | AP8: R8 | AQ8: R1 | AR8: R2 | AS8: R3 | AT8: R4 | AU8: R5 | AV8: R6 | AW8: R7 | AX8: R8 | AY8: R1 | AZ8: R2 | BA8: R3 | BB8: R4 | BC8: R5 | BD8: R6 | BE8: R7 | BF8: R8
A9: ASTON, Mr PAUL | B9: M:002930 | C9: =IFERROR(MIN(AA9:INDEX(AA9:AH9,MATCH(4,AI9:AP9,0))),"") | D9: =IFERROR(MIN(AQ9:INDEX(AQ9:AX9,MATCH(4,AY9:BF9,0))),"") | Y9: =8-SUMPRODUCT(--(MOD((COLUMN(Z9:EH9)-2)/23,1)=0),--(ISNUMBER(SEARCH(" dnp "," "&Z9:EH9&" ")))) | AA9: =IFERROR(1/(1/VLOOKUP($A9,INDIRECT("'"&VLOOKUP(AA$8,Helper!$A$1:$B$8,2,FALSE)&"'!A9:U200"),3,FALSE)),"") | AB9: =IFERROR(1/(1/VLOOKUP($A9,INDIRECT("'"&VLOOKUP(AB$8,Helper!$A$1:$B$8,2,FALSE)&"'!A9:U200"),3,FALSE)),"") | AC9: =IFERROR(1/(1/VLOOKUP($A9,INDIRECT("'"&VLOOKUP(AC$8,Helper!$A$1:$B$8,2,FALSE)&"'!A9:U200"),3,FALSE)),"") | AD9: =IFERROR(1/(1/VLOOKUP($A9,INDIRECT("'"&VLOOKUP(AD$8,Helper!$A$1:$B$8,2,FALSE)&"'!A9:U200"),3,FALSE)),"") | AE9: =IFERROR(1/(1/VLOOKUP($A9,INDIRECT("'"&VLOOKUP(AE$8,Helper!$A$1:$B$8,2,FALSE)&"'!A9:U200"),3,FALSE)),"") | AF9: =IFERROR(1/(1/VLOOKUP($A9,INDIRECT("'"&VLOOKUP(AF$8,Helper!$A$1:$B$8,2,FALSE)&"'!A9:U200"),3,FALSE)),"") | AG9: =IFERROR(1/(1/VLOOKUP($A9,INDIRECT("'"&VLOOKUP(AG$8,Helper!$A$1:$B$8,2,FALSE)&"'!A9:U200"),3,FALSE)),"") | AH9: =IFERROR(1/(1/VLOOKUP($A9,INDIRECT("'"&VLOOKUP(AH$8,Helper!$A$1:$B$8,2,FALSE)&"'!A9:U200"),3,FALSE)),"") | AI9: =MIN(COUNTIF($AA9:AA9,">0"),4) | AJ9: =MIN(COUNTIF($AA9:AB9,">0"),4) | AK9: =MIN(COUNTIF($AA9:AC9,">0"),4) | AL9: =MIN(COUNTIF($AA9:AD9,">0"),4) | AM9: =MIN(COUNTIF($AA9:AE9,">0"),4) | AN9: =MIN(COUNTIF($AA9:AF9,">0"),4) | AO9: =MIN(COUNTIF($AA9:AG9,">0"),4) | AP9: =COUNTIF($AA9:AH9,">0") | AQ9: =IFERROR(1/(1/VLOOKUP($A9,INDIRECT("'"&VLOOKUP(AQ$8,Helper!$A$1:$B$8,2,FALSE)&"'!A9:U200"),4,FALSE)),"") | AR9: =IFERROR(1/(1/VLOOKUP($A9,INDIRECT("'"&VLOOKUP(AR$8,Helper!$A$1:$B$8,2,FALSE)&"'!A9:U200"),4,FALSE)),"") | AS9: =IFERROR(1/(1/VLOOKUP($A9,INDIRECT("'"&VLOOKUP(AS$8,Helper!$A$1:$B$8,2,FALSE)&"'!A9:U200"),4,FALSE)),"") | AT9: =IFERROR(1/(1/VLOOKUP($A9,INDIRECT("'"&VLOOKUP(AT$8,Helper!$A$1:$B$8,2,FALSE)&"'!A9:U200"),4,FALSE)),"") | AU9: =IFERROR(1/(1/VLOOKUP($A9,INDIRECT("'"&VLOOKUP(AU$8,Helper!$A$1:$B$8,2,FALSE)&"'!A9:U200"),4,FALSE)),"") | AV9: =IFERROR(1/(1/VLOOKUP($A9,INDIRECT("'"&VLOOKUP(AV$8,Helper!$A$1:$B$8,2,FALSE)&"'!A9:U200"),4,FALSE)),"") | AW9: =IFERROR(1/(1/VLOOKUP($A9,INDIRECT("'"&VLOOKUP(AW$8,Helper!$A$1:$B$8,2,FALSE)&"'!A9:U200"),4,FALSE)),"") | AX9: =IFERROR(1/(1/VLOOKUP($A9,INDIRECT("'"&VLOOKUP(AX$8,Helper!$A$1:$B$8,2,FALSE)&"'!A9:U200"),4,FALSE)),"") | AY9: =MIN(COUNTIF($AQ9:AQ9,">0"),4) | AZ9: =MIN(COUNTIF($AQ9:AR9,">0"),4) | BA9: =MIN(COUNTIF($AQ9:AS9,">0"),4) | BB9: =MIN(COUNTIF($AQ9:AT9,">0"),4) | BC9: =MIN(COUNTIF($AQ9:AU9,">0"),4) | BD9: =MIN(COUNTIF($AQ9:AV9,">0"),4) | BE9: =MIN(COUNTIF($AQ9:AW9,">0"),4) | BF9: =MIN(COUNTIF($AQ9:AX9,">0"),4)
A10: Barron, Mr [Person_2] | B10: M:000056 | C10: =IFERROR(MIN(AA10:INDEX(AA10:AH10,MATCH(4,AI10:AP10,0))),"") | D10: =IFERROR(MIN(AQ10:INDEX(AQ10:AX10,MATCH(4,AY10:BF10,0))),"") | Y10: =8-SUMPRODUCT(--(MOD((COLUMN(Z10:EH10)-2)/23,1)=0),--(ISNUMBER(SEARCH(" dnp "," "&Z10:EH10&" ")))) | AA10: =IFERROR(1/(1/VLOOKUP($A10,INDIRECT("'"&VLOOKUP(AA$8,Helper!$A$1:$B$8,2,FALSE)&"'!A9:U200"),3,FALSE)),"") | AB10: =IFERROR(1/(1/VLOOKUP($A10,INDIRECT("'"&VLOOKUP(AB$8,Helper!$A$1:$B$8,2,FALSE)&"'!A9:U200"),3,FALSE)),"") | AC10: =IFERROR(1/(1/VLOOKUP($A10,INDIRECT("'"&VLOOKUP(AC$8,Helper!$A$1:$B$8,2,FALSE)&"'!A9:U200"),3,FALSE)),"") | AD10: =IFERROR(1/(1/VLOOKUP($A10,INDIRECT("'"&VLOOKUP(AD$8,Helper!$A$1:$B$8,2,FALSE)&"'!A9:U200"),3,FALSE)),"") | AE10: =IFERROR(1/(1/VLOOKUP($A10,INDIRECT("'"&VLOOKUP(AE$8,Helper!$A$1:$B$8,2,FALSE)&"'!A9:U200"),3,FALSE)),"") | AF10: =IFERROR(1/(1/VLOOKUP($A10,INDIRECT("'"&VLOOKUP(AF$8,Helper!$A$1:$B$8,2,FALSE)&"'!A9:U200"),3,FALSE)),"") | AG10: =IFERROR(1/(1/VLOOKUP($A10,INDIRECT("'"&VLOOKUP(AG$8,Helper!$A$1:$B$8,2,FALSE)&"'!A9:U200"),3,FALSE)),"") | AH10: =IFERROR(1/(1/VLOOKUP($A10,INDIRECT("'"&VLOOKUP(AH$8,Helper!$A$1:$B$8,2,FALSE)&"'!A9:U200"),3,FALSE)),"") | AI10: =MIN(COUNTIF($AA10:AA10,">0"),4) | AJ10: =MIN(COUNTIF($AA10:AB10,">0"),4) | AK10: =MIN(COUNTIF($AA10:AC10,">0"),4) | AL10: =MIN(COUNTIF($AA10:AD10,">0"),4) | AM10: =MIN(COUNTIF($AA10:AE10,">0"),4) | AN10: =MIN(COUNTIF($AA10:AF10,">0"),4) | AO10: =MIN(COUNTIF($AA10:AG10,">0"),4) | AP10: =COUNTIF($AA10:AH10,">0") | AQ10: =IFERROR(1/(1/VLOOKUP($A10,INDIRECT("'"&VLOOKUP(AQ$8,Helper!$A$1:$B$8,2,FALSE)&"'!A9:U200"),4,FALSE)),"") | AR10: =IFERROR(1/(1/VLOOKUP($A10,INDIRECT("'"&VLOOKUP(AR$8,Helper!$A$1:$B$8,2,FALSE)&"'!A9:U200"),4,FALSE)),"") | AS10: =IFERROR(1/(1/VLOOKUP($A10,INDIRECT("'"&VLOOKUP(AS$8,Helper!$A$1:$B$8,2,FALSE)&"'!A9:U200"),4,FALSE)),"") | AT10: =IFERROR(1/(1/VLOOKUP($A10,INDIRECT("'"&VLOOKUP(AT$8,Helper!$A$1:$B$8,2,FALSE)&"'!A9:U200"),4,FALSE)),"") | AU10: =IFERROR(1/(1/VLOOKUP($A10,INDIRECT("'"&VLOOKUP(AU$8,Helper!$A$1:$B$8,2,FALSE)&"'!A9:U200"),4,FALSE)),"") | AV10: =IFERROR(1/(1/VLOOKUP($A10,INDIRECT("'"&VLOOKUP(AV$8,Helper!$A$1:$B$8,2,FALSE)&"'!A9:U200"),4,FALSE)),"") | AW10: =IFERROR(1/(1/VLOOKUP($A10,INDIRECT("'"&VLOOKUP(AW$8,Helper!$A$1:$B$8,2,FALSE)&"'!A9:U200"),4,FALSE)),"") | AX10: =IFERROR(1/(1/VLOOKUP($A10,INDIRECT("'"&VLOOKUP(AX$8,Helper!$A$1:$B$8,2,FALSE)&"'!A9:U200"),4,FALSE)),"") | AY10: =MIN(COUNTIF($AQ10:AQ10,">0"),4) | AZ10: =MIN(COUNTIF($AQ10:AR10,">0"),4) | BA10: =MIN(COUNTIF($AQ10:AS10,">0"),4) | BB10: =MIN(COUNTIF($AQ10:AT10,">0"),4) | BC10: =MIN(COUNTIF($AQ10:AU10,">0"),4) | BD10: =MIN(COUNTIF($AQ10:AV10,">0"),4) | BE10: =MIN(COUNTIF($AQ10:AW10,">0"),4) | BF10: =MIN(COUNTIF($AQ10:AX10,">0"),4)
A11: Bayley, Mr [Person_3] | B11: M:002035 | C11: =IFERROR(MIN(AA11:INDEX(AA11:AH11,MATCH(4,AI11:AP11,0))),"") | D11: =IFERROR(MIN(AQ11:INDEX(AQ11:AX11,MATCH(4,AY11:BF11,0))),"") | Y11: =8-SUMPRODUCT(--(MOD((COLUMN(Z11:EH11)-2)/23,1)=0),--(ISNUMBER(SEARCH(" dnp "," "&Z11:EH11&" ")))) | AA11: =IFERROR(1/(1/VLOOKUP($A11,INDIRECT("'"&VLOOKUP(AA$8,Helper!$A$1:$B$8,2,FALSE)&"'!A9:U200"),3,FALSE)),"") | AB11: =IFERROR(1/(1/VLOOKUP($A11,INDIRECT("'"&VLOOKUP(AB$8,Helper!$A$1:$B$8,2,FALSE)&"'!A9:U200"),3,FALSE)),"") | AC11: =IFERROR(1/(1/VLOOKUP($A11,INDIRECT("'"&VLOOKUP(AC$8,Helper!$A$1:$B$8,2,FALSE)&"'!A9:U200"),3,FALSE)),"") | AD11: =IFERROR(1/(1/VLOOKUP($A11,INDIRECT("'"&VLOOKUP(AD$8,Helper!$A$1:$B$8,2,FALSE)&"'!A9:U200"),3,FALSE)),"") | AE11: =IFERROR(1/(1/VLOOKUP($A11,INDIRECT("'"&VLOOKUP(AE$8,Helper!$A$1:$B$8,2,FALSE)&"'!A9:U200"),3,FALSE)),"") | AF11: =IFERROR(1/(1/VLOOKUP($A11,INDIRECT("'"&VLOOKUP(AF$8,Helper!$A$1:$B$8,2,FALSE)&"'!A9:U200"),3,FALSE)),"") | AG11: =IFERROR(1/(1/VLOOKUP($A11,INDIRECT("'"&VLOOKUP(AG$8,Helper!$A$1:$B$8,2,FALSE)&"'!A9:U200"),3,FALSE)),"") | AH11: =IFERROR(1/(1/VLOOKUP($A11,INDIRECT("'"&VLOOKUP(AH$8,Helper!$A$1:$B$8,2,FALSE)&"'!A9:U200"),3,FALSE)),"") | AI11: =MIN(COUNTIF($AA11:AA11,">0"),4) | AJ11: =MIN(COUNTIF($AA11:AB11,">0"),4) | AK11: =MIN(COUNTIF($AA11:AC11,">0"),4) | AL11: =MIN(COUNTIF($AA11:AD11,">0"),4) | AM11: =MIN(COUNTIF($AA11:AE11,">0"),4) | AN11: =MIN(COUNTIF($AA11:AF11,">0"),4) | AO11: =MIN(COUNTIF($AA11:AG11,">0"),4) | AP11: =COUNTIF($AA11:AH11,">0") | AQ11: =IFERROR(1/(1/VLOOKUP($A11,INDIRECT("'"&VLOOKUP(AQ$8,Helper!$A$1:$B$8,2,FALSE)&"'!A9:U200"),4,FALSE)),"") | AR11: =IFERROR(1/(1/VLOOKUP($A11,INDIRECT("'"&VLOOKUP(AR$8,Helper!$A$1:$B$8,2,FALSE)&"'!A9:U200"),4,FALSE)),"") | AS11: =IFERROR(1/(1/VLOOKUP($A11,INDIRECT("'"&VLOOKUP(AS$8,Helper!$A$1:$B$8,2,FALSE)&"'!A9:U200"),4,FALSE)),"") | AT11: =IFERROR(1/(1/VLOOKUP($A11,INDIRECT("'"&VLOOKUP(AT$8,Helper!$A$1:$B$8,2,FALSE)&"'!A9:U200"),4,FALSE)),"") | AU11: =IFERROR(1/(1/VLOOKUP($A11,INDIRECT("'"&VLOOKUP(AU$8,Helper!$A$1:$B$8,2,FALSE)&"'!A9:U200"),4,FALSE)),"") | AV11: =IFERROR(1/(1/VLOOKUP($A11,INDIRECT("'"&VLOOKUP(AV$8,Helper!$A$1:$B$8,2,FALSE)&"'!A9:U200"),4,FALSE)),"") | AW11: =IFERROR(1/(1/VLOOKUP($A11,INDIRECT("'"&VLOOKUP(AW$8,Helper!$A$1:$B$8,2,FALSE)&"'!A9:U200"),4,FALSE)),"") | AX11: =IFERROR(1/(1/VLOOKUP($A11,INDIRECT("'"&VLOOKUP(AX$8,Helper!$A$1:$B$8,2,FALSE)&"'!A9:U200"),4,FALSE)),"") | AY11: =MIN(COUNTIF($AQ11:AQ11,">0"),4) | AZ11: =MIN(COUNTIF($AQ11:AR11,">0"),4) | BA11: =MIN(COUNTIF($AQ11:AS11,">0"),4) | BB11: =MIN(COUNTIF($AQ11:AT11,">0"),4) | BC11: =MIN(COUNTIF($AQ11:AU11,">0"),4) | BD11: =MIN(COUNTIF($AQ11:AV11,">0"),4) | BE11: =MIN(COUNTIF($AQ11:AW11,">0"),4) | BF11: =MIN(COUNTIF($AQ11:AX11,">0"),4)
A12: Berry, Mr Stephen | B12: M:003291 | C12: =IFERROR(MIN(AA12:INDEX(AA12:AH12,MATCH(4,AI12:AP12,0))),"") | D12: =IFERROR(MIN(AQ12:INDEX(AQ12:AX12,MATCH(4,AY12:BF12,0))),"") | Y12: =8-SUMPRODUCT(--(MOD((COLUMN(Z12:EH12)-2)/23,1)=0),--(ISNUMBER(SEARCH(" dnp "," "&Z12:EH12&" ")))) | AA12: =IFERROR(1/(1/VLOOKUP($A12,INDIRECT("'"&VLOOKUP(AA$8,Helper!$A$1:$B$8,2,FALSE)&"'!A9:U200"),3,FALSE)),"") | AB12: =IFERROR(1/(1/VLOOKUP($A12,INDIRECT("'"&VLOOKUP(AB$8,Helper!$A$1:$B$8,2,FALSE)&"'!A9:U200"),3,FALSE)),"") | AC12: =IFERROR(1/(1/VLOOKUP($A12,INDIRECT("'"&VLOOKUP(AC$8,Helper!$A$1:$B$8,2,FALSE)&"'!A9:U200"),3,FALSE)),"") | AD12: =IFERROR(1/(1/VLOOKUP($A12,INDIRECT("'"&VLOOKUP(AD$8,Helper!$A$1:$B$8,2,FALSE)&"'!A9:U200"),3,FALSE)),"") | AE12: =IFERROR(1/(1/VLOOKUP($A12,INDIRECT("'"&VLOOKUP(AE$8,Helper!$A$1:$B$8,2,FALSE)&"'!A9:U200"),3,FALSE)),"") | AF12: =IFERROR(1/(1/VLOOKUP($A12,INDIRECT("'"&VLOOKUP(AF$8,Helper!$A$1:$B$8,2,FALSE)&"'!A9:U200"),3,FALSE)),"") | AG12: =IFERROR(1/(1/VLOOKUP($A12,INDIRECT("'"&VLOOKUP(AG$8,Helper!$A$1:$B$8,2,FALSE)&"'!A9:U200"),3,FALSE)),"") | AH12: =IFERROR(1/(1/VLOOKUP($A12,INDIRECT("'"&VLOOKUP(AH$8,Helper!$A$1:$B$8,2,FALSE)&"'!A9:U200"),3,FALSE)),"") | AI12: =MIN(COUNTIF($AA12:AA12,">0"),4) | AJ12: =MIN(COUNTIF($AA12:AB12,">0"),4) | AK12: =MIN(COUNTIF($AA12:AC12,">0"),4) | AL12: =MIN(COUNTIF($AA12:AD12,">0"),4) | AM12: =MIN(COUNTIF($AA12:AE12,">0"),4) | AN12: =MIN(COUNTIF($AA12:AF12,">0"),4) | AO12: =MIN(COUNTIF($AA12:AG12,">0"),4) | AP12: =COUNTIF($AA12:AH12,">0") | AQ12: =IFERROR(1/(1/VLOOKUP($A12,INDIRECT("'"&VLOOKUP(AQ$8,Helper!$A$1:$B$8,2,FALSE)&"'!A9:U200"),4,FALSE)),"") | AR12: =IFERROR(1/(1/VLOOKUP($A12,INDIRECT("'"&VLOOKUP(AR$8,Helper!$A$1:$B$8,2,FALSE)&"'!A9:U200"),4,FALSE)),"") | AS12: =IFERROR(1/(1/VLOOKUP($A12,INDIRECT("'"&VLOOKUP(AS$8,Helper!$A$1:$B$8,2,FALSE)&"'!A9:U200"),4,FALSE)),"") | AT12: =IFERROR(1/(1/VLOOKUP($A12,INDIRECT("'"&VLOOKUP(AT$8,Helper!$A$1:$B$8,2,FALSE)&"'!A9:U200"),4,FALSE)),"") | AU12: =IFERROR(1/(1/VLOOKUP($A12,INDIRECT("'"&VLOOKUP(AU$8,Helper!$A$1:$B$8,2,FALSE)&"'!A9:U200"),4,FALSE)),"") | AV12: =IFERROR(1/(1/VLOOKUP($A12,INDIRECT("'"&VLOOKUP(AV$8,Helper!$A$1:$B$8,2,FALSE)&"'!A9:U200"),4,FALSE)),"") | AW12: =IFERROR(1/(1/VLOOKUP($A12,INDIRECT("'"&VLOOKUP(AW$8,Helper!$A$1:$B$8,2,FALSE)&"'!A9:U200"),4,FALSE)),"") | AX12: =IFERROR(1/(1/VLOOKUP($A12,INDIRECT("'"&VLOOKUP(AX$8,Helper!$A$1:$B$8,2,FALSE)&"'!A9:U200"),4,FALSE)),"") | AY12: =MIN(COUNTIF($AQ12:AQ12,">0"),4) | AZ12: =MIN(COUNTIF($AQ12:AR12,">0"),4) | BA12: =MIN(COUNTIF($AQ12:AS12,">0"),4) | BB12: =MIN(COUNTIF($AQ12:AT12,">0"),4) | BC12: =MIN(COUNTIF($AQ12:AU12,">0"),4) | BD12: =MIN(COUNTIF($AQ12:AV12,">0"),4) | BE12: =MIN(COUNTIF($AQ12:AW12,">0"),4) | BF12: =MIN(COUNTIF($AQ12:AX12,">0"),4)
A13: BETTRIDGE, Mr [Person_4] | B13: [Person_5] | C13: =IFERROR(MIN(AA13:INDEX(AA13:AH13,MATCH(4,AI13:AP13,0))),"") | D13: =IFERROR(MIN(AQ13:INDEX(AQ13:AX13,MATCH(4,AY13:BF13,0))),"") | Y13: =8-SUMPRODUCT(--(MOD((COLUMN(Z13:EH13)-2)/23,1)=0),--(ISNUMBER(SEARCH(" dnp "," "&Z13:EH13&" ")))) | AA13: =IFERROR(1/(1/VLOOKUP($A13,INDIRECT("'"&VLOOKUP(AA$8,Helper!$A$1:$B$8,2,FALSE)&"'!A9:U200"),3,FALSE)),"") | AB13: =IFERROR(1/(1/VLOOKUP($A13,INDIRECT("'"&VLOOKUP(AB$8,Helper!$A$1:$B$8,2,FALSE)&"'!A9:U200"),3,FALSE)),"") | AC13: =IFERROR(1/(1/VLOOKUP($A13,INDIRECT("'"&VLOOKUP(AC$8,Helper!$A$1:$B$8,2,FALSE)&"'!A9:U200"),3,FALSE)),"") | AD13: =IFERROR(1/(1/VLOOKUP($A13,INDIRECT("'"&VLOOKUP(AD$8,Helper!$A$1:$B$8,2,FALSE)&"'!A9:U200"),3,FALSE)),"") | AE13: =IFERROR(1/(1/VLOOKUP($A13,INDIRECT("'"&VLOOKUP(AE$8,Helper!$A$1:$B$8,2,FALSE)&"'!A9:U200"),3,FALSE)),"") | AF13: =IFERROR(1/(1/VLOOKUP($A13,INDIRECT("'"&VLOOKUP(AF$8,Helper!$A$1:$B$8,2,FALSE)&"'!A9:U200"),3,FALSE)),"") | AG13: =IFERROR(1/(1/VLOOKUP($A13,INDIRECT("'"&VLOOKUP(AG$8,Helper!$A$1:$B$8,2,FALSE)&"'!A9:U200"),3,FALSE)),"") | AH13: =IFERROR(1/(1/VLOOKUP($A13,INDIRECT("'"&VLOOKUP(AH$8,Helper!$A$1:$B$8,2,FALSE)&"'!A9:U200"),3,FALSE)),"") | AI13: =MIN(COUNTIF($AA13:AA13,">0"),4) | AJ13: =MIN(COUNTIF($AA13:AB13,">0"),4) | AK13: =MIN(COUNTIF($AA13:AC13,">0"),4) | AL13: =MIN(COUNTIF($AA13:AD13,">0"),4) | AM13: =MIN(COUNTIF($AA13:AE13,">0"),4) | AN13: =MIN(COUNTIF($AA13:AF13,">0"),4) | AO13: =MIN(COUNTIF($AA13:AG13,">0"),4) | AP13: =COUNTIF($AA13:AH13,">0") | AQ13: =IFERROR(1/(1/VLOOKUP($A13,INDIRECT("'"&VLOOKUP(AQ$8,Helper!$A$1:$B$8,2,FALSE)&"'!A9:U200"),4,FALSE)),"") | AR13: =IFERROR(1/(1/VLOOKUP($A13,INDIRECT("'"&VLOOKUP(AR$8,Helper!$A$1:$B$8,2,FALSE)&"'!A9:U200"),4,FALSE)),"") | AS13: =IFERROR(1/(1/VLOOKUP($A13,INDIRECT("'"&VLOOKUP(AS$8,Helper!$A$1:$B$8,2,FALSE)&"'!A9:U200"),4,FALSE)),"") | AT13: =IFERROR(1/(1/VLOOKUP($A13,INDIRECT("'"&VLOOKUP(AT$8,Helper!$A$1:$B$8,2,FALSE)&"'!A9:U200"),4,FALSE)),"") | AU13: =IFERROR(1/(1/VLOOKUP($A13,INDIRECT("'"&VLOOKUP(AU$8,Helper!$A$1:$B$8,2,FALSE)&"'!A9:U200"),4,FALSE)),"") | AV13: =IFERROR(1/(1/VLOOKUP($A13,INDIRECT("'"&VLOOKUP(AV$8,Helper!$A$1:$B$8,2,FALSE)&"'!A9:U200"),4,FALSE)),"") | AW13: =IFERROR(1/(1/VLOOKUP($A13,INDIRECT("'"&VLOOKUP(AW$8,Helper!$A$1:$B$8,2,FALSE)&"'!A9:U200"),4,FALSE)),"") | AX13: =IFERROR(1/(1/VLOOKUP($A13,INDIRECT("'"&VLOOKUP(AX$8,Helper!$A$1:$B$8,2,FALSE)&"'!A9:U200"),4,FALSE)),"") | AY13: =MIN(COUNTIF($AQ13:AQ13,">0"),4) | AZ13: =MIN(COUNTIF($AQ13:AR13,">0"),4) | BA13: =MIN(COUNTIF($AQ13:AS13,">0"),4) | BB13: =MIN(COUNTIF($AQ13:AT13,">0"),4) | BC13: =MIN(COUNTIF($AQ13:AU13,">0"),4) | BD13: =MIN(COUNTIF($AQ13:AV13,">0"),4) | BE13: =MIN(COUNTIF($AQ13:AW13,">0"),4) | BF13: =MIN(COUNTIF($AQ13:AX13,">0"),4)
A14: BLYTHE, Mr [Person_6] | B14: M:003101 | C14: =IFERROR(MIN(AA14:INDEX(AA14:AH14,MATCH(4,AI14:AP14,0))),"") | D14: =IFERROR(MIN(AQ14:INDEX(AQ14:AX14,MATCH(4,AY14:BF14,0))),"") | Y14: =8-SUMPRODUCT(--(MOD((COLUMN(Z14:EH14)-2)/23,1)=0),--(ISNUMBER(SEARCH(" dnp "," "&Z14:EH14&" ")))) | AA14: =IFERROR(1/(1/VLOOKUP($A14,INDIRECT("'"&VLOOKUP(AA$8,Helper!$A$1:$B$8,2,FALSE)&"'!A9:U200"),3,FALSE)),"") | AB14: =IFERROR(1/(1/VLOOKUP($A14,INDIRECT("'"&VLOOKUP(AB$8,Helper!$A$1:$B$8,2,FALSE)&"'!A9:U200"),3,FALSE)),"") | AC14: =IFERROR(1/(1/VLOOKUP($A14,INDIRECT("'"&VLOOKUP(AC$8,Helper!$A$1:$B$8,2,FALSE)&"'!A9:U200"),3,FALSE)),"") | AD14: =IFERROR(1/(1/VLOOKUP($A14,INDIRECT("'"&VLOOKUP(AD$8,Helper!$A$1:$B$8,2,FALSE)&"'!A9:U200"),3,FALSE)),"") | AE14: =IFERROR(1/(1/VLOOKUP($A14,INDIRECT("'"&VLOOKUP(AE$8,Helper!$A$1:$B$8,2,FALSE)&"'!A9:U200"),3,FALSE)),"") | AF14: =IFERROR(1/(1/VLOOKUP($A14,INDIRECT("'"&VLOOKUP(AF$8,Helper!$A$1:$B$8,2,FALSE)&"'!A9:U200"),3,FALSE)),"") | AG14: =IFERROR(1/(1/VLOOKUP($A14,INDIRECT("'"&VLOOKUP(AG$8,Helper!$A$1:$B$8,2,FALSE)&"'!A9:U200"),3,FALSE)),"") | AH14: =IFERROR(1/(1/VLOOKUP($A14,INDIRECT("'"&VLOOKUP(AH$8,Helper!$A$1:$B$8,2,FALSE)&"'!A9:U200"),3,FALSE)),"") | AI14: =MIN(COUNTIF($AA14:AA14,">0"),4) | AJ14: =MIN(COUNTIF($AA14:AB14,">0"),4) | AK14: =MIN(COUNTIF($AA14:AC14,">0"),4) | AL14: =MIN(COUNTIF($AA14:AD14,">0"),4) | AM14: =MIN(COUNTIF($AA14:AE14,">0"),4) | AN14: =MIN(COUNTIF($AA14:AF14,">0"),4) | AO14: =MIN(COUNTIF($AA14:AG14,">0"),4) | AP14: =COUNTIF($AA14:AH14,">0") | AQ14: =IFERROR(1/(1/VLOOKUP($A14,INDIRECT("'"&VLOOKUP(AQ$8,Helper!$A$1:$B$8,2,FALSE)&"'!A9:U200"),4,FALSE)),"") | AR14: =IFERROR(1/(1/VLOOKUP($A14,INDIRECT("'"&VLOOKUP(AR$8,Helper!$A$1:$B$8,2,FALSE)&"'!A9:U200"),4,FALSE)),"") | AS14: =IFERROR(1/(1/VLOOKUP($A14,INDIRECT("'"&VLOOKUP(AS$8,Helper!$A$1:$B$8,2,FALSE)&"'!A9:U200"),4,FALSE)),"") | AT14: =IFERROR(1/(1/VLOOKUP($A14,INDIRECT("'"&VLOOKUP(AT$8,Helper!$A$1:$B$8,2,FALSE)&"'!A9:U200"),4,FALSE)),"") | AU14: =IFERROR(1/(1/VLOOKUP($A14,INDIRECT("'"&VLOOKUP(AU$8,Helper!$A$1:$B$8,2,FALSE)&"'!A9:U200"),4,FALSE)),"") | AV14: =IFERROR(1/(1/VLOOKUP($A14,INDIRECT("'"&VLOOKUP(AV$8,Helper!$A$1:$B$8,2,FALSE)&"'!A9:U200"),4,FALSE)),"") | AW14: =IFERROR(1/(1/VLOOKUP($A14,INDIRECT("'"&VLOOKUP(AW$8,Helper!$A$1:$B$8,2,FALSE)&"'!A9:U200"),4,FALSE)),"") | AX14: =IFERROR(1/(1/VLOOKUP($A14,INDIRECT("'"&VLOOKUP(AX$8,Helper!$A$1:$B$8,2,FALSE)&"'!A9:U200"),4,FALSE)),"") | AY14: =MIN(COUNTIF($AQ14:AQ14,">0"),4) | AZ14: =MIN(COUNTIF($AQ14:AR14,">0"),4) | BA14: =MIN(COUNTIF($AQ14:AS14,">0"),4) | BB14: =MIN(COUNTIF($AQ14:AT14,">0"),4) | BC14: =MIN(COUNTIF($AQ14:AU14,">0"),4) | BD14: =MIN(COUNTIF($AQ14:AV14,">0"),4) | BE14: =MIN(COUNTIF($AQ14:AW14,">0"),4) | BF14: =MIN(COUNTIF($AQ14:AX14,">0"),4)
A15: BLYTHE, Mr [Person_7] | B15: M:003027 | C15: =IFERROR(MIN(AA15:INDEX(AA15:AH15,MATCH(4,AI15:AP15,0))),"") | D15: =IFERROR(MIN(AQ15:INDEX(AQ15:AX15,MATCH(4,AY15:BF15,0))),"") | Y15: =8-SUMPRODUCT(--(MOD((COLUMN(Z15:EH15)-2)/23,1)=0),--(ISNUMBER(SEARCH(" dnp "," "&Z15:EH15&" ")))) | AA15: =IFERROR(1/(1/VLOOKUP($A15,INDIRECT("'"&VLOOKUP(AA$8,Helper!$A$1:$B$8,2,FALSE)&"'!A9:U200"),3,FALSE)),"") | AB15: =IFERROR(1/(1/VLOOKUP($A15,INDIRECT("'"&VLOOKUP(AB$8,Helper!$A$1:$B$8,2,FALSE)&"'!A9:U200"),3,FALSE)),"") | AC15: =IFERROR(1/(1/VLOOKUP($A15,INDIRECT("'"&VLOOKUP(AC$8,Helper!$A$1:$B$8,2,FALSE)&"'!A9:U200"),3,FALSE)),"") | AD15: =IFERROR(1/(1/VLOOKUP($A15,INDIRECT("'"&VLOOKUP(AD$8,Helper!$A$1:$B$8,2,FALSE)&"'!A9:U200"),3,FALSE)),"") | AE15: =IFERROR(1/(1/VLOOKUP($A15,INDIRECT("'"&VLOOKUP(AE$8,Helper!$A$1:$B$8,2,FALSE)&"'!A9:U200"),3,FALSE)),"") | AF15: =IFERROR(1/(1/VLOOKUP($A15,INDIRECT("'"&VLOOKUP(AF$8,Helper!$A$1:$B$8,2,FALSE)&"'!A9:U200"),3,FALSE)),"") | AG15: =IFERROR(1/(1/VLOOKUP($A15,INDIRECT("'"&VLOOKUP(AG$8,Helper!$A$1:$B$8,2,FALSE)&"'!A9:U200"),3,FALSE)),"") | AH15: =IFERROR(1/(1/VLOOKUP($A15,INDIRECT("'"&VLOOKUP(AH$8,Helper!$A$1:$B$8,2,FALSE)&"'!A9:U200"),3,FALSE)),"") | AI15: =MIN(COUNTIF($AA15:AA15,">0"),4) | AJ15: =MIN(COUNTIF($AA15:AB15,">0"),4) | AK15: =MIN(COUNTIF($AA15:AC15,">0"),4) | AL15: =MIN(COUNTIF($AA15:AD15,">0"),4) | AM15: =MIN(COUNTIF($AA15:AE15,">0"),4) | AN15: =MIN(COUNTIF($AA15:AF15,">0"),4) | AO15: =MIN(COUNTIF($AA15:AG15,">0"),4) | AP15: =COUNTIF($AA15:AH15,">0") | AQ15: =IFERROR(1/(1/VLOOKUP($A15,INDIRECT("'"&VLOOKUP(AQ$8,Helper!$A$1:$B$8,2,FALSE)&"'!A9:U200"),4,FALSE)),"") | AR15: =IFERROR(1/(1/VLOOKUP($A15,INDIRECT("'"&VLOOKUP(AR$8,Helper!$A$1:$B$8,2,FALSE)&"'!A9:U200"),4,FALSE)),"") | AS15: =IFERROR(1/(1/VLOOKUP($A15,INDIRECT("'"&VLOOKUP(AS$8,Helper!$A$1:$B$8,2,FALSE)&"'!A9:U200"),4,FALSE)),"") | AT15: =IFERROR(1/(1/VLOOKUP($A15,INDIRECT("'"&VLOOKUP(AT$8,Helper!$A$1:$B$8,2,FALSE)&"'!A9:U200"),4,FALSE)),"") | AU15: =IFERROR(1/(1/VLOOKUP($A15,INDIRECT("'"&VLOOKUP(AU$8,Helper!$A$1:$B$8,2,FALSE)&"'!A9:U200"),4,FALSE)),"") | AV15: =IFERROR(1/(1/VLOOKUP($A15,INDIRECT("'"&VLOOKUP(AV$8,Helper!$A$1:$B$8,2,FALSE)&"'!A9:U200"),4,FALSE)),"") | AW15: =IFERROR(1/(1/VLOOKUP($A15,INDIRECT("'"&VLOOKUP(AW$8,Helper!$A$1:$B$8,2,FALSE)&"'!A9:U200"),4,FALSE)),"") | AX15: =IFERROR(1/(1/VLOOKUP($A15,INDIRECT("'"&VLOOKUP(AX$8,Helper!$A$1:$B$8,2,FALSE)&"'!A9:U200"),4,FALSE)),"") | AY15: =MIN(COUNTIF($AQ15:AQ15,">0"),4) | AZ15: =MIN(COUNTIF($AQ15:AR15,">0"),4) | BA15: =MIN(COUNTIF($AQ15:AS15,">0"),4) | BB15: =MIN(COUNTIF($AQ15:AT15,">0"),4) | BC15: =MIN(COUNTIF($AQ15:AU15,">0"),4) | BD15: =MIN(COUNTIF($AQ15:AV15,">0"),4) | BE15: =MIN(COUNTIF($AQ15:AW15,">0"),4) | BF15: =MIN(COUNTIF($AQ15:AX15,">0"),4)
A16: [Person_8], Mr [Person_9] | B16: M:003395 | C16: =IFERROR(MIN(AA16:INDEX(AA16:AH16,MATCH(4,AI16:AP16,0))),"") | D16: =IFERROR(MIN(AQ16:INDEX(AQ16:AX16,MATCH(4,AY16:BF16,0))),"") | Y16: =8-SUMPRODUCT(--(MOD((COLUMN(Z16:EH16)-2)/23,1)=0),--(ISNUMBER(SEARCH(" dnp "," "&Z16:EH16&" ")))) | AA16: =IFERROR(1/(1/VLOOKUP($A16,INDIRECT("'"&VLOOKUP(AA$8,Helper!$A$1:$B$8,2,FALSE)&"'!A9:U200"),3,FALSE)),"") | AB16: =IFERROR(1/(1/VLOOKUP($A16,INDIRECT("'"&VLOOKUP(AB$8,Helper!$A$1:$B$8,2,FALSE)&"'!A9:U200"),3,FALSE)),"") | AC16: =IFERROR(1/(1/VLOOKUP($A16,INDIRECT("'"&VLOOKUP(AC$8,Helper!$A$1:$B$8,2,FALSE)&"'!A9:U200"),3,FALSE)),"") | AD16: =IFERROR(1/(1/VLOOKUP($A16,INDIRECT("'"&VLOOKUP(AD$8,Helper!$A$1:$B$8,2,FALSE)&"'!A9:U200"),3,FALSE)),"") | AE16: =IFERROR(1/(1/VLOOKUP($A16,INDIRECT("'"&VLOOKUP(AE$8,Helper!$A$1:$B$8,2,FALSE)&"'!A9:U200"),3,FALSE)),"") | AF16: =IFERROR(1/(1/VLOOKUP($A16,INDIRECT("'"&VLOOKUP(AF$8,Helper!$A$1:$B$8,2,FALSE)&"'!A9:U200"),3,FALSE)),"") | AG16: =IFERROR(1/(1/VLOOKUP($A16,INDIRECT("'"&VLOOKUP(AG$8,Helper!$A$1:$B$8,2,FALSE)&"'!A9:U200"),3,FALSE)),"") | AH16: =IFERROR(1/(1/VLOOKUP($A16,INDIRECT("'"&VLOOKUP(AH$8,Helper!$A$1:$B$8,2,FALSE)&"'!A9:U200"),3,FALSE)),"") | AI16: =MIN(COUNTIF($AA16:AA16,">0"),4) | AJ16: =MIN(COUNTIF($AA16:AB16,">0"),4) | AK16: =MIN(COUNTIF($AA16:AC16,">0"),4) | AL16: =MIN(COUNTIF($AA16:AD16,">0"),4) | AM16: =MIN(COUNTIF($AA16:AE16,">0"),4) | AN16: =MIN(COUNTIF($AA16:AF16,">0"),4) | AO16: =MIN(COUNTIF($AA16:AG16,">0"),4) | AP16: =COUNTIF($AA16:AH16,">0") | AQ16: =IFERROR(1/(1/VLOOKUP($A16,INDIRECT("'"&VLOOKUP(AQ$8,Helper!$A$1:$B$8,2,FALSE)&"'!A9:U200"),4,FALSE)),"") | AR16: =IFERROR(1/(1/VLOOKUP($A16,INDIRECT("'"&VLOOKUP(AR$8,Helper!$A$1:$B$8,2,FALSE)&"'!A9:U200"),4,FALSE)),"") | AS16: =IFERROR(1/(1/VLOOKUP($A16,INDIRECT("'"&VLOOKUP(AS$8,Helper!$A$1:$B$8,2,FALSE)&"'!A9:U200"),4,FALSE)),"") | AT16: =IFERROR(1/(1/VLOOKUP($A16,INDIRECT("'"&VLOOKUP(AT$8,Helper!$A$1:$B$8,2,FALSE)&"'!A9:U200"),4,FALSE)),"") | AU16: =IFERROR(1/(1/VLOOKUP($A16,INDIRECT("'"&VLOOKUP(AU$8,Helper!$A$1:$B$8,2,FALSE)&"'!A9:U200"),4,FALSE)),"") | AV16: =IFERROR(1/(1/VLOOKUP($A16,INDIRECT("'"&VLOOKUP(AV$8,Helper!$A$1:$B$8,2,FALSE)&"'!A9:U200"),4,FALSE)),"") | AW16: =IFERROR(1/(1/VLOOKUP($A16,INDIRECT("'"&VLOOKUP(AW$8,Helper!$A$1:$B$8,2,FALSE)&"'!A9:U200"),4,FALSE)),"") | AX16: =IFERROR(1/(1/VLOOKUP($A16,INDIRECT("'"&VLOOKUP(AX$8,Helper!$A$1:$B$8,2,FALSE)&"'!A9:U200"),4,FALSE)),"") | AY16: =MIN(COUNTIF($AQ16:AQ16,">0"),4) | AZ16: =MIN(COUNTIF($AQ16:AR16,">0"),4) | BA16: =MIN(COUNTIF($AQ16:AS16,">0"),4) | BB16: =MIN(COUNTIF($AQ16:AT16,">0"),4) | BC16: =MIN(COUNTIF($AQ16:AU16,">0"),4) | BD16: =MIN(COUNTIF($AQ16:AV16,">0"),4) | BE16: =MIN(COUNTIF($AQ16:AW16,">0"),4) | BF16: =MIN(COUNTIF($AQ16:AX16,">0"),4)
A17: Brew, Mr [Person_10] | B17: M:000298 | C17: =IFERROR(MIN(AA17:INDEX(AA17:AH17,MATCH(4,AI17:AP17,0))),"") | D17: =IFERROR(MIN(AQ17:INDEX(AQ17:AX17,MATCH(4,AY17:BF17,0))),"") | Y17: =8-SUMPRODUCT(--(MOD((COLUMN(Z17:EH17)-2)/23,1)=0),--(ISNUMBER(SEARCH(" dnp "," "&Z17:EH17&" ")))) | AA17: =IFERROR(1/(1/VLOOKUP($A17,INDIRECT("'"&VLOOKUP(AA$8,Helper!$A$1:$B$8,2,FALSE)&"'!A9:U200"),3,FALSE)),"") | AB17: =IFERROR(1/(1/VLOOKUP($A17,INDIRECT("'"&VLOOKUP(AB$8,Helper!$A$1:$B$8,2,FALSE)&"'!A9:U200"),3,FALSE)),"") | AC17: =IFERROR(1/(1/VLOOKUP($A17,INDIRECT("'"&VLOOKUP(AC$8,Helper!$A$1:$B$8,2,FALSE)&"'!A9:U200"),3,FALSE)),"") | AD17: =IFERROR(1/(1/VLOOKUP($A17,INDIRECT("'"&VLOOKUP(AD$8,Helper!$A$1:$B$8,2,FALSE)&"'!A9:U200"),3,FALSE)),"") | AE17: =IFERROR(1/(1/VLOOKUP($A17,INDIRECT("'"&VLOOKUP(AE$8,Helper!$A$1:$B$8,2,FALSE)&"'!A9:U200"),3,FALSE)),"") | AF17: =IFERROR(1/(1/VLOOKUP($A17,INDIRECT("'"&VLOOKUP(AF$8,Helper!$A$1:$B$8,2,FALSE)&"'!A9:U200"),3,FALSE)),"") | AG17: =IFERROR(1/(1/VLOOKUP($A17,INDIRECT("'"&VLOOKUP(AG$8,Helper!$A$1:$B$8,2,FALSE)&"'!A9:U200"),3,FALSE)),"") | AH17: =IFERROR(1/(1/VLOOKUP($A17,INDIRECT("'"&VLOOKUP(AH$8,Helper!$A$1:$B$8,2,FALSE)&"'!A9:U200"),3,FALSE)),"") | AI17: =MIN(COUNTIF($AA17:AA17,">0"),4) | AJ17: =MIN(COUNTIF($AA17:AB17,">0"),4) | AK17: =MIN(COUNTIF($AA17:AC17,">0"),4) | AL17: =MIN(COUNTIF($AA17:AD17,">0"),4) | AM17: =MIN(COUNTIF($AA17:AE17,">0"),4) | AN17: =MIN(COUNTIF($AA17:AF17,">0"),4) | AO17: =MIN(COUNTIF($AA17:AG17,">0"),4) | AP17: =COUNTIF($AA17:AH17,">0") | AQ17: =IFERROR(1/(1/VLOOKUP($A17,INDIRECT("'"&VLOOKUP(AQ$8,Helper!$A$1:$B$8,2,FALSE)&"'!A9:U200"),4,FALSE)),"") | AR17: =IFERROR(1/(1/VLOOKUP($A17,INDIRECT("'"&VLOOKUP(AR$8,Helper!$A$1:$B$8,2,FALSE)&"'!A9:U200"),4,FALSE)),"") | AS17: =IFERROR(1/(1/VLOOKUP($A17,INDIRECT("'"&VLOOKUP(AS$8,Helper!$A$1:$B$8,2,FALSE)&"'!A9:U200"),4,FALSE)),"") | AT17: =IFERROR(1/(1/VLOOKUP($A17,INDIRECT("'"&VLOOKUP(AT$8,Helper!$A$1:$B$8,2,FALSE)&"'!A9:U200"),4,FALSE)),"") | AU17: =IFERROR(1/(1/VLOOKUP($A17,INDIRECT("'"&VLOOKUP(AU$8,Helper!$A$1:$B$8,2,FALSE)&"'!A9:U200"),4,FALSE)),"") | AV17: =IFERROR(1/(1/VLOOKUP($A17,INDIRECT("'"&VLOOKUP(AV$8,Helper!$A$1:$B$8,2,FALSE)&"'!A9:U200"),4,FALSE)),"") | AW17: =IFERROR(1/(1/VLOOKUP($A17,INDIRECT("'"&VLOOKUP(AW$8,Helper!$A$1:$B$8,2,FALSE)&"'!A9:U200"),4,FALSE)),"") | AX17: =IFERROR(1/(1/VLOOKUP($A17,INDIRECT("'"&VLOOKUP(AX$8,Helper!$A$1:$B$8,2,FALSE)&"'!A9:U200"),4,FALSE)),"") | AY17: =MIN(COUNTIF($AQ17:AQ17,">0"),4) | AZ17: =MIN(COUNTIF($AQ17:AR17,">0"),4) | BA17: =MIN(COUNTIF($AQ17:AS17,">0"),4) | BB17: =MIN(COUNTIF($AQ17:AT17,">0"),4) | BC17: =MIN(COUNTIF($AQ17:AU17,">0"),4) | BD17: =MIN(COUNTIF($AQ17:AV17,">0"),4) | BE17: =MIN(COUNTIF($AQ17:AW17,">0"),4) | BF17: =MIN(COUNTIF($AQ17:AX17,">0"),4)
A18: BULL, Mr [Person_11] | B18: M:002744 | C18: =IFERROR(MIN(AA18:INDEX(AA18:AH18,MATCH(4,AI18:AP18,0))),"") | D18: =IFERROR(MIN(AQ18:INDEX(AQ18:AX18,MATCH(4,AY18:BF18,0))),"") | Y18: =8-SUMPRODUCT(--(MOD((COLUMN(Z18:EH18)-2)/23,1)=0),--(ISNUMBER(SEARCH(" dnp "," "&Z18:EH18&" ")))) | AA18: =IFERROR(1/(1/VLOOKUP($A18,INDIRECT("'"&VLOOKUP(AA$8,Helper!$A$1:$B$8,2,FALSE)&"'!A9:U200"),3,FALSE)),"") | AB18: =IFERROR(1/(1/VLOOKUP($A18,INDIRECT("'"&VLOOKUP(AB$8,Helper!$A$1:$B$8,2,FALSE)&"'!A9:U200"),3,FALSE)),"") | AC18: =IFERROR(1/(1/VLOOKUP($A18,INDIRECT("'"&VLOOKUP(AC$8,Helper!$A$1:$B$8,2,FALSE)&"'!A9:U200"),3,FALSE)),"") | AD18: =IFERROR(1/(1/VLOOKUP($A18,INDIRECT("'"&VLOOKUP(AD$8,Helper!$A$1:$B$8,2,FALSE)&"'!A9:U200"),3,FALSE)),"") | AE18: =IFERROR(1/(1/VLOOKUP($A18,INDIRECT("'"&VLOOKUP(AE$8,Helper!$A$1:$B$8,2,FALSE)&"'!A9:U200"),3,FALSE)),"") | AF18: =IFERROR(1/(1/VLOOKUP($A18,INDIRECT("'"&VLOOKUP(AF$8,Helper!$A$1:$B$8,2,FALSE)&"'!A9:U200"),3,FALSE)),"") | AG18: =IFERROR(1/(1/VLOOKUP($A18,INDIRECT("'"&VLOOKUP(AG$8,Helper!$A$1:$B$8,2,FALSE)&"'!A9:U200"),3,FALSE)),"") | AH18: =IFERROR(1/(1/VLOOKUP($A18,INDIRECT("'"&VLOOKUP(AH$8,Helper!$A$1:$B$8,2,FALSE)&"'!A9:U200"),3,FALSE)),"") | AI18: =MIN(COUNTIF($AA18:AA18,">0"),4) | AJ18: =MIN(COUNTIF($AA18:AB18,">0"),4) | AK18: =MIN(COUNTIF($AA18:AC18,">0"),4) | AL18: =MIN(COUNTIF($AA18:AD18,">0"),4) | AM18: =MIN(COUNTIF($AA18:AE18,">0"),4) | AN18: =MIN(COUNTIF($AA18:AF18,">0"),4) | AO18: =MIN(COUNTIF($AA18:AG18,">0"),4) | AP18: =COUNTIF($AA18:AH18,">0") | AQ18: =IFERROR(1/(1/VLOOKUP($A18,INDIRECT("'"&VLOOKUP(AQ$8,Helper!$A$1:$B$8,2,FALSE)&"'!A9:U200"),4,FALSE)),"") | AR18: =IFERROR(1/(1/VLOOKUP($A18,INDIRECT("'"&VLOOKUP(AR$8,Helper!$A$1:$B$8,2,FALSE)&"'!A9:U200"),4,FALSE)),"") | AS18: =IFERROR(1/(1/VLOOKUP($A18,INDIRECT("'"&VLOOKUP(AS$8,Helper!$A$1:$B$8,2,FALSE)&"'!A9:U200"),4,FALSE)),"") | AT18: =IFERROR(1/(1/VLOOKUP($A18,INDIRECT("'"&VLOOKUP(AT$8,Helper!$A$1:$B$8,2,FALSE)&"'!A9:U200"),4,FALSE)),"") | AU18: =IFERROR(1/(1/VLOOKUP($A18,INDIRECT("'"&VLOOKUP(AU$8,Helper!$A$1:$B$8,2,FALSE)&"'!A9:U200"),4,FALSE)),"") | AV18: =IFERROR(1/(1/VLOOKUP($A18,INDIRECT("'"&VLOOKUP(AV$8,Helper!$A$1:$B$8,2,FALSE)&"'!A9:U200"),4,FALSE)),"") | AW18: =IFERROR(1/(1/VLOOKUP($A18,INDIRECT("'"&VLOOKUP(AW$8,Helper!$A$1:$B$8,2,FALSE)&"'!A9:U200"),4,FALSE)),"") | AX18: =IFERROR(1/(1/VLOOKUP($A18,INDIRECT("'"&VLOOKUP(AX$8,Helper!$A$1:$B$8,2,FALSE)&"'!A9:U200"),4,FALSE)),"") | AY18: =MIN(COUNTIF($AQ18:AQ18,">0"),4) | AZ18: =MIN(COUNTIF($AQ18:AR18,">0"),4) | BA18: =MIN(COUNTIF($AQ18:AS18,">0"),4) | BB18: =MIN(COUNTIF($AQ18:AT18,">0"),4) | BC18: =MIN(COUNTIF($AQ18:AU18,">0"),4) | BD18: =MIN(COUNTIF($AQ18:AV18,">0"),4) | BE18: =MIN(COUNTIF($AQ18:AW18,">0"),4) | BF18: =MIN(COUNTIF($AQ18:AX18,">0"),4)
A19: BURNIE, Mr [Person_12] | B19: M:002536 | C19: =IFERROR(MIN(AA19:INDEX(AA19:AH19,MATCH(4,AI19:AP19,0))),"") | D19: =IFERROR(MIN(AQ19:INDEX(AQ19:AX19,MATCH(4,AY19:BF19,0))),"") | Y19: =8-SUMPRODUCT(--(MOD((COLUMN(Z19:EH19)-2)/23,1)=0),--(ISNUMBER(SEARCH(" dnp "," "&Z19:EH19&" ")))) | AA19: =IFERROR(1/(1/VLOOKUP($A19,INDIRECT("'"&VLOOKUP(AA$8,Helper!$A$1:$B$8,2,FALSE)&"'!A9:U200"),3,FALSE)),"") | AB19: =IFERROR(1/(1/VLOOKUP($A19,INDIRECT("'"&VLOOKUP(AB$8,Helper!$A$1:$B$8,2,FALSE)&"'!A9:U200"),3,FALSE)),"") | AC19: =IFERROR(1/(1/VLOOKUP($A19,INDIRECT("'"&VLOOKUP(AC$8,Helper!$A$1:$B$8,2,FALSE)&"'!A9:U200"),3,FALSE)),"") | AD19: =IFERROR(1/(1/VLOOKUP($A19,INDIRECT("'"&VLOOKUP(AD$8,Helper!$A$1:$B$8,2,FALSE)&"'!A9:U200"),3,FALSE)),"") | AE19: =IFERROR(1/(1/VLOOKUP($A19,INDIRECT("'"&VLOOKUP(AE$8,Helper!$A$1:$B$8,2,FALSE)&"'!A9:U200"),3,FALSE)),"") | AF19: =IFERROR(1/(1/VLOOKUP($A19,INDIRECT("'"&VLOOKUP(AF$8,Helper!$A$1:$B$8,2,FALSE)&"'!A9:U200"),3,FALSE)),"") | AG19: =IFERROR(1/(1/VLOOKUP($A19,INDIRECT("'"&VLOOKUP(AG$8,Helper!$A$1:$B$8,2,FALSE)&"'!A9:U200"),3,FALSE)),"") | AH19: =IFERROR(1/(1/VLOOKUP($A19,INDIRECT("'"&VLOOKUP(AH$8,Helper!$A$1:$B$8,2,FALSE)&"'!A9:U200"),3,FALSE)),"") | AI19: =MIN(COUNTIF($AA19:AA19,">0"),4) | AJ19: =MIN(COUNTIF($AA19:AB19,">0"),4) | AK19: =MIN(COUNTIF($AA19:AC19,">0"),4) | AL19: =MIN(COUNTIF($AA19:AD19,">0"),4) | AM19: =MIN(COUNTIF($AA19:AE19,">0"),4) | AN19: =MIN(COUNTIF($AA19:AF19,">0"),4) | AO19: =MIN(COUNTIF($AA19:AG19,">0"),4) | AP19: =COUNTIF($AA19:AH19,">0") | AQ19: =IFERROR(1/(1/VLOOKUP($A19,INDIRECT("'"&VLOOKUP(AQ$8,Helper!$A$1:$B$8,2,FALSE)&"'!A9:U200"),4,FALSE)),"") | AR19: =IFERROR(1/(1/VLOOKUP($A19,INDIRECT("'"&VLOOKUP(AR$8,Helper!$A$1:$B$8,2,FALSE)&"'!A9:U200"),4,FALSE)),"") | AS19: =IFERROR(1/(1/VLOOKUP($A19,INDIRECT("'"&VLOOKUP(AS$8,Helper!$A$1:$B$8,2,FALSE)&"'!A9:U200"),4,FALSE)),"") | AT19: =IFERROR(1/(1/VLOOKUP($A19,INDIRECT("'"&VLOOKUP(AT$8,Helper!$A$1:$B$8,2,FALSE)&"'!A9:U200"),4,FALSE)),"") | AU19: =IFERROR(1/(1/VLOOKUP($A19,INDIRECT("'"&VLOOKUP(AU$8,Helper!$A$1:$B$8,2,FALSE)&"'!A9:U200"),4,FALSE)),"") | AV19: =IFERROR(1/(1/VLOOKUP($A19,INDIRECT("'"&VLOOKUP(AV$8,Helper!$A$1:$B$8,2,FALSE)&"'!A9:U200"),4,FALSE)),"") | AW19: =IFERROR(1/(1/VLOOKUP($A19,INDIRECT("'"&VLOOKUP(AW$8,Helper!$A$1:$B$8,2,FALSE)&"'!A9:U200"),4,FALSE)),"") | AX19: =IFERROR(1/(1/VLOOKUP($A19,INDIRECT("'"&VLOOKUP(AX$8,Helper!$A$1:$B$8,2,FALSE)&"'!A9:U200"),4,FALSE)),"") | AY19: =MIN(COUNTIF($AQ19:AQ19,">0"),4) | AZ19: =MIN(COUNTIF($AQ19:AR19,">0"),4) | BA19: =MIN(COUNTIF($AQ19:AS19,">0"),4) | BB19: =MIN(COUNTIF($AQ19:AT19,">0"),4) | BC19: =MIN(COUNTIF($AQ19:AU19,">0"),4) | BD19: =MIN(COUNTIF($AQ19:AV19,">0"),4) | BE19: =MIN(COUNTIF($AQ19:AW19,">0"),4) | BF19: =MIN(COUNTIF($AQ19:AX19,">0"),4)
A20: [Person_13], Mr [Person_14] | B20: M:000313 | C20: =IFERROR(MIN(AA20:INDEX(AA20:AH20,MATCH(4,AI20:AP20,0))),"") | D20: =IFERROR(MIN(AQ20:INDEX(AQ20:AX20,MATCH(4,AY20:BF20,0))),"") | Y20: =8-SUMPRODUCT(--(MOD((COLUMN(Z20:EH20)-2)/23,1)=0),--(ISNUMBER(SEARCH(" dnp "," "&Z20:EH20&" ")))) | AA20: =IFERROR(1/(1/VLOOKUP($A20,INDIRECT("'"&VLOOKUP(AA$8,Helper!$A$1:$B$8,2,FALSE)&"'!A9:U200"),3,FALSE)),"") | AB20: =IFERROR(1/(1/VLOOKUP($A20,INDIRECT("'"&VLOOKUP(AB$8,Helper!$A$1:$B$8,2,FALSE)&"'!A9:U200"),3,FALSE)),"") | AC20: =IFERROR(1/(1/VLOOKUP($A20,INDIRECT("'"&VLOOKUP(AC$8,Helper!$A$1:$B$8,2,FALSE)&"'!A9:U200"),3,FALSE)),"") | AD20: =IFERROR(1/(1/VLOOKUP($A20,INDIRECT("'"&VLOOKUP(AD$8,Helper!$A$1:$B$8,2,FALSE)&"'!A9:U200"),3,FALSE)),"") | AE20: =IFERROR(1/(1/VLOOKUP($A20,INDIRECT("'"&VLOOKUP(AE$8,Helper!$A$1:$B$8,2,FALSE)&"'!A9:U200"),3,FALSE)),"") | AF20: =IFERROR(1/(1/VLOOKUP($A20,INDIRECT("'"&VLOOKUP(AF$8,Helper!$A$1:$B$8,2,FALSE)&"'!A9:U200"),3,FALSE)),"") | AG20: =IFERROR(1/(1/VLOOKUP($A20,INDIRECT("'"&VLOOKUP(AG$8,Helper!$A$1:$B$8,2,FALSE)&"'!A9:U200"),3,FALSE)),"") | AH20: =IFERROR(1/(1/VLOOKUP($A20,INDIRECT("'"&VLOOKUP(AH$8,Helper!$A$1:$B$8,2,FALSE)&"'!A9:U200"),3,FALSE)),"") | AI20: =MIN(COUNTIF($AA20:AA20,">0"),4) | AJ20: =MIN(COUNTIF($AA20:AB20,">0"),4) | AK20: =MIN(COUNTIF($AA20:AC20,">0"),4) | AL20: =MIN(COUNTIF($AA20:AD20,">0"),4) | AM20: =MIN(COUNTIF($AA20:AE20,">0"),4) | AN20: =MIN(COUNTIF($AA20:AF20,">0"),4) | AO20: =MIN(COUNTIF($AA20:AG20,">0"),4) | AP20: =COUNTIF($AA20:AH20,">0") | AQ20: =IFERROR(1/(1/VLOOKUP($A20,INDIRECT("'"&VLOOKUP(AQ$8,Helper!$A$1:$B$8,2,FALSE)&"'!A9:U200"),4,FALSE)),"") | AR20: =IFERROR(1/(1/VLOOKUP($A20,INDIRECT("'"&VLOOKUP(AR$8,Helper!$A$1:$B$8,2,FALSE)&"'!A9:U200"),4,FALSE)),"") | AS20: =IFERROR(1/(1/VLOOKUP($A20,INDIRECT("'"&VLOOKUP(AS$8,Helper!$A$1:$B$8,2,FALSE)&"'!A9:U200"),4,FALSE)),"") | AT20: =IFERROR(1/(1/VLOOKUP($A20,INDIRECT("'"&VLOOKUP(AT$8,Helper!$A$1:$B$8,2,FALSE)&"'!A9:U200"),4,FALSE)),"") | AU20: =IFERROR(1/(1/VLOOKUP($A20,INDIRECT("'"&VLOOKUP(AU$8,Helper!$A$1:$B$8,2,FALSE)&"'!A9:U200"),4,FALSE)),"") | AV20: =IFERROR(1/(1/VLOOKUP($A20,INDIRECT("'"&VLOOKUP(AV$8,Helper!$A$1:$B$8,2,FALSE)&"'!A9:U200"),4,FALSE)),"") | AW20: =IFERROR(1/(1/VLOOKUP($A20,INDIRECT("'"&VLOOKUP(AW$8,Helper!$A$1:$B$8,2,FALSE)&"'!A9:U200"),4,FALSE)),"") | AX20: =IFERROR(1/(1/VLOOKUP($A20,INDIRECT("'"&VLOOKUP(AX$8,Helper!$A$1:$B$8,2,FALSE)&"'!A9:U200"),4,FALSE)),"") | AY20: =MIN(COUNTIF($AQ20:AQ20,">0"),4) | AZ20: =MIN(COUNTIF($AQ20:AR20,">0"),4) | BA20: =MIN(COUNTIF($AQ20:AS20,">0"),4) | BB20: =MIN(COUNTIF($AQ20:AT20,">0"),4) | BC20: =MIN(COUNTIF($AQ20:AU20,">0"),4) | BD20: =MIN(COUNTIF($AQ20:AV20,">0"),4) | BE20: =MIN(COUNTIF($AQ20:AW20,">0"),4) | BF20: =MIN(COUNTIF($AQ20:AX20,">0"),4)
... A129: TODD, Mr RICHARD | B129: M:002759 | C129: =IFERROR(MIN(AA129:INDEX(AA129:AH129,MATCH(4,AI129:AP129,0))),"") | D129: =IFERROR(MIN(AQ129:INDEX(AQ129:AX129,MATCH(4,AY129:BF129,0))),"") | Y129: =8-SUMPRODUCT(--(MOD((COLUMN(Z129:EH129)-2)/23,1)=0),--(ISNUMBER(SEARCH(" dnp "," "&Z129:EH129&" ")))) | AA129: =IFERROR(1/(1/VLOOKUP($A129,INDIRECT("'"&VLOOKUP(AA$8,Helper!$A$1:$B$8,2,FALSE)&"'!A9:U200"),3,FALSE)),"") | AB129: =IFERROR(1/(1/VLOOKUP($A129,INDIRECT("'"&VLOOKUP(AB$8,Helper!$A$1:$B$8,2,FALSE)&"'!A9:U200"),3,FALSE)),"") | AC129: =IFERROR(1/(1/VLOOKUP($A129,INDIRECT("'"&VLOOKUP(AC$8,Helper!$A$1:$B$8,2,FALSE)&"'!A9:U200"),3,FALSE)),"") | AD129: =IFERROR(1/(1/VLOOKUP($A129,INDIRECT("'"&VLOOKUP(AD$8,Helper!$A$1:$B$8,2,FALSE)&"'!A9:U200"),3,FALSE)),"") | AE129: =IFERROR(1/(1/VLOOKUP($A129,INDIRECT("'"&VLOOKUP(AE$8,Helper!$A$1:$B$8,2,FALSE)&"'!A9:U200"),3,FALSE)),"") | AF129: =IFERROR(1/(1/VLOOKUP($A129,INDIRECT("'"&VLOOKUP(AF$8,Helper!$A$1:$B$8,2,FALSE)&"'!A9:U200"),3,FALSE)),"") | AG129: =IFERROR(1/(1/VLOOKUP($A129,INDIRECT("'"&VLOOKUP(AG$8,Helper!$A$1:$B$8,2,FALSE)&"'!A9:U200"),3,FALSE)),"") | AH129: =IFERROR(1/(1/VLOOKUP($A129,INDIRECT("'"&VLOOKUP(AH$8,Helper!$A$1:$B$8,2,FALSE)&"'!A9:U200"),3,FALSE)),"") | AI129: =MIN(COUNTIF($AA129:AA129,">0"),4) | AJ129: =MIN(COUNTIF($AA129:AB129,">0"),4) | AK129: =MIN(COUNTIF($AA129:AC129,">0"),4) | AL129: =MIN(COUNTIF($AA129:AD129,">0"),4) | AM129: =MIN(COUNTIF($AA129:AE129,">0"),4) | AN129: =MIN(COUNTIF($AA129:AF129,">0"),4) | AO129: =MIN(COUNTIF($AA129:AG129,">0"),4) | AP129: =COUNTIF($AA129:AH129,">0") | AQ129: =IFERROR(1/(1/VLOOKUP($A129,INDIRECT("'"&VLOOKUP(AQ$8,Helper!$A$1:$B$8,2,FALSE)&"'!A9:U200"),4,FALSE)),"") | AR129: =IFERROR(1/(1/VLOOKUP($A129,INDIRECT("'"&VLOOKUP(AR$8,Helper!$A$1:$B$8,2,FALSE)&"'!A9:U200"),4,FALSE)),"") | AS129: =IFERROR(1/(1/VLOOKUP($A129,INDIRECT("'"&VLOOKUP(AS$8,Helper!$A$1:$B$8,2,FALSE)&"'!A9:U200"),4,FALSE)),"") | AT129: =IFERROR(1/(1/VLOOKUP($A129,INDIRECT("'"&VLOOKUP(AT$8,Helper!$A$1:$B$8,2,FALSE)&"'!A9:U200"),4,FALSE)),"") | AU129: =IFERROR(1/(1/VLOOKUP($A129,INDIRECT("'"&VLOOKUP(AU$8,Helper!$A$1:$B$8,2,FALSE)&"'!A9:U200"),4,FALSE)),"") | AV129: =IFERROR(1/(1/VLOOKUP($A129,INDIRECT("'"&VLOOKUP(AV$8,Helper!$A$1:$B$8,2,FALSE)&"'!A9:U200"),4,FALSE)),"") | AW129: =IFERROR(1/(1/VLOOKUP($A129,INDIRECT("'"&VLOOKUP(AW$8,Helper!$A$1:$B$8,2,FALSE)&"'!A9:U200"),4,FALSE)),"") | AX129: =IFERROR(1/(1/VLOOKUP($A129,INDIRECT("'"&VLOOKUP(AX$8,Helper!$A$1:$B$8,2,FALSE)&"'!A9:U200"),4,FALSE)),"") | AY129: =MIN(COUNTIF($AQ129:AQ129,">0"),4) | AZ129: =MIN(COUNTIF($AQ129:AR129,">0"),4) | BA129: =MIN(COUNTIF($AQ129:AS129,">0"),4) | BB129: =MIN(COUNTIF($AQ129:AT129,">0"),4) | BC129: =MIN(COUNTIF($AQ129:AU129,">0"),4) | BD129: =MIN(COUNTIF($AQ129:AV129,">0"),4) | BE129: =MIN(COUNTIF($AQ129:AW129,">0"),4) | BF129: =MIN(COUNTIF($AQ129:AX129,">0"),4)
