Workbook
Name Annual: OFFSET(Lists!$E$2,0,0,COUNTA(Lists!$E$2:$E$225))
Name Attendances: Summary!$A$71
Name clubs: Lists!$A$2:$A$191
Name COBBLERS_ATTENDANCES_IN_EACH_SEASON: Summary!$A$71
Name Comp: ALL!$I$2:INDEX(ALL!$I:$I,ALL!$R$5350)
Name Competition: Lists!$B$2:$B$9
Name GA: ALL!$L$2:INDEX(ALL!$L:$L,ALL!$R$5350)
Name GF: ALL!$K$2:INDEX(ALL!$K:$K,ALL!$R$5350)
Name Ground: Lists!$C$2:$C$125
Name Home: Lists!$G$2:$G$3
Name Manager: OFFSET(Lists!$D$2,0,0,COUNTA(Lists!$D$2:$D26))
Name Managers: managers!$AI$3:$AR$18
Name TEAM: OFFSET(Lists!$A$2,0,0,COUNTA(Lists!$A$2:$A201))
Name Venue: ALL!$E$2:INDEX(ALL!$E:$E,ALL!$R$5350)
Name WDL: ALL!$J$2:INDEX(ALL!$J:$J,ALL!$R$5350)
Name post5433708: Summary!$C$130
Name SEASON: Lists!$F$2:$F$119

Sheet Summary
A1: COBBLERS RESULTS AGAINST ALL OPPONENTS
A2: OXFORD CITY | E2: H | J2: A
A3: Competition | B3: Played | C3: W | D3: D | E3: L | F3: F | G3: A | H3: W | I3: D | J3: L | K3: F | L3: A | M3: W | N3: D | O3: L | P3: F | Q3: A
A4: League | B4: =SUM(C4:E4)+SUM(H4:J4) | C4: =COUNTIFS(ALL!$J:$J,$C$3,ALL!$E:$E,$E$2,ALL!$I:$I,$A4,ALL!$G:$G,$A$2) | D4: =COUNTIFS(ALL!$J:$J,$D$3,ALL!$E:$E,$E$2,ALL!$I:$I,$A4,ALL!$G:$G,$A$2) | E4: =COUNTIFS(ALL!$J:$J,$E$3,ALL!$E:$E,$E$2,ALL!$I:$I,$A4,ALL!$G:$G,$A$2) | F4: =SUMIFS(ALL!K:K,ALL!$E:$E,$E$2,ALL!$I:$I,A$4,ALL!$G:$G,A$2) | G4: =SUMIFS(ALL!L:L,ALL!$E:$E,$E$2,ALL!$I:$I,A$4,ALL!$G:$G,A$2) | H4: =COUNTIFS(ALL!$J:$J,$H$3,ALL!$E:$E,$J$2,ALL!$I:$I,$A4,ALL!$G:$G,$A$2) | I4: =COUNTIFS(ALL!$J:$J,$I$3,ALL!$E:$E,$J$2,ALL!$I:$I,$A4,ALL!$G:$G,$A$2) | J4: =COUNTIFS(ALL!$J:$J,$J$3,ALL!$E:$E,$J$2,ALL!$I:$I,$A4,ALL!$G:$G,$A$2) | K4: =SUMIFS(ALL!K:K,ALL!$E:$E,$J$2,ALL!$I:$I,A$4,ALL!$G:$G,A$2) | L4: =SUMIFS(ALL!L:L,ALL!$E:$E,$J$2,ALL!$I:$I,A$4,ALL!$G:$G,A$2) | M4: =C4+H4 | N4: =D4+I4 | O4: =E4+J4 | P4: =F4+K4 | Q4: =G4+L4
A5: FA Cup | B5: =SUM(C5:E5)+SUM(H5:J5) | C5: =COUNTIFS(ALL!$J:$J,$C$3,ALL!$E:$E,$E$2,ALL!$I:$I,$A5,ALL!$G:$G,$A$2) | D5: =COUNTIFS(ALL!$J:$J,$D$3,ALL!$E:$E,$E$2,ALL!$I:$I,$A5,ALL!$G:$G,$A$2) | E5: =COUNTIFS(ALL!$J:$J,$E$3,ALL!$E:$E,$E$2,ALL!$I:$I,$A5,ALL!$G:$G,$A$2) | F5: =SUMIFS(ALL!K:K,ALL!$E:$E,$E$2,ALL!$I:$I,A$5,ALL!$G:$G,A$2) | G5: =SUMIFS(ALL!L:L,ALL!$E:$E,$E$2,ALL!$I:$I,A$5,ALL!$G:$G,A$2) | H5: =COUNTIFS(ALL!$J:$J,$H$3,ALL!$E:$E,$J$2,ALL!$I:$I,$A5,ALL!$G:$G,$A$2) | I5: =COUNTIFS(ALL!$J:$J,$I$3,ALL!$E:$E,$J$2,ALL!$I:$I,$A5,ALL!$G:$G,$A$2) | J5: =COUNTIFS(ALL!$J:$J,$J$3,ALL!$E:$E,$J$2,ALL!$I:$I,$A5,ALL!$G:$G,$A$2) | K5: =SUMIFS(ALL!K:K,ALL!$E:$E,$J$2,ALL!$I:$I,A$5,ALL!$G:$G,A$2) | L5: =SUMIFS(ALL!L:L,ALL!$E:$E,$J$2,ALL!$I:$I,A$5,ALL!$G:$G,A$2) | M5: =C5+H5 | N5: =D5+I5 | O5: =E5+J5 | P5: =F5+K5 | Q5: =G5+L5
A6: League Cup | B6: =SUM(C6:E6)+SUM(H6:J6) | C6: =COUNTIFS(ALL!$J:$J,$C$3,ALL!$E:$E,$E$2,ALL!$I:$I,$A6,ALL!$G:$G,$A$2) | D6: =COUNTIFS(ALL!$J:$J,$D$3,ALL!$E:$E,$E$2,ALL!$I:$I,$A6,ALL!$G:$G,$A$2) | E6: =COUNTIFS(ALL!$J:$J,$E$3,ALL!$E:$E,$E$2,ALL!$I:$I,$A6,ALL!$G:$G,$A$2) | F6: =SUMIFS(ALL!K:K,ALL!$E:$E,$E$2,ALL!$I:$I,A$6,ALL!$G:$G,A$2) | G6: =SUMIFS(ALL!L:L,ALL!$E:$E,$E$2,ALL!$I:$I,A$6,ALL!$G:$G,A$2) | H6: =COUNTIFS(ALL!$J:$J,$H$3,ALL!$E:$E,$J$2,ALL!$I:$I,$A6,ALL!$G:$G,$A$2) | I6: =COUNTIFS(ALL!$J:$J,$I$3,ALL!$E:$E,$J$2,ALL!$I:$I,$A6,ALL!$G:$G,$A$2) | J6: =COUNTIFS(ALL!$J:$J,$J$3,ALL!$E:$E,$J$2,ALL!$I:$I,$A6,ALL!$G:$G,$A$2) | K6: =SUMIFS(ALL!K:K,ALL!$E:$E,$J$2,ALL!$I:$I,A$6,ALL!$G:$G,A$2) | L6: =SUMIFS(ALL!L:L,ALL!$E:$E,$J$2,ALL!$I:$I,A$6,ALL!$G:$G,A$2) | M6: =C6+H6 | N6: =D6+I6 | O6: =E6+J6 | P6: =F6+K6 | Q6: =G6+L6
A7: League Trophy | B7: =SUM(C7:E7)+SUM(H7:J7) | C7: =COUNTIFS(ALL!$J:$J,$C$3,ALL!$E:$E,$E$2,ALL!$I:$I,$A7,ALL!$G:$G,$A$2) | D7: =COUNTIFS(ALL!$J:$J,$D$3,ALL!$E:$E,$E$2,ALL!$I:$I,$A7,ALL!$G:$G,$A$2) | E7: =COUNTIFS(ALL!$J:$J,$E$3,ALL!$E:$E,$E$2,ALL!$I:$I,$A7,ALL!$G:$G,$A$2) | F7: =SUMIFS(ALL!K:K,ALL!$E:$E,$E$2,ALL!$I:$I,A$7,ALL!$G:$G,A$2) | G7: =SUMIFS(ALL!L:L,ALL!$E:$E,$E$2,ALL!$I:$I,A$7,ALL!$G:$G,A$2) | H7: =COUNTIFS(ALL!$J:$J,$H$3,ALL!$E:$E,$J$2,ALL!$I:$I,$A7,ALL!$G:$G,$A$2) | I7: =COUNTIFS(ALL!$J:$J,$I$3,ALL!$E:$E,$J$2,ALL!$I:$I,$A7,ALL!$G:$G,$A$2) | J7: =COUNTIFS(ALL!$J:$J,$J$3,ALL!$E:$E,$J$2,ALL!$I:$I,$A7,ALL!$G:$G,$A$2) | K7: =SUMIFS(ALL!K:K,ALL!$E:$E,$J$2,ALL!$I:$I,A$7,ALL!$G:$G,A$2) | L7: =SUMIFS(ALL!L:L,ALL!$E:$E,$J$2,ALL!$I:$I,A$7,ALL!$G:$G,A$2) | M7: =C7+H7 | N7: =D7+I7 | O7: =E7+J7 | P7: =F7+K7 | Q7: =G7+L7
A8: Div 3 South Cup | B8: =SUM(C8:E8)+SUM(H8:J8) | C8: =COUNTIFS(ALL!$J:$J,$C$3,ALL!$E:$E,$E$2,ALL!$I:$I,$A8,ALL!$G:$G,$A$2) | D8: =COUNTIFS(ALL!$J:$J,$D$3,ALL!$E:$E,$E$2,ALL!$I:$I,$A8,ALL!$G:$G,$A$2) | E8: =COUNTIFS(ALL!$J:$J,$E$3,ALL!$E:$E,$E$2,ALL!$I:$I,$A8,ALL!$G:$G,$A$2) | F8: =SUMIFS(ALL!K:K,ALL!$E:$E,$E$2,ALL!$I:$I,A$8,ALL!$G:$G,A$2) | G8: =SUMIFS(ALL!L:L,ALL!$E:$E,$E$2,ALL!$I:$I,A$8,ALL!$G:$G,A$2) | H8: =COUNTIFS(ALL!$J:$J,$H$3,ALL!$E:$E,$J$2,ALL!$I:$I,$A8,ALL!$G:$G,$A$2) | I8: =COUNTIFS(ALL!$J:$J,$I$3,ALL!$E:$E,$J$2,ALL!$I:$I,$A8,ALL!$G:$G,$A$2) | J8: =COUNTIFS(ALL!$J:$J,$J$3,ALL!$E:$E,$J$2,ALL!$I:$I,$A8,ALL!$G:$G,$A$2) | K8: =SUMIFS(ALL!K:K,ALL!$E:$E,$J$2,ALL!$I:$I,A$8,ALL!$G:$G,A$2) | L8: =SUMIFS(ALL!L:L,ALL!$E:$E,$J$2,ALL!$I:$I,A$8,ALL!$G:$G,A$2) | M8: =C8+H8 | N8: =D8+I8 | O8: =E8+J8 | P8: =F8+K8 | Q8: =G8+L8
A9: Play-Offs | B9: =SUM(C9:E9)+SUM(H9:J9) | C9: =COUNTIFS(ALL!$J:$J,$C$3,ALL!$E:$E,$E$2,ALL!$I:$I,$A9,ALL!$G:$G,$A$2) | D9: =COUNTIFS(ALL!$J:$J,$D$3,ALL!$E:$E,$E$2,ALL!$I:$I,$A9,ALL!$G:$G,$A$2) | E9: =COUNTIFS(ALL!$J:$J,$E$3,ALL!$E:$E,$E$2,ALL!$I:$I,$A9,ALL!$G:$G,$A$2) | F9: =SUMIFS(ALL!K:K,ALL!$E:$E,$E$2,ALL!$I:$I,A$9,ALL!$G:$G,A$2) | G9: =SUMIFS(ALL!L:L,ALL!$E:$E,$E$2,ALL!$I:$I,A$9,ALL!$G:$G,A$2) | H9: =COUNTIFS(ALL!$J:$J,$H$3,ALL!$E:$E,$J$2,ALL!$I:$I,$A9,ALL!$G:$G,$A$2) | I9: =COUNTIFS(ALL!$J:$J,$I$3,ALL!$E:$E,$J$2,ALL!$I:$I,$A9,ALL!$G:$G,$A$2) | J9: =COUNTIFS(ALL!$J:$J,$J$3,ALL!$E:$E,$J$2,ALL!$I:$I,$A9,ALL!$G:$G,$A$2) | K9: =SUMIFS(ALL!K:K,ALL!$E:$E,$J$2,ALL!$I:$I,A$9,ALL!$G:$G,A$2) | L9: =SUMIFS(ALL!L:L,ALL!$E:$E,$J$2,ALL!$I:$I,A$9,ALL!$G:$G,A$2) | M9: =C9+H9 | N9: =D9+I9 | O9: =E9+J9 | P9: =F9+K9 | Q9: =G9+L9
A10: Charity Shield | B10: =SUM(C10:E10)+SUM(H10:J10) | C10: =COUNTIFS(ALL!$J:$J,$C$3,ALL!$E:$E,$E$2,ALL!$I:$I,$A10,ALL!$G:$G,$A$2) | D10: =COUNTIFS(ALL!$J:$J,$D$3,ALL!$E:$E,$E$2,ALL!$I:$I,$A10,ALL!$G:$G,$A$2) | E10: =COUNTIFS(ALL!$J:$J,$E$3,ALL!$E:$E,$E$2,ALL!$I:$I,$A10,ALL!$G:$G,$A$2) | F10: =SUMIFS(ALL!K:K,ALL!$E:$E,$E$2,ALL!$I:$I,A$10,ALL!$G:$G,A$2) | G10: =SUMIFS(ALL!L:L,ALL!$E:$E,$E$2,ALL!$I:$I,A$10,ALL!$G:$G,A$2) | H10: =COUNTIFS(ALL!$J:$J,$H$3,ALL!$E:$E,$J$2,ALL!$I:$I,$A10,ALL!$G:$G,$A$2) | I10: =COUNTIFS(ALL!$J:$J,$I$3,ALL!$E:$E,$J$2,ALL!$I:$I,$A10,ALL!$G:$G,$A$2) | J10: =COUNTIFS(ALL!$J:$J,$J$3,ALL!$E:$E,$J$2,ALL!$I:$I,$A10,ALL!$G:$G,$A$2) | K10: =SUMIFS(ALL!K:K,ALL!$E:$E,$J$2,ALL!$I:$I,A$10,ALL!$G:$G,A$2) | L10: =SUMIFS(ALL!L:L,ALL!$E:$E,$J$2,ALL!$I:$I,A$10,ALL!$G:$G,A$2) | M10: =C10+H10 | N10: =D10+I10 | O10: =E10+J10 | P10: =F10+K10 | Q10: =G10+L10
A11: TOTAL | B11: =SUM(B4:B10) | C11: =SUM(C4:C10) | D11: =SUM(D4:D10) | E11: =SUM(E4:E10) | F11: =SUM(F4:F10) | G11: =SUM(G4:G10) | H11: =SUM(H4:H10) | I11: =SUM(I4:I10) | ... Q11: =SUM(Q4:Q10)
A13: COBBLERS RESULTS IN EACH COMPETITION
A14: Competition | B14: Played | C14: W | D14: D | E14: L | F14: F | G14: A | H14: W | I14: D | J14: L | K14: F | L14: A | M14: W | N14: D | O14: L | P14: F | Q14: A
A15: FL 4th Tier | B15: =SUM(C15:E15)+SUM(H15:J15) | C15: =COUNTIFS(ALL!$J:$J,$C$14,ALL!$E:$E,$E$2,ALL!$H:$H,$A15) | D15: =COUNTIFS(ALL!$J:$J,$D$14,ALL!$E:$E,$E$2,ALL!$H:$H,$A15) | E15: =COUNTIFS(ALL!$J:$J,$E$14,ALL!$E:$E,$E$2,ALL!$H:$H,$A15) | F15: =SUMIFS(ALL!K:K,ALL!$E:$E,$E$2,ALL!$H:$H,A15) | G15: =SUMIFS(ALL!L:L,ALL!$E:$E,$E$2,ALL!$H:$H,A15) | H15: =COUNTIFS(ALL!$J:$J,$H$14,ALL!$E:$E,$J$2,ALL!$H:$H,A15) | I15: =COUNTIFS(ALL!$J:$J,$I$14,ALL!$E:$E,$J$2,ALL!$H:$H,A15) | J15: =COUNTIFS(ALL!$J:$J,$J$14,ALL!$E:$E,$J$2,ALL!$H:$H,A15) | K15: =SUMIFS(ALL!K:K,ALL!$E:$E,$J$2,ALL!$H:$H,A15) | L15: =SUMIFS(ALL!L:L,ALL!$E:$E,$J$2,ALL!$H:$H,A15) | M15: =C15+H15 | N15: =D15+I15 | O15: =E15+J15 | P15: =F15+K15 | Q15: =G15+L15
A16: League | B16: =SUM(C16:E16)+SUM(H16:J16) | C16: =COUNTIFS(ALL!$J:$J,$C$14,ALL!$E:$E,$E$2,ALL!$I:$I,$A16) | D16: =COUNTIFS(ALL!$J:$J,$D$14,ALL!$E:$E,$E$2,ALL!$I:$I,$A16) | E16: =COUNTIFS(ALL!$J:$J,$E$14,ALL!$E:$E,$E$2,ALL!$I:$I,$A16) | F16: =SUMIFS(ALL!K:K,ALL!$E:$E,$E$2,ALL!$I:$I,A16) | G16: =SUMIFS(ALL!L:L,ALL!$E:$E,$E$2,ALL!$I:$I,A16) | H16: =COUNTIFS(ALL!$J:$J,$H$14,ALL!$E:$E,$J$2,ALL!$I:$I,$A16) | I16: =COUNTIFS(ALL!$J:$J,$I$14,ALL!$E:$E,$J$2,ALL!$I:$I,$A16) | J16: =COUNTIFS(ALL!$J:$J,$J$14,ALL!$E:$E,$J$2,ALL!$I:$I,$A16) | K16: =SUMIFS(ALL!K:K,ALL!$E:$E,$J$2,ALL!$I:$I,A16) | L16: =SUMIFS(ALL!L:L,ALL!$E:$E,$J$2,ALL!$I:$I,A16) | M16: =C16+H16 | N16: =D16+I16 | O16: =E16+J16 | P16: =F16+K16 | Q16: =G16+L16
A17: FA Cup | B17: =SUM(C17:E17)+SUM(H17:J17) | C17: =COUNTIFS(ALL!$J:$J,$C$14,ALL!$E:$E,$E$2,ALL!$I:$I,$A17) | D17: =COUNTIFS(ALL!$J:$J,$D$14,ALL!$E:$E,$E$2,ALL!$I:$I,$A17) | E17: =COUNTIFS(ALL!$J:$J,$E$14,ALL!$E:$E,$E$2,ALL!$I:$I,$A17) | F17: =SUMIFS(ALL!K:K,ALL!$E:$E,$E$2,ALL!$I:$I,A$17) | G17: =SUMIFS(ALL!L:L,ALL!$E:$E,$E$2,ALL!$I:$I,A$17) | H17: =COUNTIFS(ALL!$J:$J,$H$14,ALL!$E:$E,$J$2,ALL!$I:$I,$A17) | I17: =COUNTIFS(ALL!$J:$J,$I$14,ALL!$E:$E,$J$2,ALL!$I:$I,$A17) | J17: =COUNTIFS(ALL!$J:$J,$J$14,ALL!$E:$E,$J$2,ALL!$I:$I,$A17) | K17: =SUMIFS(ALL!K:K,ALL!$E:$E,$J$2,ALL!$I:$I,A$17) | L17: =SUMIFS(ALL!L:L,ALL!$E:$E,$J$2,ALL!$I:$I,A$17) | M17: =C17+H17 | N17: =D17+I17 | O17: =E17+J17 | P17: =F17+K17 | Q17: =G17+L17
A18: League Cup | B18: =SUM(C18:E18)+SUM(H18:J18) | C18: =COUNTIFS(ALL!$J:$J,$C$14,ALL!$E:$E,$E$2,ALL!$I:$I,$A18) | D18: =COUNTIFS(ALL!$J:$J,$D$14,ALL!$E:$E,$E$2,ALL!$I:$I,$A18) | E18: =COUNTIFS(ALL!$J:$J,$E$14,ALL!$E:$E,$E$2,ALL!$I:$I,$A18) | F18: =SUMIFS(ALL!K:K,ALL!$E:$E,$E$2,ALL!$I:$I,A$18) | G18: =SUMIFS(ALL!L:L,ALL!$E:$E,$E$2,ALL!$I:$I,A$18) | H18: =COUNTIFS(ALL!$J:$J,$H$14,ALL!$E:$E,$J$2,ALL!$I:$I,$A18) | I18: =COUNTIFS(ALL!$J:$J,$I$14,ALL!$E:$E,$J$2,ALL!$I:$I,$A18) | J18: =COUNTIFS(ALL!$J:$J,$J$14,ALL!$E:$E,$J$2,ALL!$I:$I,$A18) | K18: =SUMIFS(ALL!K:K,ALL!$E:$E,$J$2,ALL!$I:$I,A$18) | L18: =SUMIFS(ALL!L:L,ALL!$E:$E,$J$2,ALL!$I:$I,A$18) | M18: =C18+H18 | N18: =D18+I18 | O18: =E18+J18 | P18: =F18+K18 | Q18: =G18+L18
A19: League Trophy | B19: =SUM(C19:E19)+SUM(H19:J19) | C19: =COUNTIFS(ALL!$J:$J,$C$14,ALL!$E:$E,$E$2,ALL!$I:$I,$A19) | D19: =COUNTIFS(ALL!$J:$J,$D$14,ALL!$E:$E,$E$2,ALL!$I:$I,$A19) | E19: =COUNTIFS(ALL!$J:$J,$E$14,ALL!$E:$E,$E$2,ALL!$I:$I,$A19) | F19: =SUMIFS(ALL!K:K,ALL!$E:$E,$E$2,ALL!$I:$I,A$19) | G19: =SUMIFS(ALL!L:L,ALL!$E:$E,$E$2,ALL!$I:$I,A$19) | H19: =COUNTIFS(ALL!$J:$J,$H$14,ALL!$E:$E,$J$2,ALL!$I:$I,$A19) | I19: =COUNTIFS(ALL!$J:$J,$I$14,ALL!$E:$E,$J$2,ALL!$I:$I,$A19) | J19: =COUNTIFS(ALL!$J:$J,$J$14,ALL!$E:$E,$J$2,ALL!$I:$I,$A19) | K19: =SUMIFS(ALL!K:K,ALL!$E:$E,$J$2,ALL!$I:$I,A$19) | L19: =SUMIFS(ALL!L:L,ALL!$E:$E,$J$2,ALL!$I:$I,A$19) | M19: =C19+H19 | N19: =D19+I19 | O19: =E19+J19 | P19: =F19+K19 | Q19: =G19+L19
A20: Div 3 South Cup | B20: =SUM(C20:E20)+SUM(H20:J20) | C20: =COUNTIFS(ALL!$J:$J,$C$14,ALL!$E:$E,$E$2,ALL!$I:$I,$A20) | D20: =COUNTIFS(ALL!$J:$J,$D$14,ALL!$E:$E,$E$2,ALL!$I:$I,$A20) | E20: =COUNTIFS(ALL!$J:$J,$E$14,ALL!$E:$E,$E$2,ALL!$I:$I,$A20) | F20: =SUMIFS(ALL!K:K,ALL!$E:$E,$E$2,ALL!$I:$I,A$20) | G20: =SUMIFS(ALL!L:L,ALL!$E:$E,$E$2,ALL!$I:$I,A$20) | H20: =COUNTIFS(ALL!$J:$J,$H$14,ALL!$E:$E,$J$2,ALL!$I:$I,$A20) | I20: =COUNTIFS(ALL!$J:$J,$I$14,ALL!$E:$E,$J$2,ALL!$I:$I,$A20) | J20: =COUNTIFS(ALL!$J:$J,$J$14,ALL!$E:$E,$J$2,ALL!$I:$I,$A20) | K20: =SUMIFS(ALL!K:K,ALL!$E:$E,$J$2,ALL!$I:$I,A$20) | L20: =SUMIFS(ALL!L:L,ALL!$E:$E,$J$2,ALL!$I:$I,A$20) | M20: =C20+H20 | N20: =D20+I20 | O20: =E20+J20 | P20: =F20+K20 | Q20: =G20+L20
A21: Play-Offs | B21: =SUM(C21:E21)+SUM(H21:J21) | C21: =COUNTIFS(ALL!$J:$J,$C$14,ALL!$E:$E,$E$2,ALL!$I:$I,$A21) | D21: =COUNTIFS(ALL!$J:$J,$D$14,ALL!$E:$E,$E$2,ALL!$I:$I,$A21) | E21: =COUNTIFS(ALL!$J:$J,$E$14,ALL!$E:$E,$E$2,ALL!$I:$I,$A21) | F21: =SUMIFS(ALL!K:K,ALL!$E:$E,$E$2,ALL!$I:$I,A$21) | G21: =SUMIFS(ALL!L:L,ALL!$E:$E,$E$2,ALL!$I:$I,A$21) | H21: =COUNTIFS(ALL!$J:$J,$H$14,ALL!$E:$E,$J$2,ALL!$I:$I,$A21) | I21: =COUNTIFS(ALL!$J:$J,$I$14,ALL!$E:$E,$J$2,ALL!$I:$I,$A21) | J21: =COUNTIFS(ALL!$J:$J,$J$14,ALL!$E:$E,$J$2,ALL!$I:$I,$A21) | K21: =SUMIFS(ALL!K:K,ALL!$E:$E,$J$2,ALL!$I:$I,A$21) | L21: =SUMIFS(ALL!L:L,ALL!$E:$E,$J$2,ALL!$I:$I,A$21) | M21: =C21+H21 | N21: =D21+I21 | O21: =E21+J21 | P21: =F21+K21 | Q21: =G21+L21
A22: Charity Shield | B22: =SUM(C22:E22)+SUM(H22:J22) | C22: =COUNTIFS(ALL!$J:$J,$C$14,ALL!$E:$E,$E$2,ALL!$I:$I,$A22) | D22: =COUNTIFS(ALL!$J:$J,$D$14,ALL!$E:$E,$E$2,ALL!$I:$I,$A22) | E22: =COUNTIFS(ALL!$J:$J,$E$14,ALL!$E:$E,$E$2,ALL!$I:$I,$A22) | F22: =SUMIFS(ALL!K:K,ALL!$E:$E,$E$2,ALL!$I:$I,A$22) | G22: =SUMIFS(ALL!L:L,ALL!$E:$E,$E$2,ALL!$I:$I,A$22) | H22: =COUNTIFS(ALL!$J:$J,$H$14,ALL!$E:$E,$J$2,ALL!$I:$I,$A22) | I22: =COUNTIFS(ALL!$J:$J,$I$14,ALL!$E:$E,$J$2,ALL!$I:$I,$A22) | J22: =COUNTIFS(ALL!$J:$J,$J$14,ALL!$E:$E,$J$2,ALL!$I:$I,$A22) | K22: =SUMIFS(ALL!K:K,ALL!$E:$E,$J$2,ALL!$I:$I,A$22) | L22: =SUMIFS(ALL!L:L,ALL!$E:$E,$J$2,ALL!$I:$I,A$22) | M22: =C22+H22 | N22: =D22+I22 | O22: =E22+J22 | P22: =F22+K22 | Q22: =G22+L22
A23: TOTAL | B23: =SUM(B16:B22) | C23: =SUM(C16:C22) | D23: =SUM(D16:D22) | E23: =SUM(E16:E22) | F23: =SUM(F16:F22) | G23: =SUM(G16:G22) | H23: =SUM(H16:H22) | I23: =SUM(I16:I22) | ... Q23: =SUM(Q16:Q22)
A25: COBBLERS RESULTS UNDER EACH MANAGER
A26: Manager | D26: Success Rate | F26: Win rate | H26: [Person_1] | K26: Points per game | O26: (League Only)
A27: [Person_2] | D27: =(M29*3+N29)/(B29*3) | F27: =M29/B29 | H27: =O29/B29 | K27: =SUM(M29*3+N29)/B29
A28: Competition | B28: Games | C28: W | D28: D | E28: L | F28: F | G28: A | H28: W | I28: D | J28: L | K28: F | L28: A | M28: W | N28: D | O28: L | P28: F | Q28: A
A29: League | B29: =SUM(C29:E29)+SUM(H29:J29) | C29: =COUNTIFS(ALL!$J:$J,$C$28,ALL!$E:$E,$E$2,ALL!$I:$I,$A29,ALL!$M:$M,$A$27) | D29: =COUNTIFS(ALL!$J:$J,$D$28,ALL!$E:$E,$E$2,ALL!$I:$I,$A29,ALL!$M:$M,$A$27) | E29: =COUNTIFS(ALL!$J:$J,$E$28,ALL!$E:$E,$E$2,ALL!$I:$I,$A29,ALL!$M:$M,$A$27) | F29: =SUMIFS(ALL!K:K,ALL!$E:$E,$E$2,ALL!$I:$I,$A29,ALL!$M:$M,$A$27) | G29: =SUMIFS(ALL!L:L,ALL!$E:$E,$E$2,ALL!$I:$I,$A29,ALL!$M:$M,$A$27) | H29: =COUNTIFS(ALL!$J:$J,$H$28,ALL!$E:$E,$J$2,ALL!$I:$I,$A29,ALL!$M:$M,$A$27) | I29: =COUNTIFS(ALL!$J:$J,$I$28,ALL!$E:$E,$J$2,ALL!$I:$I,$A29,ALL!$M:$M,$A$27) | J29: =COUNTIFS(ALL!$J:$J,$J$28,ALL!$E:$E,$J$2,ALL!$I:$I,$A29,ALL!$M:$M,$A$27) | K29: =SUMIFS(ALL!K:K,ALL!$E:$E,$J$2,ALL!$I:$I,$A29,ALL!$M:$M,$A$27) | L29: =SUMIFS(ALL!L:L,ALL!$E:$E,$J$2,ALL!$I:$I,$A29,ALL!$M:$M,$A$27) | M29: =C29+H29 | N29: =D29+I29 | O29: =E29+J29 | P29: =F29+K29 | Q29: =G29+L29
A30: FA Cup | B30: =SUM(C30:E30)+SUM(H30:J30) | C30: =COUNTIFS(ALL!$J:$J,$C$28,ALL!$E:$E,$E$2,ALL!$I:$I,$A30,ALL!$M:$M,$A$27) | D30: =COUNTIFS(ALL!$J:$J,$D$28,ALL!$E:$E,$E$2,ALL!$I:$I,$A30,ALL!$M:$M,$A$27) | E30: =COUNTIFS(ALL!$J:$J,$E$28,ALL!$E:$E,$E$2,ALL!$I:$I,$A30,ALL!$M:$M,$A$27) | F30: =SUMIFS(ALL!K:K,ALL!$E:$E,$E$2,ALL!$I:$I,$A30,ALL!$M:$M,$A$27) | G30: =SUMIFS(ALL!L:L,ALL!$E:$E,$E$2,ALL!$I:$I,$A30,ALL!$M:$M,$A$27) | H30: =COUNTIFS(ALL!$J:$J,$H$28,ALL!$E:$E,$J$2,ALL!$I:$I,$A30,ALL!$M:$M,$A$27) | I30: =COUNTIFS(ALL!$J:$J,$I$28,ALL!$E:$E,$J$2,ALL!$I:$I,$A30,ALL!$M:$M,$A$27) | J30: =COUNTIFS(ALL!$J:$J,$J$28,ALL!$E:$E,$J$2,ALL!$I:$I,$A30,ALL!$M:$M,$A$27) | K30: =SUMIFS(ALL!K:K,ALL!$E:$E,$J$2,ALL!$I:$I,$A30,ALL!$M:$M,$A$27) | L30: =SUMIFS(ALL!L:L,ALL!$E:$E,$J$2,ALL!$I:$I,$A30,ALL!$M:$M,$A$27) | M30: =C30+H30 | N30: =D30+I30 | O30: =E30+J30 | P30: =F30+K30 | Q30: =G30+L30
A31: League Cup | B31: =SUM(C31:E31)+SUM(H31:J31) | C31: =COUNTIFS(ALL!$J:$J,$C$28,ALL!$E:$E,$E$2,ALL!$I:$I,$A31,ALL!$M:$M,$A$27) | D31: =COUNTIFS(ALL!$J:$J,$D$28,ALL!$E:$E,$E$2,ALL!$I:$I,$A31,ALL!$M:$M,$A$27) | E31: =COUNTIFS(ALL!$J:$J,$E$28,ALL!$E:$E,$E$2,ALL!$I:$I,$A31,ALL!$M:$M,$A$27) | F31: =SUMIFS(ALL!K:K,ALL!$E:$E,$E$2,ALL!$I:$I,$A31,ALL!$M:$M,$A$27) | G31: =SUMIFS(ALL!L:L,ALL!$E:$E,$E$2,ALL!$I:$I,$A31,ALL!$M:$M,$A$27) | H31: =COUNTIFS(ALL!$J:$J,$H$28,ALL!$E:$E,$J$2,ALL!$I:$I,$A31,ALL!$M:$M,$A$27) | I31: =COUNTIFS(ALL!$J:$J,$I$28,ALL!$E:$E,$J$2,ALL!$I:$I,$A31,ALL!$M:$M,$A$27) | J31: =COUNTIFS(ALL!$J:$J,$J$28,ALL!$E:$E,$J$2,ALL!$I:$I,$A31,ALL!$M:$M,$A$27) | K31: =SUMIFS(ALL!K:K,ALL!$E:$E,$J$2,ALL!$I:$I,$A31,ALL!$M:$M,$A$27) | L31: =SUMIFS(ALL!L:L,ALL!$E:$E,$J$2,ALL!$I:$I,$A31,ALL!$M:$M,$A$27) | M31: =C31+H31 | N31: =D31+I31 | O31: =E31+J31 | P31: =F31+K31 | Q31: =G31+L31
A32: League Trophy | B32: =SUM(C32:E32)+SUM(H32:J32) | C32: =COUNTIFS(ALL!$J:$J,$C$28,ALL!$E:$E,$E$2,ALL!$I:$I,$A32,ALL!$M:$M,$A$27) | D32: =COUNTIFS(ALL!$J:$J,$D$28,ALL!$E:$E,$E$2,ALL!$I:$I,$A32,ALL!$M:$M,$A$27) | E32: =COUNTIFS(ALL!$J:$J,$E$28,ALL!$E:$E,$E$2,ALL!$I:$I,$A32,ALL!$M:$M,$A$27) | F32: =SUMIFS(ALL!K:K,ALL!$E:$E,$E$2,ALL!$I:$I,$A32,ALL!$M:$M,$A$27) | G32: =SUMIFS(ALL!L:L,ALL!$E:$E,$E$2,ALL!$I:$I,$A32,ALL!$M:$M,$A$27) | H32: =COUNTIFS(ALL!$J:$J,$H$28,ALL!$E:$E,$J$2,ALL!$I:$I,$A32,ALL!$M:$M,$A$27) | I32: =COUNTIFS(ALL!$J:$J,$I$28,ALL!$E:$E,$J$2,ALL!$I:$I,$A32,ALL!$M:$M,$A$27) | J32: =COUNTIFS(ALL!$J:$J,$J$28,ALL!$E:$E,$J$2,ALL!$I:$I,$A32,ALL!$M:$M,$A$27) | K32: =SUMIFS(ALL!K:K,ALL!$E:$E,$J$2,ALL!$I:$I,$A32,ALL!$M:$M,$A$27) | L32: =SUMIFS(ALL!L:L,ALL!$E:$E,$J$2,ALL!$I:$I,$A32,ALL!$M:$M,$A$27) | M32: =C32+H32 | N32: =D32+I32 | O32: =E32+J32 | P32: =F32+K32 | Q32: =G32+L32
A33: Div 3 South Cup | B33: =SUM(C33:E33)+SUM(H33:J33) | C33: =COUNTIFS(ALL!$J:$J,$C$28,ALL!$E:$E,$E$2,ALL!$I:$I,$A33,ALL!$M:$M,$A$27) | D33: =COUNTIFS(ALL!$J:$J,$D$28,ALL!$E:$E,$E$2,ALL!$I:$I,$A33,ALL!$M:$M,$A$27) | E33: =COUNTIFS(ALL!$J:$J,$E$28,ALL!$E:$E,$E$2,ALL!$I:$I,$A33,ALL!$M:$M,$A$27) | F33: =SUMIFS(ALL!K:K,ALL!$E:$E,$E$2,ALL!$I:$I,$A33,ALL!$M:$M,$A$27) | G33: =SUMIFS(ALL!L:L,ALL!$E:$E,$E$2,ALL!$I:$I,$A33,ALL!$M:$M,$A$27) | H33: =COUNTIFS(ALL!$J:$J,$H$28,ALL!$E:$E,$J$2,ALL!$I:$I,$A33,ALL!$M:$M,$A$27) | I33: =COUNTIFS(ALL!$J:$J,$I$28,ALL!$E:$E,$J$2,ALL!$I:$I,$A33,ALL!$M:$M,$A$27) | J33: =COUNTIFS(ALL!$J:$J,$J$28,ALL!$E:$E,$J$2,ALL!$I:$I,$A33,ALL!$M:$M,$A$27) | K33: =SUMIFS(ALL!K:K,ALL!$E:$E,$J$2,ALL!$I:$I,$A33,ALL!$M:$M,$A$27) | L33: =SUMIFS(ALL!L:L,ALL!$E:$E,$J$2,ALL!$I:$I,$A33,ALL!$M:$M,$A$27) | M33: =C33+H33 | N33: =D33+I33 | O33: =E33+J33 | P33: =F33+K33 | Q33: =G33+L33
A34: Play-Offs | B34: =SUM(C34:E34)+SUM(H34:J34) | C34: =COUNTIFS(ALL!$J:$J,$C$28,ALL!$E:$E,$E$2,ALL!$I:$I,$A34,ALL!$M:$M,$A$27) | D34: =COUNTIFS(ALL!$J:$J,$D$28,ALL!$E:$E,$E$2,ALL!$I:$I,$A34,ALL!$M:$M,$A$27) | E34: =COUNTIFS(ALL!$J:$J,$E$28,ALL!$E:$E,$E$2,ALL!$I:$I,$A34,ALL!$M:$M,$A$27) | F34: =SUMIFS(ALL!K:K,ALL!$E:$E,$E$2,ALL!$I:$I,$A34,ALL!$M:$M,$A$27) | G34: =SUMIFS(ALL!L:L,ALL!$E:$E,$E$2,ALL!$I:$I,$A34,ALL!$M:$M,$A$27) | H34: =COUNTIFS(ALL!$J:$J,$H$28,ALL!$E:$E,$J$2,ALL!$I:$I,$A34,ALL!$M:$M,$A$27) | I34: =COUNTIFS(ALL!$J:$J,$I$28,ALL!$E:$E,$J$2,ALL!$I:$I,$A34,ALL!$M:$M,$A$27) | J34: =COUNTIFS(ALL!$J:$J,$J$28,ALL!$E:$E,$J$2,ALL!$I:$I,$A34,ALL!$M:$M,$A$27) | K34: =SUMIFS(ALL!K:K,ALL!$E:$E,$J$2,ALL!$I:$I,$A34,ALL!$M:$M,$A$27) | L34: =SUMIFS(ALL!L:L,ALL!$E:$E,$J$2,ALL!$I:$I,$A34,ALL!$M:$M,$A$27) | M34: =C34+H34 | N34: =D34+I34 | O34: =E34+J34 | P34: =F34+K34 | Q34: =G34+L34
A35: Charity Shield | B35: =SUM(C35:E35)+SUM(H35:J35) | C35: =COUNTIFS(ALL!$J:$J,$C$28,ALL!$E:$E,$E$2,ALL!$I:$I,$A35,ALL!$M:$M,$A$27) | D35: =COUNTIFS(ALL!$J:$J,$D$28,ALL!$E:$E,$E$2,ALL!$I:$I,$A35,ALL!$M:$M,$A$27) | E35: =COUNTIFS(ALL!$J:$J,$E$28,ALL!$E:$E,$E$2,ALL!$I:$I,$A35,ALL!$M:$M,$A$27) | F35: =SUMIFS(ALL!K:K,ALL!$E:$E,$E$2,ALL!$I:$I,$A35,ALL!$M:$M,$A$27) | G35: =SUMIFS(ALL!L:L,ALL!$E:$E,$E$2,ALL!$I:$I,$A35,ALL!$M:$M,$A$27) | H35: =COUNTIFS(ALL!$J:$J,$H$28,ALL!$E:$E,$J$2,ALL!$I:$I,$A35,ALL!$M:$M,$A$27) | I35: =COUNTIFS(ALL!$J:$J,$I$28,ALL!$E:$E,$J$2,ALL!$I:$I,$A35,ALL!$M:$M,$A$27) | J35: =COUNTIFS(ALL!$J:$J,$J$28,ALL!$E:$E,$J$2,ALL!$I:$I,$A35,ALL!$M:$M,$A$27) | K35: =SUMIFS(ALL!K:K,ALL!$E:$E,$J$2,ALL!$I:$I,$A35,ALL!$M:$M,$A$27) | L35: =SUMIFS(ALL!L:L,ALL!$E:$E,$J$2,ALL!$I:$I,$A35,ALL!$M:$M,$A$27) | M35: =C35+H35 | N35: =D35+I35 | O35: =E35+J35 | P35: =F35+K35 | Q35: =G35+L35
A36: TOTAL | B36: =SUM(B29:B35) | C36: =SUM(C29:C35) | D36: =SUM(D29:D35) | E36: =SUM(E29:E35) | F36: =SUM(F29:F35) | G36: =SUM(G29:G35) | H36: =SUM(H29:H35) | I36: =SUM(I29:I35) | ... Q36: =SUM(Q29:Q35)
A38: COBBLERS RESULTS EACH SEASON
A39: 1897/8 | B39: Games | C39: W | D39: D | E39: L | F39: F | G39: A | H39: W | I39: D | J39: L | K39: F | L39: A | M39: W | N39: D | O39: L | P39: F | Q39: A
A40: League | B40: =SUM(C40:E40)+SUM(H40:J40) | C40: =COUNTIFS(ALL!$J:$J,$C$39,ALL!$E:$E,$E$2,ALL!$I:$I,$A40,ALL!$A:$A,$A$39) | D40: =COUNTIFS(ALL!$J:$J,$D$39,ALL!$E:$E,$E$2,ALL!$I:$I,$A40,ALL!$A:$A,$A$39) | E40: =COUNTIFS(ALL!$J:$J,$E$39,ALL!$E:$E,$E$2,ALL!$I:$I,$A40,ALL!$A:$A,$A$39) | F40: =SUMIFS(ALL!K:K,ALL!$E:$E,$E$2,ALL!$I:$I,$A40,ALL!$A:$A,$A$39) | G40: =SUMIFS(ALL!L:L,ALL!$E:$E,$E$2,ALL!$I:$I,$A40,ALL!$A:$A,$A$39) | H40: =COUNTIFS(ALL!$J:$J,$C$39,ALL!$E:$E,$J$2,ALL!$I:$I,$A40,ALL!$A:$A,$A$39) | I40: =COUNTIFS(ALL!$J:$J,$D$39,ALL!$E:$E,$J$2,ALL!$I:$I,$A40,ALL!$A:$A,$A$39) | J40: =COUNTIFS(ALL!$J:$J,$E$39,ALL!$E:$E,$J$2,ALL!$I:$I,$A40,ALL!$A:$A,$A$39) | K40: =SUMIFS(ALL!K:K,ALL!$E:$E,$J$2,ALL!$I:$I,$A40,ALL!$A:$A,$A$39) | L40: =SUMIFS(ALL!L:L,ALL!$E:$E,$J$2,ALL!$I:$I,$A40,ALL!$A:$A,$A$39) | M40: =C40+H40 | N40: =D40+I40 | O40: =E40+J40 | P40: =F40+K40 | Q40: =G40+L40
A41: FA Cup | B41: =SUM(C41:E41)+SUM(H41:J41) | C41: =COUNTIFS(ALL!$J:$J,$C$39,ALL!$E:$E,$E$2,ALL!$I:$I,$A41,ALL!$A:$A,$A$39) | D41: =COUNTIFS(ALL!$J:$J,$D$39,ALL!$E:$E,$E$2,ALL!$I:$I,$A41,ALL!$A:$A,$A$39) | E41: =COUNTIFS(ALL!$J:$J,$E$39,ALL!$E:$E,$E$2,ALL!$I:$I,$A41,ALL!$A:$A,$A$39) | F41: =SUMIFS(ALL!K:K,ALL!$E:$E,$E$2,ALL!$I:$I,$A41,ALL!$A:$A,$A$39) | G41: =SUMIFS(ALL!L:L,ALL!$E:$E,$E$2,ALL!$I:$I,$A41,ALL!$A:$A,$A$39) | H41: =COUNTIFS(ALL!$J:$J,$C$39,ALL!$E:$E,$J$2,ALL!$I:$I,$A41,ALL!$A:$A,$A$39) | I41: =COUNTIFS(ALL!$J:$J,$D$39,ALL!$E:$E,$J$2,ALL!$I:$I,$A41,ALL!$A:$A,$A$39) | J41: =COUNTIFS(ALL!$J:$J,$E$39,ALL!$E:$E,$J$2,ALL!$I:$I,$A41,ALL!$A:$A,$A$39) | K41: =SUMIFS(ALL!K:K,ALL!$E:$E,$J$2,ALL!$I:$I,$A41,ALL!$A:$A,$A$39) | L41: =SUMIFS(ALL!L:L,ALL!$E:$E,$J$2,ALL!$I:$I,$A41,ALL!$A:$A,$A$39) | M41: =C41+H41 | N41: =D41+I41 | O41: =E41+J41 | P41: =F41+K41 | Q41: =G41+L41
A42: League Cup | B42: =SUM(C42:E42)+SUM(H42:J42) | C42: =COUNTIFS(ALL!$J:$J,$C$39,ALL!$E:$E,$E$2,ALL!$I:$I,$A42,ALL!$A:$A,$A$39) | D42: =COUNTIFS(ALL!$J:$J,$D$39,ALL!$E:$E,$E$2,ALL!$I:$I,$A42,ALL!$A:$A,$A$39) | E42: =COUNTIFS(ALL!$J:$J,$E$39,ALL!$E:$E,$E$2,ALL!$I:$I,$A42,ALL!$A:$A,$A$39) | F42: =SUMIFS(ALL!K:K,ALL!$E:$E,$E$2,ALL!$I:$I,$A42,ALL!$A:$A,$A$39) | G42: =SUMIFS(ALL!L:L,ALL!$E:$E,$E$2,ALL!$I:$I,$A42,ALL!$A:$A,$A$39) | H42: =COUNTIFS(ALL!$J:$J,$C$39,ALL!$E:$E,$J$2,ALL!$I:$I,$A42,ALL!$A:$A,$A$39) | I42: =COUNTIFS(ALL!$J:$J,$D$39,ALL!$E:$E,$J$2,ALL!$I:$I,$A42,ALL!$A:$A,$A$39) | J42: =COUNTIFS(ALL!$J:$J,$E$39,ALL!$E:$E,$J$2,ALL!$I:$I,$A42,ALL!$A:$A,$A$39) | K42: =SUMIFS(ALL!K:K,ALL!$E:$E,$J$2,ALL!$I:$I,$A42,ALL!$A:$A,$A$39) | L42: =SUMIFS(ALL!L:L,ALL!$E:$E,$J$2,ALL!$I:$I,$A42,ALL!$A:$A,$A$39) | M42: =C42+H42 | N42: =D42+I42 | O42: =E42+J42 | P42: =F42+K42 | Q42: =G42+L42
A43: League Trophy | B43: =SUM(C43:E43)+SUM(H43:J43) | C43: =COUNTIFS(ALL!$J:$J,$C$39,ALL!$E:$E,$E$2,ALL!$I:$I,$A43,ALL!$A:$A,$A$39) | D43: =COUNTIFS(ALL!$J:$J,$D$39,ALL!$E:$E,$E$2,ALL!$I:$I,$A43,ALL!$A:$A,$A$39) | E43: =COUNTIFS(ALL!$J:$J,$E$39,ALL!$E:$E,$E$2,ALL!$I:$I,$A43,ALL!$A:$A,$A$39) | F43: =SUMIFS(ALL!K:K,ALL!$E:$E,$E$2,ALL!$I:$I,$A43,ALL!$A:$A,$A$39) | G43: =SUMIFS(ALL!L:L,ALL!$E:$E,$E$2,ALL!$I:$I,$A43,ALL!$A:$A,$A$39) | H43: =COUNTIFS(ALL!$J:$J,$C$39,ALL!$E:$E,$J$2,ALL!$I:$I,$A43,ALL!$A:$A,$A$39) | I43: =COUNTIFS(ALL!$J:$J,$D$39,ALL!$E:$E,$J$2,ALL!$I:$I,$A43,ALL!$A:$A,$A$39) | J43: =COUNTIFS(ALL!$J:$J,$E$39,ALL!$E:$E,$J$2,ALL!$I:$I,$A43,ALL!$A:$A,$A$39) | K43: =SUMIFS(ALL!K:K,ALL!$E:$E,$J$2,ALL!$I:$I,$A43,ALL!$A:$A,$A$39) | L43: =SUMIFS(ALL!L:L,ALL!$E:$E,$J$2,ALL!$I:$I,$A43,ALL!$A:$A,$A$39) | M43: =C43+H43 | N43: =D43+I43 | O43: =E43+J43 | P43: =F43+K43 | Q43: =G43+L43
...

Sheet Finishing positions
A2: 1958/9 | B2: 8 | C2: 4 | D2: 24 | J2: 1 | AH2: 1 | BK2: 1
A3: 1959/60 | B3: 6 | C3: 4 | D3: 24 | L3: 2 | W3: 2 | BA3: 2
A4: 1960/1 | B4: 3 | C4: 4 | D4: 24 | H4: 3 | AU4: 3
A5: 1961/2 | B5: 8 | C5: 3 | D5: 24 | AR5: 4 | AS5: 4
A6: 1962/3 | B6: 1 | C6: 3 | D6: 24 | U6: 5
A7: 1963/4 | B7: 11 | C7: 2 | D7: 22 | G7: 6 | AI7: 6 | AY7: 6 | BH7: 6
A8: 1964/5 | B8: 2 | C8: 2 | D8: 22 | R8: 7 | AZ8: 7 | BO8: 7
A9: 1965/6 | B9: 21 | C9: 1 | D9: 22 | F9: 8 | I9: 8 | AG9: 8
A10: 1966/7 | B10: 21 | C10: 2 | D10: 22 | BC10: 9
A11: 1967/8 | B11: 18 | C11: 3 | D11: 24 | Y11: 10 | AB11: 10 | AL11: 10
A12: 1968/9 | B12: 21 | C12: 3 | D12: 24 | K12: 11 | AQ12: 11 | BE12: 11
A13: 1969/70 | B13: 14 | C13: 4 | D13: 24 | BJ13: 12
A14: 1970/1 | B14: 7 | C14: 4 | D14: 24 | AA14: 13
A15: 1971/2 | B15: 21 | C15: 4 | D15: 24 | Q15: 14 | BB15: 14
A16: 1972/3 | B16: 23 | C16: 4 | D16: 24 | AD16: 15 | BN16: 15
A17: 1973/4 | B17: 5 | C17: 4 | D17: 24 | V17: 16 | AM17: 16 | BF17: 16 | BL17: 16
A18: 1974/5 | B18: 16 | C18: 4 | D18: 24 | AP18: 17
A19: 1975/6 | B19: 2 | C19: 4 | D19: 24 | O19: 18 | AE19: 18 | AV19: 18
A20: 1976/7 | B20: 22 | C20: 3 | D20: 24 | Z20: 19
A21: 1977/8 | B21: 10 | C21: 4 | D21: 24 | AJ21: 20 | AN21: 20 | AW21: 20 | BG21: 20
A22: 1978/9 | B22: 19 | C22: 4 | D22: 24 | M22: 21 | N22: 21 | P22: 21 | S22: 21 | BD22: 21 | BI22: 21
A23: 1979/80 | B23: 13 | C23: 4 | D23: 24 | X23: 22 | AC23: 22 | AK23: 22 | AO23: 22 | AT23: 22 | BM23: 22
A24: 1980/1 | B24: 10 | C24: 4 | D24: 24 | T24: 23 | AF24: 23
A25: 1981/2 | B25: 22 | C25: 4 | D25: 24 | AX25: 24
A26: 1982/3 | B26: 15 | C26: 4 | D26: 24 | F26: 1958/9 | G26: 1959/60 | H26: 1960/1 | I26: 1961/2 | J26: 1962/3 | K26: 1963/4 | L26: 1964/5 | M26: 1965/6 | N26: 1966/7 | O26: 1967/8 | P26: 1968/9 | Q26: 1969/70 | R26: 1970/1 | S26: 1971/2 | T26: 1972/3 | U26: 1973/4 | V26: 1974/5 | W26: 1975/6 | X26: 1976/7 | Y26: 1977/8 | Z26: 1978/9 | AA26: 1979/80 | AB26: 1980/1 | AC26: 1981/2 | AD26: 1982/3 | AE26: 1983/4 | AF26: 1984/5 | AG26: 1985/6 | AH26: 1986/7 | AI26: 1987/8 | AJ26: 1988/9 | AK26: 1989/90 | AL26: 1990/1 | AM26: 1991/2 | AN26: 1992/3 | AO26: 1993/4 | AP26: 1994/5 | AQ26: 1995/6 | AR26: 1996/7 | AS26: 1997/8 | AT26: 1998/9 | AU26: 1999/2000 | AV26: 2000/1 | AW26: 2001/2 | AX26: 2002/3 | AY26: 2003/4 | AZ26: 2004/5 | BA26: 2005/6 | BB26: 2006/7 | BC26: 2007/8 | BD26: 2008/9 | BE26: 2009/10 | BF26: 2010/1 | BG26: 2011/2 | BH26: 2012/3 | BI26: 2013/4 | BJ26: 2014/5 | BK26: 2015/6 | BL26: 2016/7 | BM26: 2017/8 | BN26: 2018/9 | BO26: 2019/20
A27: 1983/4 | B27: 18 | C27: 4 | D27: 24 | F27: 4 | G27: 4 | H27: 4 | I27: 3 | J27: 3 | K27: 2 | L27: 2 | M27: 1 | N27: 2 | O27: 3 | P27: 3 | Q27: 4 | R27: 4 | S27: 4 | T27: 4 | U27: 4 | V27: 4 | W27: 4 | X27: 3 | Y27: 4 | Z27: 4 | AA27: 4 | AB27: 4 | AC27: 4 | AD27: 4 | AE27: 4 | AF27: 4 | AG27: 4 | AH27: 4 | AI27: 3 | AJ27: 3 | AK27: 3 | AL27: 4 | AM27: 4 | AN27: 4 | AO27: 4 | AP27: 4 | AQ27: 4 | AR27: 4 | AS27: 3 | AT27: 3 | AU27: 4 | AV27: 3 | AW27: 3 | AX27: 3 | AY27: 4 | AZ27: 4 | BA27: 4 | BB27: 3 | BC27: 3 | BD27: 3 | BE27: 4 | BF27: 4 | BG27: 4 | BH27: 4 | BI27: 4 | BJ27: 4 | BK27: 4 | BL27: 3 | BM27: 3 | BN27: 4 | BO27: 4
A28: 1984/5 | B28: 23 | C28: 4 | D28: 24
A29: 1985/6 | B29: 8 | C29: 4 | D29: 24
A30: 1986/7 | B30: 1 | C30: 4 | D30: 24
A31: 1987/8 | B31: 6 | C31: 3 | D31: 24
A32: 1988/9 | B32: 20 | C32: 3 | D32: 24
A33: 1989/90 | B33: 22 | C33: 3 | D33: 24
A34: 1990/1 | B34: 10 | C34: 4 | D34: 24
A35: 1991/2 | B35: 16 | C35: 4 | D35: 22
A36: 1992/3 | B36: 20 | C36: 4 | D36: 22
A37: 1993/4 | B37: 22 | C37: 4 | D37: 22
A38: 1994/5 | B38: 17 | C38: 4 | D38: 22
A39: 1995/6 | B39: 11 | C39: 4 | D39: 24
... A63: 2019/20 | B63: 7 | C63: 4 | D63: 24

Sheet Lists
A1: TEAM | B1: Competition | C1: Ground | D1: Managers | E1: Annual | F1: Years | G1: Home Ground
A2: ABERDARE ATHLETIC | B2: FL 1st Tier | C2: 1897 | D2: [Person_3] | E2: 1897 | F2: 1897/8 | G2: County Ground
A3: ACCRINGTON STANLEY | B3: FL 2nd Tier | C3: 1898 | D3: [Person_4] | E3: 1898 | F3: 1898/9 | G3: Sixfields
A4: ACCRINGTON STANLEY (1891) | B4: FL 3rd Tier | C4: 1899 | D4: [Person_5] | E4: 1899 | F4: 1899/1900
A5: AFC WIMBLEDON | B5: FL 4th Tier | C5: 1900 | D5: [Person_6] | E5: 1900 | F5: 1900/1
A6: ALDERSHOT | B6: [Person_7] | C6: 1901 | D6: [Person_8] | E6: 1901 | F6: 1901/2
A7: ARSENAL | B7: Midland | C7: 1902 | D7: [Person_9] | E7: 1902 | F7: 1902/3
A8: ARSENAL U21 | B8: Northants | C8: 1903 | D8: [Person_10] | E8: 1903 | F8: 1903/4
A9: ASTON VILLA | B9: Southern | C9: 1904 | D9: [Person_11] | E9: 1904 | F9: 1904/5
A10: AYLESBURY UNITED | C10: 1905 | D10: [Person_12] | E10: 1905 | F10: 1905/6
A11: BANBURY UNITED | C11: 1906 | D11: [Person_13] | E11: 1906 | F11: 1906/7
A12: BARNET | C12: 1907 | D12: [Person_14] | E12: 1907 | F12: 1907/8
A13: BARNSLEY | C13: 1908 | D13: [Person_15] | E13: 1908 | F13: 1908/9
A14: BARNSLEY RESERVES | C14: 1909 | D14: [Person_16] | E14: 1909 | F14: 1909/10
A15: BARROW | C15: 1910 | D15: Commitee | E15: 1910 | F15: 1910/1
A16: [Person_17] | C16: 1911 | D16: [Person_18] | E16: 1911 | F16: 1911/2
A17: BASINGSTOKE TOWN | C17: 1912 | D17: [Person_19] | E17: 1912 | F17: 1912/3
A18: BATH CITY | C18: 1913 | D18: [Person_2] | E18: 1913 | F18: 1913/4
A19: BIRMINGHAM | C19: 1914 | D19: [Person_20] | E19: 1914 | F19: 1914/5
A20: BISHOP'S STORTFORD | C20: 1915 | D20: [Person_21] jnr | E20: 1915 | F20: 1919/20
A21: BLACKBURN | C21: 1916 | D21: [Person_22] | E21: 1916 | F21: 1920/1
... A49: CHESTERFIELD | C49: 1944 | D49: [Person_51] | E49: 1944 | F49: 1955/6
A50: CHIPPENHAM TOWN | C50: 1945 | E50: 1945 | F50: 1956/7
A51: COALVILLE | C51: 1946 | E51: 1946 | F51: 1957/8
A52: COLCHESTER | C52: 1947 | E52: 1947 | F52: 1958/9
A53: COVENTRY | C53: 1948 | E53: 1948 | F53: 1959/60
A54: CRAWLEY | C54: 1949 | E54: 1949 | F54: 1960/1
A55: CREWE | C55: 1950 | E55: 1950 | F55: 1961/2
A56: CROYDON COMMON | C56: 1951 | E56: 1951 | F56: 1962/3
A57: CRYSTAL PALACE | C57: 1952 | E57: 1952 | F57: 1963/4
A58: DAGENHAM & REDBRIDGE | C58: 1953 | E58: 1953 | F58: 1964/5
A59: DARLINGTON | C59: 1954 | E59: 1954 | F59: 1965/6
A60: DARWEN | C60: 1955 | E60: 1955 | F60: 1966/7
A61: DERBY | C61: 1956 | E61: 1956 | F61: 1967/8
... A114: MARGATE | C114: 2009 | E114: 2009 | F114: 2020/1
A115: MERTHYR TOWN | C115: 2010 | E115: 2010
A116: METROPOLITAN POLICE | C116: 2011 | E116: 2011
A117: MIDDLESBROUGH | C117: 2012 | E117: 2012
A118: MILLWALL | C118: 2013 | E118: 2013
A119: MILTON KEYNES DONS | C119: 2014 | E119: 2014
...
