Workbook
Name RRDEL: #REF!

Sheet Weekly Changes
D2: Rail to port--Week to Week Changes | M2: Rail to port--Changes in 4-week averages
D3: MS | E3: TX | F3: Cross-Border-2 | G3: Cross-Border | H3: PNW | I3: East coast | J3: Total | M3: MS | N3: TX | O3: Cross-Border-2 | P3: Cross | Q3: PNW | R3: East coast | S3: Total
A4: % chg from prior week | D4: =('Weekly Data'!D1099/'Weekly Data'!D1098)*100 | E4: =('Weekly Data'!E1099/'Weekly Data'!E1098)*100 | F4: =('Weekly Data'!J1099/'Weekly Data'!J1098)*100 | G4: n/a | H4: =('Weekly Data'!G1099/'Weekly Data'!G1098)*100 | I4: =('Weekly Data'!H1099/'Weekly Data'!H1098)*100 | J4: =('Weekly Data'!I1099/'Weekly Data'!I1098)*100 | L4: % chg from prior week | M4: =('Weekly Averages'!B1099/'Weekly Averages'!B1098)*100 | N4: =('Weekly Averages'!C1099/'Weekly Averages'!C1098)*100 | O4: =('Weekly Averages'!H1099/'Weekly Averages'!H1098)*100 | P4: n/a | Q4: =('Weekly Averages'!E1099/'Weekly Averages'!E1098)*100 | R4: =('Weekly Averages'!F1099/'Weekly Averages'!F1098)*100 | S4: =('Weekly Averages'!G1099/'Weekly Averages'!G1098)*100
A5: % chg from prior year | D5: =('Weekly Data'!D1099/'Weekly Data'!D1047)*100 | E5: =('Weekly Data'!E1099/'Weekly Data'!E1047)*100 | F5: =('Weekly Data'!J1099/'Weekly Data'!J1047)*100 | G5: n/a | H5: =('Weekly Data'!G1099/'Weekly Data'!G1047)*100 | I5: =('Weekly Data'!H1099/'Weekly Data'!H1047)*100 | J5: =('Weekly Data'!I1099/'Weekly Data'!I1047)*100 | L5: % chg from prior year | M5: =('Weekly Averages'!B1099/'Weekly Averages'!B1047)*100 | N5: =('Weekly Averages'!C1099/'Weekly Averages'!C1047)*100 | O5: =('Weekly Averages'!H1099/'Weekly Averages'!H1047)*100 | P5: n/a | Q5: =('Weekly Averages'!E1099/'Weekly Averages'!E1047)*100 | R5: =('Weekly Averages'!F1099/'Weekly Averages'!F1047)*100 | S5: =('Weekly Averages'!G1099/'Weekly Averages'!G1047)*100
A6: % chg from 4-yr avg. | D6: =('Weekly Data'!D1099/'Weekly Averages'!J1099)*100 | E6: =('Weekly Data'!E1099/'Weekly Averages'!K1099)*100 | F6: =('Weekly Data'!J1099/'Weekly Averages'!P1099)*100 | G6: n/a | H6: =('Weekly Data'!G1099/'Weekly Averages'!M1099)*100 | I6: =('Weekly Data'!H1099/'Weekly Averages'!N1099)*100 | J6: =('Weekly Data'!I1099/'Weekly Averages'!O1099)*100 | L6: % chg from 4-yr avg. | M6: =('Weekly Averages'!B1099/'Weekly Averages'!S1099)*100 | N6: =('Weekly Averages'!C1099/'Weekly Averages'!T1099)*100 | O6: =('Weekly Averages'!H1099/'Weekly Averages'!Y1099)*100 | P6: n/a | Q6: =('Weekly Averages'!E1099/'Weekly Averages'!V1099)*100 | R6: =('Weekly Averages'!F1099/'Weekly Averages'!W1099)*100 | S6: =('Weekly Averages'!G1099/'Weekly Averages'!X1099)*100
D7: 4-yr avg | J7: 4-yr avg | M7: 4-yr avg | S7: 4-yr avg
A10: 3rd Quarter 2014 | D10: =SUM('Weekly Data'!D1076:D1088) | E10: =SUM('Weekly Data'!E1076:E1088) | F10: =SUM('Weekly Data'!J1076:J1088) | G10: n/a | H10: =SUM('Weekly Data'!G1076:G1088) | I10: =SUM('Weekly Data'!H1063:H1075) | J10: =SUM('Weekly Data'!I1063:I1075)
A11: 3rd Quarter 2013 | D11: =SUM('Weekly Data'!D1024:D1036) | E11: =SUM('Weekly Data'!E1024:E1036) | F11: =SUM('Weekly Data'!J1024:J1036) | G11: n/a | H11: =SUM('Weekly Data'!G1024:G1036) | I11: =SUM('Weekly Data'!H1024:H1036) | J11: =SUM('Weekly Data'!I1024:I1036)
A12: Change | D12: =(D10/D11)-1 | E12: =(E10/E11)-1 | F12: =(F10/F11)-1 | G12: n/a | H12: =(H10/H11)-1 | I12: =(I10/I11)-1 | J12: =(J10/J11)-1

Sheet New Table 3
A1: Table 3
A2: Rail Deliveries to Port (carloads)1
B3: Mississippi | D3: Pacific | E3: Atlantic & | H3: Cross-Border
A4: Week ending | B4: Gulf | C4: Texas Gulf | D4: Northwest | E4: East Gulf | F4: Total | G4: Week ending | H4: Mexico3
A6: 12/10/2014p | B6: ='Weekly Data'!D1099 | C6: ='Weekly Data'!E1099 | D6: ='Weekly Data'!G1099 | E6: ='Weekly Data'!H1099 | F6: ='Weekly Data'!I1099 | G6: 41977 | H6: ='Weekly Data'!J1099
A7: 12/03/2014r | B7: ='Weekly Data'!D1098 | C7: ='Weekly Data'!E1098 | D7: ='Weekly Data'!G1098 | E7: ='Weekly Data'!H1098 | F7: ='Weekly Data'!I1098 | G7: 41972 | H7: ='Weekly Data'!J1098
A8: 2014 YTDr | B8: =SUM('Weekly Data'!D1050:D1102) | C8: =SUM('Weekly Data'!E1050:E1102) | D8: =SUM('Weekly Data'!G1050:G1102) | E8: =SUM('Weekly Data'!H1050:H1102) | F8: =SUM('Weekly Data'!I1050:I1102) | G8: 2014 YTD | H8: =SUM('Weekly Data'!J1050:J1102)
A9: 2013 YTDr | B9: =SUM('Weekly Data'!D998:D1047) | C9: =SUM('Weekly Data'!E998:E1047) | D9: =SUM('Weekly Data'!G998:G1047) | E9: =SUM('Weekly Data'!H998:H1047) | F9: =SUM('Weekly Data'!I998:I1047) | G9: 2013 YTD | H9: =SUM('Weekly Data'!J998:J1047)
A10: 2014 YTD as % of 2013 YTD | B10: =B8/B9*100 | C10: =C8/C9*100 | D10: =D8/D9*100 | E10: =E8/E9*100 | F10: =F8/F9*100 | G10: % change YTD | H10: =H8/H9*100
A11: Last 4 weeks as % of 20132 | B11: ='Weekly Changes'!M5 | C11: ='Weekly Changes'!N5 | D11: ='Weekly Changes'!Q5 | E11: ='Weekly Changes'!R5 | F11: ='Weekly Changes'!S5 | G11: Last 4wks % 2013 | H11: ='Weekly Changes'!O5
A12: Last 4 weeks as % of 4-year avg.2 | B12: ='Weekly Changes'!M6 | C12: ='Weekly Changes'!N6 | D12: ='Weekly Changes'!Q6 | E12: ='Weekly Changes'!R6 | F12: ='Weekly Changes'!S6 | G12: Last 4wks % 4 yr | H12: ='Weekly Changes'!O6
A13: Total 2013 | B13: =SUM('Weekly Data'!D998:D1049) | C13: =SUM('Weekly Data'!E998:E1049) | D13: =SUM('Weekly Data'!G998:G1049) | E13: =SUM('Weekly Data'!H998:H1049) | F13: =SUM('Weekly Data'!I998:I1049) | G13: Total 2013 | H13: 70298
A14: Total 2012 | B14: =SUM('Weekly Data'!D946:D997) | C14: =SUM('Weekly Data'!E946:E997) | D14: =SUM('Weekly Data'!G946:G997) | E14: =SUM('Weekly Data'!H946:H997) | F14: =SUM('Weekly Data'!I946:I997) | G14: Total 2012 | H14: 92008
A15: 1 Data is incomplete as it is voluntarily provided
A16: 2 Compared with same 4-weeks in 2013 and prior 4-year average.
A17: 3 Cross- border weekly data is aproximately 15 percent below the Association of American Railroads reported weekly carloads received by Mexican railroads
A18: to reflect switching between KCSM and FerroMex.
A19: YTD = year-to-date; p = preliminary data; r = revised data; n/a = not available
A20: Source: Transportation & Marketing Programs/AMS/USDA

Sheet Sheet1
B24: Exports
B25: 2009 | C25: 2010 | D25: 2011
B27: 1814.1448 | C27: 2185.3332 | D27: 1739.0574
B28: 1880.1931 | C28: 2427.9968 | D28: 2532.1407
B29: 2225.0744 | C29: 2537.1322 | D29: 2502.7315
B30: 2072.7847 | C30: 2733.2896 | D30: 2616.5514
B31: 2622.7556 | C31: 2362.6668 | D31: 2789.5675
B32: 2440.4708 | C32: 2144.243 | D32: 2294.6458
B33: 1842.4063 | C33: 2810.2658 | D33: 3004.883
B34: 1956.0606 | C34: 2691.9692 | D34: 2547.7994
B35: 2314.2895 | C35: 2498.9139 | D35: 2475.1507
B36: 1840.2285 | C36: 2116.636 | D36: 2657.1389
B37: 2003.1701 | C37: 2599.1252 | D37: 2313.5965
... B78: 2039.6663 | C78: 1613.5863 | D78: 1881.7527
