Workbook
Name MonthlySubs: Tracker!$B$30:$CA$55

Sheet Dropdowns
A1: =IFERROR(__xludf.DUMMYFUNCTION("IMPORTRANGE(""https://docs.google.com/spreadsheets/d/1E3a13Quoy8ucUQGotFX86b3I5abyal0wa-x3CfT0I6c/edit#gid=638448317"",""Dropdowns!A1:M35"")"),"Geographies") | B1: =IFERROR(__xludf.DUMMYFUNCTION("""COMPUTED_VALUE"""),"Years") | C1: =IFERROR(__xludf.DUMMYFUNCTION("""COMPUTED_VALUE"""),"Years") | D1: =IFERROR(__xludf.DUMMYFUNCTION("""COMPUTED_VALUE"""),"Probability") | E1: =IFERROR(__xludf.DUMMYFUNCTION("""COMPUTED_VALUE"""),"Number") | F1: =IFERROR(__xludf.DUMMYFUNCTION("""COMPUTED_VALUE"""),"Number") | G1: =IFERROR(__xludf.DUMMYFUNCTION("""COMPUTED_VALUE"""),"Fee") | H1: =IFERROR(__xludf.DUMMYFUNCTION("""COMPUTED_VALUE"""),"Billing")
A2: =IFERROR(__xludf.DUMMYFUNCTION("""COMPUTED_VALUE"""),"Canada") | B2: =IFERROR(__xludf.DUMMYFUNCTION("""COMPUTED_VALUE"""),1) | C2: =IFERROR(__xludf.DUMMYFUNCTION("""COMPUTED_VALUE"""),"New") | D2: =IFERROR(__xludf.DUMMYFUNCTION("""COMPUTED_VALUE"""),0.4) | E2: =IFERROR(__xludf.DUMMYFUNCTION("""COMPUTED_VALUE"""),1) | F2: =IFERROR(__xludf.DUMMYFUNCTION("""COMPUTED_VALUE"""),"Digital Maintenance") | H2: =IFERROR(__xludf.DUMMYFUNCTION("""COMPUTED_VALUE"""),"Monthly")
A3: =IFERROR(__xludf.DUMMYFUNCTION("""COMPUTED_VALUE"""),"US") | B3: =IFERROR(__xludf.DUMMYFUNCTION("""COMPUTED_VALUE"""),2) | C3: =IFERROR(__xludf.DUMMYFUNCTION("""COMPUTED_VALUE"""),"Renew") | D3: =IFERROR(__xludf.DUMMYFUNCTION("""COMPUTED_VALUE"""),0.5) | E3: =IFERROR(__xludf.DUMMYFUNCTION("""COMPUTED_VALUE"""),2) | F3: =IFERROR(__xludf.DUMMYFUNCTION("""COMPUTED_VALUE"""),"Licenses") | H3: =IFERROR(__xludf.DUMMYFUNCTION("""COMPUTED_VALUE"""),"Quarterly")
A4: =IFERROR(__xludf.DUMMYFUNCTION("""COMPUTED_VALUE"""),"Europe") | B4: =IFERROR(__xludf.DUMMYFUNCTION("""COMPUTED_VALUE"""),3) | C4: =IFERROR(__xludf.DUMMYFUNCTION("""COMPUTED_VALUE"""),"Addition") | D4: =IFERROR(__xludf.DUMMYFUNCTION("""COMPUTED_VALUE"""),0.6) | E4: =IFERROR(__xludf.DUMMYFUNCTION("""COMPUTED_VALUE"""),3) | F4: =IFERROR(__xludf.DUMMYFUNCTION("""COMPUTED_VALUE"""),"Projects") | H4: =IFERROR(__xludf.DUMMYFUNCTION("""COMPUTED_VALUE"""),"Annually")
B5: =IFERROR(__xludf.DUMMYFUNCTION("""COMPUTED_VALUE"""),4) | D5: =IFERROR(__xludf.DUMMYFUNCTION("""COMPUTED_VALUE"""),0.7) | E5: =IFERROR(__xludf.DUMMYFUNCTION("""COMPUTED_VALUE"""),4) | F5: =IFERROR(__xludf.DUMMYFUNCTION("""COMPUTED_VALUE"""),"API")
B6: =IFERROR(__xludf.DUMMYFUNCTION("""COMPUTED_VALUE"""),5) | D6: =IFERROR(__xludf.DUMMYFUNCTION("""COMPUTED_VALUE"""),0.799999999999999) | E6: =IFERROR(__xludf.DUMMYFUNCTION("""COMPUTED_VALUE"""),5) | F6: =IFERROR(__xludf.DUMMYFUNCTION("""COMPUTED_VALUE"""),"RSVP")
B7: =IFERROR(__xludf.DUMMYFUNCTION("""COMPUTED_VALUE"""),6) | D7: =IFERROR(__xludf.DUMMYFUNCTION("""COMPUTED_VALUE"""),0.899999999999999) | E7: =IFERROR(__xludf.DUMMYFUNCTION("""COMPUTED_VALUE"""),6) | F7: =IFERROR(__xludf.DUMMYFUNCTION("""COMPUTED_VALUE"""),"...")
D8: =IFERROR(__xludf.DUMMYFUNCTION("""COMPUTED_VALUE"""),0.999999999999999) | E8: =IFERROR(__xludf.DUMMYFUNCTION("""COMPUTED_VALUE"""),7)
E9: =IFERROR(__xludf.DUMMYFUNCTION("""COMPUTED_VALUE"""),8)
E10: =IFERROR(__xludf.DUMMYFUNCTION("""COMPUTED_VALUE"""),9)
E11: =IFERROR(__xludf.DUMMYFUNCTION("""COMPUTED_VALUE"""),10)
E12: =IFERROR(__xludf.DUMMYFUNCTION("""COMPUTED_VALUE"""),11)
E13: =IFERROR(__xludf.DUMMYFUNCTION("""COMPUTED_VALUE"""),12)
E14: =IFERROR(__xludf.DUMMYFUNCTION("""COMPUTED_VALUE"""),13)
E15: =IFERROR(__xludf.DUMMYFUNCTION("""COMPUTED_VALUE"""),14)
E16: =IFERROR(__xludf.DUMMYFUNCTION("""COMPUTED_VALUE"""),15)
E17: =IFERROR(__xludf.DUMMYFUNCTION("""COMPUTED_VALUE"""),16)
E18: =IFERROR(__xludf.DUMMYFUNCTION("""COMPUTED_VALUE"""),17)
E19: =IFERROR(__xludf.DUMMYFUNCTION("""COMPUTED_VALUE"""),18)
E20: =IFERROR(__xludf.DUMMYFUNCTION("""COMPUTED_VALUE"""),19)
E21: =IFERROR(__xludf.DUMMYFUNCTION("""COMPUTED_VALUE"""),20)

Sheet Tracker
U2: 44562 | V2: =U3+1 | W2: =V3+1 | X2: =W3+1 | Y2: =X3+1 | Z2: =Y3+1 | AA2: =Z3+1 | AB2: =AA3+1 | AC2: =AB3+1 | ... CZ2: =CY3+1
B3: Customer Name | D3: Project | F3: Customer Number | H3: Notes | I3: Probability | J3: Product | K3: Number | L3: Fee | M3: MRR | N3: DGs | O3: Re/new | P3: [Person_1] | Q3: Contract | R3: Subscription | U3: =EOMONTH(U2,0) | V3: =EOMONTH(V2,0) | W3: =EOMONTH(W2,0) | X3: =EOMONTH(X2,0) | Y3: =EOMONTH(Y2,0) | Z3: =EOMONTH(Z2,0) | AA3: =EOMONTH(AA2,0) | AB3: =EOMONTH(AB2,0) | ... CZ3: =EOMONTH(CZ2,0)
Q4: Signed Date | R4: Start Date | S4: End Date | T4: Months | U4: =YEAR(U3) | V4: =YEAR(V3) | W4: =YEAR(W3) | X4: =YEAR(X3) | Y4: =YEAR(Y3) | Z4: =YEAR(Z3) | AA4: =YEAR(AA3) | AB4: =YEAR(AB3) | ... CZ4: =YEAR(CZ3)
B6: Summary
B7: Number of …
B8: =Dropdowns!F2 | U8: How many of these = I imagine I will have the same problem with my [Person_2]..
B9: =Dropdowns!F3
B10: =Dropdowns!F4
B11: =Dropdowns!F5
B12: =Dropdowns!F6
B13: =Dropdowns!F7
B15: MRR
B16: =Dropdowns!F3 | U16: =SUMIF($J$24:$J$114,$B16,U$24:U$115) | V16: =SUMIF($J$24:$J$114,$B16,V$24:V$115) | W16: =SUMIF($J$24:$J$114,$B16,W$24:W$115) | X16: =SUMIF($J$24:$J$114,$B16,X$24:X$115) | Y16: =SUMIF($J$24:$J$114,$B16,Y$24:Y$115) | Z16: =SUMIF($J$24:$J$114,$B16,Z$24:Z$115) | AA16: =SUMIF($J$24:$J$114,$B16,AA$24:AA$115) | AB16: =SUMIF($J$24:$J$114,$B16,AB$24:AB$115) | ... CZ16: =SUMIF($J$24:$J$114,$B16,CZ$24:CZ$115)
B17: =Dropdowns!F4 | U17: =SUMIF($J$24:$J$114,$B17,U$24:U$115) | V17: =SUMIF($J$24:$J$114,$B17,V$24:V$115) | W17: =SUMIF($J$24:$J$114,$B17,W$24:W$115) | X17: =SUMIF($J$24:$J$114,$B17,X$24:X$115) | Y17: =SUMIF($J$24:$J$114,$B17,Y$24:Y$115) | Z17: =SUMIF($J$24:$J$114,$B17,Z$24:Z$115) | AA17: =SUMIF($J$24:$J$114,$B17,AA$24:AA$115) | AB17: =SUMIF($J$24:$J$114,$B17,AB$24:AB$115) | ... CZ17: =SUMIF($J$24:$J$114,$B17,CZ$24:CZ$115)
B18: =Dropdowns!F5 | U18: =SUMIF($J$24:$J$114,$B18,U$24:U$115) | V18: =SUMIF($J$24:$J$114,$B18,V$24:V$115) | W18: =SUMIF($J$24:$J$114,$B18,W$24:W$115) | X18: =SUMIF($J$24:$J$114,$B18,X$24:X$115) | Y18: =SUMIF($J$24:$J$114,$B18,Y$24:Y$115) | Z18: =SUMIF($J$24:$J$114,$B18,Z$24:Z$115) | AA18: =SUMIF($J$24:$J$114,$B18,AA$24:AA$115) | AB18: =SUMIF($J$24:$J$114,$B18,AB$24:AB$115) | ... CZ18: =SUMIF($J$24:$J$114,$B18,CZ$24:CZ$115)
B19: =Dropdowns!F6 | U19: =SUMIF($J$24:$J$114,$B19,U$24:U$115) | V19: =SUMIF($J$24:$J$114,$B19,V$24:V$115) | W19: =SUMIF($J$24:$J$114,$B19,W$24:W$115) | X19: =SUMIF($J$24:$J$114,$B19,X$24:X$115) | Y19: =SUMIF($J$24:$J$114,$B19,Y$24:Y$115) | Z19: =SUMIF($J$24:$J$114,$B19,Z$24:Z$115) | AA19: =SUMIF($J$24:$J$114,$B19,AA$24:AA$115) | AB19: =SUMIF($J$24:$J$114,$B19,AB$24:AB$115) | ... CZ19: =SUMIF($J$24:$J$114,$B19,CZ$24:CZ$115)
B20: =Dropdowns!F7 | U20: =SUMIF($J$24:$J$114,$B20,U$24:U$115) | V20: =SUMIF($J$24:$J$114,$B20,V$24:V$115) | W20: =SUMIF($J$24:$J$114,$B20,W$24:W$115) | X20: =SUMIF($J$24:$J$114,$B20,X$24:X$115) | Y20: =SUMIF($J$24:$J$114,$B20,Y$24:Y$115) | Z20: =SUMIF($J$24:$J$114,$B20,Z$24:Z$115) | AA20: =SUMIF($J$24:$J$114,$B20,AA$24:AA$115) | AB20: =SUMIF($J$24:$J$114,$B20,AB$24:AB$115) | ... CZ20: =SUMIF($J$24:$J$114,$B20,CZ$24:CZ$115)
B21: Digital Maintenance | U21: =SUMIFS(U$24:U$115,$J$24:$J$210,$B21,$R$24:$R$210,">="&U$2,$S$24:$S$210,"<="&U$3) | V21: =SUMIFS(V$24:V$115,$J$24:$J$210,$B21,$R$24:$R$210,">="&V$2,$S$24:$S$210,"<="&V$3) | W21: =SUMIFS(W$24:W$115,$J$24:$J$210,$B21,$R$24:$R$210,">="&W$2,$S$24:$S$210,"<="&W$3) | X21: =SUMIFS(X$24:X$115,$J$24:$J$210,$B21,$R$24:$R$210,">="&X$2,$S$24:$S$210,"<="&X$3) | Y21: =SUMIFS(Y$24:Y$115,$J$24:$J$210,$B21,$R$24:$R$210,">="&Y$2,$S$24:$S$210,"<="&Y$3) | Z21: =SUMIFS(Z$24:Z$115,$J$24:$J$210,$B21,$R$24:$R$210,">="&Z$2,$S$24:$S$210,"<="&Z$3) | AA21: =SUMIFS(AA$24:AA$115,$J$24:$J$210,$B21,$R$24:$R$210,">="&AA$2,$S$24:$S$210,"<="&AA$3) | AB21: =SUMIFS(AB$24:AB$115,$J$24:$J$210,$B21,$R$24:$R$210,">="&AB$2,$S$24:$S$210,"<="&AB$3) | ... DB21: =SUMIFS(DB$24:DB$115,$J$24:$J$210,$B21,$R$24:$R$210,">="&DB$2,$S$24:$S$210,"<="&DB$3)
A24: [Person_3] | I24: 1 | J24: Digital Maintenance | K24: 144 | L24: 150 | M24: =IF($J24="Digital Maintenance",0,K24*L24)*I23 | N24: =IF($J24="Digital Maintenance",K24*L24,0)*I24 | O24: New | R24: 44986 | S24: =EOMONTH(R24,11) | T24: =IF(ISBLANK(S24),"",YEARFRAC(R24,EOMONTH(S24,0))*12) | U24: =IFERROR(IF(AND($R24>=U$2,$R24<=U$3),$M24,IF(AND(U$3>=$R24,U$2<=$S24),$M24,0)),0) | V24: =IFERROR(IF(AND($R24>=V$2,$R24<=V$3),$M24,IF(AND(V$3>=$R24,V$2<=$S24),$M24,0)),0) | W24: =IFERROR(IF(AND($R24>=W$2,$R24<=W$3),$M24,IF(AND(W$3>=$R24,W$2<=$S24),$M24,0)),0) | X24: =IFERROR(IF(AND($R24>=X$2,$R24<=X$3),$M24,IF(AND(X$3>=$R24,X$2<=$S24),$M24,0)),0) | Y24: =IFERROR(IF(AND($R24>=Y$2,$R24<=Y$3),$M24,IF(AND(Y$3>=$R24,Y$2<=$S24),$M24,0)),0) | Z24: =IFERROR(IF(AND($R24>=Z$2,$R24<=Z$3),$M24,IF(AND(Z$3>=$R24,Z$2<=$S24),$M24,0)),0) | AA24: =IFERROR(IF(AND($R24>=AA$2,$R24<=AA$3),$M24,IF(AND(AA$3>=$R24,AA$2<=$S24),$M24,0)),0) | AB24: =IFERROR(IF(AND($R24>=AB$2,$R24<=AB$3),$M24,IF(AND(AB$3>=$R24,AB$2<=$S24),$M24,0)),0) | ... CZ24: =IFERROR(IF(AND($R24>=CZ$2,$R24<=CZ$3),$M24,IF(AND(CZ$3>=$R24,CZ$2<=$S24),$M24,0)),0)
A25: [Person_3] | I25: 1 | J25: Digital Maintenance | K25: 50 | L25: 150 | M25: =IF($J25="Digital Maintenance",0,K25*L25)*I24 | N25: =IF($J25="Digital Maintenance",K25*L25,0)*I25 | O25: New | R25: 44562 | S25: =EOMONTH(R25,11) | T25: =IF(ISBLANK(S25),"",YEARFRAC(R25,EOMONTH(S25,0))*12) | U25: =IFERROR(IF(AND($R25>=U$2,$R25<=U$3),$M25,IF(AND(U$3>=$R25,U$2<=$S25),$M25,0)),0) | V25: =IFERROR(IF(AND($R25>=V$2,$R25<=V$3),$M25,IF(AND(V$3>=$R25,V$2<=$S25),$M25,0)),0) | W25: =IFERROR(IF(AND($R25>=W$2,$R25<=W$3),$M25,IF(AND(W$3>=$R25,W$2<=$S25),$M25,0)),0) | X25: =IFERROR(IF(AND($R25>=X$2,$R25<=X$3),$M25,IF(AND(X$3>=$R25,X$2<=$S25),$M25,0)),0) | Y25: =IFERROR(IF(AND($R25>=Y$2,$R25<=Y$3),$M25,IF(AND(Y$3>=$R25,Y$2<=$S25),$M25,0)),0) | Z25: =IFERROR(IF(AND($R25>=Z$2,$R25<=Z$3),$M25,IF(AND(Z$3>=$R25,Z$2<=$S25),$M25,0)),0) | AA25: =IFERROR(IF(AND($R25>=AA$2,$R25<=AA$3),$M25,IF(AND(AA$3>=$R25,AA$2<=$S25),$M25,0)),0) | AB25: =IFERROR(IF(AND($R25>=AB$2,$R25<=AB$3),$M25,IF(AND(AB$3>=$R25,AB$2<=$S25),$M25,0)),0) | ... CZ25: =IFERROR(IF(AND($R25>=CZ$2,$R25<=CZ$3),$M25,IF(AND(CZ$3>=$R25,CZ$2<=$S25),$M25,0)),0)
A26: [Person_3] | I26: 1 | J26: Digital Maintenance | K26: 180 | L26: 175 | M26: =IF($J26="Digital Maintenance",0,K26*L26)*I25 | N26: =IF($J26="Digital Maintenance",K26*L26,0)*I26 | O26: New | R26: 45200 | S26: =EOMONTH(R26,11) | T26: =IF(ISBLANK(S26),"",YEARFRAC(R26,EOMONTH(S26,0))*12) | U26: =IFERROR(IF(AND($R26>=U$2,$R26<=U$3),$M26,IF(AND(U$3>=$R26,U$2<=$S26),$M26,0)),0) | V26: =IFERROR(IF(AND($R26>=V$2,$R26<=V$3),$M26,IF(AND(V$3>=$R26,V$2<=$S26),$M26,0)),0) | W26: =IFERROR(IF(AND($R26>=W$2,$R26<=W$3),$M26,IF(AND(W$3>=$R26,W$2<=$S26),$M26,0)),0) | X26: =IFERROR(IF(AND($R26>=X$2,$R26<=X$3),$M26,IF(AND(X$3>=$R26,X$2<=$S26),$M26,0)),0) | Y26: =IFERROR(IF(AND($R26>=Y$2,$R26<=Y$3),$M26,IF(AND(Y$3>=$R26,Y$2<=$S26),$M26,0)),0) | Z26: =IFERROR(IF(AND($R26>=Z$2,$R26<=Z$3),$M26,IF(AND(Z$3>=$R26,Z$2<=$S26),$M26,0)),0) | AA26: =IFERROR(IF(AND($R26>=AA$2,$R26<=AA$3),$M26,IF(AND(AA$3>=$R26,AA$2<=$S26),$M26,0)),0) | AB26: =IFERROR(IF(AND($R26>=AB$2,$R26<=AB$3),$M26,IF(AND(AB$3>=$R26,AB$2<=$S26),$M26,0)),0) | ... CZ26: =IFERROR(IF(AND($R26>=CZ$2,$R26<=CZ$3),$M26,IF(AND(CZ$3>=$R26,CZ$2<=$S26),$M26,0)),0)
A27: [Person_3] | I27: 1 | J27: Digital Maintenance | K27: 67 | L27: 175 | M27: =IF($J27="Digital Maintenance",0,K27*L27)*I26 | N27: =IF($J27="Digital Maintenance",K27*L27,0)*I27 | O27: New | R27: 44986 | S27: =EOMONTH(R27,11) | T27: =IF(ISBLANK(S27),"",YEARFRAC(R27,EOMONTH(S27,0))*12) | U27: =IFERROR(IF(AND($R27>=U$2,$R27<=U$3),$M27,IF(AND(U$3>=$R27,U$2<=$S27),$M27,0)),0) | V27: =IFERROR(IF(AND($R27>=V$2,$R27<=V$3),$M27,IF(AND(V$3>=$R27,V$2<=$S27),$M27,0)),0) | W27: =IFERROR(IF(AND($R27>=W$2,$R27<=W$3),$M27,IF(AND(W$3>=$R27,W$2<=$S27),$M27,0)),0) | X27: =IFERROR(IF(AND($R27>=X$2,$R27<=X$3),$M27,IF(AND(X$3>=$R27,X$2<=$S27),$M27,0)),0) | Y27: =IFERROR(IF(AND($R27>=Y$2,$R27<=Y$3),$M27,IF(AND(Y$3>=$R27,Y$2<=$S27),$M27,0)),0) | Z27: =IFERROR(IF(AND($R27>=Z$2,$R27<=Z$3),$M27,IF(AND(Z$3>=$R27,Z$2<=$S27),$M27,0)),0) | AA27: =IFERROR(IF(AND($R27>=AA$2,$R27<=AA$3),$M27,IF(AND(AA$3>=$R27,AA$2<=$S27),$M27,0)),0) | AB27: =IFERROR(IF(AND($R27>=AB$2,$R27<=AB$3),$M27,IF(AND(AB$3>=$R27,AB$2<=$S27),$M27,0)),0) | ... CZ27: =IFERROR(IF(AND($R27>=CZ$2,$R27<=CZ$3),$M27,IF(AND(CZ$3>=$R27,CZ$2<=$S27),$M27,0)),0)
A28: [Person_3] | I28: 1 | J28: Digital Maintenance | K28: 45 | L28: 175 | M28: =IF($J28="Digital Maintenance",0,K28*L28)*I27 | N28: =IF($J28="Digital Maintenance",K28*L28,0)*I28 | O28: New | R28: 44835 | S28: =EOMONTH(R28,11) | T28: =IF(ISBLANK(S28),"",YEARFRAC(R28,EOMONTH(S28,0))*12) | U28: =IFERROR(IF(AND($R28>=U$2,$R28<=U$3),$M28,IF(AND(U$3>=$R28,U$2<=$S28),$M28,0)),0) | V28: =IFERROR(IF(AND($R28>=V$2,$R28<=V$3),$M28,IF(AND(V$3>=$R28,V$2<=$S28),$M28,0)),0) | W28: =IFERROR(IF(AND($R28>=W$2,$R28<=W$3),$M28,IF(AND(W$3>=$R28,W$2<=$S28),$M28,0)),0) | X28: =IFERROR(IF(AND($R28>=X$2,$R28<=X$3),$M28,IF(AND(X$3>=$R28,X$2<=$S28),$M28,0)),0) | Y28: =IFERROR(IF(AND($R28>=Y$2,$R28<=Y$3),$M28,IF(AND(Y$3>=$R28,Y$2<=$S28),$M28,0)),0) | Z28: =IFERROR(IF(AND($R28>=Z$2,$R28<=Z$3),$M28,IF(AND(Z$3>=$R28,Z$2<=$S28),$M28,0)),0) | AA28: =IFERROR(IF(AND($R28>=AA$2,$R28<=AA$3),$M28,IF(AND(AA$3>=$R28,AA$2<=$S28),$M28,0)),0) | AB28: =IFERROR(IF(AND($R28>=AB$2,$R28<=AB$3),$M28,IF(AND(AB$3>=$R28,AB$2<=$S28),$M28,0)),0) | ... CZ28: =IFERROR(IF(AND($R28>=CZ$2,$R28<=CZ$3),$M28,IF(AND(CZ$3>=$R28,CZ$2<=$S28),$M28,0)),0)
A29: [Person_3] | I29: 1 | J29: Digital Maintenance | K29: 45 | L29: 175 | M29: =IF($J29="Digital Maintenance",0,K29*L29)*I28 | N29: =IF($J29="Digital Maintenance",K29*L29,0)*I29 | O29: New | R29: 44835 | S29: =EOMONTH(R29,11) | T29: =IF(ISBLANK(S29),"",YEARFRAC(R29,EOMONTH(S29,0))*12) | U29: =IFERROR(IF(AND($R29>=U$2,$R29<=U$3),$M29,IF(AND(U$3>=$R29,U$2<=$S29),$M29,0)),0) | V29: =IFERROR(IF(AND($R29>=V$2,$R29<=V$3),$M29,IF(AND(V$3>=$R29,V$2<=$S29),$M29,0)),0) | W29: =IFERROR(IF(AND($R29>=W$2,$R29<=W$3),$M29,IF(AND(W$3>=$R29,W$2<=$S29),$M29,0)),0) | X29: =IFERROR(IF(AND($R29>=X$2,$R29<=X$3),$M29,IF(AND(X$3>=$R29,X$2<=$S29),$M29,0)),0) | Y29: =IFERROR(IF(AND($R29>=Y$2,$R29<=Y$3),$M29,IF(AND(Y$3>=$R29,Y$2<=$S29),$M29,0)),0) | Z29: =IFERROR(IF(AND($R29>=Z$2,$R29<=Z$3),$M29,IF(AND(Z$3>=$R29,Z$2<=$S29),$M29,0)),0) | AA29: =IFERROR(IF(AND($R29>=AA$2,$R29<=AA$3),$M29,IF(AND(AA$3>=$R29,AA$2<=$S29),$M29,0)),0) | AB29: =IFERROR(IF(AND($R29>=AB$2,$R29<=AB$3),$M29,IF(AND(AB$3>=$R29,AB$2<=$S29),$M29,0)),0) | ... CZ29: =IFERROR(IF(AND($R29>=CZ$2,$R29<=CZ$3),$M29,IF(AND(CZ$3>=$R29,CZ$2<=$S29),$M29,0)),0)
A30: [Person_3] | I30: 1 | J30: Digital Maintenance | K30: 364 | L30: 100 | M30: =IF($J30="Digital Maintenance",0,K30*L30)*I29 | N30: =IF($J30="Digital Maintenance",K30*L30,0)*I30 | O30: New | R30: 44805 | S30: =EOMONTH(R30,11) | T30: =IF(ISBLANK(S30),"",YEARFRAC(R30,EOMONTH(S30,0))*12) | U30: =IFERROR(IF(AND($R30>=U$2,$R30<=U$3),$M30,IF(AND(U$3>=$R30,U$2<=$S30),$M30,0)),0) | V30: =IFERROR(IF(AND($R30>=V$2,$R30<=V$3),$M30,IF(AND(V$3>=$R30,V$2<=$S30),$M30,0)),0) | W30: =IFERROR(IF(AND($R30>=W$2,$R30<=W$3),$M30,IF(AND(W$3>=$R30,W$2<=$S30),$M30,0)),0) | X30: =IFERROR(IF(AND($R30>=X$2,$R30<=X$3),$M30,IF(AND(X$3>=$R30,X$2<=$S30),$M30,0)),0) | Y30: =IFERROR(IF(AND($R30>=Y$2,$R30<=Y$3),$M30,IF(AND(Y$3>=$R30,Y$2<=$S30),$M30,0)),0) | Z30: =IFERROR(IF(AND($R30>=Z$2,$R30<=Z$3),$M30,IF(AND(Z$3>=$R30,Z$2<=$S30),$M30,0)),0) | AA30: =IFERROR(IF(AND($R30>=AA$2,$R30<=AA$3),$M30,IF(AND(AA$3>=$R30,AA$2<=$S30),$M30,0)),0) | AB30: =IFERROR(IF(AND($R30>=AB$2,$R30<=AB$3),$M30,IF(AND(AB$3>=$R30,AB$2<=$S30),$M30,0)),0) | ... CZ30: =IFERROR(IF(AND($R30>=CZ$2,$R30<=CZ$3),$M30,IF(AND(CZ$3>=$R30,CZ$2<=$S30),$M30,0)),0)
A31: [Person_3] | I31: 1 | J31: Digital Maintenance | K31: 364 | L31: 100 | M31: =IF($J31="Digital Maintenance",0,K31*L31)*I30 | N31: =IF($J31="Digital Maintenance",K31*L31,0)*I31 | O31: New | R31: 44805 | S31: =EOMONTH(R31,11) | T31: =IF(ISBLANK(S31),"",YEARFRAC(R31,EOMONTH(S31,0))*12) | U31: =IFERROR(IF(AND($R31>=U$2,$R31<=U$3),$M31,IF(AND(U$3>=$R31,U$2<=$S31),$M31,0)),0) | V31: =IFERROR(IF(AND($R31>=V$2,$R31<=V$3),$M31,IF(AND(V$3>=$R31,V$2<=$S31),$M31,0)),0) | W31: =IFERROR(IF(AND($R31>=W$2,$R31<=W$3),$M31,IF(AND(W$3>=$R31,W$2<=$S31),$M31,0)),0) | X31: =IFERROR(IF(AND($R31>=X$2,$R31<=X$3),$M31,IF(AND(X$3>=$R31,X$2<=$S31),$M31,0)),0) | Y31: =IFERROR(IF(AND($R31>=Y$2,$R31<=Y$3),$M31,IF(AND(Y$3>=$R31,Y$2<=$S31),$M31,0)),0) | Z31: =IFERROR(IF(AND($R31>=Z$2,$R31<=Z$3),$M31,IF(AND(Z$3>=$R31,Z$2<=$S31),$M31,0)),0) | AA31: =IFERROR(IF(AND($R31>=AA$2,$R31<=AA$3),$M31,IF(AND(AA$3>=$R31,AA$2<=$S31),$M31,0)),0) | AB31: =IFERROR(IF(AND($R31>=AB$2,$R31<=AB$3),$M31,IF(AND(AB$3>=$R31,AB$2<=$S31),$M31,0)),0) | ... CZ31: =IFERROR(IF(AND($R31>=CZ$2,$R31<=CZ$3),$M31,IF(AND(CZ$3>=$R31,CZ$2<=$S31),$M31,0)),0)
A32: [Person_3] | I32: 1 | J32: Digital Maintenance | K32: 213 | L32: 100 | M32: =IF($J32="Digital Maintenance",0,K32*L32)*I31 | N32: =IF($J32="Digital Maintenance",K32*L32,0)*I32 | O32: New | R32: 44927 | S32: =EOMONTH(R32,11) | T32: =IF(ISBLANK(S32),"",YEARFRAC(R32,EOMONTH(S32,0))*12) | U32: =IFERROR(IF(AND($R32>=U$2,$R32<=U$3),$M32,IF(AND(U$3>=$R32,U$2<=$S32),$M32,0)),0) | V32: =IFERROR(IF(AND($R32>=V$2,$R32<=V$3),$M32,IF(AND(V$3>=$R32,V$2<=$S32),$M32,0)),0) | W32: =IFERROR(IF(AND($R32>=W$2,$R32<=W$3),$M32,IF(AND(W$3>=$R32,W$2<=$S32),$M32,0)),0) | X32: =IFERROR(IF(AND($R32>=X$2,$R32<=X$3),$M32,IF(AND(X$3>=$R32,X$2<=$S32),$M32,0)),0) | Y32: =IFERROR(IF(AND($R32>=Y$2,$R32<=Y$3),$M32,IF(AND(Y$3>=$R32,Y$2<=$S32),$M32,0)),0) | Z32: =IFERROR(IF(AND($R32>=Z$2,$R32<=Z$3),$M32,IF(AND(Z$3>=$R32,Z$2<=$S32),$M32,0)),0) | AA32: =IFERROR(IF(AND($R32>=AA$2,$R32<=AA$3),$M32,IF(AND(AA$3>=$R32,AA$2<=$S32),$M32,0)),0) | AB32: =IFERROR(IF(AND($R32>=AB$2,$R32<=AB$3),$M32,IF(AND(AB$3>=$R32,AB$2<=$S32),$M32,0)),0) | ... CZ32: =IFERROR(IF(AND($R32>=CZ$2,$R32<=CZ$3),$M32,IF(AND(CZ$3>=$R32,CZ$2<=$S32),$M32,0)),0)
A33: [Person_3] | I33: 1 | J33: Digital Maintenance | K33: 213 | L33: 100 | M33: =IF($J33="Digital Maintenance",0,K33*L33)*I32 | N33: =IF($J33="Digital Maintenance",K33*L33,0)*I33 | O33: New | R33: 44805 | S33: =EOMONTH(R33,11) | T33: =IF(ISBLANK(S33),"",YEARFRAC(R33,EOMONTH(S33,0))*12) | U33: =IFERROR(IF(AND($R33>=U$2,$R33<=U$3),$M33,IF(AND(U$3>=$R33,U$2<=$S33),$M33,0)),0) | V33: =IFERROR(IF(AND($R33>=V$2,$R33<=V$3),$M33,IF(AND(V$3>=$R33,V$2<=$S33),$M33,0)),0) | W33: =IFERROR(IF(AND($R33>=W$2,$R33<=W$3),$M33,IF(AND(W$3>=$R33,W$2<=$S33),$M33,0)),0) | X33: =IFERROR(IF(AND($R33>=X$2,$R33<=X$3),$M33,IF(AND(X$3>=$R33,X$2<=$S33),$M33,0)),0) | Y33: =IFERROR(IF(AND($R33>=Y$2,$R33<=Y$3),$M33,IF(AND(Y$3>=$R33,Y$2<=$S33),$M33,0)),0) | Z33: =IFERROR(IF(AND($R33>=Z$2,$R33<=Z$3),$M33,IF(AND(Z$3>=$R33,Z$2<=$S33),$M33,0)),0) | AA33: =IFERROR(IF(AND($R33>=AA$2,$R33<=AA$3),$M33,IF(AND(AA$3>=$R33,AA$2<=$S33),$M33,0)),0) | AB33: =IFERROR(IF(AND($R33>=AB$2,$R33<=AB$3),$M33,IF(AND(AB$3>=$R33,AB$2<=$S33),$M33,0)),0) | ... CZ33: =IFERROR(IF(AND($R33>=CZ$2,$R33<=CZ$3),$M33,IF(AND(CZ$3>=$R33,CZ$2<=$S33),$M33,0)),0)
A34: [Person_3] | I34: 1 | J34: Digital Maintenance | K34: 213 | L34: 100 | M34: =IF($J34="Digital Maintenance",0,K34*L34)*I33 | N34: =IF($J34="Digital Maintenance",K34*L34,0)*I34 | O34: New | R34: 44805 | S34: =EOMONTH(R34,11) | T34: =IF(ISBLANK(S34),"",YEARFRAC(R34,EOMONTH(S34,0))*12) | U34: =IFERROR(IF(AND($R34>=U$2,$R34<=U$3),$M34,IF(AND(U$3>=$R34,U$2<=$S34),$M34,0)),0) | V34: =IFERROR(IF(AND($R34>=V$2,$R34<=V$3),$M34,IF(AND(V$3>=$R34,V$2<=$S34),$M34,0)),0) | W34: =IFERROR(IF(AND($R34>=W$2,$R34<=W$3),$M34,IF(AND(W$3>=$R34,W$2<=$S34),$M34,0)),0) | X34: =IFERROR(IF(AND($R34>=X$2,$R34<=X$3),$M34,IF(AND(X$3>=$R34,X$2<=$S34),$M34,0)),0) | Y34: =IFERROR(IF(AND($R34>=Y$2,$R34<=Y$3),$M34,IF(AND(Y$3>=$R34,Y$2<=$S34),$M34,0)),0) | Z34: =IFERROR(IF(AND($R34>=Z$2,$R34<=Z$3),$M34,IF(AND(Z$3>=$R34,Z$2<=$S34),$M34,0)),0) | AA34: =IFERROR(IF(AND($R34>=AA$2,$R34<=AA$3),$M34,IF(AND(AA$3>=$R34,AA$2<=$S34),$M34,0)),0) | AB34: =IFERROR(IF(AND($R34>=AB$2,$R34<=AB$3),$M34,IF(AND(AB$3>=$R34,AB$2<=$S34),$M34,0)),0) | ... CZ34: =IFERROR(IF(AND($R34>=CZ$2,$R34<=CZ$3),$M34,IF(AND(CZ$3>=$R34,CZ$2<=$S34),$M34,0)),0)
A35: [Person_3] | I35: 1 | J35: Digital Maintenance | K35: 213 | L35: 100 | M35: =IF($J35="Digital Maintenance",0,K35*L35)*I34 | N35: =IF($J35="Digital Maintenance",K35*L35,0)*I35 | O35: New | R35: 44927 | S35: =EOMONTH(R35,11) | T35: =IF(ISBLANK(S35),"",YEARFRAC(R35,EOMONTH(S35,0))*12) | U35: =IFERROR(IF(AND($R35>=U$2,$R35<=U$3),$M35,IF(AND(U$3>=$R35,U$2<=$S35),$M35,0)),0) | V35: =IFERROR(IF(AND($R35>=V$2,$R35<=V$3),$M35,IF(AND(V$3>=$R35,V$2<=$S35),$M35,0)),0) | W35: =IFERROR(IF(AND($R35>=W$2,$R35<=W$3),$M35,IF(AND(W$3>=$R35,W$2<=$S35),$M35,0)),0) | X35: =IFERROR(IF(AND($R35>=X$2,$R35<=X$3),$M35,IF(AND(X$3>=$R35,X$2<=$S35),$M35,0)),0) | Y35: =IFERROR(IF(AND($R35>=Y$2,$R35<=Y$3),$M35,IF(AND(Y$3>=$R35,Y$2<=$S35),$M35,0)),0) | Z35: =IFERROR(IF(AND($R35>=Z$2,$R35<=Z$3),$M35,IF(AND(Z$3>=$R35,Z$2<=$S35),$M35,0)),0) | AA35: =IFERROR(IF(AND($R35>=AA$2,$R35<=AA$3),$M35,IF(AND(AA$3>=$R35,AA$2<=$S35),$M35,0)),0) | AB35: =IFERROR(IF(AND($R35>=AB$2,$R35<=AB$3),$M35,IF(AND(AB$3>=$R35,AB$2<=$S35),$M35,0)),0) | ... CZ35: =IFERROR(IF(AND($R35>=CZ$2,$R35<=CZ$3),$M35,IF(AND(CZ$3>=$R35,CZ$2<=$S35),$M35,0)),0)
... A50: [Person_3] | I50: 1 | J50: Digital Maintenance | K50: 115 | L50: 100 | M50: =IF($J50="Digital Maintenance",0,K50*L50)*I49 | N50: =IF($J50="Digital Maintenance",K50*L50,0)*I50 | O50: New | R50: 44562 | S50: =EOMONTH(R50,11) | T50: =IF(ISBLANK(S50),"",YEARFRAC(R50,EOMONTH(S50,0))*12) | U50: =IFERROR(IF(AND($R50>=U$2,$R50<=U$3),$M50,IF(AND(U$3>=$R50,U$2<=$S50),$M50,0)),0) | V50: =IFERROR(IF(AND($R50>=V$2,$R50<=V$3),$M50,IF(AND(V$3>=$R50,V$2<=$S50),$M50,0)),0) | W50: =IFERROR(IF(AND($R50>=W$2,$R50<=W$3),$M50,IF(AND(W$3>=$R50,W$2<=$S50),$M50,0)),0) | X50: =IFERROR(IF(AND($R50>=X$2,$R50<=X$3),$M50,IF(AND(X$3>=$R50,X$2<=$S50),$M50,0)),0) | Y50: =IFERROR(IF(AND($R50>=Y$2,$R50<=Y$3),$M50,IF(AND(Y$3>=$R50,Y$2<=$S50),$M50,0)),0) | Z50: =IFERROR(IF(AND($R50>=Z$2,$R50<=Z$3),$M50,IF(AND(Z$3>=$R50,Z$2<=$S50),$M50,0)),0) | AA50: =IFERROR(IF(AND($R50>=AA$2,$R50<=AA$3),$M50,IF(AND(AA$3>=$R50,AA$2<=$S50),$M50,0)),0) | AB50: =IFERROR(IF(AND($R50>=AB$2,$R50<=AB$3),$M50,IF(AND(AB$3>=$R50,AB$2<=$S50),$M50,0)),0) | ... CZ50: =IFERROR(IF(AND($R50>=CZ$2,$R50<=CZ$3),$M50,IF(AND(CZ$3>=$R50,CZ$2<=$S50),$M50,0)),0)
A51: [Person_3] | I51: 1 | J51: Licenses | K51: 1 | L51: 550 | M51: =IF($J51="Digital Maintenance",0,K51*L51)*I50 | N51: =IF($J51="Digital Maintenance",K51*L51,0)*I51 | O51: New | P51: Monthly | R51: 44774 | S51: =EOMONTH(R51,11) | T51: =IF(ISBLANK(S51),"",YEARFRAC(R51,EOMONTH(S51,0))*12) | U51: =IFERROR(IF(AND($R51>=U$2,$R51<=U$3),$M51,IF(AND(U$3>=$R51,U$2<=$S51),$M51,0)),0) | V51: =IFERROR(IF(AND($R51>=V$2,$R51<=V$3),$M51,IF(AND(V$3>=$R51,V$2<=$S51),$M51,0)),0) | W51: =IFERROR(IF(AND($R51>=W$2,$R51<=W$3),$M51,IF(AND(W$3>=$R51,W$2<=$S51),$M51,0)),0) | X51: =IFERROR(IF(AND($R51>=X$2,$R51<=X$3),$M51,IF(AND(X$3>=$R51,X$2<=$S51),$M51,0)),0) | Y51: =IFERROR(IF(AND($R51>=Y$2,$R51<=Y$3),$M51,IF(AND(Y$3>=$R51,Y$2<=$S51),$M51,0)),0) | Z51: =IFERROR(IF(AND($R51>=Z$2,$R51<=Z$3),$M51,IF(AND(Z$3>=$R51,Z$2<=$S51),$M51,0)),0) | AA51: =IFERROR(IF(AND($R51>=AA$2,$R51<=AA$3),$M51,IF(AND(AA$3>=$R51,AA$2<=$S51),$M51,0)),0) | AB51: =IFERROR(IF(AND($R51>=AB$2,$R51<=AB$3),$M51,IF(AND(AB$3>=$R51,AB$2<=$S51),$M51,0)),0) | ... CZ51: =IFERROR(IF(AND($R51>=CZ$2,$R51<=CZ$3),$M51,IF(AND(CZ$3>=$R51,CZ$2<=$S51),$M51,0)),0)
A52: [Person_3] | I52: 1 | J52: Licenses | K52: 1 | L52: 550 | M52: =IF($J52="Digital Maintenance",0,K52*L52)*I51 | N52: =IF($J52="Digital Maintenance",K52*L52,0)*I52 | O52: New | P52: Monthly | R52: 44562 | S52: =EOMONTH(R52,11) | T52: =IF(ISBLANK(S52),"",YEARFRAC(R52,EOMONTH(S52,0))*12) | U52: =IFERROR(IF(AND($R52>=U$2,$R52<=U$3),$M52,IF(AND(U$3>=$R52,U$2<=$S52),$M52,0)),0) | V52: =IFERROR(IF(AND($R52>=V$2,$R52<=V$3),$M52,IF(AND(V$3>=$R52,V$2<=$S52),$M52,0)),0) | W52: =IFERROR(IF(AND($R52>=W$2,$R52<=W$3),$M52,IF(AND(W$3>=$R52,W$2<=$S52),$M52,0)),0) | X52: =IFERROR(IF(AND($R52>=X$2,$R52<=X$3),$M52,IF(AND(X$3>=$R52,X$2<=$S52),$M52,0)),0) | Y52: =IFERROR(IF(AND($R52>=Y$2,$R52<=Y$3),$M52,IF(AND(Y$3>=$R52,Y$2<=$S52),$M52,0)),0) | Z52: =IFERROR(IF(AND($R52>=Z$2,$R52<=Z$3),$M52,IF(AND(Z$3>=$R52,Z$2<=$S52),$M52,0)),0) | AA52: =IFERROR(IF(AND($R52>=AA$2,$R52<=AA$3),$M52,IF(AND(AA$3>=$R52,AA$2<=$S52),$M52,0)),0) | AB52: =IFERROR(IF(AND($R52>=AB$2,$R52<=AB$3),$M52,IF(AND(AB$3>=$R52,AB$2<=$S52),$M52,0)),0) | ... CZ52: =IFERROR(IF(AND($R52>=CZ$2,$R52<=CZ$3),$M52,IF(AND(CZ$3>=$R52,CZ$2<=$S52),$M52,0)),0)
A53: [Person_3] | I53: 1 | J53: Digital Maintenance | K53: 115 | L53: 100 | M53: =IF($J53="Digital Maintenance",0,K53*L53)*I52 | N53: =IF($J53="Digital Maintenance",K53*L53,0)*I53 | O53: New | R53: 44562 | S53: =EOMONTH(R53,11) | T53: =IF(ISBLANK(S53),"",YEARFRAC(R53,EOMONTH(S53,0))*12) | U53: =IFERROR(IF(AND($R53>=U$2,$R53<=U$3),$M53,IF(AND(U$3>=$R53,U$2<=$S53),$M53,0)),0) | V53: =IFERROR(IF(AND($R53>=V$2,$R53<=V$3),$M53,IF(AND(V$3>=$R53,V$2<=$S53),$M53,0)),0) | W53: =IFERROR(IF(AND($R53>=W$2,$R53<=W$3),$M53,IF(AND(W$3>=$R53,W$2<=$S53),$M53,0)),0) | X53: =IFERROR(IF(AND($R53>=X$2,$R53<=X$3),$M53,IF(AND(X$3>=$R53,X$2<=$S53),$M53,0)),0) | Y53: =IFERROR(IF(AND($R53>=Y$2,$R53<=Y$3),$M53,IF(AND(Y$3>=$R53,Y$2<=$S53),$M53,0)),0) | Z53: =IFERROR(IF(AND($R53>=Z$2,$R53<=Z$3),$M53,IF(AND(Z$3>=$R53,Z$2<=$S53),$M53,0)),0) | AA53: =IFERROR(IF(AND($R53>=AA$2,$R53<=AA$3),$M53,IF(AND(AA$3>=$R53,AA$2<=$S53),$M53,0)),0) | AB53: =IFERROR(IF(AND($R53>=AB$2,$R53<=AB$3),$M53,IF(AND(AB$3>=$R53,AB$2<=$S53),$M53,0)),0) | ... CZ53: =IFERROR(IF(AND($R53>=CZ$2,$R53<=CZ$3),$M53,IF(AND(CZ$3>=$R53,CZ$2<=$S53),$M53,0)),0)
A54: [Person_3] | I54: 1 | J54: Digital Maintenance | K54: 219 | L54: 125 | M54: =IF($J54="Digital Maintenance",0,K54*L54)*I53 | N54: =IF($J54="Digital Maintenance",K54*L54,0)*I54 | O54: New | R54: 45047 | S54: =EOMONTH(R54,11) | T54: =IF(ISBLANK(S54),"",YEARFRAC(R54,EOMONTH(S54,0))*12) | U54: =IFERROR(IF(AND($R54>=U$2,$R54<=U$3),$M54,IF(AND(U$3>=$R54,U$2<=$S54),$M54,0)),0) | V54: =IFERROR(IF(AND($R54>=V$2,$R54<=V$3),$M54,IF(AND(V$3>=$R54,V$2<=$S54),$M54,0)),0) | W54: =IFERROR(IF(AND($R54>=W$2,$R54<=W$3),$M54,IF(AND(W$3>=$R54,W$2<=$S54),$M54,0)),0) | X54: =IFERROR(IF(AND($R54>=X$2,$R54<=X$3),$M54,IF(AND(X$3>=$R54,X$2<=$S54),$M54,0)),0) | Y54: =IFERROR(IF(AND($R54>=Y$2,$R54<=Y$3),$M54,IF(AND(Y$3>=$R54,Y$2<=$S54),$M54,0)),0) | Z54: =IFERROR(IF(AND($R54>=Z$2,$R54<=Z$3),$M54,IF(AND(Z$3>=$R54,Z$2<=$S54),$M54,0)),0) | AA54: =IFERROR(IF(AND($R54>=AA$2,$R54<=AA$3),$M54,IF(AND(AA$3>=$R54,AA$2<=$S54),$M54,0)),0) | AB54: =IFERROR(IF(AND($R54>=AB$2,$R54<=AB$3),$M54,IF(AND(AB$3>=$R54,AB$2<=$S54),$M54,0)),0) | ... CZ54: =IFERROR(IF(AND($R54>=CZ$2,$R54<=CZ$3),$M54,IF(AND(CZ$3>=$R54,CZ$2<=$S54),$M54,0)),0)
A55: [Person_3] | I55: 1 | J55: Digital Maintenance | K55: 266 | L55: 125 | M55: =IF($J55="Digital Maintenance",0,K55*L55)*I54 | N55: =IF($J55="Digital Maintenance",K55*L55,0)*I55 | O55: New | R55: 44805 | S55: =EOMONTH(R55,11) | T55: =IF(ISBLANK(S55),"",YEARFRAC(R55,EOMONTH(S55,0))*12) | U55: =IFERROR(IF(AND($R55>=U$2,$R55<=U$3),$M55,IF(AND(U$3>=$R55,U$2<=$S55),$M55,0)),0) | V55: =IFERROR(IF(AND($R55>=V$2,$R55<=V$3),$M55,IF(AND(V$3>=$R55,V$2<=$S55),$M55,0)),0) | W55: =IFERROR(IF(AND($R55>=W$2,$R55<=W$3),$M55,IF(AND(W$3>=$R55,W$2<=$S55),$M55,0)),0) | X55: =IFERROR(IF(AND($R55>=X$2,$R55<=X$3),$M55,IF(AND(X$3>=$R55,X$2<=$S55),$M55,0)),0) | Y55: =IFERROR(IF(AND($R55>=Y$2,$R55<=Y$3),$M55,IF(AND(Y$3>=$R55,Y$2<=$S55),$M55,0)),0) | Z55: =IFERROR(IF(AND($R55>=Z$2,$R55<=Z$3),$M55,IF(AND(Z$3>=$R55,Z$2<=$S55),$M55,0)),0) | AA55: =IFERROR(IF(AND($R55>=AA$2,$R55<=AA$3),$M55,IF(AND(AA$3>=$R55,AA$2<=$S55),$M55,0)),0) | AB55: =IFERROR(IF(AND($R55>=AB$2,$R55<=AB$3),$M55,IF(AND(AB$3>=$R55,AB$2<=$S55),$M55,0)),0) | ... CZ55: =IFERROR(IF(AND($R55>=CZ$2,$R55<=CZ$3),$M55,IF(AND(CZ$3>=$R55,CZ$2<=$S55),$M55,0)),0)
A56: [Person_3] | I56: 1 | J56: Licenses | K56: 5 | L56: 50 | M56: =IF($J56="Digital Maintenance",0,K56*L56)*I55 | N56: =IF($J56="Digital Maintenance",K56*L56,0)*I56 | O56: New | P56: Monthly | R56: 44562 | S56: =EOMONTH(R56,11) | T56: =IF(ISBLANK(S56),"",YEARFRAC(R56,EOMONTH(S56,0))*12) | U56: =IFERROR(IF(AND($R56>=U$2,$R56<=U$3),$M56,IF(AND(U$3>=$R56,U$2<=$S56),$M56,0)),0) | V56: =IFERROR(IF(AND($R56>=V$2,$R56<=V$3),$M56,IF(AND(V$3>=$R56,V$2<=$S56),$M56,0)),0) | W56: =IFERROR(IF(AND($R56>=W$2,$R56<=W$3),$M56,IF(AND(W$3>=$R56,W$2<=$S56),$M56,0)),0) | X56: =IFERROR(IF(AND($R56>=X$2,$R56<=X$3),$M56,IF(AND(X$3>=$R56,X$2<=$S56),$M56,0)),0) | Y56: =IFERROR(IF(AND($R56>=Y$2,$R56<=Y$3),$M56,IF(AND(Y$3>=$R56,Y$2<=$S56),$M56,0)),0) | Z56: =IFERROR(IF(AND($R56>=Z$2,$R56<=Z$3),$M56,IF(AND(Z$3>=$R56,Z$2<=$S56),$M56,0)),0) | AA56: =IFERROR(IF(AND($R56>=AA$2,$R56<=AA$3),$M56,IF(AND(AA$3>=$R56,AA$2<=$S56),$M56,0)),0) | AB56: =IFERROR(IF(AND($R56>=AB$2,$R56<=AB$3),$M56,IF(AND(AB$3>=$R56,AB$2<=$S56),$M56,0)),0) | ... CZ56: =IFERROR(IF(AND($R56>=CZ$2,$R56<=CZ$3),$M56,IF(AND(CZ$3>=$R56,CZ$2<=$S56),$M56,0)),0)
A57: [Person_3] | I57: 1 | J57: Digital Maintenance | K57: 266 | L57: 125 | M57: =IF($J57="Digital Maintenance",0,K57*L57)*I56 | N57: =IF($J57="Digital Maintenance",K57*L57,0)*I57 | O57: New | R57: 44805 | S57: =EOMONTH(R57,11) | T57: =IF(ISBLANK(S57),"",YEARFRAC(R57,EOMONTH(S57,0))*12) | U57: =IFERROR(IF(AND($R57>=U$2,$R57<=U$3),$M57,IF(AND(U$3>=$R57,U$2<=$S57),$M57,0)),0) | V57: =IFERROR(IF(AND($R57>=V$2,$R57<=V$3),$M57,IF(AND(V$3>=$R57,V$2<=$S57),$M57,0)),0) | W57: =IFERROR(IF(AND($R57>=W$2,$R57<=W$3),$M57,IF(AND(W$3>=$R57,W$2<=$S57),$M57,0)),0) | X57: =IFERROR(IF(AND($R57>=X$2,$R57<=X$3),$M57,IF(AND(X$3>=$R57,X$2<=$S57),$M57,0)),0) | Y57: =IFERROR(IF(AND($R57>=Y$2,$R57<=Y$3),$M57,IF(AND(Y$3>=$R57,Y$2<=$S57),$M57,0)),0) | Z57: =IFERROR(IF(AND($R57>=Z$2,$R57<=Z$3),$M57,IF(AND(Z$3>=$R57,Z$2<=$S57),$M57,0)),0) | AA57: =IFERROR(IF(AND($R57>=AA$2,$R57<=AA$3),$M57,IF(AND(AA$3>=$R57,AA$2<=$S57),$M57,0)),0) | AB57: =IFERROR(IF(AND($R57>=AB$2,$R57<=AB$3),$M57,IF(AND(AB$3>=$R57,AB$2<=$S57),$M57,0)),0) | ... CZ57: =IFERROR(IF(AND($R57>=CZ$2,$R57<=CZ$3),$M57,IF(AND(CZ$3>=$R57,CZ$2<=$S57),$M57,0)),0)
A58: [Person_3] | I58: 1 | J58: Licenses | K58: 5 | L58: 50 | M58: =IF($J58="Digital Maintenance",0,K58*L58)*I57 | N58: =IF($J58="Digital Maintenance",K58*L58,0)*I58 | O58: New | P58: Monthly | R58: 44562 | S58: =EOMONTH(R58,11) | T58: =IF(ISBLANK(S58),"",YEARFRAC(R58,EOMONTH(S58,0))*12) | U58: =IFERROR(IF(AND($R58>=U$2,$R58<=U$3),$M58,IF(AND(U$3>=$R58,U$2<=$S58),$M58,0)),0) | V58: =IFERROR(IF(AND($R58>=V$2,$R58<=V$3),$M58,IF(AND(V$3>=$R58,V$2<=$S58),$M58,0)),0) | W58: =IFERROR(IF(AND($R58>=W$2,$R58<=W$3),$M58,IF(AND(W$3>=$R58,W$2<=$S58),$M58,0)),0) | X58: =IFERROR(IF(AND($R58>=X$2,$R58<=X$3),$M58,IF(AND(X$3>=$R58,X$2<=$S58),$M58,0)),0) | Y58: =IFERROR(IF(AND($R58>=Y$2,$R58<=Y$3),$M58,IF(AND(Y$3>=$R58,Y$2<=$S58),$M58,0)),0) | Z58: =IFERROR(IF(AND($R58>=Z$2,$R58<=Z$3),$M58,IF(AND(Z$3>=$R58,Z$2<=$S58),$M58,0)),0) | AA58: =IFERROR(IF(AND($R58>=AA$2,$R58<=AA$3),$M58,IF(AND(AA$3>=$R58,AA$2<=$S58),$M58,0)),0) | AB58: =IFERROR(IF(AND($R58>=AB$2,$R58<=AB$3),$M58,IF(AND(AB$3>=$R58,AB$2<=$S58),$M58,0)),0) | ... CZ58: =IFERROR(IF(AND($R58>=CZ$2,$R58<=CZ$3),$M58,IF(AND(CZ$3>=$R58,CZ$2<=$S58),$M58,0)),0)
A59: [Person_3] | I59: 1 | J59: Digital Maintenance | K59: 219 | L59: 125 | M59: =IF($J59="Digital Maintenance",0,K59*L59)*I58 | N59: =IF($J59="Digital Maintenance",K59*L59,0)*I59 | O59: New | R59: 45047 | S59: =EOMONTH(R59,11) | T59: =IF(ISBLANK(S59),"",YEARFRAC(R59,EOMONTH(S59,0))*12) | U59: =IFERROR(IF(AND($R59>=U$2,$R59<=U$3),$M59,IF(AND(U$3>=$R59,U$2<=$S59),$M59,0)),0) | V59: =IFERROR(IF(AND($R59>=V$2,$R59<=V$3),$M59,IF(AND(V$3>=$R59,V$2<=$S59),$M59,0)),0) | W59: =IFERROR(IF(AND($R59>=W$2,$R59<=W$3),$M59,IF(AND(W$3>=$R59,W$2<=$S59),$M59,0)),0) | X59: =IFERROR(IF(AND($R59>=X$2,$R59<=X$3),$M59,IF(AND(X$3>=$R59,X$2<=$S59),$M59,0)),0) | Y59: =IFERROR(IF(AND($R59>=Y$2,$R59<=Y$3),$M59,IF(AND(Y$3>=$R59,Y$2<=$S59),$M59,0)),0) | Z59: =IFERROR(IF(AND($R59>=Z$2,$R59<=Z$3),$M59,IF(AND(Z$3>=$R59,Z$2<=$S59),$M59,0)),0) | AA59: =IFERROR(IF(AND($R59>=AA$2,$R59<=AA$3),$M59,IF(AND(AA$3>=$R59,AA$2<=$S59),$M59,0)),0) | AB59: =IFERROR(IF(AND($R59>=AB$2,$R59<=AB$3),$M59,IF(AND(AB$3>=$R59,AB$2<=$S59),$M59,0)),0) | ... CZ59: =IFERROR(IF(AND($R59>=CZ$2,$R59<=CZ$3),$M59,IF(AND(CZ$3>=$R59,CZ$2<=$S59),$M59,0)),0)
...
