Workbook
Name MonthlySubs: Tracker!$B$30:$CA$55

Sheet Dropdowns
A1: =IFERROR(__xludf.DUMMYFUNCTION("IMPORTRANGE(""https://docs.google.com/spreadsheets/d/1E3a13Quoy8ucUQGotFX86b3I5abyal0wa-x3CfT0I6c/edit#gid=638448317"",""Dropdowns!A1:M35"")"),"Geographies") | B1: =IFERROR(__xludf.DUMMYFUNCTION("""COMPUTED_VALUE"""),"Years") | C1: =IFERROR(__xludf.DUMMYFUNCTION("""COMPUTED_VALUE"""),"Years") | D1: =IFERROR(__xludf.DUMMYFUNCTION("""COMPUTED_VALUE"""),"Probability") | E1: =IFERROR(__xludf.DUMMYFUNCTION("""COMPUTED_VALUE"""),"Number") | F1: =IFERROR(__xludf.DUMMYFUNCTION("""COMPUTED_VALUE"""),"Number") | G1: =IFERROR(__xludf.DUMMYFUNCTION("""COMPUTED_VALUE"""),"Fee") | H1: =IFERROR(__xludf.DUMMYFUNCTION("""COMPUTED_VALUE"""),"Billing")
A2: =IFERROR(__xludf.DUMMYFUNCTION("""COMPUTED_VALUE"""),"Canada") | B2: =IFERROR(__xludf.DUMMYFUNCTION("""COMPUTED_VALUE"""),1) | C2: =IFERROR(__xludf.DUMMYFUNCTION("""COMPUTED_VALUE"""),"New") | D2: =IFERROR(__xludf.DUMMYFUNCTION("""COMPUTED_VALUE"""),0.4) | E2: =IFERROR(__xludf.DUMMYFUNCTION("""COMPUTED_VALUE"""),1) | F2: =IFERROR(__xludf.DUMMYFUNCTION("""COMPUTED_VALUE"""),"Digital Maintenance") | H2: =IFERROR(__xludf.DUMMYFUNCTION("""COMPUTED_VALUE"""),"Monthly")
A3: =IFERROR(__xludf.DUMMYFUNCTION("""COMPUTED_VALUE"""),"US") | B3: =IFERROR(__xludf.DUMMYFUNCTION("""COMPUTED_VALUE"""),2) | C3: =IFERROR(__xludf.DUMMYFUNCTION("""COMPUTED_VALUE"""),"Renew") | D3: =IFERROR(__xludf.DUMMYFUNCTION("""COMPUTED_VALUE"""),0.5) | E3: =IFERROR(__xludf.DUMMYFUNCTION("""COMPUTED_VALUE"""),2) | F3: =IFERROR(__xludf.DUMMYFUNCTION("""COMPUTED_VALUE"""),"Licenses") | H3: =IFERROR(__xludf.DUMMYFUNCTION("""COMPUTED_VALUE"""),"Quarterly")
A4: =IFERROR(__xludf.DUMMYFUNCTION("""COMPUTED_VALUE"""),"Europe") | B4: =IFERROR(__xludf.DUMMYFUNCTION("""COMPUTED_VALUE"""),3) | C4: =IFERROR(__xludf.DUMMYFUNCTION("""COMPUTED_VALUE"""),"Addition") | D4: =IFERROR(__xludf.DUMMYFUNCTION("""COMPUTED_VALUE"""),0.6) | E4: =IFERROR(__xludf.DUMMYFUNCTION("""COMPUTED_VALUE"""),3) | F4: =IFERROR(__xludf.DUMMYFUNCTION("""COMPUTED_VALUE"""),"Projects") | H4: =IFERROR(__xludf.DUMMYFUNCTION("""COMPUTED_VALUE"""),"Annually")
B5: =IFERROR(__xludf.DUMMYFUNCTION("""COMPUTED_VALUE"""),4) | D5: =IFERROR(__xludf.DUMMYFUNCTION("""COMPUTED_VALUE"""),0.7) | E5: =IFERROR(__xludf.DUMMYFUNCTION("""COMPUTED_VALUE"""),4) | F5: =IFERROR(__xludf.DUMMYFUNCTION("""COMPUTED_VALUE"""),"API")
B6: =IFERROR(__xludf.DUMMYFUNCTION("""COMPUTED_VALUE"""),5) | D6: =IFERROR(__xludf.DUMMYFUNCTION("""COMPUTED_VALUE"""),0.799999999999999) | E6: =IFERROR(__xludf.DUMMYFUNCTION("""COMPUTED_VALUE"""),5) | F6: =IFERROR(__xludf.DUMMYFUNCTION("""COMPUTED_VALUE"""),"RSVP")
B7: =IFERROR(__xludf.DUMMYFUNCTION("""COMPUTED_VALUE"""),6) | D7: =IFERROR(__xludf.DUMMYFUNCTION("""COMPUTED_VALUE"""),0.899999999999999) | E7: =IFERROR(__xludf.DUMMYFUNCTION("""COMPUTED_VALUE"""),6) | F7: =IFERROR(__xludf.DUMMYFUNCTION("""COMPUTED_VALUE"""),"...")
D8: =IFERROR(__xludf.DUMMYFUNCTION("""COMPUTED_VALUE"""),0.999999999999999) | E8: =IFERROR(__xludf.DUMMYFUNCTION("""COMPUTED_VALUE"""),7)
E9: =IFERROR(__xludf.DUMMYFUNCTION("""COMPUTED_VALUE"""),8)
E10: =IFERROR(__xludf.DUMMYFUNCTION("""COMPUTED_VALUE"""),9)
E11: =IFERROR(__xludf.DUMMYFUNCTION("""COMPUTED_VALUE"""),10)
E12: =IFERROR(__xludf.DUMMYFUNCTION("""COMPUTED_VALUE"""),11)
E13: =IFERROR(__xludf.DUMMYFUNCTION("""COMPUTED_VALUE"""),12)
E14: =IFERROR(__xludf.DUMMYFUNCTION("""COMPUTED_VALUE"""),13)
E15: =IFERROR(__xludf.DUMMYFUNCTION("""COMPUTED_VALUE"""),14)
E16: =IFERROR(__xludf.DUMMYFUNCTION("""COMPUTED_VALUE"""),15)
E17: =IFERROR(__xludf.DUMMYFUNCTION("""COMPUTED_VALUE"""),16)
E18: =IFERROR(__xludf.DUMMYFUNCTION("""COMPUTED_VALUE"""),17)
E19: =IFERROR(__xludf.DUMMYFUNCTION("""COMPUTED_VALUE"""),18)
E20: =IFERROR(__xludf.DUMMYFUNCTION("""COMPUTED_VALUE"""),19)
E21: =IFERROR(__xludf.DUMMYFUNCTION("""COMPUTED_VALUE"""),20)

Sheet Tracker
U2: 44562 | V2: =U3+1 | W2: =V3+1 | X2: =W3+1 | Y2: =X3+1 | Z2: =Y3+1 | AA2: =Z3+1 | AB2: =AA3+1 | AC2: =AB3+1 | ... CZ2: =CY3+1
B3: Customer Name | D3: Project | F3: Customer Number | H3: Notes | I3: Probability | J3: Product | K3: Number | L3: Fee | M3: MRR | N3: DGs | O3: Re/new | P3: [Person_1] | Q3: Contract | R3: Subscription | U3: =EOMONTH(U2,0) | V3: =EOMONTH(V2,0) | W3: =EOMONTH(W2,0) | X3: =EOMONTH(X2,0) | Y3: =EOMONTH(Y2,0) | Z3: =EOMONTH(Z2,0) | AA3: =EOMONTH(AA2,0) | AB3: =EOMONTH(AB2,0) | ... CZ3: =EOMONTH(CZ2,0)
Q4: Signed Date | R4: Start Date | S4: End Date | T4: Months | U4: =YEAR(U3) | V4: =YEAR(V3) | W4: =YEAR(W3) | X4: =YEAR(X3) | Y4: =YEAR(Y3) | Z4: =YEAR(Z3) | AA4: =YEAR(AA3) | AB4: =YEAR(AB3) | ... CZ4: =YEAR(CZ3)
B6: Summary
B7: Number of …
B8: =Dropdowns!F2 | U8: How many of these = I imagine I will have the same problem with my [Person_2]..
B9: =Dropdowns!F3
B10: =Dropdowns!F4
B11: =Dropdowns!F5
B12: =Dropdowns!F6
B13: =Dropdowns!F7
B15: MRR
B16: =Dropdowns!F3 | U16: =SUMIF($J$24:$J$114,$B16,U$24:U$115) | V16: =SUMIF($J$24:$J$114,$B16,V$24:V$115) | W16: =SUMIF($J$24:$J$114,$B16,W$24:W$115) | X16: =SUMIF($J$24:$J$114,$B16,X$24:X$115) | Y16: =SUMIF($J$24:$J$114,$B16,Y$24:Y$115) | Z16: =SUMIF($J$24:$J$114,$B16,Z$24:Z$115) | AA16: =SUMIF($J$24:$J$114,$B16,AA$24:AA$115) | AB16: =SUMIF($J$24:$J$114,$B16,AB$24:AB$115) | ... CZ16: =SUMIF($J$24:$J$114,$B16,CZ$24:CZ$115)
B17: =Dropdowns!F4 | U17: =SUMIF($J$24:$J$114,$B17,U$24:U$115) | V17: =SUMIF($J$24:$J$114,$B17,V$24:V$115) | W17: =SUMIF($J$24:$J$114,$B17,W$24:W$115) | X17: =SUMIF($J$24:$J$114,$B17,X$24:X$115) | Y17: =SUMIF($J$24:$J$114,$B17,Y$24:Y$115) | Z17: =SUMIF($J$24:$J$114,$B17,Z$24:Z$115) | AA17: =SUMIF($J$24:$J$114,$B17,AA$24:AA$115) | AB17: =SUMIF($J$24:$J$114,$B17,AB$24:AB$115) | ... CZ17: =SUMIF($J$24:$J$114,$B17,CZ$24:CZ$115)
B18: =Dropdowns!F5 | U18: =SUMIF($J$24:$J$114,$B18,U$24:U$115) | V18: =SUMIF($J$24:$J$114,$B18,V$24:V$115) | W18: =SUMIF($J$24:$J$114,$B18,W$24:W$115) | X18: =SUMIF($J$24:$J$114,$B18,X$24:X$115) | Y18: =SUMIF($J$24:$J$114,$B18,Y$24:Y$115) | Z18: =SUMIF($J$24:$J$114,$B18,Z$24:Z$115) | AA18: =SUMIF($J$24:$J$114,$B18,AA$24:AA$115) | AB18: =SUMIF($J$24:$J$114,$B18,AB$24:AB$115) | ... CZ18: =SUMIF($J$24:$J$114,$B18,CZ$24:CZ$115)
B19: =Dropdowns!F6 | U19: =SUMIF($J$24:$J$114,$B19,U$24:U$115) | V19: =SUMIF($J$24:$J$114,$B19,V$24:V$115) | W19: =SUMIF($J$24:$J$114,$B19,W$24:W$115) | X19: =SUMIF($J$24:$J$114,$B19,X$24:X$115) | Y19: =SUMIF($J$24:$J$114,$B19,Y$24:Y$115) | Z19: =SUMIF($J$24:$J$114,$B19,Z$24:Z$115) | AA19: =SUMIF($J$24:$J$114,$B19,AA$24:AA$115) | AB19: =SUMIF($J$24:$J$114,$B19,AB$24:AB$115) | ... CZ19: =SUMIF($J$24:$J$114,$B19,CZ$24:CZ$115)
B20: =Dropdowns!F7 | U20: =SUMIF($J$24:$J$114,$B20,U$24:U$115) | V20: =SUMIF($J$24:$J$114,$B20,V$24:V$115) | W20: =SUMIF($J$24:$J$114,$B20,W$24:W$115) | X20: =SUMIF($J$24:$J$114,$B20,X$24:X$115) | Y20: =SUMIF($J$24:$J$114,$B20,Y$24:Y$115) | Z20: =SUMIF($J$24:$J$114,$B20,Z$24:Z$115) | AA20: =SUMIF($J$24:$J$114,$B20,AA$24:AA$115) | AB20: =SUMIF($J$24:$J$114,$B20,AB$24:AB$115) | ... CZ20: =SUMIF($J$24:$J$114,$B20,CZ$24:CZ$115)
B21: Digital Maintenance | U21: =SUMIFS(U$24:U$115,$J$24:$J$210,$B21,$R$24:$R$210,">="&U$2,$S$24:$S$210,"<="&U$3) | V21: =SUMIFS(V$24:V$115,$J$24:$J$210,$B21,$R$24:$R$210,">="&V$2,$S$24:$S$210,"<="&V$3) | W21: =SUMIFS(W$24:W$115,$J$24:$J$210,$B21,$R$24:$R$210,">="&W$2,$S$24:$S$210,"<="&W$3) | X21: =SUMIFS(X$24:X$115,$J$24:$J$210,$B21,$R$24:$R$210,">="&X$2,$S$24:$S$210,"<="&X$3) | Y21: =SUMIFS(Y$24:Y$115,$J$24:$J$210,$B21,$R$24:$R$210,">="&Y$2,$S$24:$S$210,"<="&Y$3) | Z21: =SUMIFS(Z$24:Z$115,$J$24:$J$210,$B21,$R$24:$R$210,">="&Z$2,$S$24:$S$210,"<="&Z$3) | AA21: =SUMIFS(AA$24:AA$115,$J$24:$J$210,$B21,$R$24:$R$210,">="&AA$2,$S$24:$S$210,"<="&AA$3) | AB21: =SUMIFS(AB$24:AB$115,$J$24:$J$210,$B21,$R$24:$R$210,">="&AB$2,$S$24:$S$210,"<="&AB$3) | ... DB21: =SUMIFS(DB$24:DB$115,$J$24:$J$210,$B21,$R$24:$R$210,">="&DB$2,$S$24:$S$210,"<="&DB$3)
A24: [Person_3] | I24: 1 | J24: Digital Maintenance | K24: 144 | L24: 150 | M24: =IF($J24="Digital Maintenance",0,K24*L24)*I23 | N24: =IF($J24="Digital Maintenance",K24*L24,0)*I24 | O24: New | R24: 44986 | S24: =EOMONTH(R24,11) | T24: =IF(ISBLANK(S24),"",YEARFRAC(R24,EOMONTH(S24,0))*12) | U24: =IFERROR(IF(AND($R24>=U$2,$R24<=U$3),$M24,IF(AND(U$3>=$R24,U$2<=$S24),$M24,0)),0) | V24: =IFERROR(IF(AND($R24>=V$2,$R24<=V$3),$M24,IF(AND(V$3>=$R24,V$2<=$S24),$M24,0)),0) | W24: =IFERROR(IF(AND($R24>=W$2,$R24<=W$3),$M24,IF(AND(W$3>=$R24,W$2<=$S24),$M24,0)),0) | X24: =IFERROR(IF(AND($R24>=X$2,$R24<=X$3),$M24,IF(AND(X$3>=$R24,X$2<=$S24),$M24,0)),0) | Y24: =IFERROR(IF(AND($R24>=Y$2,$R24<=Y$3),$M24,IF(AND(Y$3>=$R24,Y$2<=$S24),$M24,0)),0) | Z24: =IFERROR(IF(AND($R24>=Z$2,$R24<=Z$3),$M24,IF(AND(Z$3>=$R24,Z$2<=$S24),$M24,0)),0) | AA24: =IFERROR(IF(AND($R24>=AA$2,$R24<=AA$3),$M24,IF(AND(AA$3>=$R24,AA$2<=$S24),$M24,0)),0) | AB24: =IFERROR(IF(AND($R24>=AB$2,$R24<=AB$3),$M24,IF(AND(AB$3>=$R24,AB$2<=$S24),$M24,0)),0) | ... CZ24: =IFERROR(IF(AND($R24>=CZ$2,$R24<=CZ$3),$M24,IF(AND(CZ$3>=$R24,CZ$2<=$S24),$M24,0)),0)
A25: [Person_3] | I25: 1 | J25: Digital Maintenance | K25: 50 | L25: 150 | M25: =IF($J25="Digital Maintenance",0,K25*L25)*I24 | N25: =IF($J25="Digital Maintenance",K25*L25,0)*I25 | O25: New | R25: 44562 | S25: =EOMONTH(R25,11) | T25: =IF(ISBLANK(S25),"",YEARFRAC(R25,EOMONTH(S25,0))*12) | U25: =IFERROR(IF(AND($R25>=U$2,$R25<=U$3),$M25,IF(AND(U$3>=$R25,U$2<=$S25),$M25,0)),0) | V25: =IFERROR(IF(AND($R25>=V$2,$R25<=V$3),$M25,IF(AND(V$3>=$R25,V$2<=$S25),$M25,0)),0) | W25: =IFERROR(IF(AND($R25>=W$2,$R25<=W$3),$M25,IF(AND(W$3>=$R25,W$2<=$S25),$M25,0)),0) | X25: =IFERROR(IF(AND($R25>=X$2,$R25<=X$3),$M25,IF(AND(X$3>=$R25,X$2<=$S25),$M25,0)),0) | Y25: =IFERROR(IF(AND($R25>=Y$2,$R25<=Y$3),$M25,IF(AND(Y$3>=$R25,Y$2<=$S25),$M25,0)),0) | Z25: =IFERROR(IF(AND($R25>=Z$2,$R25<=Z$3),$M25,IF(AND(Z$3>=$R25,Z$2<=$S25),$M25,0)),0) | AA25: =IFERROR(IF(AND($R25>=AA$2,$R25<=AA$3),$M25,IF(AND(AA$3>=$R25,AA$2<=$S25),$M25,0)),0) | AB25: =IFERROR(IF(AND($R25>=AB$2,$R25<=AB$3),$M25,IF(AND(AB$3>=$R25,AB$2<=$S25),$M25,0)),0) | ... CZ25: =IFERROR(IF(AND($R25>=CZ$2,$R25<=CZ$3),$M25,IF(AND(CZ$3>=$R25,CZ$2<=$S25),$M25,0)),0)
A26: [Person_3] | I26: 1 | J26: Digital Maintenance | K26: 180 | L26: 175 | M26: =IF($J26="Digital Maintenance",0,K26*L26)*I25 | N26: =IF($J26="Digital Maintenance",K26*L26,0)*I26 | O26: New | R26: 45200 | S26: =EOMONTH(R26,11) | T26: =IF(ISBLANK(S26),"",YEARFRAC(R26,EOMONTH(S26,0))*12) | U26: =IFERROR(IF(AND($R26>=U$2,$R26<=U$3),$M26,IF(AND(U$3>=$R26,U$2<=$S26),$M26,0)),0) | V26: =IFERROR(IF(AND($R26>=V$2,$R26<=V$3),$M26,IF(AND(V$3>=$R26,V$2<=$S26),$M26,0)),0) | W26: =IFERROR(IF(AND($R26>=W$2,$R26<=W$3),$M26,IF(AND(W$3>=$R26,W$2<=$S26),$M26,0)),0) | X26: =IFERROR(IF(AND($R26>=X$2,$R26<=X$3),$M26,IF(AND(X$3>=$R26,X$2<=$S26),$M26,0)),0) | Y26: =IFERROR(IF(AND($R26>=Y$2,$R26<=Y$3),$M26,IF(AND(Y$3>=$R26,Y$2<=$S26),$M26,0)),0) | Z26: =IFERROR(IF(AND($R26>=Z$2,$R26<=Z$3),$M26,IF(AND(Z$3>=$R26,Z$2<=$S26),$M26,0)),0) | AA26: =IFERROR(IF(AND($R26>=AA$2,$R26<=AA$3),$M26,IF(AND(AA$3>=$R26,AA$2<=$S26),$M26,0)),0) | AB26: =IFERROR(IF(AND($R26>=AB$2,$R26<=AB$3),$M26,IF(AND(AB$3>=$R26,AB$2<=$S26),$M26,0)),0) | ... CZ26: =IFERROR(IF(AND($R26>=CZ$2,$R26<=CZ$3),$M26,IF(AND(CZ$3>=$R26,CZ$2<=$S26),$M26,0)),0)
A27: [Person_3] | I27: 1 | J27: Digital Maintenance | K27: 67 | L27: 175 | M27: =IF($J27="Digital Maintenance",0,K27*L27)*I26 | N27: =IF($J27="Digital Maintenance",K27*L27,0)*I27 | O27: New | R27: 44986 | S27: =EOMONTH(R27,11) | T27: =IF(ISBLANK(S27),"",YEARFRAC(R27,EOMONTH(S27,0))*12) | U27: =IFERROR(IF(AND($R27>=U$2,$R27<=U$3),$M27,IF(AND(U$3>=$R27,U$2<=$S27),$M27,0)),0) | V27: =IFERROR(IF(AND($R27>=V$2,$R27<=V$3),$M27,IF(AND(V$3>=$R27,V$2<=$S27),$M27,0)),0) | W27: =IFERROR(IF(AND($R27>=W$2,$R27<=W$3),$M27,IF(AND(W$3>=$R27,W$2<=$S27),$M27,0)),0) | X27: =IFERROR(IF(AND($R27>=X$2,$R27<=X$3),$M27,IF(AND(X$3>=$R27,X$2<=$S27),$M27,0)),0) | Y27: =IFERROR(IF(AND($R27>=Y$2,$R27<=Y$3),$M27,IF(AND(Y$3>=$R27,Y$2<=$S27),$M27,0)),0) | Z27: =IFERROR(IF(AND($R27>=Z$2,$R27<=Z$3),$M27,IF(AND(Z$3>=$R27,Z$2<=$S27),$M27,0)),0) | AA27: =IFERROR(IF(AND($R27>=AA$2,$R27<=AA$3),$M27,IF(AND(AA$3>=$R27,AA$2<=$S27),$M27,0)),0) | AB27: =IFERROR(IF(AND($R27>=AB$2,$R27<=AB$3),$M27,IF(AND(AB$3>=$R27,AB$2<=$S27),$M27,0)),0) | ... CZ27: =IFERROR(IF(AND($R27>=CZ$2,$R27<=CZ$3),$M27,IF(AND(CZ$3>=$R27,CZ$2<=$S27),$M27,0)),0)
A28: [Person_3] | I28: 1 | J28: Digital Maintenance | K28: 45 | L28: 175 | M28: =IF($J28="Digital Maintenance",0,K28*L28)*I27 | N28: =IF($J28="Digital Maintenance",K28*L28,0)*I28 | O28: New | R28: 44835 | S28: =EOMONTH(R28,11) | T28: =IF(ISBLANK(S28),"",YEARFRAC(R28,EOMONTH(S28,0))*12) | U28: =IFERROR(IF(AND($R28>=U$2,$R28<=U$3),$M28,IF(AND(U$3>=$R28,U$2<=$S28),$M28,0)),0) | V28: =IFERROR(IF(AND($R28>=V$2,$R28<=V$3),$M28,IF(AND(V$3>=$R28,V$2<=$S28),$M28,0)),0) | W28: =IFERROR(IF(AND($R28>=W$2,$R28<=W$3),$M28,IF(AND(W$3>=$R28,W$2<=$S28),$M28,0)),0) | X28: =IFERROR(IF(AND($R28>=X$2,$R28<=X$3),$M28,IF(AND(X$3>=$R28,X$2<=$S28),$M28,0)),0) | Y28: =IFERROR(IF(AND($R28>=Y$2,$R28<=Y$3),$M28,IF(AND(Y$3>=$R28,Y$2<=$S28),$M28,0)),0) | Z28: =IFERROR(IF(AND($R28>=Z$2,$R28<=Z$3),$M28,IF(AND(Z$3>=$R28,Z$2<=$S28),$M28,0)),0) | AA28: =IFERROR(IF(AND($R28>=AA$2,$R28<=AA$3),$M28,IF(AND(AA$3>=$R28,AA$2<=$S28),$M28,0)),0) | AB28: =IFERROR(IF(AND($R28>=AB$2,$R28<=AB$3),$M28,IF(AND(AB$3>=$R28,AB$2<=$S28),$M28,0)),0) | ... CZ28: =IFERROR(IF(AND($R28>=CZ$2,$R28<=CZ$3),$M28,IF(AND(CZ$3>=$R28,CZ$2<=$S28),$M28,0)),0)
A29: [Person_3] | I29: 1 | J29: Digital Maintenance | K29: 45 | L29: 175 | M29: =IF($J29="Digital Maintenance",0,K29*L29)*I28 | N29: =IF($J29="Digital Maintenance",K29*L29,0)*I29 | O29: New | R29: 44835 | S29: =EOMONTH(R29,11) | T29: =IF(ISBLANK(S29),"",YEARFRAC(R29,EOMONTH(S29,0))*12) | U29: =IFERROR(IF(AND($R29>=U$2,$R29<=U$3),$M29,IF(AND(U$3>=$R29,U$2<=$S29),$M29,0)),0) | V29: =IFERROR(IF(AND($R29>=V$2,$R29<=V$3),$M29,IF(AND(V$3>=$R29,V$2<=$S29),$M29,0)),0) | W29: =IFERROR(IF(AND($R29>=W$2,$R29<=W$3),$M29,IF(AND(W$3>=$R29,W$2<=$S29),$M29,0)),0) | X29: =IFERROR(IF(AND($R29>=X$2,$R29<=X$3),$M29,IF(AND(X$3>=$R29,X$2<=$S29),$M29,0)),0) | Y29: =IFERROR(IF(AND($R29>=Y$2,$R29<=Y$3),$M29,IF(AND(Y$3>=$R29,Y$2<=$S29),$M29,0)),0) | Z29: =IFERROR(IF(AND($R29>=Z$2,$R29<=Z$3),$M29,IF(AND(Z$3>=$R29,Z$2<=$S29),$M29,0)),0) | AA29: =IFERROR(IF(AND($R29>=AA$2,$R29<=AA$3),$M29,IF(AND(AA$3>=$R29,AA$2<=$S29),$M29,0)),0) | AB29: =IFERROR(IF(AND($R29>=AB$2,$R29<=AB$3),$M29,IF(AND(AB$3>=$R29,AB$2<=$S29),$M29,0)),0) | ... CZ29: =IFERROR(IF(AND($R29>=CZ$2,$R29<=CZ$3),$M29,IF(AND(CZ$3>=$R29,CZ$2<=$S29),$M29,0)),0)
A30: [Person_3] | I30: 1 | J30: Digital Maintenance | K30: 364 | L30: 100 | M30: =IF($J30="Digital Maintenance",0,K30*L30)*I29 | N30: =IF($J30="Digital Maintenance",K30*L30,0)*I30 | O30: New | R30: 44805 | S30: =EOMONTH(R30,11) | T30: =IF(ISBLANK(S30),"",YEARFRAC(R30,EOMONTH(S30,0))*12) | U30: =IFERROR(IF(AND($R30>=U$2,$R30<=U$3),$M30,IF(AND(U$3>=$R30,U$2<=$S30),$M30,0)),0) | V30: =IFERROR(IF(AND($R30>=V$2,$R30<=V$3),$M30,IF(AND(V$3>=$R30,V$2<=$S30),$M30,0)),0) | W30: =IFERROR(IF(AND($R30>=W$2,$R30<=W$3),$M30,IF(AND(W$3>=$R30,W$2<=$S30),$M30,0)),0) | X30: =IFERROR(IF(AND($R30>=X$2,$R30<=X$3),$M30,IF(AND(X$3>=$R30,X$2<=$S30),$M30,0)),0) | Y30: =IFERROR(IF(AND($R30>=Y$2,$R30<=Y$3),$M30,IF(AND(Y$3>=$R30,Y$2<=$S30),$M30,0)),0) | Z30: =IFERROR(IF(AND($R30>=Z$2,$R30<=Z$3),$M30,IF(AND(Z$3>=$R30,Z$2<=$S30),$M30,0)),0) | AA30: =IFERROR(IF(AND($R30>=AA$2,$R30<=AA$3),$M30,IF(AND(AA$3>=$R30,AA$2<=$S30),$M30,0)),0) | AB30: =IFERROR(IF(AND($R30>=AB$2,$R30<=AB$3),$M30,IF(AND(AB$3>=$R30,AB$2<=$S30),$M30,0)),0) | ... CZ30: =IFERROR(IF(AND($R30>=CZ$2,$R30<=CZ$3),$M30,IF(AND(CZ$3>=$R30,CZ$2<=$S30),$M30,0)),0)
A31: [Person_3] | I31: 1 | J31: Digital Maintenance | K31: 364 | L31: 100 | M31: =IF($J31="Digital Maintenance",0,K31*L31)*I30 | N31: =IF($J31="Digital Maintenance",K31*L31,0)*I31 | O31: New | R31: 44805 | S31: =EOMONTH(R31,11) | T31: =IF(ISBLANK(S31),"",YEARFRAC(R31,EOMONTH(S31,0))*12) | U31: =IFERROR(IF(AND($R31>=U$2,$R31<=U$3),$M31,IF(AND(U$3>=$R31,U$2<=$S31),$M31,0)),0) | V31: =IFERROR(IF(AND($R31>=V$2,$R31<=V$3),$M31,IF(AND(V$3>=$R31,V$2<=$S31),$M31,0)),0) | W31: =IFERROR(IF(AND($R31>=W$2,$R31<=W$3),$M31,IF(AND(W$3>=$R31,W$2<=$S31),$M31,0)),0) | X31: =IFERROR(IF(AND($R31>=X$2,$R31<=X$3),$M31,IF(AND(X$3>=$R31,X$2<=$S31),$M31,0)),0) | Y31: =IFERROR(IF(AND($R31>=Y$2,$R31<=Y$3),$M31,IF(AND(Y$3>=$R31,Y$2<=$S31),$M31,0)),0) | Z31: =IFERROR(IF(AND($R31>=Z$2,$R31<=Z$3),$M31,IF(AND(Z$3>=$R31,Z$2<=$S31),$M31,0)),0) | AA31: =IFERROR(IF(AND($R31>=AA$2,$R31<=AA$3),$M31,IF(AND(AA$3>=$R31,AA$2<=$S31),$M31,0)),0) | AB31: =IFERROR(IF(AND($R31>=AB$2,$R31<=AB$3),$M31,IF(AND(AB$3>=$R31,AB$2<=$S31),$M31,0)),0) | ... CZ31: =IFERROR(IF(AND($R31>=CZ$2,$R31<=CZ$3),$M31,IF(AND(CZ$3>=$R31,CZ$2<=$S31),$M31,0)),0)
A32: [Person_3] | I32: 1 | J32: Digital Maintenance | K32: 213 | L32: 100 | M32: =IF($J32="Digital Maintenance",0,K32*L32)*I31 | N32: =IF($J32="Digital Maintenance",K32*L32,0)*I32 | O32: New | R32: 44927 | S32: =EOMONTH(R32,11) | T32: =IF(ISBLANK(S32),"",YEARFRAC(R32,EOMONTH(S32,0))*12) | U32: =IFERROR(IF(AND($R32>=U$2,$R32<=U$3),$M32,IF(AND(U$3>=$R32,U$2<=$S32),$M32,0)),0) | V32: =IFERROR(IF(AND($R32>=V$2,$R32<=V$3),$M32,IF(AND(V$3>=$R32,V$2<=$S32),$M32,0)),0) | W32: =IFERROR(IF(AND($R32>=W$2,$R32<=W$3),$M32,IF(AND(W$3>=$R32,W$2<=$S32),$M32,0)),0) | X32: =IFERROR(IF(AND($R32>=X$2,$R32<=X$3),$M32,IF(AND(X$3>=$R32,X$2<=$S32),$M32,0)),0) | Y32: =IFERROR(IF(AND($R32>=Y$2,$R32<=Y$3),$M32,IF(AND(Y$3>=$R32,Y$2<=$S32),$M32,0)),0) | Z32: =IFERROR(IF(AND($R32>=Z$2,$R32<=Z$3),$M32,IF(AND(Z$3>=$R32,Z$2<=$S32),$M32,0)),0) | AA32: =IFERROR(IF(AND($R32>=AA$2,$R32<=AA$3),$M32,IF(AND(AA$3>=$R32,AA$2<=$S32),$M32,0)),0) | AB32: =IFERROR(IF(AND($R32>=AB$2,$R32<=AB$3),$M32,IF(AND(AB$3>=$R32,AB$2<=$S32),$M32,0)),0) | ... CZ32: =IFERROR(IF(AND($R32>=CZ$2,$R32<=CZ$3),$M32,IF(AND(CZ$3>=$R32,CZ$2<=$S32),$M32,0)),0)
A33: [Person_3] | I33: 1 | J33: Digital Maintenance | K33: 213 | L33: 100 | M33: =IF($J33="Digital Maintenance",0,K33*L33)*I32 | N33: =IF($J33="Digital Maintenance",K33*L33,0)*I33 | O33: New | R33: 44805 | S33: =EOMONTH(R33,11) | T33: =IF(ISBLANK(S33),"",YEARFRAC(R33,EOMONTH(S33,0))*12) | U33: =IFERROR(IF(AND($R33>=U$2,$R33<=U$3),$M33,IF(AND(U$3>=$R33,U$2<=$S33),$M33,0)),0) | V33: =IFERROR(IF(AND($R33>=V$2,$R33<=V$3),$M33,IF(AND(V$3>=$R33,V$2<=$S33),$M33,0)),0) | W33: =IFERROR(IF(AND($R33>=W$2,$R33<=W$3),$M33,IF(AND(W$3>=$R33,W$2<=$S33),$M33,0)),0) | X33: =IFERROR(IF(AND($R33>=X$2,$R33<=X$3),$M33,IF(AND(X$3>=$R33,X$2<=$S33),$M33,0)),0) | Y33: =IFERROR(IF(AND($R33>=Y$2,$R33<=Y$3),$M33,IF(AND(Y$3>=$R33,Y$2<=$S33),$M33,0)),0) | Z33: =IFERROR(IF(AND($R33>=Z$2,$R33<=Z$3),$M33,IF(AND(Z$3>=$R33,Z$2<=$S33),$M33,0)),0) | AA33: =IFERROR(IF(AND($R33>=AA$2,$R33<=AA$3),$M33,IF(AND(AA$3>=$R33,AA$2<=$S33),$M33,0)),0) | AB33: =IFERROR(IF(AND($R33>=AB$2,$R33<=AB$3),$M33,IF(AND(AB$3>=$R33,AB$2<=$S33),$M33,0)),0) | ... CZ33: =IFERROR(IF(AND($R33>=CZ$2,$R33<=CZ$3),$M33,IF(AND(CZ$3>=$R33,CZ$2<=$S33),$M33,0)),0)
A34: [Person_3] | I34: 1 | J34: Digital Maintenance | K34: 213 | L34: 100 | M34: =IF($J34="Digital Maintenance",0,K34*L34)*I33 | N34: =IF($J34="Digital Maintenance",K34*L34,0)*I34 | O34: New | R34: 44805 | S34: =EOMONTH(R34,11) | T34: =IF(ISBLANK(S34),"",YEARFRAC(R34,EOMONTH(S34,0))*12) | U34: =IFERROR(IF(AND($R34>=U$2,$R34<=U$3),$M34,IF(AND(U$3>=$R34,U$2<=$S34),$M34,0)),0) | V34: =IFERROR(IF(AND($R34>=V$2,$R34<=V$3),$M34,IF(AND(V$3>=$R34,V$2<=$S34),$M34,0)),0) | W34: =IFERROR(IF(AND($R34>=W$2,$R34<=W$3),$M34,IF(AND(W$3>=$R34,W$2<=$S34),$M34,0)),0) | X34: =IFERROR(IF(AND($R34>=X$2,$R34<=X$3),$M34,IF(AND(X$3>=$R34,X$2<=$S34),$M34,0)),0) | Y34: =IFERROR(IF(AND($R34>=Y$2,$R34<=Y$3),$M34,IF(AND(Y$3>=$R34,Y$2<=$S34),$M34,0)),0) | Z34: =IFERROR(IF(AND($R34>=Z$2,$R34<=Z$3),$M34,IF(AND(Z$3>=$R34,Z$2<=$S34),$M34,0)),0) | AA34: =IFERROR(IF(AND($R34>=AA$2,$R34<=AA$3),$M34,IF(AND(AA$3>=$R34,AA$2<=$S34),$M34,0)),0) | AB34: =IFERROR(IF(AND($R34>=AB$2,$R34<=AB$3),$M34,IF(AND(AB$3>=$R34,AB$2<=$S34),$M34,0)),0) | ... CZ34: =IFERROR(IF(AND($R34>=CZ$2,$R34<=CZ$3),$M34,IF(AND(CZ$3>=$R34,CZ$2<=$S34),$M34,0)),0)
A35: [Person_3] | I35: 1 | J35: Digital Maintenance | K35: 213 | L35: 100 | M35: =IF($J35="Digital Maintenance",0,K35*L35)*I34 | N35: =IF($J35="Digital Maintenance",K35*L35,0)*I35 | O35: New | R35: 44927 | S35: =EOMONTH(R35,11) | T35: =IF(ISBLANK(S35),"",YEARFRAC(R35,EOMONTH(S35,0))*12) | U35: =IFERROR(IF(AND($R35>=U$2,$R35<=U$3),$M35,IF(AND(U$3>=$R35,U$2<=$S35),$M35,0)),0) | V35: =IFERROR(IF(AND($R35>=V$2,$R35<=V$3),$M35,IF(AND(V$3>=$R35,V$2<=$S35),$M35,0)),0) | W35: =IFERROR(IF(AND($R35>=W$2,$R35<=W$3),$M35,IF(AND(W$3>=$R35,W$2<=$S35),$M35,0)),0) | X35: =IFERROR(IF(AND($R35>=X$2,$R35<=X$3),$M35,IF(AND(X$3>=$R35,X$2<=$S35),$M35,0)),0) | Y35: =IFERROR(IF(AND($R35>=Y$2,$R35<=Y$3),$M35,IF(AND(Y$3>=$R35,Y$2<=$S35),$M35,0)),0) | Z35: =IFERROR(IF(AND($R35>=Z$2,$R35<=Z$3),$M35,IF(AND(Z$3>=$R35,Z$2<=$S35),$M35,0)),0) | AA35: =IFERROR(IF(AND($R35>=AA$2,$R35<=AA$3),$M35,IF(AND(AA$3>=$R35,AA$2<=$S35),$M35,0)),0) | AB35: =IFERROR(IF(AND($R35>=AB$2,$R35<=AB$3),$M35,IF(AND(AB$3>=$R35,AB$2<=$S35),$M35,0)),0) | ... CZ35: =IFERROR(IF(AND($R35>=CZ$2,$R35<=CZ$3),$M35,IF(AND(CZ$3>=$R35,CZ$2<=$S35),$M35,0)),0)
... A50: [Person_3] | I50: 1 | J50: Digital Maintenance | K50: 115 | L50: 100 | M50: =IF($J50="Digital Maintenance",0,K50*L50)*I49 | N50: =IF($J50="Digital Maintenance",K50*L50,0)*I50 | O50: New | R50: 44562 | S50: =EOMONTH(R50,11) | T50: =IF(ISBLANK(S50),"",YEARFRAC(R50,EOMONTH(S50,0))*12) | U50: =IFERROR(IF(AND($R50>=U$2,$R50<=U$3),$M50,IF(AND(U$3>=$R50,U$2<=$S50),$M50,0)),0) | V50: =IFERROR(IF(AND($R50>=V$2,$R50<=V$3),$M50,IF(AND(V$3>=$R50,V$2<=$S50),$M50,0)),0) | W50: =IFERROR(IF(AND($R50>=W$2,$R50<=W$3),$M50,IF(AND(W$3>=$R50,W$2<=$S50),$M50,0)),0) | X50: =IFERROR(IF(AND($R50>=X$2,$R50<=X$3),$M50,IF(AND(X$3>=$R50,X$2<=$S50),$M50,0)),0) | Y50: =IFERROR(IF(AND($R50>=Y$2,$R50<=Y$3),$M50,IF(AND(Y$3>=$R50,Y$2<=$S50),$M50,0)),0) | Z50: =IFERROR(IF(AND($R50>=Z$2,$R50<=Z$3),$M50,IF(AND(Z$3>=$R50,Z$2<=$S50),$M50,0)),0) | AA50: =IFERROR(IF(AND($R50>=AA$2,$R50<=AA$3),$M50,IF(AND(AA$3>=$R50,AA$2<=$S50),$M50,0)),0) | AB50: =IFERROR(IF(AND($R50>=AB$2,$R50<=AB$3),$M50,IF(AND(AB$3>=$R50,AB$2<=$S50),$M50,0)),0) | ... CZ50: =IFERROR(IF(AND($R50>=CZ$2,$R50<=CZ$3),$M50,IF(AND(CZ$3>=$R50,CZ$2<=$S50),$M50,0)),0)
A51: [Person_3] | I51: 1 | J51: Licenses | K51: 1 | L51: 550 | M51: =IF($J51="Digital Maintenance",0,K51*L51)*I50 | N51: =IF($J51="Digital Maintenance",K51*L51,0)*I51 | O51: New | P51: Monthly | R51: 44774 | S51: =EOMONTH(R51,11) | T51: =IF(ISBLANK(S51),"",YEARFRAC(R51,EOMONTH(S51,0))*12) | U51: =IFERROR(IF(AND($R51>=U$2,$R51<=U$3),$M51,IF(AND(U$3>=$R51,U$2<=$S51),$M51,0)),0) | V51: =IFERROR(IF(AND($R51>=V$2,$R51<=V$3),$M51,IF(AND(V$3>=$R51,V$2<=$S51),$M51,0)),0) | W51: =IFERROR(IF(AND($R51>=W$2,$R51<=W$3),$M51,IF(AND(W$3>=$R51,W$2<=$S51),$M51,0)),0) | X51: =IFERROR(IF(AND($R51>=X$2,$R51<=X$3),$M51,IF(AND(X$3>=$R51,X$2<=$S51),$M51,0)),0) | Y51: =IFERROR(IF(AND($R51>=Y$2,$R51<=Y$3),$M51,IF(AND(Y$3>=$R51,Y$2<=$S51),$M51,0)),0) | Z51: =IFERROR(IF(AND($R51>=Z$2,$R51<=Z$3),$M51,IF(AND(Z$3>=$R51,Z$2<=$S51),$M51,0)),0) | AA51: =IFERROR(IF(AND($R51>=AA$2,$R51<=AA$3),$M51,IF(AND(AA$3>=$R51,AA$2<=$S51),$M51,0)),0) | AB51: =IFERROR(IF(AND($R51>=AB$2,$R51<=AB$3),$M51,IF(AND(AB$3>=$R51,AB$2<=$S51),$M51,0)),0) | ... CZ51: =IFERROR(IF(AND($R51>=CZ$2,$R51<=CZ$3),$M51,IF(AND(CZ$3>=$R51,CZ$2<=$S51),$M51,0)),0)
A52: [Person_3] | I52: 1 | J52: Licenses | K52: 1 | L52: 550 | M52: =IF($J52="Digital Maintenance",0,K52*L52)*I51 | N52: =IF($J52="Digital Maintenance",K52*L52,0)*I52 | O52: New | P52: Monthly | R52: 44562 | S52: =EOMONTH(R52,11) | T52: =IF(ISBLANK(S52),"",YEARFRAC(R52,EOMONTH(S52,0))*12) | U52: =IFERROR(IF(AND($R52>=U$2,$R52<=U$3),$M52,IF(AND(U$3>=$R52,U$2<=$S52),$M52,0)),0) | V52: =IFERROR(IF(AND($R52>=V$2,$R52<=V$3),$M52,IF(AND(V$3>=$R52,V$2<=$S52),$M52,0)),0) | W52: =IFERROR(IF(AND($R52>=W$2,$R52<=W$3),$M52,IF(AND(W$3>=$R52,W$2<=$S52),$M52,0)),0) | X52: =IFERROR(IF(AND($R52>=X$2,$R52<=X$3),$M52,IF(AND(X$3>=$R52,X$2<=$S52),$M52,0)),0) | Y52: =IFERROR(IF(AND($R52>=Y$2,$R52<=Y$3),$M52,IF(AND(Y$3>=$R52,Y$2<=$S52),$M52,0)),0) | Z52: =IFERROR(IF(AND($R52>=Z$2,$R52<=Z$3),$M52,IF(AND(Z$3>=$R52,Z$2<=$S52),$M52,0)),0) | AA52: =IFERROR(IF(AND($R52>=AA$2,$R52<=AA$3),$M52,IF(AND(AA$3>=$R52,AA$2<=$S52),$M52,0)),0) | AB52: =IFERROR(IF(AND($R52>=AB$2,$R52<=AB$3),$M52,IF(AND(AB$3>=$R52,AB$2<=$S52),$M52,0)),0) | ... CZ52: =IFERROR(IF(AND($R52>=CZ$2,$R52<=CZ$3),$M52,IF(AND(CZ$3>=$R52,CZ$2<=$S52),$M52,0)),0)
A53: [Person_3] | I53: 1 | J53: Digital Maintenance | K53: 115 | L53: 100 | M53: =IF($J53="Digital Maintenance",0,K53*L53)*I52 | N53: =IF($J53="Digital Maintenance",K53*L53,0)*I53 | O53: New | R53: 44562 | S53: =EOMONTH(R53,11) | T53: =IF(ISBLANK(S53),"",YEARFRAC(R53,EOMONTH(S53,0))*12) | U53: =IFERROR(IF(AND($R53>=U$2,$R53<=U$3),$M53,IF(AND(U$3>=$R53,U$2<=$S53),$M53,0)),0) | V53: =IFERROR(IF(AND($R53>=V$2,$R53<=V$3),$M53,IF(AND(V$3>=$R53,V$2<=$S53),$M53,0)),0) | W53: =IFERROR(IF(AND($R53>=W$2,$R53<=W$3),$M53,IF(AND(W$3>=$R53,W$2<=$S53),$M53,0)),0) | X53: =IFERROR(IF(AND($R53>=X$2,$R53<=X$3),$M53,IF(AND(X$3>=$R53,X$2<=$S53),$M53,0)),0) | Y53: =IFERROR(IF(AND($R53>=Y$2,$R53<=Y$3),$M53,IF(AND(Y$3>=$R53,Y$2<=$S53),$M53,0)),0) | Z53: =IFERROR(IF(AND($R53>=Z$2,$R53<=Z$3),$M53,IF(AND(Z$3>=$R53,Z$2<=$S53),$M53,0)),0) | AA53: =IFERROR(IF(AND($R53>=AA$2,$R53<=AA$3),$M53,IF(AND(AA$3>=$R53,AA$2<=$S53),$M53,0)),0) | AB53: =IFERROR(IF(AND($R53>=AB$2,$R53<=AB$3),$M53,IF(AND(AB$3>=$R53,AB$2<=$S53),$M53,0)),0) | ... CZ53: =IFERROR(IF(AND($R53>=CZ$2,$R53<=CZ$3),$M53,IF(AND(CZ$3>=$R53,CZ$2<=$S53),$M53,0)),0)
A54: [Person_3] | I54: 1 | J54: Digital Maintenance | K54: 219 | L54: 125 | M54: =IF($J54="Digital Maintenance",0,K54*L54)*I53 | N54: =IF($J54="Digital Maintenance",K54*L54,0)*I54 | O54: New | R54: 45047 | S54: =EOMONTH(R54,11) | T54: =IF(ISBLANK(S54),"",YEARFRAC(R54,EOMONTH(S54,0))*12) | U54: =IFERROR(IF(AND($R54>=U$2,$R54<=U$3),$M54,IF(AND(U$3>=$R54,U$2<=$S54),$M54,0)),0) | V54: =IFERROR(IF(AND($R54>=V$2,$R54<=V$3),$M54,IF(AND(V$3>=$R54,V$2<=$S54),$M54,0)),0) | W54: =IFERROR(IF(AND($R54>=W$2,$R54<=W$3),$M54,IF(AND(W$3>=$R54,W$2<=$S54),$M54,0)),0) | X54: =IFERROR(IF(AND($R54>=X$2,$R54<=X$3),$M54,IF(AND(X$3>=$R54,X$2<=$S54),$M54,0)),0) | Y54: =IFERROR(IF(AND($R54>=Y$2,$R54<=Y$3),$M54,IF(AND(Y$3>=$R54,Y$2<=$S54),$M54,0)),0) | Z54: =IFERROR(IF(AND($R54>=Z$2,$R54<=Z$3),$M54,IF(AND(Z$3>=$R54,Z$2<=$S54),$M54,0)),0) | AA54: =IFERROR(IF(AND($R54>=AA$2,$R54<=AA$3),$M54,IF(AND(AA$3>=$R54,AA$2<=$S54),$M54,0)),0) | AB54: =IFERROR(IF(AND($R54>=AB$2,$R54<=AB$3),$M54,IF(AND(AB$3>=$R54,AB$2<=$S54),$M54,0)),0) | ... CZ54: =IFERROR(IF(AND($R54>=CZ$2,$R54<=CZ$3),$M54,IF(AND(CZ$3>=$R54,CZ$2<=$S54),$M54,0)),0)
A55: [Person_3] | I55: 1 | J55: Digital Maintenance | K55: 266 | L55: 125 | M55: =IF($J55="Digital Maintenance",0,K55*L55)*I54 | N55: =IF($J55="Digital Maintenance",K55*L55,0)*I55 | O55: New | R55: 44805 | S55: =EOMONTH(R55,11) | T55: =IF(ISBLANK(S55),"",YEARFRAC(R55,EOMONTH(S55,0))*12) | U55: =IFERROR(IF(AND($R55>=U$2,$R55<=U$3),$M55,IF(AND(U$3>=$R55,U$2<=$S55),$M55,0)),0) | V55: =IFERROR(IF(AND($R55>=V$2,$R55<=V$3),$M55,IF(AND(V$3>=$R55,V$2<=$S55),$M55,0)),0) | W55: =IFERROR(IF(AND($R55>=W$2,$R55<=W$3),$M55,IF(AND(W$3>=$R55,W$2<=$S55),$M55,0)),0) | X55: =IFERROR(IF(AND($R55>=X$2,$R55<=X$3),$M55,IF(AND(X$3>=$R55,X$2<=$S55),$M55,0)),0) | Y55: =IFERROR(IF(AND($R55>=Y$2,$R55<=Y$3),$M55,IF(AND(Y$3>=$R55,Y$2<=$S55),$M55,0)),0) | Z55: =IFERROR(IF(AND($R55>=Z$2,$R55<=Z$3),$M55,IF(AND(Z$3>=$R55,Z$2<=$S55),$M55,0)),0) | AA55: =IFERROR(IF(AND($R55>=AA$2,$R55<=AA$3),$M55,IF(AND(AA$3>=$R55,AA$2<=$S55),$M55,0)),0) | AB55: =IFERROR(IF(AND($R55>=AB$2,$R55<=AB$3),$M55,IF(AND(AB$3>=$R55,AB$2<=$S55),$M55,0)),0) | ... CZ55: =IFERROR(IF(AND($R55>=CZ$2,$R55<=CZ$3),$M55,IF(AND(CZ$3>=$R55,CZ$2<=$S55),$M55,0)),0)
A56: [Person_3] | I56: 1 | J56: Licenses | K56: 5 | L56: 50 | M56: =IF($J56="Digital Maintenance",0,K56*L56)*I55 | N56: =IF($J56="Digital Maintenance",K56*L56,0)*I56 | O56: New | P56: Monthly | R56: 44562 | S56: =EOMONTH(R56,11) | T56: =IF(ISBLANK(S56),"",YEARFRAC(R56,EOMONTH(S56,0))*12) | U56: =IFERROR(IF(AND($R56>=U$2,$R56<=U$3),$M56,IF(AND(U$3>=$R56,U$2<=$S56),$M56,0)),0) | V56: =IFERROR(IF(AND($R56>=V$2,$R56<=V$3),$M56,IF(AND(V$3>=$R56,V$2<=$S56),$M56,0)),0) | W56: =IFERROR(IF(AND($R56>=W$2,$R56<=W$3),$M56,IF(AND(W$3>=$R56,W$2<=$S56),$M56,0)),0) | X56: =IFERROR(IF(AND($R56>=X$2,$R56<=X$3),$M56,IF(AND(X$3>=$R56,X$2<=$S56),$M56,0)),0) | Y56: =IFERROR(IF(AND($R56>=Y$2,$R56<=Y$3),$M56,IF(AND(Y$3>=$R56,Y$2<=$S56),$M56,0)),0) | Z56: =IFERROR(IF(AND($R56>=Z$2,$R56<=Z$3),$M56,IF(AND(Z$3>=$R56,Z$2<=$S56),$M56,0)),0) | AA56: =IFERROR(IF(AND($R56>=AA$2,$R56<=AA$3),$M56,IF(AND(AA$3>=$R56,AA$2<=$S56),$M56,0)),0) | AB56: =IFERROR(IF(AND($R56>=AB$2,$R56<=AB$3),$M56,IF(AND(AB$3>=$R56,AB$2<=$S56),$M56,0)),0) | ... CZ56: =IFERROR(IF(AND($R56>=CZ$2,$R56<=CZ$3),$M56,IF(AND(CZ$3>=$R56,CZ$2<=$S56),$M56,0)),0)
A57: [Person_3] | I57: 1 | J57: Digital Maintenance | K57: 266 | L57: 125 | M57: =IF($J57="Digital Maintenance",0,K57*L57)*I56 | N57: =IF($J57="Digital Maintenance",K57*L57,0)*I57 | O57: New | R57: 44805 | S57: =EOMONTH(R57,11) | T57: =IF(ISBLANK(S57),"",YEARFRAC(R57,EOMONTH(S57,0))*12) | U57: =IFERROR(IF(AND($R57>=U$2,$R57<=U$3),$M57,IF(AND(U$3>=$R57,U$2<=$S57),$M57,0)),0) | V57: =IFERROR(IF(AND($R57>=V$2,$R57<=V$3),$M57,IF(AND(V$3>=$R57,V$2<=$S57),$M57,0)),0) | W57: =IFERROR(IF(AND($R57>=W$2,$R57<=W$3),$M57,IF(AND(W$3>=$R57,W$2<=$S57),$M57,0)),0) | X57: =IFERROR(IF(AND($R57>=X$2,$R57<=X$3),$M57,IF(AND(X$3>=$R57,X$2<=$S57),$M57,0)),0) | Y57: =IFERROR(IF(AND($R57>=Y$2,$R57<=Y$3),$M57,IF(AND(Y$3>=$R57,Y$2<=$S57),$M57,0)),0) | Z57: =IFERROR(IF(AND($R57>=Z$2,$R57<=Z$3),$M57,IF(AND(Z$3>=$R57,Z$2<=$S57),$M57,0)),0) | AA57: =IFERROR(IF(AND($R57>=AA$2,$R57<=AA$3),$M57,IF(AND(AA$3>=$R57,AA$2<=$S57),$M57,0)),0) | AB57: =IFERROR(IF(AND($R57>=AB$2,$R57<=AB$3),$M57,IF(AND(AB$3>=$R57,AB$2<=$S57),$M57,0)),0) | ... CZ57: =IFERROR(IF(AND($R57>=CZ$2,$R57<=CZ$3),$M57,IF(AND(CZ$3>=$R57,CZ$2<=$S57),$M57,0)),0)
A58: [Person_3] | I58: 1 | J58: Licenses | K58: 5 | L58: 50 | M58: =IF($J58="Digital Maintenance",0,K58*L58)*I57 | N58: =IF($J58="Digital Maintenance",K58*L58,0)*I58 | O58: New | P58: Monthly | R58: 44562 | S58: =EOMONTH(R58,11) | T58: =IF(ISBLANK(S58),"",YEARFRAC(R58,EOMONTH(S58,0))*12) | U58: =IFERROR(IF(AND($R58>=U$2,$R58<=U$3),$M58,IF(AND(U$3>=$R58,U$2<=$S58),$M58,0)),0) | V58: =IFERROR(IF(AND($R58>=V$2,$R58<=V$3),$M58,IF(AND(V$3>=$R58,V$2<=$S58),$M58,0)),0) | W58: =IFERROR(IF(AND($R58>=W$2,$R58<=W$3),$M58,IF(AND(W$3>=$R58,W$2<=$S58),$M58,0)),0) | X58: =IFERROR(IF(AND($R58>=X$2,$R58<=X$3),$M58,IF(AND(X$3>=$R58,X$2<=$S58),$M58,0)),0) | Y58: =IFERROR(IF(AND($R58>=Y$2,$R58<=Y$3),$M58,IF(AND(Y$3>=$R58,Y$2<=$S58),$M58,0)),0) | Z58: =IFERROR(IF(AND($R58>=Z$2,$R58<=Z$3),$M58,IF(AND(Z$3>=$R58,Z$2<=$S58),$M58,0)),0) | AA58: =IFERROR(IF(AND($R58>=AA$2,$R58<=AA$3),$M58,IF(AND(AA$3>=$R58,AA$2<=$S58),$M58,0)),0) | AB58: =IFERROR(IF(AND($R58>=AB$2,$R58<=AB$3),$M58,IF(AND(AB$3>=$R58,AB$2<=$S58),$M58,0)),0) | ... CZ58: =IFERROR(IF(AND($R58>=CZ$2,$R58<=CZ$3),$M58,IF(AND(CZ$3>=$R58,CZ$2<=$S58),$M58,0)),0)
A59: [Person_3] | I59: 1 | J59: Digital Maintenance | K59: 219 | L59: 125 | M59: =IF($J59="Digital Maintenance",0,K59*L59)*I58 | N59: =IF($J59="Digital Maintenance",K59*L59,0)*I59 | O59: New | R59: 45047 | S59: =EOMONTH(R59,11) | T59: =IF(ISBLANK(S59),"",YEARFRAC(R59,EOMONTH(S59,0))*12) | U59: =IFERROR(IF(AND($R59>=U$2,$R59<=U$3),$M59,IF(AND(U$3>=$R59,U$2<=$S59),$M59,0)),0) | V59: =IFERROR(IF(AND($R59>=V$2,$R59<=V$3),$M59,IF(AND(V$3>=$R59,V$2<=$S59),$M59,0)),0) | W59: =IFERROR(IF(AND($R59>=W$2,$R59<=W$3),$M59,IF(AND(W$3>=$R59,W$2<=$S59),$M59,0)),0) | X59: =IFERROR(IF(AND($R59>=X$2,$R59<=X$3),$M59,IF(AND(X$3>=$R59,X$2<=$S59),$M59,0)),0) | Y59: =IFERROR(IF(AND($R59>=Y$2,$R59<=Y$3),$M59,IF(AND(Y$3>=$R59,Y$2<=$S59),$M59,0)),0) | Z59: =IFERROR(IF(AND($R59>=Z$2,$R59<=Z$3),$M59,IF(AND(Z$3>=$R59,Z$2<=$S59),$M59,0)),0) | AA59: =IFERROR(IF(AND($R59>=AA$2,$R59<=AA$3),$M59,IF(AND(AA$3>=$R59,AA$2<=$S59),$M59,0)),0) | AB59: =IFERROR(IF(AND($R59>=AB$2,$R59<=AB$3),$M59,IF(AND(AB$3>=$R59,AB$2<=$S59),$M59,0)),0) | ... CZ59: =IFERROR(IF(AND($R59>=CZ$2,$R59<=CZ$3),$M59,IF(AND(CZ$3>=$R59,CZ$2<=$S59),$M59,0)),0)
A60: [Person_3] | I60: 1 | J60: Digital Maintenance | K60: 266 | L60: 125 | M60: =IF($J60="Digital Maintenance",0,K60*L60)*I59 | N60: =IF($J60="Digital Maintenance",K60*L60,0)*I60 | O60: New | R60: 44805 | S60: =EOMONTH(R60,11) | T60: =IF(ISBLANK(S60),"",YEARFRAC(R60,EOMONTH(S60,0))*12) | U60: =IFERROR(IF(AND($R60>=U$2,$R60<=U$3),$M60,IF(AND(U$3>=$R60,U$2<=$S60),$M60,0)),0) | V60: =IFERROR(IF(AND($R60>=V$2,$R60<=V$3),$M60,IF(AND(V$3>=$R60,V$2<=$S60),$M60,0)),0) | W60: =IFERROR(IF(AND($R60>=W$2,$R60<=W$3),$M60,IF(AND(W$3>=$R60,W$2<=$S60),$M60,0)),0) | X60: =IFERROR(IF(AND($R60>=X$2,$R60<=X$3),$M60,IF(AND(X$3>=$R60,X$2<=$S60),$M60,0)),0) | Y60: =IFERROR(IF(AND($R60>=Y$2,$R60<=Y$3),$M60,IF(AND(Y$3>=$R60,Y$2<=$S60),$M60,0)),0) | Z60: =IFERROR(IF(AND($R60>=Z$2,$R60<=Z$3),$M60,IF(AND(Z$3>=$R60,Z$2<=$S60),$M60,0)),0) | AA60: =IFERROR(IF(AND($R60>=AA$2,$R60<=AA$3),$M60,IF(AND(AA$3>=$R60,AA$2<=$S60),$M60,0)),0) | AB60: =IFERROR(IF(AND($R60>=AB$2,$R60<=AB$3),$M60,IF(AND(AB$3>=$R60,AB$2<=$S60),$M60,0)),0) | ... CZ60: =IFERROR(IF(AND($R60>=CZ$2,$R60<=CZ$3),$M60,IF(AND(CZ$3>=$R60,CZ$2<=$S60),$M60,0)),0)
A61: [Person_3] | I61: 1 | J61: Licenses | K61: 5 | L61: 50 | M61: =IF($J61="Digital Maintenance",0,K61*L61)*I60 | N61: =IF($J61="Digital Maintenance",K61*L61,0)*I61 | O61: New | P61: Monthly | R61: 44562 | S61: =EOMONTH(R61,11) | T61: =IF(ISBLANK(S61),"",YEARFRAC(R61,EOMONTH(S61,0))*12) | U61: =IFERROR(IF(AND($R61>=U$2,$R61<=U$3),$M61,IF(AND(U$3>=$R61,U$2<=$S61),$M61,0)),0) | V61: =IFERROR(IF(AND($R61>=V$2,$R61<=V$3),$M61,IF(AND(V$3>=$R61,V$2<=$S61),$M61,0)),0) | W61: =IFERROR(IF(AND($R61>=W$2,$R61<=W$3),$M61,IF(AND(W$3>=$R61,W$2<=$S61),$M61,0)),0) | X61: =IFERROR(IF(AND($R61>=X$2,$R61<=X$3),$M61,IF(AND(X$3>=$R61,X$2<=$S61),$M61,0)),0) | Y61: =IFERROR(IF(AND($R61>=Y$2,$R61<=Y$3),$M61,IF(AND(Y$3>=$R61,Y$2<=$S61),$M61,0)),0) | Z61: =IFERROR(IF(AND($R61>=Z$2,$R61<=Z$3),$M61,IF(AND(Z$3>=$R61,Z$2<=$S61),$M61,0)),0) | AA61: =IFERROR(IF(AND($R61>=AA$2,$R61<=AA$3),$M61,IF(AND(AA$3>=$R61,AA$2<=$S61),$M61,0)),0) | AB61: =IFERROR(IF(AND($R61>=AB$2,$R61<=AB$3),$M61,IF(AND(AB$3>=$R61,AB$2<=$S61),$M61,0)),0) | ... CZ61: =IFERROR(IF(AND($R61>=CZ$2,$R61<=CZ$3),$M61,IF(AND(CZ$3>=$R61,CZ$2<=$S61),$M61,0)),0)
A62: [Person_3] | I62: 1 | J62: Digital Maintenance | K62: 219 | L62: 125 | M62: =IF($J62="Digital Maintenance",0,K62*L62)*I61 | N62: =IF($J62="Digital Maintenance",K62*L62,0)*I62 | O62: New | R62: 45047 | S62: =EOMONTH(R62,11) | T62: =IF(ISBLANK(S62),"",YEARFRAC(R62,EOMONTH(S62,0))*12) | U62: =IFERROR(IF(AND($R62>=U$2,$R62<=U$3),$M62,IF(AND(U$3>=$R62,U$2<=$S62),$M62,0)),0) | V62: =IFERROR(IF(AND($R62>=V$2,$R62<=V$3),$M62,IF(AND(V$3>=$R62,V$2<=$S62),$M62,0)),0) | W62: =IFERROR(IF(AND($R62>=W$2,$R62<=W$3),$M62,IF(AND(W$3>=$R62,W$2<=$S62),$M62,0)),0) | X62: =IFERROR(IF(AND($R62>=X$2,$R62<=X$3),$M62,IF(AND(X$3>=$R62,X$2<=$S62),$M62,0)),0) | Y62: =IFERROR(IF(AND($R62>=Y$2,$R62<=Y$3),$M62,IF(AND(Y$3>=$R62,Y$2<=$S62),$M62,0)),0) | Z62: =IFERROR(IF(AND($R62>=Z$2,$R62<=Z$3),$M62,IF(AND(Z$3>=$R62,Z$2<=$S62),$M62,0)),0) | AA62: =IFERROR(IF(AND($R62>=AA$2,$R62<=AA$3),$M62,IF(AND(AA$3>=$R62,AA$2<=$S62),$M62,0)),0) | AB62: =IFERROR(IF(AND($R62>=AB$2,$R62<=AB$3),$M62,IF(AND(AB$3>=$R62,AB$2<=$S62),$M62,0)),0) | ... CZ62: =IFERROR(IF(AND($R62>=CZ$2,$R62<=CZ$3),$M62,IF(AND(CZ$3>=$R62,CZ$2<=$S62),$M62,0)),0)
A63: [Person_3] | I63: 1 | J63: Digital Maintenance | K63: 76 | L63: 175 | M63: =IF($J63="Digital Maintenance",0,K63*L63)*I62 | N63: =IF($J63="Digital Maintenance",K63*L63,0)*I63 | O63: New | R63: 44986 | S63: =EOMONTH(R63,11) | T63: =IF(ISBLANK(S63),"",YEARFRAC(R63,EOMONTH(S63,0))*12) | U63: =IFERROR(IF(AND($R63>=U$2,$R63<=U$3),$M63,IF(AND(U$3>=$R63,U$2<=$S63),$M63,0)),0) | V63: =IFERROR(IF(AND($R63>=V$2,$R63<=V$3),$M63,IF(AND(V$3>=$R63,V$2<=$S63),$M63,0)),0) | W63: =IFERROR(IF(AND($R63>=W$2,$R63<=W$3),$M63,IF(AND(W$3>=$R63,W$2<=$S63),$M63,0)),0) | X63: =IFERROR(IF(AND($R63>=X$2,$R63<=X$3),$M63,IF(AND(X$3>=$R63,X$2<=$S63),$M63,0)),0) | Y63: =IFERROR(IF(AND($R63>=Y$2,$R63<=Y$3),$M63,IF(AND(Y$3>=$R63,Y$2<=$S63),$M63,0)),0) | Z63: =IFERROR(IF(AND($R63>=Z$2,$R63<=Z$3),$M63,IF(AND(Z$3>=$R63,Z$2<=$S63),$M63,0)),0) | AA63: =IFERROR(IF(AND($R63>=AA$2,$R63<=AA$3),$M63,IF(AND(AA$3>=$R63,AA$2<=$S63),$M63,0)),0) | AB63: =IFERROR(IF(AND($R63>=AB$2,$R63<=AB$3),$M63,IF(AND(AB$3>=$R63,AB$2<=$S63),$M63,0)),0) | ... CZ63: =IFERROR(IF(AND($R63>=CZ$2,$R63<=CZ$3),$M63,IF(AND(CZ$3>=$R63,CZ$2<=$S63),$M63,0)),0)
A64: [Person_3] | I64: 1 | J64: Digital Maintenance | K64: 50 | L64: 175 | M64: =IF($J64="Digital Maintenance",0,K64*L64)*I63 | N64: =IF($J64="Digital Maintenance",K64*L64,0)*I64 | O64: New | R64: 44896 | S64: =EOMONTH(R64,11) | T64: =IF(ISBLANK(S64),"",YEARFRAC(R64,EOMONTH(S64,0))*12) | U64: =IFERROR(IF(AND($R64>=U$2,$R64<=U$3),$M64,IF(AND(U$3>=$R64,U$2<=$S64),$M64,0)),0) | V64: =IFERROR(IF(AND($R64>=V$2,$R64<=V$3),$M64,IF(AND(V$3>=$R64,V$2<=$S64),$M64,0)),0) | W64: =IFERROR(IF(AND($R64>=W$2,$R64<=W$3),$M64,IF(AND(W$3>=$R64,W$2<=$S64),$M64,0)),0) | X64: =IFERROR(IF(AND($R64>=X$2,$R64<=X$3),$M64,IF(AND(X$3>=$R64,X$2<=$S64),$M64,0)),0) | Y64: =IFERROR(IF(AND($R64>=Y$2,$R64<=Y$3),$M64,IF(AND(Y$3>=$R64,Y$2<=$S64),$M64,0)),0) | Z64: =IFERROR(IF(AND($R64>=Z$2,$R64<=Z$3),$M64,IF(AND(Z$3>=$R64,Z$2<=$S64),$M64,0)),0) | AA64: =IFERROR(IF(AND($R64>=AA$2,$R64<=AA$3),$M64,IF(AND(AA$3>=$R64,AA$2<=$S64),$M64,0)),0) | AB64: =IFERROR(IF(AND($R64>=AB$2,$R64<=AB$3),$M64,IF(AND(AB$3>=$R64,AB$2<=$S64),$M64,0)),0) | ... CZ64: =IFERROR(IF(AND($R64>=CZ$2,$R64<=CZ$3),$M64,IF(AND(CZ$3>=$R64,CZ$2<=$S64),$M64,0)),0)
A65: [Person_3] | I65: 1 | J65: Digital Maintenance | K65: 31 | L65: 175 | M65: =IF($J65="Digital Maintenance",0,K65*L65)*I64 | N65: =IF($J65="Digital Maintenance",K65*L65,0)*I65 | O65: New | R65: 44805 | S65: =EOMONTH(R65,11) | T65: =IF(ISBLANK(S65),"",YEARFRAC(R65,EOMONTH(S65,0))*12) | U65: =IFERROR(IF(AND($R65>=U$2,$R65<=U$3),$M65,IF(AND(U$3>=$R65,U$2<=$S65),$M65,0)),0) | V65: =IFERROR(IF(AND($R65>=V$2,$R65<=V$3),$M65,IF(AND(V$3>=$R65,V$2<=$S65),$M65,0)),0) | W65: =IFERROR(IF(AND($R65>=W$2,$R65<=W$3),$M65,IF(AND(W$3>=$R65,W$2<=$S65),$M65,0)),0) | X65: =IFERROR(IF(AND($R65>=X$2,$R65<=X$3),$M65,IF(AND(X$3>=$R65,X$2<=$S65),$M65,0)),0) | Y65: =IFERROR(IF(AND($R65>=Y$2,$R65<=Y$3),$M65,IF(AND(Y$3>=$R65,Y$2<=$S65),$M65,0)),0) | Z65: =IFERROR(IF(AND($R65>=Z$2,$R65<=Z$3),$M65,IF(AND(Z$3>=$R65,Z$2<=$S65),$M65,0)),0) | AA65: =IFERROR(IF(AND($R65>=AA$2,$R65<=AA$3),$M65,IF(AND(AA$3>=$R65,AA$2<=$S65),$M65,0)),0) | AB65: =IFERROR(IF(AND($R65>=AB$2,$R65<=AB$3),$M65,IF(AND(AB$3>=$R65,AB$2<=$S65),$M65,0)),0) | ... CZ65: =IFERROR(IF(AND($R65>=CZ$2,$R65<=CZ$3),$M65,IF(AND(CZ$3>=$R65,CZ$2<=$S65),$M65,0)),0)
A66: [Person_3] | I66: 1 | J66: Digital Maintenance | K66: 90 | L66: 175 | M66: =IF($J66="Digital Maintenance",0,K66*L66)*I65 | N66: =IF($J66="Digital Maintenance",K66*L66,0)*I66 | O66: New | R66: 44835 | S66: =EOMONTH(R66,11) | T66: =IF(ISBLANK(S66),"",YEARFRAC(R66,EOMONTH(S66,0))*12) | U66: =IFERROR(IF(AND($R66>=U$2,$R66<=U$3),$M66,IF(AND(U$3>=$R66,U$2<=$S66),$M66,0)),0) | V66: =IFERROR(IF(AND($R66>=V$2,$R66<=V$3),$M66,IF(AND(V$3>=$R66,V$2<=$S66),$M66,0)),0) | W66: =IFERROR(IF(AND($R66>=W$2,$R66<=W$3),$M66,IF(AND(W$3>=$R66,W$2<=$S66),$M66,0)),0) | X66: =IFERROR(IF(AND($R66>=X$2,$R66<=X$3),$M66,IF(AND(X$3>=$R66,X$2<=$S66),$M66,0)),0) | Y66: =IFERROR(IF(AND($R66>=Y$2,$R66<=Y$3),$M66,IF(AND(Y$3>=$R66,Y$2<=$S66),$M66,0)),0) | Z66: =IFERROR(IF(AND($R66>=Z$2,$R66<=Z$3),$M66,IF(AND(Z$3>=$R66,Z$2<=$S66),$M66,0)),0) | AA66: =IFERROR(IF(AND($R66>=AA$2,$R66<=AA$3),$M66,IF(AND(AA$3>=$R66,AA$2<=$S66),$M66,0)),0) | AB66: =IFERROR(IF(AND($R66>=AB$2,$R66<=AB$3),$M66,IF(AND(AB$3>=$R66,AB$2<=$S66),$M66,0)),0) | ... CZ66: =IFERROR(IF(AND($R66>=CZ$2,$R66<=CZ$3),$M66,IF(AND(CZ$3>=$R66,CZ$2<=$S66),$M66,0)),0)
A67: [Person_3] | I67: 1 | J67: Digital Maintenance | K67: 113 | L67: 175 | M67: =IF($J67="Digital Maintenance",0,K67*L67)*I66 | N67: =IF($J67="Digital Maintenance",K67*L67,0)*I67 | O67: New | R67: 44805 | S67: =EOMONTH(R67,11) | T67: =IF(ISBLANK(S67),"",YEARFRAC(R67,EOMONTH(S67,0))*12) | U67: =IFERROR(IF(AND($R67>=U$2,$R67<=U$3),$M67,IF(AND(U$3>=$R67,U$2<=$S67),$M67,0)),0) | V67: =IFERROR(IF(AND($R67>=V$2,$R67<=V$3),$M67,IF(AND(V$3>=$R67,V$2<=$S67),$M67,0)),0) | W67: =IFERROR(IF(AND($R67>=W$2,$R67<=W$3),$M67,IF(AND(W$3>=$R67,W$2<=$S67),$M67,0)),0) | X67: =IFERROR(IF(AND($R67>=X$2,$R67<=X$3),$M67,IF(AND(X$3>=$R67,X$2<=$S67),$M67,0)),0) | Y67: =IFERROR(IF(AND($R67>=Y$2,$R67<=Y$3),$M67,IF(AND(Y$3>=$R67,Y$2<=$S67),$M67,0)),0) | Z67: =IFERROR(IF(AND($R67>=Z$2,$R67<=Z$3),$M67,IF(AND(Z$3>=$R67,Z$2<=$S67),$M67,0)),0) | AA67: =IFERROR(IF(AND($R67>=AA$2,$R67<=AA$3),$M67,IF(AND(AA$3>=$R67,AA$2<=$S67),$M67,0)),0) | AB67: =IFERROR(IF(AND($R67>=AB$2,$R67<=AB$3),$M67,IF(AND(AB$3>=$R67,AB$2<=$S67),$M67,0)),0) | ... CZ67: =IFERROR(IF(AND($R67>=CZ$2,$R67<=CZ$3),$M67,IF(AND(CZ$3>=$R67,CZ$2<=$S67),$M67,0)),0)
A68: [Person_3] | I68: 1 | J68: Digital Maintenance | K68: 22 | L68: 90 | M68: =IF($J68="Digital Maintenance",0,K68*L68)*I67 | N68: =IF($J68="Digital Maintenance",K68*L68,0)*I68 | O68: New | R68: 45383 | S68: =EOMONTH(R68,11) | T68: =IF(ISBLANK(S68),"",YEARFRAC(R68,EOMONTH(S68,0))*12) | U68: =IFERROR(IF(AND($R68>=U$2,$R68<=U$3),$M68,IF(AND(U$3>=$R68,U$2<=$S68),$M68,0)),0) | V68: =IFERROR(IF(AND($R68>=V$2,$R68<=V$3),$M68,IF(AND(V$3>=$R68,V$2<=$S68),$M68,0)),0) | W68: =IFERROR(IF(AND($R68>=W$2,$R68<=W$3),$M68,IF(AND(W$3>=$R68,W$2<=$S68),$M68,0)),0) | X68: =IFERROR(IF(AND($R68>=X$2,$R68<=X$3),$M68,IF(AND(X$3>=$R68,X$2<=$S68),$M68,0)),0) | Y68: =IFERROR(IF(AND($R68>=Y$2,$R68<=Y$3),$M68,IF(AND(Y$3>=$R68,Y$2<=$S68),$M68,0)),0) | Z68: =IFERROR(IF(AND($R68>=Z$2,$R68<=Z$3),$M68,IF(AND(Z$3>=$R68,Z$2<=$S68),$M68,0)),0) | AA68: =IFERROR(IF(AND($R68>=AA$2,$R68<=AA$3),$M68,IF(AND(AA$3>=$R68,AA$2<=$S68),$M68,0)),0) | AB68: =IFERROR(IF(AND($R68>=AB$2,$R68<=AB$3),$M68,IF(AND(AB$3>=$R68,AB$2<=$S68),$M68,0)),0) | ... CZ68: =IFERROR(IF(AND($R68>=CZ$2,$R68<=CZ$3),$M68,IF(AND(CZ$3>=$R68,CZ$2<=$S68),$M68,0)),0)
A69: [Person_3] | I69: 1 | J69: Digital Maintenance | K69: 23 | L69: 90 | M69: =IF($J69="Digital Maintenance",0,K69*L69)*I68 | N69: =IF($J69="Digital Maintenance",K69*L69,0)*I69 | O69: New | R69: 45017 | S69: =EOMONTH(R69,11) | T69: =IF(ISBLANK(S69),"",YEARFRAC(R69,EOMONTH(S69,0))*12) | U69: =IFERROR(IF(AND($R69>=U$2,$R69<=U$3),$M69,IF(AND(U$3>=$R69,U$2<=$S69),$M69,0)),0) | V69: =IFERROR(IF(AND($R69>=V$2,$R69<=V$3),$M69,IF(AND(V$3>=$R69,V$2<=$S69),$M69,0)),0) | W69: =IFERROR(IF(AND($R69>=W$2,$R69<=W$3),$M69,IF(AND(W$3>=$R69,W$2<=$S69),$M69,0)),0) | X69: =IFERROR(IF(AND($R69>=X$2,$R69<=X$3),$M69,IF(AND(X$3>=$R69,X$2<=$S69),$M69,0)),0) | Y69: =IFERROR(IF(AND($R69>=Y$2,$R69<=Y$3),$M69,IF(AND(Y$3>=$R69,Y$2<=$S69),$M69,0)),0) | Z69: =IFERROR(IF(AND($R69>=Z$2,$R69<=Z$3),$M69,IF(AND(Z$3>=$R69,Z$2<=$S69),$M69,0)),0) | AA69: =IFERROR(IF(AND($R69>=AA$2,$R69<=AA$3),$M69,IF(AND(AA$3>=$R69,AA$2<=$S69),$M69,0)),0) | AB69: =IFERROR(IF(AND($R69>=AB$2,$R69<=AB$3),$M69,IF(AND(AB$3>=$R69,AB$2<=$S69),$M69,0)),0) | ... CZ69: =IFERROR(IF(AND($R69>=CZ$2,$R69<=CZ$3),$M69,IF(AND(CZ$3>=$R69,CZ$2<=$S69),$M69,0)),0)
A70: [Person_3] | I70: 1 | J70: Digital Maintenance | K70: 108 | L70: 175 | M70: =IF($J70="Digital Maintenance",0,K70*L70)*I69 | N70: =IF($J70="Digital Maintenance",K70*L70,0)*I70 | O70: New | R70: 44986 | S70: =EOMONTH(R70,11) | T70: =IF(ISBLANK(S70),"",YEARFRAC(R70,EOMONTH(S70,0))*12) | U70: =IFERROR(IF(AND($R70>=U$2,$R70<=U$3),$M70,IF(AND(U$3>=$R70,U$2<=$S70),$M70,0)),0) | V70: =IFERROR(IF(AND($R70>=V$2,$R70<=V$3),$M70,IF(AND(V$3>=$R70,V$2<=$S70),$M70,0)),0) | W70: =IFERROR(IF(AND($R70>=W$2,$R70<=W$3),$M70,IF(AND(W$3>=$R70,W$2<=$S70),$M70,0)),0) | X70: =IFERROR(IF(AND($R70>=X$2,$R70<=X$3),$M70,IF(AND(X$3>=$R70,X$2<=$S70),$M70,0)),0) | Y70: =IFERROR(IF(AND($R70>=Y$2,$R70<=Y$3),$M70,IF(AND(Y$3>=$R70,Y$2<=$S70),$M70,0)),0) | Z70: =IFERROR(IF(AND($R70>=Z$2,$R70<=Z$3),$M70,IF(AND(Z$3>=$R70,Z$2<=$S70),$M70,0)),0) | AA70: =IFERROR(IF(AND($R70>=AA$2,$R70<=AA$3),$M70,IF(AND(AA$3>=$R70,AA$2<=$S70),$M70,0)),0) | AB70: =IFERROR(IF(AND($R70>=AB$2,$R70<=AB$3),$M70,IF(AND(AB$3>=$R70,AB$2<=$S70),$M70,0)),0) | ... CZ70: =IFERROR(IF(AND($R70>=CZ$2,$R70<=CZ$3),$M70,IF(AND(CZ$3>=$R70,CZ$2<=$S70),$M70,0)),0)
A71: [Person_3] | I71: 1 | J71: Digital Maintenance | K71: 88 | L71: 175 | M71: =IF($J71="Digital Maintenance",0,K71*L71)*I70 | N71: =IF($J71="Digital Maintenance",K71*L71,0)*I71 | O71: New | R71: 44986 | S71: =EOMONTH(R71,11) | T71: =IF(ISBLANK(S71),"",YEARFRAC(R71,EOMONTH(S71,0))*12) | U71: =IFERROR(IF(AND($R71>=U$2,$R71<=U$3),$M71,IF(AND(U$3>=$R71,U$2<=$S71),$M71,0)),0) | V71: =IFERROR(IF(AND($R71>=V$2,$R71<=V$3),$M71,IF(AND(V$3>=$R71,V$2<=$S71),$M71,0)),0) | W71: =IFERROR(IF(AND($R71>=W$2,$R71<=W$3),$M71,IF(AND(W$3>=$R71,W$2<=$S71),$M71,0)),0) | X71: =IFERROR(IF(AND($R71>=X$2,$R71<=X$3),$M71,IF(AND(X$3>=$R71,X$2<=$S71),$M71,0)),0) | Y71: =IFERROR(IF(AND($R71>=Y$2,$R71<=Y$3),$M71,IF(AND(Y$3>=$R71,Y$2<=$S71),$M71,0)),0) | Z71: =IFERROR(IF(AND($R71>=Z$2,$R71<=Z$3),$M71,IF(AND(Z$3>=$R71,Z$2<=$S71),$M71,0)),0) | AA71: =IFERROR(IF(AND($R71>=AA$2,$R71<=AA$3),$M71,IF(AND(AA$3>=$R71,AA$2<=$S71),$M71,0)),0) | AB71: =IFERROR(IF(AND($R71>=AB$2,$R71<=AB$3),$M71,IF(AND(AB$3>=$R71,AB$2<=$S71),$M71,0)),0) | ... CZ71: =IFERROR(IF(AND($R71>=CZ$2,$R71<=CZ$3),$M71,IF(AND(CZ$3>=$R71,CZ$2<=$S71),$M71,0)),0)
A72: [Person_3] | M72: =IF($J72="Digital Maintenance",0,K72*L72)*I71 | N72: =IF($J72="Digital Maintenance",K72*L72,0)*I72 | O72: New | T72: =IF(ISBLANK(S72),"",YEARFRAC(R72,EOMONTH(S72,0))*12) | U72: =IFERROR(IF(AND($R72>=U$2,$R72<=U$3),$M72,IF(AND(U$3>=$R72,U$2<=$S72),$M72,0)),0) | V72: =IFERROR(IF(AND($R72>=V$2,$R72<=V$3),$M72,IF(AND(V$3>=$R72,V$2<=$S72),$M72,0)),0) | W72: =IFERROR(IF(AND($R72>=W$2,$R72<=W$3),$M72,IF(AND(W$3>=$R72,W$2<=$S72),$M72,0)),0) | X72: =IFERROR(IF(AND($R72>=X$2,$R72<=X$3),$M72,IF(AND(X$3>=$R72,X$2<=$S72),$M72,0)),0) | Y72: =IFERROR(IF(AND($R72>=Y$2,$R72<=Y$3),$M72,IF(AND(Y$3>=$R72,Y$2<=$S72),$M72,0)),0) | Z72: =IFERROR(IF(AND($R72>=Z$2,$R72<=Z$3),$M72,IF(AND(Z$3>=$R72,Z$2<=$S72),$M72,0)),0) | AA72: =IFERROR(IF(AND($R72>=AA$2,$R72<=AA$3),$M72,IF(AND(AA$3>=$R72,AA$2<=$S72),$M72,0)),0) | AB72: =IFERROR(IF(AND($R72>=AB$2,$R72<=AB$3),$M72,IF(AND(AB$3>=$R72,AB$2<=$S72),$M72,0)),0) | ... CZ72: =IFERROR(IF(AND($R72>=CZ$2,$R72<=CZ$3),$M72,IF(AND(CZ$3>=$R72,CZ$2<=$S72),$M72,0)),0)
A73: [Person_3] | M73: =IF($J73="Digital Maintenance",0,K73*L73)*I72 | N73: =IF($J73="Digital Maintenance",K73*L73,0)*I73 | O73: New | T73: =IF(ISBLANK(S73),"",YEARFRAC(R73,EOMONTH(S73,0))*12) | U73: =IFERROR(IF(AND($R73>=U$2,$R73<=U$3),$M73,IF(AND(U$3>=$R73,U$2<=$S73),$M73,0)),0) | V73: =IFERROR(IF(AND($R73>=V$2,$R73<=V$3),$M73,IF(AND(V$3>=$R73,V$2<=$S73),$M73,0)),0) | W73: =IFERROR(IF(AND($R73>=W$2,$R73<=W$3),$M73,IF(AND(W$3>=$R73,W$2<=$S73),$M73,0)),0) | X73: =IFERROR(IF(AND($R73>=X$2,$R73<=X$3),$M73,IF(AND(X$3>=$R73,X$2<=$S73),$M73,0)),0) | Y73: =IFERROR(IF(AND($R73>=Y$2,$R73<=Y$3),$M73,IF(AND(Y$3>=$R73,Y$2<=$S73),$M73,0)),0) | Z73: =IFERROR(IF(AND($R73>=Z$2,$R73<=Z$3),$M73,IF(AND(Z$3>=$R73,Z$2<=$S73),$M73,0)),0) | AA73: =IFERROR(IF(AND($R73>=AA$2,$R73<=AA$3),$M73,IF(AND(AA$3>=$R73,AA$2<=$S73),$M73,0)),0) | AB73: =IFERROR(IF(AND($R73>=AB$2,$R73<=AB$3),$M73,IF(AND(AB$3>=$R73,AB$2<=$S73),$M73,0)),0) | ... CZ73: =IFERROR(IF(AND($R73>=CZ$2,$R73<=CZ$3),$M73,IF(AND(CZ$3>=$R73,CZ$2<=$S73),$M73,0)),0)
A74: [Person_3] | M74: =IF($J74="Digital Maintenance",0,K74*L74)*I73 | N74: =IF($J74="Digital Maintenance",K74*L74,0)*I74 | O74: New | T74: =IF(ISBLANK(S74),"",YEARFRAC(R74,EOMONTH(S74,0))*12) | U74: =IFERROR(IF(AND($R74>=U$2,$R74<=U$3),$M74,IF(AND(U$3>=$R74,U$2<=$S74),$M74,0)),0) | V74: =IFERROR(IF(AND($R74>=V$2,$R74<=V$3),$M74,IF(AND(V$3>=$R74,V$2<=$S74),$M74,0)),0) | W74: =IFERROR(IF(AND($R74>=W$2,$R74<=W$3),$M74,IF(AND(W$3>=$R74,W$2<=$S74),$M74,0)),0) | X74: =IFERROR(IF(AND($R74>=X$2,$R74<=X$3),$M74,IF(AND(X$3>=$R74,X$2<=$S74),$M74,0)),0) | Y74: =IFERROR(IF(AND($R74>=Y$2,$R74<=Y$3),$M74,IF(AND(Y$3>=$R74,Y$2<=$S74),$M74,0)),0) | Z74: =IFERROR(IF(AND($R74>=Z$2,$R74<=Z$3),$M74,IF(AND(Z$3>=$R74,Z$2<=$S74),$M74,0)),0) | AA74: =IFERROR(IF(AND($R74>=AA$2,$R74<=AA$3),$M74,IF(AND(AA$3>=$R74,AA$2<=$S74),$M74,0)),0) | AB74: =IFERROR(IF(AND($R74>=AB$2,$R74<=AB$3),$M74,IF(AND(AB$3>=$R74,AB$2<=$S74),$M74,0)),0) | ... CZ74: =IFERROR(IF(AND($R74>=CZ$2,$R74<=CZ$3),$M74,IF(AND(CZ$3>=$R74,CZ$2<=$S74),$M74,0)),0)
A75: [Person_3] | M75: =IF($J75="Digital Maintenance",0,K75*L75)*I74 | N75: =IF($J75="Digital Maintenance",K75*L75,0)*I75 | O75: New | T75: =IF(ISBLANK(S75),"",YEARFRAC(R75,EOMONTH(S75,0))*12) | U75: =IFERROR(IF(AND($R75>=U$2,$R75<=U$3),$M75,IF(AND(U$3>=$R75,U$2<=$S75),$M75,0)),0) | V75: =IFERROR(IF(AND($R75>=V$2,$R75<=V$3),$M75,IF(AND(V$3>=$R75,V$2<=$S75),$M75,0)),0) | W75: =IFERROR(IF(AND($R75>=W$2,$R75<=W$3),$M75,IF(AND(W$3>=$R75,W$2<=$S75),$M75,0)),0) | X75: =IFERROR(IF(AND($R75>=X$2,$R75<=X$3),$M75,IF(AND(X$3>=$R75,X$2<=$S75),$M75,0)),0) | Y75: =IFERROR(IF(AND($R75>=Y$2,$R75<=Y$3),$M75,IF(AND(Y$3>=$R75,Y$2<=$S75),$M75,0)),0) | Z75: =IFERROR(IF(AND($R75>=Z$2,$R75<=Z$3),$M75,IF(AND(Z$3>=$R75,Z$2<=$S75),$M75,0)),0) | AA75: =IFERROR(IF(AND($R75>=AA$2,$R75<=AA$3),$M75,IF(AND(AA$3>=$R75,AA$2<=$S75),$M75,0)),0) | AB75: =IFERROR(IF(AND($R75>=AB$2,$R75<=AB$3),$M75,IF(AND(AB$3>=$R75,AB$2<=$S75),$M75,0)),0) | ... CZ75: =IFERROR(IF(AND($R75>=CZ$2,$R75<=CZ$3),$M75,IF(AND(CZ$3>=$R75,CZ$2<=$S75),$M75,0)),0)
A76: [Person_3] | M76: =IF($J76="Digital Maintenance",0,K76*L76)*I75 | N76: =IF($J76="Digital Maintenance",K76*L76,0)*I76 | O76: New | T76: =IF(ISBLANK(S76),"",YEARFRAC(R76,EOMONTH(S76,0))*12) | U76: =IFERROR(IF(AND($R76>=U$2,$R76<=U$3),$M76,IF(AND(U$3>=$R76,U$2<=$S76),$M76,0)),0) | V76: =IFERROR(IF(AND($R76>=V$2,$R76<=V$3),$M76,IF(AND(V$3>=$R76,V$2<=$S76),$M76,0)),0) | W76: =IFERROR(IF(AND($R76>=W$2,$R76<=W$3),$M76,IF(AND(W$3>=$R76,W$2<=$S76),$M76,0)),0) | X76: =IFERROR(IF(AND($R76>=X$2,$R76<=X$3),$M76,IF(AND(X$3>=$R76,X$2<=$S76),$M76,0)),0) | Y76: =IFERROR(IF(AND($R76>=Y$2,$R76<=Y$3),$M76,IF(AND(Y$3>=$R76,Y$2<=$S76),$M76,0)),0) | Z76: =IFERROR(IF(AND($R76>=Z$2,$R76<=Z$3),$M76,IF(AND(Z$3>=$R76,Z$2<=$S76),$M76,0)),0) | AA76: =IFERROR(IF(AND($R76>=AA$2,$R76<=AA$3),$M76,IF(AND(AA$3>=$R76,AA$2<=$S76),$M76,0)),0) | AB76: =IFERROR(IF(AND($R76>=AB$2,$R76<=AB$3),$M76,IF(AND(AB$3>=$R76,AB$2<=$S76),$M76,0)),0) | ... CZ76: =IFERROR(IF(AND($R76>=CZ$2,$R76<=CZ$3),$M76,IF(AND(CZ$3>=$R76,CZ$2<=$S76),$M76,0)),0)
A77: [Person_3] | M77: =IF($J77="Digital Maintenance",0,K77*L77)*I76 | N77: =IF($J77="Digital Maintenance",K77*L77,0)*I77 | O77: New | T77: =IF(ISBLANK(S77),"",YEARFRAC(R77,EOMONTH(S77,0))*12) | U77: =IFERROR(IF(AND($R77>=U$2,$R77<=U$3),$M77,IF(AND(U$3>=$R77,U$2<=$S77),$M77,0)),0) | V77: =IFERROR(IF(AND($R77>=V$2,$R77<=V$3),$M77,IF(AND(V$3>=$R77,V$2<=$S77),$M77,0)),0) | W77: =IFERROR(IF(AND($R77>=W$2,$R77<=W$3),$M77,IF(AND(W$3>=$R77,W$2<=$S77),$M77,0)),0) | X77: =IFERROR(IF(AND($R77>=X$2,$R77<=X$3),$M77,IF(AND(X$3>=$R77,X$2<=$S77),$M77,0)),0) | Y77: =IFERROR(IF(AND($R77>=Y$2,$R77<=Y$3),$M77,IF(AND(Y$3>=$R77,Y$2<=$S77),$M77,0)),0) | Z77: =IFERROR(IF(AND($R77>=Z$2,$R77<=Z$3),$M77,IF(AND(Z$3>=$R77,Z$2<=$S77),$M77,0)),0) | AA77: =IFERROR(IF(AND($R77>=AA$2,$R77<=AA$3),$M77,IF(AND(AA$3>=$R77,AA$2<=$S77),$M77,0)),0) | AB77: =IFERROR(IF(AND($R77>=AB$2,$R77<=AB$3),$M77,IF(AND(AB$3>=$R77,AB$2<=$S77),$M77,0)),0) | ... CZ77: =IFERROR(IF(AND($R77>=CZ$2,$R77<=CZ$3),$M77,IF(AND(CZ$3>=$R77,CZ$2<=$S77),$M77,0)),0)
A78: [Person_3] | M78: =IF($J78="Digital Maintenance",0,K78*L78)*I77 | N78: =IF($J78="Digital Maintenance",K78*L78,0)*I78 | O78: New | T78: =IF(ISBLANK(S78),"",YEARFRAC(R78,EOMONTH(S78,0))*12) | U78: =IFERROR(IF(AND($R78>=U$2,$R78<=U$3),$M78,IF(AND(U$3>=$R78,U$2<=$S78),$M78,0)),0) | V78: =IFERROR(IF(AND($R78>=V$2,$R78<=V$3),$M78,IF(AND(V$3>=$R78,V$2<=$S78),$M78,0)),0) | W78: =IFERROR(IF(AND($R78>=W$2,$R78<=W$3),$M78,IF(AND(W$3>=$R78,W$2<=$S78),$M78,0)),0) | X78: =IFERROR(IF(AND($R78>=X$2,$R78<=X$3),$M78,IF(AND(X$3>=$R78,X$2<=$S78),$M78,0)),0) | Y78: =IFERROR(IF(AND($R78>=Y$2,$R78<=Y$3),$M78,IF(AND(Y$3>=$R78,Y$2<=$S78),$M78,0)),0) | Z78: =IFERROR(IF(AND($R78>=Z$2,$R78<=Z$3),$M78,IF(AND(Z$3>=$R78,Z$2<=$S78),$M78,0)),0) | AA78: =IFERROR(IF(AND($R78>=AA$2,$R78<=AA$3),$M78,IF(AND(AA$3>=$R78,AA$2<=$S78),$M78,0)),0) | AB78: =IFERROR(IF(AND($R78>=AB$2,$R78<=AB$3),$M78,IF(AND(AB$3>=$R78,AB$2<=$S78),$M78,0)),0) | ... CZ78: =IFERROR(IF(AND($R78>=CZ$2,$R78<=CZ$3),$M78,IF(AND(CZ$3>=$R78,CZ$2<=$S78),$M78,0)),0)
A79: [Person_3] | M79: =IF($J79="Digital Maintenance",0,K79*L79)*I78 | N79: =IF($J79="Digital Maintenance",K79*L79,0)*I79 | O79: New | T79: =IF(ISBLANK(S79),"",YEARFRAC(R79,EOMONTH(S79,0))*12) | U79: =IFERROR(IF(AND($R79>=U$2,$R79<=U$3),$M79,IF(AND(U$3>=$R79,U$2<=$S79),$M79,0)),0) | V79: =IFERROR(IF(AND($R79>=V$2,$R79<=V$3),$M79,IF(AND(V$3>=$R79,V$2<=$S79),$M79,0)),0) | W79: =IFERROR(IF(AND($R79>=W$2,$R79<=W$3),$M79,IF(AND(W$3>=$R79,W$2<=$S79),$M79,0)),0) | X79: =IFERROR(IF(AND($R79>=X$2,$R79<=X$3),$M79,IF(AND(X$3>=$R79,X$2<=$S79),$M79,0)),0) | Y79: =IFERROR(IF(AND($R79>=Y$2,$R79<=Y$3),$M79,IF(AND(Y$3>=$R79,Y$2<=$S79),$M79,0)),0) | Z79: =IFERROR(IF(AND($R79>=Z$2,$R79<=Z$3),$M79,IF(AND(Z$3>=$R79,Z$2<=$S79),$M79,0)),0) | AA79: =IFERROR(IF(AND($R79>=AA$2,$R79<=AA$3),$M79,IF(AND(AA$3>=$R79,AA$2<=$S79),$M79,0)),0) | AB79: =IFERROR(IF(AND($R79>=AB$2,$R79<=AB$3),$M79,IF(AND(AB$3>=$R79,AB$2<=$S79),$M79,0)),0) | ... CZ79: =IFERROR(IF(AND($R79>=CZ$2,$R79<=CZ$3),$M79,IF(AND(CZ$3>=$R79,CZ$2<=$S79),$M79,0)),0)
A80: [Person_3] | M80: =IF($J80="Digital Maintenance",0,K80*L80)*I79 | N80: =IF($J80="Digital Maintenance",K80*L80,0)*I80 | O80: New | T80: =IF(ISBLANK(S80),"",YEARFRAC(R80,EOMONTH(S80,0))*12) | U80: =IFERROR(IF(AND($R80>=U$2,$R80<=U$3),$M80,IF(AND(U$3>=$R80,U$2<=$S80),$M80,0)),0) | V80: =IFERROR(IF(AND($R80>=V$2,$R80<=V$3),$M80,IF(AND(V$3>=$R80,V$2<=$S80),$M80,0)),0) | W80: =IFERROR(IF(AND($R80>=W$2,$R80<=W$3),$M80,IF(AND(W$3>=$R80,W$2<=$S80),$M80,0)),0) | X80: =IFERROR(IF(AND($R80>=X$2,$R80<=X$3),$M80,IF(AND(X$3>=$R80,X$2<=$S80),$M80,0)),0) | Y80: =IFERROR(IF(AND($R80>=Y$2,$R80<=Y$3),$M80,IF(AND(Y$3>=$R80,Y$2<=$S80),$M80,0)),0) | Z80: =IFERROR(IF(AND($R80>=Z$2,$R80<=Z$3),$M80,IF(AND(Z$3>=$R80,Z$2<=$S80),$M80,0)),0) | AA80: =IFERROR(IF(AND($R80>=AA$2,$R80<=AA$3),$M80,IF(AND(AA$3>=$R80,AA$2<=$S80),$M80,0)),0) | AB80: =IFERROR(IF(AND($R80>=AB$2,$R80<=AB$3),$M80,IF(AND(AB$3>=$R80,AB$2<=$S80),$M80,0)),0) | ... CZ80: =IFERROR(IF(AND($R80>=CZ$2,$R80<=CZ$3),$M80,IF(AND(CZ$3>=$R80,CZ$2<=$S80),$M80,0)),0)
A81: [Person_3] | M81: =IF($J81="Digital Maintenance",0,K81*L81)*I80 | N81: =IF($J81="Digital Maintenance",K81*L81,0)*I81 | O81: New | T81: =IF(ISBLANK(S81),"",YEARFRAC(R81,EOMONTH(S81,0))*12) | U81: =IFERROR(IF(AND($R81>=U$2,$R81<=U$3),$M81,IF(AND(U$3>=$R81,U$2<=$S81),$M81,0)),0) | V81: =IFERROR(IF(AND($R81>=V$2,$R81<=V$3),$M81,IF(AND(V$3>=$R81,V$2<=$S81),$M81,0)),0) | W81: =IFERROR(IF(AND($R81>=W$2,$R81<=W$3),$M81,IF(AND(W$3>=$R81,W$2<=$S81),$M81,0)),0) | X81: =IFERROR(IF(AND($R81>=X$2,$R81<=X$3),$M81,IF(AND(X$3>=$R81,X$2<=$S81),$M81,0)),0) | Y81: =IFERROR(IF(AND($R81>=Y$2,$R81<=Y$3),$M81,IF(AND(Y$3>=$R81,Y$2<=$S81),$M81,0)),0) | Z81: =IFERROR(IF(AND($R81>=Z$2,$R81<=Z$3),$M81,IF(AND(Z$3>=$R81,Z$2<=$S81),$M81,0)),0) | AA81: =IFERROR(IF(AND($R81>=AA$2,$R81<=AA$3),$M81,IF(AND(AA$3>=$R81,AA$2<=$S81),$M81,0)),0) | AB81: =IFERROR(IF(AND($R81>=AB$2,$R81<=AB$3),$M81,IF(AND(AB$3>=$R81,AB$2<=$S81),$M81,0)),0) | ... CZ81: =IFERROR(IF(AND($R81>=CZ$2,$R81<=CZ$3),$M81,IF(AND(CZ$3>=$R81,CZ$2<=$S81),$M81,0)),0)
A82: [Person_3] | M82: =IF($J82="Digital Maintenance",0,K82*L82)*I81 | N82: =IF($J82="Digital Maintenance",K82*L82,0)*I82 | O82: New | T82: =IF(ISBLANK(S82),"",YEARFRAC(R82,EOMONTH(S82,0))*12) | U82: =IFERROR(IF(AND($R82>=U$2,$R82<=U$3),$M82,IF(AND(U$3>=$R82,U$2<=$S82),$M82,0)),0) | V82: =IFERROR(IF(AND($R82>=V$2,$R82<=V$3),$M82,IF(AND(V$3>=$R82,V$2<=$S82),$M82,0)),0) | W82: =IFERROR(IF(AND($R82>=W$2,$R82<=W$3),$M82,IF(AND(W$3>=$R82,W$2<=$S82),$M82,0)),0) | X82: =IFERROR(IF(AND($R82>=X$2,$R82<=X$3),$M82,IF(AND(X$3>=$R82,X$2<=$S82),$M82,0)),0) | Y82: =IFERROR(IF(AND($R82>=Y$2,$R82<=Y$3),$M82,IF(AND(Y$3>=$R82,Y$2<=$S82),$M82,0)),0) | Z82: =IFERROR(IF(AND($R82>=Z$2,$R82<=Z$3),$M82,IF(AND(Z$3>=$R82,Z$2<=$S82),$M82,0)),0) | AA82: =IFERROR(IF(AND($R82>=AA$2,$R82<=AA$3),$M82,IF(AND(AA$3>=$R82,AA$2<=$S82),$M82,0)),0) | AB82: =IFERROR(IF(AND($R82>=AB$2,$R82<=AB$3),$M82,IF(AND(AB$3>=$R82,AB$2<=$S82),$M82,0)),0) | ... CZ82: =IFERROR(IF(AND($R82>=CZ$2,$R82<=CZ$3),$M82,IF(AND(CZ$3>=$R82,CZ$2<=$S82),$M82,0)),0)
A83: [Person_3] | M83: =IF($J83="Digital Maintenance",0,K83*L83)*I82 | N83: =IF($J83="Digital Maintenance",K83*L83,0)*I83 | O83: New | T83: =IF(ISBLANK(S83),"",YEARFRAC(R83,EOMONTH(S83,0))*12) | U83: =IFERROR(IF(AND($R83>=U$2,$R83<=U$3),$M83,IF(AND(U$3>=$R83,U$2<=$S83),$M83,0)),0) | V83: =IFERROR(IF(AND($R83>=V$2,$R83<=V$3),$M83,IF(AND(V$3>=$R83,V$2<=$S83),$M83,0)),0) | W83: =IFERROR(IF(AND($R83>=W$2,$R83<=W$3),$M83,IF(AND(W$3>=$R83,W$2<=$S83),$M83,0)),0) | X83: =IFERROR(IF(AND($R83>=X$2,$R83<=X$3),$M83,IF(AND(X$3>=$R83,X$2<=$S83),$M83,0)),0) | Y83: =IFERROR(IF(AND($R83>=Y$2,$R83<=Y$3),$M83,IF(AND(Y$3>=$R83,Y$2<=$S83),$M83,0)),0) | Z83: =IFERROR(IF(AND($R83>=Z$2,$R83<=Z$3),$M83,IF(AND(Z$3>=$R83,Z$2<=$S83),$M83,0)),0) | AA83: =IFERROR(IF(AND($R83>=AA$2,$R83<=AA$3),$M83,IF(AND(AA$3>=$R83,AA$2<=$S83),$M83,0)),0) | AB83: =IFERROR(IF(AND($R83>=AB$2,$R83<=AB$3),$M83,IF(AND(AB$3>=$R83,AB$2<=$S83),$M83,0)),0) | ... CZ83: =IFERROR(IF(AND($R83>=CZ$2,$R83<=CZ$3),$M83,IF(AND(CZ$3>=$R83,CZ$2<=$S83),$M83,0)),0)
... A201: [Person_3] | M201: =IF($J201="Digital Maintenance",0,K201*L201)*I200 | N201: =IF($J201="Digital Maintenance",K201*L201,0)*I201 | O201: New | T201: =IF(ISBLANK(S201),"",YEARFRAC(R201,EOMONTH(S201,0))*12) | U201: =IFERROR(IF(AND($R201>=U$2,$R201<=U$3),$M201,IF(AND(U$3>=$R201,U$2<=$S201),$M201,0)),0) | V201: =IFERROR(IF(AND($R201>=V$2,$R201<=V$3),$M201,IF(AND(V$3>=$R201,V$2<=$S201),$M201,0)),0) | W201: =IFERROR(IF(AND($R201>=W$2,$R201<=W$3),$M201,IF(AND(W$3>=$R201,W$2<=$S201),$M201,0)),0) | X201: =IFERROR(IF(AND($R201>=X$2,$R201<=X$3),$M201,IF(AND(X$3>=$R201,X$2<=$S201),$M201,0)),0) | Y201: =IFERROR(IF(AND($R201>=Y$2,$R201<=Y$3),$M201,IF(AND(Y$3>=$R201,Y$2<=$S201),$M201,0)),0) | Z201: =IFERROR(IF(AND($R201>=Z$2,$R201<=Z$3),$M201,IF(AND(Z$3>=$R201,Z$2<=$S201),$M201,0)),0) | AA201: =IFERROR(IF(AND($R201>=AA$2,$R201<=AA$3),$M201,IF(AND(AA$3>=$R201,AA$2<=$S201),$M201,0)),0) | AB201: =IFERROR(IF(AND($R201>=AB$2,$R201<=AB$3),$M201,IF(AND(AB$3>=$R201,AB$2<=$S201),$M201,0)),0) | ... CZ201: =IFERROR(IF(AND($R201>=CZ$2,$R201<=CZ$3),$M201,IF(AND(CZ$3>=$R201,CZ$2<=$S201),$M201,0)),0)
