Workbook

Sheet main
A1: 1 | B1: =IFERROR(MATCH(0,--(MMULT(--(COUNTIF(OFFSET(A1,COUNT(A:A)-ROW(INDIRECT("1:"&COUNT(A:A)-3))-2,,3),{1,2,3})=1),{1;1;1})=3),)-1,MAX(0,COUNT(A:A)-2)) | C1: =IF(A1="","",IFERROR(MATCH(0,--(MMULT(--(COUNTIF(OFFSET(A1,-ROW(INDIRECT("1:"&ROWS(A$1:A1)-2))+1,,-3),{1,2,3})=1),{1;1;1})=3),)-1,MAX(0,ROWS(A$1:A1)-2))) | G1: 1 | H1: {=IFERROR(INT(MATCH(0,INDEX(--(G2:INDEX(G:G,COUNT(G:G))<>G1:INDEX(G:G,COUNT(G:G)-1)),N(IF(1,COUNT(G:G)-ROW(INDIRECT("1:"&COUNT(G:G)-1))))),)/2),INT(COUNT(G:G)/2))} | I1: {=IF(G1="","",IFERROR(MATCH(0,--(INDEX(G$1:G1,N(IF(1,ROWS(G$1:G1)-ROW(#REF!)+1)))<>INDEX(G$1:G1,N(IF(1,ROWS(G$1:G1)-ROW(#REF!))))),)-1,INT(ROWS(G$1:G1)/2)))} | AC1: =IFERROR(MATCH(0,INDEX(--(MMULT(--(COUNTIF(OFFSET(A1,ROW(INDIRECT("1:"&COUNT(A:A)-3)),,3),{1,2,3})=1),{1;1;1})=3),N(IF(1,COUNT(A:A)-2-ROW(INDIRECT("1:"&COUNT(A:A)-3))))),)-1,MAX(0,COUNT(A:A)-2)) | AE1: =COUNT(A:A)-ROW(INDIRECT("1:"&COUNT(A:A)-3))-2
A2: 2 | C2: =IF(A2="","",IFERROR(MATCH(0,--(MMULT(--(COUNTIF(OFFSET(A2,-ROW(INDIRECT("1:"&ROWS(A$1:A2)-2))+1,,-3),{1,2,3})=1),{1;1;1})=3),)-1,MAX(0,ROWS(A$1:A2)-2))) | D2: 0 | G2: 2 | I2: {=IF(G2="","",IFERROR(MATCH(0,--(INDEX(G$1:G2,N(IF(1,ROWS(G$1:G2)-ROW(G$1:G1)+1)))<>INDEX(G$1:G2,N(IF(1,ROWS(G$1:G2)-ROW(G$1:G1))))),)-1,INT(ROWS(G$1:G2)/2)))}
A3: 3 | C3: =IF(A3="","",IFERROR(MATCH(0,--(MMULT(--(COUNTIF(OFFSET(A3,-ROW(INDIRECT("1:"&ROWS(A$1:A3)-2))+1,,-3),{1,2,3})=1),{1;1;1})=3),)-1,MAX(0,ROWS(A$1:A3)-2))) | D3: 1 | G3: 2 | I3: {=IF(G3="","",IFERROR(MATCH(0,--(INDEX(G$1:G3,N(IF(1,ROWS(G$1:G3)-ROW(G$1:G2)+1)))<>INDEX(G$1:G3,N(IF(1,ROWS(G$1:G3)-ROW(G$1:G2))))),)-1,INT(ROWS(G$1:G3)/2)))} | K3: in I1 there is aformula which tracks the values of H1
A4: 1 | C4: =IF(A4="","",IFERROR(MATCH(0,--(MMULT(--(COUNTIF(OFFSET(A4,-ROW(INDIRECT("1:"&ROWS(A$1:A4)-2))+1,,-3),{1,2,3})=1),{1;1;1})=3),)-1,MAX(0,ROWS(A$1:A4)-2))) | D4: 2 | G4: 2 | I4: {=IF(G4="","",IFERROR(MATCH(0,--(INDEX(G$1:G4,N(IF(1,ROWS(G$1:G4)-ROW(G$1:G3)+1)))<>INDEX(G$1:G4,N(IF(1,ROWS(G$1:G4)-ROW(G$1:G3))))),)-1,INT(ROWS(G$1:G4)/2)))} | K4: what I need is a formula in C1 which tracks the values of B1
A5: 3 | C5: =IF(A5="","",IFERROR(MATCH(0,--(MMULT(--(COUNTIF(OFFSET(A5,-ROW(INDIRECT("1:"&ROWS(A$1:A5)-2))+1,,-3),{1,2,3})=1),{1;1;1})=3),)-1,MAX(0,ROWS(A$1:A5)-2))) | D5: 0 | G5: 1 | I5: {=IF(G5="","",IFERROR(MATCH(0,--(INDEX(G$1:G5,N(IF(1,ROWS(G$1:G5)-ROW(G$1:G4)+1)))<>INDEX(G$1:G5,N(IF(1,ROWS(G$1:G5)-ROW(G$1:G4))))),)-1,INT(ROWS(G$1:G5)/2)))} | K5: note :B1 is a formula which counts an 123 ,213,321 event
A6: 2 | C6: =IF(A6="","",IFERROR(MATCH(0,--(MMULT(--(COUNTIF(OFFSET(A6,-ROW(INDIRECT("1:"&ROWS(A$1:A6)-2))+1,,-3),{1,2,3})=1),{1;1;1})=3),)-1,MAX(0,ROWS(A$1:A6)-2))) | D6: 1 | G6: 1 | I6: {=IF(G6="","",IFERROR(MATCH(0,--(INDEX(G$1:G6,N(IF(1,ROWS(G$1:G6)-ROW(G$1:G5)+1)))<>INDEX(G$1:G6,N(IF(1,ROWS(G$1:G6)-ROW(G$1:G5))))),)-1,INT(ROWS(G$1:G6)/2)))}
C7: =IF(A7="","",IFERROR(MATCH(0,--(MMULT(--(COUNTIF(OFFSET(A7,-ROW(INDIRECT("1:"&ROWS(A$1:A7)-2))+1,,-3),{1,2,3})=1),{1;1;1})=3),)-1,MAX(0,ROWS(A$1:A7)-2))) | G7: 2 | I7: {=IF(G7="","",IFERROR(MATCH(0,--(INDEX(G$1:G7,N(IF(1,ROWS(G$1:G7)-ROW(G$1:G6)+1)))<>INDEX(G$1:G7,N(IF(1,ROWS(G$1:G7)-ROW(G$1:G6))))),)-1,INT(ROWS(G$1:G7)/2)))}
C8: =IF(A8="","",IFERROR(MATCH(0,--(MMULT(--(COUNTIF(OFFSET(A8,-ROW(INDIRECT("1:"&ROWS(A$1:A8)-2))+1,,-3),{1,2,3})=1),{1;1;1})=3),)-1,MAX(0,ROWS(A$1:A8)-2))) | I8: {=IF(G8="","",IFERROR(MATCH(0,--(INDEX(G$1:G8,N(IF(1,ROWS(G$1:G8)-ROW(G$1:G7)+1)))<>INDEX(G$1:G8,N(IF(1,ROWS(G$1:G8)-ROW(G$1:G7))))),)-1,INT(ROWS(G$1:G8)/2)))}
C9: =IF(A9="","",IFERROR(MATCH(0,--(MMULT(--(COUNTIF(OFFSET(A9,-ROW(INDIRECT("1:"&ROWS(A$1:A9)-2))+1,,-3),{1,2,3})=1),{1;1;1})=3),)-1,MAX(0,ROWS(A$1:A9)-2))) | I9: {=IF(G9="","",IFERROR(MATCH(0,--(INDEX(G$1:G9,N(IF(1,ROWS(G$1:G9)-ROW(G$1:G8)+1)))<>INDEX(G$1:G9,N(IF(1,ROWS(G$1:G9)-ROW(G$1:G8))))),)-1,INT(ROWS(G$1:G9)/2)))}
C10: =IF(A10="","",IFERROR(MATCH(0,--(MMULT(--(COUNTIF(OFFSET(A10,-ROW(INDIRECT("1:"&ROWS(A$1:A10)-2))+1,,-3),{1,2,3})=1),{1;1;1})=3),)-1,MAX(0,ROWS(A$1:A10)-2))) | I10: {=IF(G10="","",IFERROR(MATCH(0,--(INDEX(G$1:G10,N(IF(1,ROWS(G$1:G10)-ROW(G$1:G9)+1)))<>INDEX(G$1:G10,N(IF(1,ROWS(G$1:G10)-ROW(G$1:G9))))),)-1,INT(ROWS(G$1:G10)/2)))}
I11: {=IF(G11="","",IFERROR(MATCH(0,--(INDEX(G$1:G11,N(IF(1,ROWS(G$1:G11)-ROW(G$1:G10)+1)))<>INDEX(G$1:G11,N(IF(1,ROWS(G$1:G11)-ROW(G$1:G10))))),)-1,INT(ROWS(G$1:G11)/2)))}
I12: {=IF(G12="","",IFERROR(MATCH(0,--(INDEX(G$1:G12,N(IF(1,ROWS(G$1:G12)-ROW(G$1:G11)+1)))<>INDEX(G$1:G12,N(IF(1,ROWS(G$1:G12)-ROW(G$1:G11))))),)-1,INT(ROWS(G$1:G12)/2)))}
I13: {=IF(G13="","",IFERROR(MATCH(0,--(INDEX(G$1:G13,N(IF(1,ROWS(G$1:G13)-ROW(G$1:G12)+1)))<>INDEX(G$1:G13,N(IF(1,ROWS(G$1:G13)-ROW(G$1:G12))))),)-1,INT(ROWS(G$1:G13)/2)))}
I14: {=IF(G14="","",IFERROR(MATCH(0,--(INDEX(G$1:G14,N(IF(1,ROWS(G$1:G14)-ROW(G$1:G13)+1)))<>INDEX(G$1:G14,N(IF(1,ROWS(G$1:G14)-ROW(G$1:G13))))),)-1,INT(ROWS(G$1:G14)/2)))}

Sheet HELP
A1: 1 | B1: =main!B1
A2: 2 | B2: =main!F1
A3: 3 | B3: =main!J1
A4: 4 | B4: =main!N1
A5: 5 | B5: =main!R1
A6: 6 | B6: =main!V1
A7: 7 | B7: =main!Z1
A8: 8 | B8: =main!AD1
A9: 9 | B9: =main!AH1
A10: 10 | B10: =main!AL1
A11: 11 | B11: =main!AP1
A12: 12 | B12: =main!AT1
