Workbook

Sheet A
A1: October 1, 1998 through August 31, 2000 Daily Use by Interruptible Customer Rate Class
A2: September 98 was omitted because the Metretek system was being upgraded and daily readings were not available.
B3: '#6 Alternate Fuel | C3: #6 Oil Alternate Fuel | D3: #6 Oil Alternate Fuel | E3: #4 Oil Alternate Fuel | F3: #2 Oil Alternate Fuel | G3: Propane Alternate Fuel
B4: >1,000,000 MCF/year | C4: 50m - mm MCF/year | D4: <50,000 MCF/year
B5: Mcf | C5: Mcf | D5: Mcf | E5: Mcf | F5: Mcf | G5: Mcf
B7: #6 Large | C7: #6 Medium | D7: #6 Small | E7: #4 | F7: #2 | G7: Propone
A8: 36069 | B8: =+'A (2)'!B8/10 | C8: =+'A (2)'!C8/10 | D8: =+'A (2)'!D8/10 | E8: =+'A (2)'!E8/10 | F8: =+'A (2)'!F8/10 | G8: =+'A (2)'!G8/10 | H8: =SUM(B8:G8)
A9: 36070 | B9: =+'A (2)'!B9/10 | C9: =+'A (2)'!C9/10 | D9: =+'A (2)'!D9/10 | E9: =+'A (2)'!E9/10 | F9: =+'A (2)'!F9/10 | G9: =+'A (2)'!G9/10 | H9: =SUM(B9:G9)
A10: 36071 | B10: =+'A (2)'!B10/10 | C10: =+'A (2)'!C10/10 | D10: =+'A (2)'!D10/10 | E10: =+'A (2)'!E10/10 | F10: =+'A (2)'!F10/10 | G10: =+'A (2)'!G10/10 | H10: =SUM(B10:G10)
A11: 36072 | B11: =+'A (2)'!B11/10 | C11: =+'A (2)'!C11/10 | D11: =+'A (2)'!D11/10 | E11: =+'A (2)'!E11/10 | F11: =+'A (2)'!F11/10 | G11: =+'A (2)'!G11/10 | H11: =SUM(B11:G11)
A12: 36073 | B12: =+'A (2)'!B12/10 | C12: =+'A (2)'!C12/10 | D12: =+'A (2)'!D12/10 | E12: =+'A (2)'!E12/10 | F12: =+'A (2)'!F12/10 | G12: =+'A (2)'!G12/10 | H12: =SUM(B12:G12)
A13: 36074 | B13: =+'A (2)'!B13/10 | C13: =+'A (2)'!C13/10 | D13: =+'A (2)'!D13/10 | E13: =+'A (2)'!E13/10 | F13: =+'A (2)'!F13/10 | G13: =+'A (2)'!G13/10 | H13: =SUM(B13:G13)
A14: 36075 | B14: =+'A (2)'!B14/10 | C14: =+'A (2)'!C14/10 | D14: =+'A (2)'!D14/10 | E14: =+'A (2)'!E14/10 | F14: =+'A (2)'!F14/10 | G14: =+'A (2)'!G14/10 | H14: =SUM(B14:G14)
A15: 36076 | B15: =+'A (2)'!B15/10 | C15: =+'A (2)'!C15/10 | D15: =+'A (2)'!D15/10 | E15: =+'A (2)'!E15/10 | F15: =+'A (2)'!F15/10 | G15: =+'A (2)'!G15/10 | H15: =SUM(B15:G15)
A16: 36077 | B16: =+'A (2)'!B16/10 | C16: =+'A (2)'!C16/10 | D16: =+'A (2)'!D16/10 | E16: =+'A (2)'!E16/10 | F16: =+'A (2)'!F16/10 | G16: =+'A (2)'!G16/10 | H16: =SUM(B16:G16)
A17: 36078 | B17: =+'A (2)'!B17/10 | C17: =+'A (2)'!C17/10 | D17: =+'A (2)'!D17/10 | E17: =+'A (2)'!E17/10 | F17: =+'A (2)'!F17/10 | G17: =+'A (2)'!G17/10 | H17: =SUM(B17:G17)
A18: 36079 | B18: =+'A (2)'!B18/10 | C18: =+'A (2)'!C18/10 | D18: =+'A (2)'!D18/10 | E18: =+'A (2)'!E18/10 | F18: =+'A (2)'!F18/10 | G18: =+'A (2)'!G18/10 | H18: =SUM(B18:G18)
A19: 36080 | B19: =+'A (2)'!B19/10 | C19: =+'A (2)'!C19/10 | D19: =+'A (2)'!D19/10 | E19: =+'A (2)'!E19/10 | F19: =+'A (2)'!F19/10 | G19: =+'A (2)'!G19/10 | H19: =SUM(B19:G19)
... A678: 36739 | B678: =+'A (2)'!B678/10 | C678: =+'A (2)'!C678/10 | D678: =+'A (2)'!D678/10 | E678: =+'A (2)'!E678/10 | F678: =+'A (2)'!F678/10 | G678: =+'A (2)'!G678/10 | H678: =SUM(B678:G678)

Sheet A (2)
A1: October 1, 1998 through August 31, 2000 Daily Use by Interruptible Customer Rate Class
A2: September 98 was omitted because the Metretek system was being upgraded and daily readings were not available.
B3: '#6 Alternate Fuel | C3: #6 Oil Alternate Fuel | D3: #6 Oil Alternate Fuel | E3: #4 Oil Alternate Fuel | F3: #2 Oil Alternate Fuel | G3: Propane Alternate Fuel
B4: >1,000,000 MCF/year | C4: 50m - mm MCF/year | D4: <50,000 MCF/year
B5: Daily CCF | C5: Daily CCF | D5: Daily CCF | E5: Daily CCF | F5: Daily CCF | G5: Daily CCF | H5: Total in Mcf
B7: #6 Large | C7: #6 Medium | D7: #6 Small | E7: #4 | F7: #2 | G7: Propone
A8: 36069 | B8: 128400 | C8: 66600 | D8: 5070 | E8: 8406 | F8: 38207.679 | G8: 12990 | H8: =SUM(B8:G8)/10
A9: 36070 | B9: 96700 | C9: 71630 | D9: 4820 | E9: 8789 | F9: 28608.362 | G9: 13090 | H9: =SUM(B9:G9)/10
A10: 36071 | B10: 96900 | C10: 68460 | D10: 4030 | E10: 4775 | F10: 21018.965 | G10: 11490 | H10: =SUM(B10:G10)/10
A11: 36072 | B11: 107300 | C11: 69470 | D11: 4920 | E11: 3060 | F11: 28800.81 | G11: 12010 | H11: =SUM(B11:G11)/10
A12: 36073 | B12: 165500 | C12: 67870 | D12: 4920 | E12: 4392 | F12: 35316.938 | G12: 13810 | H12: =SUM(B12:G12)/10
A13: 36074 | B13: 94000 | C13: 74330 | D13: 4680 | E13: 4826 | F13: 35126.552 | G13: 13150 | H13: =SUM(B13:G13)/10
A14: 36075 | B14: 117300 | C14: 115230 | D14: 4760 | E14: 4923 | F14: 33480.893 | G14: 12970 | H14: =SUM(B14:G14)/10
A15: 36076 | B15: 108500 | C15: 118300 | D15: 4820 | E15: 5560 | F15: 30943.136 | G15: 13060 | H15: =SUM(B15:G15)/10
A16: 36077 | B16: 51000 | C16: 119110 | D16: 4680 | E16: 6955 | F16: 28486.413 | G16: 11950 | H16: =SUM(B16:G16)/10
A17: 36078 | B17: 102300 | C17: 77520 | D17: 4240 | E17: 6589 | F17: 23478.912 | G17: 11110 | H17: =SUM(B17:G17)/10
A18: 36079 | B18: 113300 | C18: 69660 | D18: 4630 | E18: 6591 | F18: 28945.229 | G18: 12050 | H18: =SUM(B18:G18)/10
A19: 36080 | B19: 107400 | C19: 71900 | D19: 4780 | E19: 6687 | F19: 35987.368 | G19: 13890 | H19: =SUM(B19:G19)/10
... A678: 36739 | B678: 54000 | C678: 53770 | D678: 4960 | E678: 11423 | F678: 44213.306 | G678: 15230 | H678: =SUM(B678:G678)/10
