Workbook

Sheet RESULTS
B2: GAIN/LOSS | G2: LEGEND | I2: DAILY RESULTS | O2: WEEKLY RESULTS
I3: Date | J3: Trades | K3: Exec | L3: Win % | M3: G/L $ | O3: Week | P3: Trades | Q3: Exec | R3: Win % | S3: G/L $ | T3: Comments
B4: Win/Loss % | C4: =COUNTIF(Table1[G/L],">0")/COUNT(Table1[G/L]) | I4: 44356 | J4: 6 | K4: 14 | L4: 50 | M4: 515 | O4: 22 | P4: 57 | Q4: 109 | R4: 64 | S4: 3313 | T4: Holiday week; only 4 trading days
B5: Trading Days | C5: =SUMPRODUCT(1/COUNTIF(Table1[DATE],Table1[DATE])) | I5: 44355 | J5: 15 | K5: 34 | L5: 60 | M5: 658 | O5: 21 | P5: 53 | Q5: 120 | R5: 77 | S5: 4091
B6: Trades | C6: =COUNTA(Table1[TICKER]) | I6: 44354 | J6: 22 | K6: 52 | L6: 64 | M6: 541 | O6: 20 | P6: 58 | Q6: 130 | R6: 37 | S6: 2825
B7: Ave Trades /day | C7: =C6/C5 | I7: 44351 | J7: 11 | K7: 22 | L7: 82 | M7: 640
B8: Wins | C8: =COUNTIF(Table1[G/L],">0") | I8: 44350 | J8: 13 | K8: 29 | L8: 69 | M8: 1071
B9: Wins /day (Ave) | C9: =C8/C5 | I9: 44349 | J9: 13 | K9: 17 | L9: 46 | M9: 1237
B10: Points /s (Net) | C10: =SUM(Table1[G/L]) | G10: Total net points per share | I10: 44348 | J10: 20 | K10: 41 | L10: 60 | M10: 365
B11: Points /s ( Ave / Wins) | C11: {=TRIMMEAN(IF(Table1[G/L $]>0,Table1[G/L],""),0.05)} | G11: Mean Ave points per share on wins -5% | I11: 44344 | J11: 18 | K11: 39 | L11: 83 | M11: 1375
B12: Gain/Loss $ | C12: =SUM(Table1[G/L $]) | I12: 44343 | J12: 4 | K12: 12 | L12: 75 | M12: 651
B13: Gain/Loss $ (Daily Ave) | C13: =C12/C5 | I13: 44342 | J13: 3 | K13: 10 | L13: 100 | M13: 524
I14: 44341 | J14: 17 | K14: 34 | L14: 71 | M14: 645
I15: 44340 | J15: 11 | K15: 25 | L15: 55 | M15: 897
B16: PRICE RANGES | I16: 44337 | J16: 19 | K16: 45 | L16: 47 | M16: 2260
C17: Trades | D17: Ave Entry | E17: Ave G/L | I17: 44336 | J17: 8 | K17: 19 | L17: 50 | M17: 235
B18: < 2.00 | C18: =CALCS!D18 | D18: =CALCS!E18 | E18: =CALCS!G18 | I18: 44335 | J18: 5 | K18: 12 | L18: 20 | M18: 440
B19: 2.01-5.00 | C19: =CALCS!D19 | D19: =CALCS!E19 | E19: =CALCS!G19 | I19: 44334 | J19: 13 | K19: 27 | L19: 23 | M19: -145
B20: 5.01-7.00 | C20: =CALCS!D20 | D20: =CALCS!E20 | E20: =CALCS!G20 | I20: 44333 | J20: 13 | K20: 27 | L20: 38 | M20: 35
B21: 7.01-10.00 | C21: =CALCS!D21 | D21: =CALCS!E21 | E21: =CALCS!G21 | I21: 44330 | J21: 21 | K21: 47 | L21: 43 | M21: 32.5
B22: 10.01-15.00 | C22: =CALCS!D22 | D22: =CALCS!E22 | E22: =CALCS!G22 | I22: 44329 | J22: 6 | L22: 50 | M22: 377
B23: 15.01-20.00 | C23: =CALCS!D23 | D23: =CALCS!E23 | E23: =CALCS!G23 | I23: 44328 | J23: 16 | L23: 69 | M23: 629
B24: 20.01-25.00 | C24: =CALCS!D24 | D24: =CALCS!E24 | E24: =CALCS!G24 | I24: 44327 | J24: 8 | L24: 63 | M24: 465
B25: 25.01-30.00 | C25: =CALCS!D25 | D25: =CALCS!E25 | E25: =CALCS!G25 | I25: 44326 | J25: 8 | L25: 63 | M25: 1471
B26: 30.01 < | C26: =CALCS!D26 | D26: =CALCS!E26 | E26: =CALCS!G26 | I26: 44323 | J26: 7 | L26: 43 | M26: 690
B29: STRATEGY
C30: Trades | D30: All % | E30: Wins % | F30: 20 Trades $
B31: BO | C31: =COUNTIF(DATA!L:L,"BO") | D31: =SUM(COUNTIF(DATA!L:L,"BO")/(COUNTA(DATA!L:L)-1))*100 | E31: =SUM(COUNTIFS(DATA!L:L,"BO",DATA!K:K,">0")/(COUNTIF(DATA!K:K,">0")))*100 | F31: =DATA!W3
B32: Momo | C32: =COUNTIF(DATA!L:L,"Momo") | D32: =SUM(COUNTIF(DATA!L:L,"Momo")/(COUNTA(DATA!L:L)-1))*100 | E32: =SUM(COUNTIFS(DATA!L:L,"Momo",DATA!K:K,">0")/(COUNTIF(DATA!K:K,">0")))*100 | F32: =DATA!W4
B33: Reversal | C33: =COUNTIF(DATA!L:L,"Reversal") | D33: =SUM(COUNTIF(DATA!L:L,"Reversal")/(COUNTA(DATA!L:L)-1))*100 | E33: =SUM(COUNTIFS(DATA!L:L,"Reversal",DATA!K:K,">0")/(COUNTIF(DATA!K:K,">0")))*100 | F33: =DATA!W5
B34: DB | C34: =COUNTIF(DATA!L:L,"DB") | D34: =SUM(COUNTIF(DATA!L:L,"DB")/(COUNTA(DATA!L:L)-1))*100 | E34: =SUM(COUNTIFS(DATA!L:L,"DB",DATA!K:K,">0")/(COUNTIF(DATA!K:K,">0")))*100
B37: SETUP
C38: Trades | D38: All % | E38: Wins % | F38: 20 Trades $
B39: PM Consolidation | C39: =COUNTIF(DATA!M:M,"PM Consolidation") | D39: =SUM(COUNTIF(DATA!M:M,"PM Consolidation")/COUNTA(DATA!M:M))*100 | E39: =SUM(COUNTIFS(DATA!M:M,"PM Consolidation",DATA!K:K,">0")/(COUNTIFS(DATA!K:K,">0",DATA!M:M,"<>")))*100 | F39: =DATA!W12
B40: PMH | C40: =COUNTIF(DATA!M:M,"PMH") | D40: =SUM(COUNTIF(DATA!M:M,"PMH")/COUNTA(DATA!M:M))*100 | E40: =SUM(COUNTIFS(DATA!M:M,"PMH",DATA!K:K,">0")/(COUNTIFS(DATA!K:K,">0",DATA!M:M,"<>")))*100 | F40: =DATA!W11
B41: Pivot | C41: =COUNTIF(DATA!M:M,"Pivot") | D41: =SUM(COUNTIF(DATA!M:M,"Pivot")/COUNTA(DATA!M:M))*100 | E41: =SUM(COUNTIFS(DATA!M:M,"Pivot",DATA!K:K,">0")/(COUNTIFS(DATA!K:K,">0",DATA!M:M,"<>")))*100 | F41: =DATA!W10
B42: Consolidation | C42: =COUNTIF(DATA!M:M,"Consolidation") | D42: =SUM(COUNTIF(DATA!M:M,"Consolidation")/COUNTA(DATA!M:M))*100 | E42: =SUM(COUNTIFS(DATA!M:M,"Consolidation",DATA!K:K,">0")/(COUNTIFS(DATA!K:K,">0",DATA!M:M,"<>")))*100 | F42: =DATA!W14
B43: HOD | C43: =COUNTIF(DATA!M:M,"HOD") | D43: =SUM(COUNTIF(DATA!M:M,"HOD")/COUNTA(DATA!M:M))*100 | E43: =SUM(COUNTIFS(DATA!M:M,"HOD",DATA!K:K,">0")/(COUNTIFS(DATA!K:K,">0",DATA!M:M,"<>")))*100 | F43: =DATA!W13
B46: EXIT
C47: Trades | D47: All % | E47: Wins %
...

Sheet Sheet1
A1: a | B1: 1
A2: a | B2: 2 | D2: {=TRIMMEAN(IF(A1:A12="a",B1:B12,""),0.1)}
A3: b | B3: 1
A4: c | B4: 1
A5: a | B5: 3
A6: a | B6: 4
A7: a | B7: 5
A8: a | B8: 6
A9: a | B9: 7
A10: a | B10: 8
A11: a | B11: 9
A12: a | B12: 10

Sheet Test
A1: G/L | B1: G/L $
A2: 0.08 | B2: 40 | E2: {=TRIMMEAN(IF($B$2:$B$167>0,$A$2:$A$167,""),0.05)} | F2: =TRIMMEAN($A$2:$A$167,0.05)
A3: 0.635 | B3: 635
A4: 0.21 | B4: 105
A5: 0.145 | B5: 74
A6: 0.23 | B6: 230
A7: 0.595 | B7: 595
A8: 1.54 | B8: 770
A9: 0.35 | B9: 172
A10: 0.925 | B10: 462.5
A11: 0.62 | B11: 620
A12: 0.07 | B12: 70
A13: 0.315 | B13: 244.5
A14: 0.14 | B14: 70
... A167: 0.13 | B167: 32.5
