Workbook

Sheet District I SUMMARY
A5: AGE GROUP
F6: Zone I | H6: Zone II | J6: Zone III | L6: Zone IV | N6: Zone V | P6: Zone VI | R6: Zone VII | T6: Zone VIII
A7: AGE | B7: NO. | C7: MALE | D7: FEMALE | E7: TOTAL | F7: MALE | G7: FEMALE | H7: MALE | I7: FEMALE | J7: MALE | K7: FEMALE | L7: MALE | M7: FEMALE | N7: MALE | O7: FEMALE | P7: MALE | Q7: FEMALE | R7: MALE | S7: FEMALE | T7: MALE | U7: FEMALE | V7: TOTAL | Y7: Total | Z7: Zone I | AA7: Zone II | AB7: Zone III | AC7: Zone IV | AD7: Zone V | AE7: Zone VI | AF7: Zone VII | AG7: Zone VIII | AH7: TOTAL
A8: 0 | B8: =COUNTIF('District I'!$L$7:$L$2976,"0") | C8: =COUNTIFS('District I'!$L$7:$L$2976,"0",'District I'!$O$7:$O$2976,"1") | D8: =COUNTIFS('District I'!$L$7:$L$2976,"0",'District I'!$O$7:$O$2976,"2") | E8: =SUM(C8:D8) | F8: =COUNTIFS('District I'!$L$7:$L$2976,"0",'District I'!$O$7:$O$2976,"1", 'District I'!$B$7:$B$2976,"1") | G8: =COUNTIFS('District I'!$L$7:$L$2976,"0",'District I'!$O$7:$O$2976,"2",'District I'!$B$7:$B$2976,"1") | H8: =COUNTIFS('District I'!$L$7:$L$2976,"0",'District I'!$O$7:$O$2976,"1",'District I'!$B$7:$B$2976,"2") | I8: =COUNTIFS('District I'!$L$7:$L$2976,"0",'District I'!$O$7:$O$2976,"2",'District I'!$B$7:$B$2976,"2") | J8: =COUNTIFS('District I'!$L$7:$L$2976,"0",'District I'!$O$7:$O$2976,"1",'District I'!$B$7:$B$2976,"3") | K8: =COUNTIFS('District I'!$L$7:$L$2976,"0",'District I'!$O$7:$O$2976,"2",'District I'!$B$7:$B$2976,"3") | L8: =COUNTIFS('District I'!$L$7:$L$2976,"0",'District I'!$O$7:$O$2976,"1",'District I'!$B$7:$B$2976,"4") | M8: =COUNTIFS('District I'!$L$7:$L$2976,"0",'District I'!$O$7:$O$2976,"2",'District I'!$B$7:$B$2976,"4") | N8: =COUNTIFS('District I'!$L$7:$L$2976,"0",'District I'!$O$7:$O$2976,"1",'District I'!$B$7:$B$2976,"5") | O8: =COUNTIFS('District I'!$L$7:$L$2976,"0",'District I'!$O$7:$O$2976,"2",'District I'!$B$7:$B$2976,"5") | P8: =COUNTIFS('District I'!$L$7:$L$2976,"0",'District I'!$O$7:$O$2976,"1",'District I'!$B$7:$B$2976,"6") | Q8: =COUNTIFS('District I'!$L$7:$L$2976,"0",'District I'!$O$7:$O$2976,"2",'District I'!$B$7:$B$2976,"6") | R8: =COUNTIFS('District I'!$L$7:$L$2976,"0",'District I'!$O$7:$O$2976,"1",'District I'!$B$7:$B$2976,"7") | S8: =COUNTIFS('District I'!$L$7:$L$2976,"0",'District I'!$O$7:$O$2976,"2",'District I'!$B$7:$B$2976,"7") | T8: =COUNTIFS('District I'!$L$7:$L$2976,"0",'District I'!$O$7:$O$2976,"1",'District I'!$B$7:$B$2976,"8") | U8: =COUNTIFS('District I'!$L$7:$L$2976,"0",'District I'!$O$7:$O$2976,"2",'District I'!$B$7:$B$2976,"8") | V8: =SUM(F8:U8) | X8: Occupied | Y8: =COUNTIF('District I'!$H$7:$H$2976,"1") | Z8: =COUNTIFS('District I'!$H$7:$H$2976,"1",'District I'!$B$7:$B$2976,"1") | AA8: =COUNTIFS('District I'!$H$7:$H$2976,"1",'District I'!$B$7:$B$2976,"2") | AB8: =COUNTIFS('District I'!$H$7:$H$2976,"1",'District I'!$B$7:$B$2976,"3") | AC8: =COUNTIFS('District I'!$H$7:$H$2976,"1",'District I'!$B$7:$B$2976,"4") | AD8: =COUNTIFS('District I'!$H$7:$H$2976,"1",'District I'!$B$7:$B$2976,"5") | AE8: =COUNTIFS('District I'!$H$7:$H$2976,"1",'District I'!$B$7:$B$2976,"6") | AF8: =COUNTIFS('District I'!$H$7:$H$2976,"1",'District I'!$B$7:$B$2976,"7") | AG8: =COUNTIFS('District I'!$H$7:$H$2976,"1",'District I'!$B$7:$B$2976,"8") | AH8: =SUM(Z8:AG8)
A9: 1 | B9: =COUNTIF('District I'!$L$7:$L$2976,"1") | C9: =COUNTIFS('District I'!$L$7:$L$2976,"1",'District I'!$O$7:$O$2976,"1") | D9: =COUNTIFS('District I'!$L$7:$L$2976,"1",'District I'!$O$7:$O$2976,"2") | E9: =SUM(C9:D9) | F9: =COUNTIFS('District I'!$L$7:$L$2976,"1",'District I'!$O$7:$O$2976,"1", 'District I'!$B$7:$B$2976,"1") | G9: =COUNTIFS('District I'!$L$7:$L$2976,"1",'District I'!$O$7:$O$2976,"2", 'District I'!$B$7:$B$2976,"1") | H9: =COUNTIFS('District I'!$L$7:$L$2976,"1",'District I'!$O$7:$O$2976,"1", 'District I'!$B$7:$B$2976,"2") | I9: =COUNTIFS('District I'!$L$7:$L$2976,"1",'District I'!$O$7:$O$2976,"2", 'District I'!$B$7:$B$2976,"2") | J9: =COUNTIFS('District I'!$L$7:$L$2976,"1",'District I'!$O$7:$O$2976,"1", 'District I'!$B$7:$B$2976,"3") | K9: =COUNTIFS('District I'!$L$7:$L$2976,"1",'District I'!$O$7:$O$2976,"2", 'District I'!$B$7:$B$2976,"3") | L9: =COUNTIFS('District I'!$L$7:$L$2976,"1",'District I'!$O$7:$O$2976,"1", 'District I'!$B$7:$B$2976,"4") | M9: =COUNTIFS('District I'!$L$7:$L$2976,"1",'District I'!$O$7:$O$2976,"2", 'District I'!$B$7:$B$2976,"4") | N9: =COUNTIFS('District I'!$L$7:$L$2976,"1",'District I'!$O$7:$O$2976,"1", 'District I'!$B$7:$B$2976,"5") | O9: =COUNTIFS('District I'!$L$7:$L$2976,"1",'District I'!$O$7:$O$2976,"2", 'District I'!$B$7:$B$2976,"5") | P9: =COUNTIFS('District I'!$L$7:$L$2976,"1",'District I'!$O$7:$O$2976,"1", 'District I'!$B$7:$B$2976,"6") | Q9: =COUNTIFS('District I'!$L$7:$L$2976,"1",'District I'!$O$7:$O$2976,"2", 'District I'!$B$7:$B$2976,"6") | R9: =COUNTIFS('District I'!$L$7:$L$2976,"1",'District I'!$O$7:$O$2976,"1", 'District I'!$B$7:$B$2976,"7") | S9: =COUNTIFS('District I'!$L$7:$L$2976,"1",'District I'!$O$7:$O$2976,"2", 'District I'!$B$7:$B$2976,"7") | T9: =COUNTIFS('District I'!$L$7:$L$2976,"1",'District I'!$O$7:$O$2976,"1", 'District I'!$B$7:$B$2976,"8") | U9: =COUNTIFS('District I'!$L$7:$L$2976,"1",'District I'!$O$7:$O$2976,"2", 'District I'!$B$7:$B$2976,"8") | V9: =SUM(F9:U9) | X9: Vacant | Y9: =COUNTIF('District I'!$H$7:$H$2976,"2") | Z9: =COUNTIFS('District I'!$H$7:$H$2976,"2",'District I'!$B$7:$B$2976,"1") | AA9: =COUNTIFS('District I'!$H$7:$H$2976,"2",'District I'!$B$7:$B$2976,"2") | AB9: =COUNTIFS('District I'!$H$7:$H$2976,"2",'District I'!$B$7:$B$2976,"3") | AC9: =COUNTIFS('District I'!$H$7:$H$2976,"2",'District I'!$B$7:$B$2976,"4") | AD9: =COUNTIFS('District I'!$H$7:$H$2976,"2",'District I'!$B$7:$B$2976,"5") | AE9: =COUNTIFS('District I'!$H$7:$H$2976,"2",'District I'!$B$7:$B$2976,"6") | AF9: =COUNTIFS('District I'!$H$7:$H$2976,"2",'District I'!$B$7:$B$2976,"7") | AG9: =COUNTIFS('District I'!$H$7:$H$2976,"2",'District I'!$B$7:$B$2976,"8") | AH9: =SUM(Z9:AG9)
A10: 2 | B10: =COUNTIF('District I'!$L$7:$L$2976,"2") | C10: =COUNTIFS('District I'!$L$7:$L$2976,"2",'District I'!$O$7:$O$2976,"1") | D10: =COUNTIFS('District I'!$L$7:$L$2976,"2",'District I'!$O$7:$O$2976,"2") | E10: =SUM(C10:D10) | F10: =COUNTIFS('District I'!$L$7:$L$2976,"2",'District I'!$O$7:$O$2976,"1", 'District I'!$B$7:$B$2976,"1") | G10: =COUNTIFS('District I'!$L$7:$L$2976,"2",'District I'!$O$7:$O$2976,"2", 'District I'!$B$7:$B$2976,"1") | H10: =COUNTIFS('District I'!$L$7:$L$2976,"2",'District I'!$O$7:$O$2976,"1", 'District I'!$B$7:$B$2976,"2") | I10: =COUNTIFS('District I'!$L$7:$L$2976,"2",'District I'!$O$7:$O$2976,"2", 'District I'!$B$7:$B$2976,"2") | J10: =COUNTIFS('District I'!$L$7:$L$2976,"2",'District I'!$O$7:$O$2976,"1", 'District I'!$B$7:$B$2976,"3") | K10: =COUNTIFS('District I'!$L$7:$L$2976,"2",'District I'!$O$7:$O$2976,"2", 'District I'!$B$7:$B$2976,"3") | L10: =COUNTIFS('District I'!$L$7:$L$2976,"2",'District I'!$O$7:$O$2976,"1", 'District I'!$B$7:$B$2976,"4") | M10: =COUNTIFS('District I'!$L$7:$L$2976,"2",'District I'!$O$7:$O$2976,"2", 'District I'!$B$7:$B$2976,"4") | N10: =COUNTIFS('District I'!$L$7:$L$2976,"2",'District I'!$O$7:$O$2976,"1", 'District I'!$B$7:$B$2976,"5") | O10: =COUNTIFS('District I'!$L$7:$L$2976,"2",'District I'!$O$7:$O$2976,"2", 'District I'!$B$7:$B$2976,"5") | P10: =COUNTIFS('District I'!$L$7:$L$2976,"2",'District I'!$O$7:$O$2976,"1", 'District I'!$B$7:$B$2976,"6") | Q10: =COUNTIFS('District I'!$L$7:$L$2976,"2",'District I'!$O$7:$O$2976,"2", 'District I'!$B$7:$B$2976,"6") | R10: =COUNTIFS('District I'!$L$7:$L$2976,"2",'District I'!$O$7:$O$2976,"1", 'District I'!$B$7:$B$2976,"7") | S10: =COUNTIFS('District I'!$L$7:$L$2976,"2",'District I'!$O$7:$O$2976,"2", 'District I'!$B$7:$B$2976,"7") | T10: =COUNTIFS('District I'!$L$7:$L$2976,"2",'District I'!$O$7:$O$2976,"1", 'District I'!$B$7:$B$2976,"8") | U10: =COUNTIFS('District I'!$L$7:$L$2976,"2",'District I'!$O$7:$O$2976,"2", 'District I'!$B$7:$B$2976,"8") | V10: =SUM(F10:U10)
A11: 3 | B11: =COUNTIF('District I'!$L$7:$L$2976,"3") | C11: =COUNTIFS('District I'!$L$7:$L$2976,"3",'District I'!$O$7:$O$2976,"1") | D11: =COUNTIFS('District I'!$L$7:$L$2976,"3",'District I'!$O$7:$O$2976,"2") | E11: =SUM(C11:D11) | F11: =COUNTIFS('District I'!$L$7:$L$2976,"3",'District I'!$O$7:$O$2976,"1", 'District I'!$B$7:$B$2976,"1") | G11: =COUNTIFS('District I'!$L$7:$L$2976,"3",'District I'!$O$7:$O$2976,"2", 'District I'!$B$7:$B$2976,"1") | H11: =COUNTIFS('District I'!$L$7:$L$2976,"3",'District I'!$O$7:$O$2976,"1", 'District I'!$B$7:$B$2976,"2") | I11: =COUNTIFS('District I'!$L$7:$L$2976,"3",'District I'!$O$7:$O$2976,"2", 'District I'!$B$7:$B$2976,"2") | J11: =COUNTIFS('District I'!$L$7:$L$2976,"3",'District I'!$O$7:$O$2976,"1", 'District I'!$B$7:$B$2976,"3") | K11: =COUNTIFS('District I'!$L$7:$L$2976,"3",'District I'!$O$7:$O$2976,"2", 'District I'!$B$7:$B$2976,"3") | L11: =COUNTIFS('District I'!$L$7:$L$2976,"3",'District I'!$O$7:$O$2976,"1", 'District I'!$B$7:$B$2976,"4") | M11: =COUNTIFS('District I'!$L$7:$L$2976,"3",'District I'!$O$7:$O$2976,"2", 'District I'!$B$7:$B$2976,"4") | N11: =COUNTIFS('District I'!$L$7:$L$2976,"3",'District I'!$O$7:$O$2976,"1", 'District I'!$B$7:$B$2976,"5") | O11: =COUNTIFS('District I'!$L$7:$L$2976,"3",'District I'!$O$7:$O$2976,"2", 'District I'!$B$7:$B$2976,"5") | P11: =COUNTIFS('District I'!$L$7:$L$2976,"3",'District I'!$O$7:$O$2976,"1", 'District I'!$B$7:$B$2976,"6") | Q11: =COUNTIFS('District I'!$L$7:$L$2976,"3",'District I'!$O$7:$O$2976,"2", 'District I'!$B$7:$B$2976,"6") | R11: =COUNTIFS('District I'!$L$7:$L$2976,"3",'District I'!$O$7:$O$2976,"1", 'District I'!$B$7:$B$2976,"7") | S11: =COUNTIFS('District I'!$L$7:$L$2976,"3",'District I'!$O$7:$O$2976,"2", 'District I'!$B$7:$B$2976,"7") | T11: =COUNTIFS('District I'!$L$7:$L$2976,"3",'District I'!$O$7:$O$2976,"1", 'District I'!$B$7:$B$2976,"8") | U11: =COUNTIFS('District I'!$L$7:$L$2976,"3",'District I'!$O$7:$O$2976,"2", 'District I'!$B$7:$B$2976,"8") | V11: =SUM(F11:U11) | AC11: Zone I | AE11: Zone II | AG11: Zone III | AI11: Zone IV | AK11: Zone V | AM11: Zone VI | AO11: Zone VII | AQ11: Zone VIII
A12: 4 | B12: =COUNTIF('District I'!$L$7:$L$2976,"4") | C12: =COUNTIFS('District I'!$L$7:$L$2976,"4",'District I'!$O$7:$O$2976,"1") | D12: =COUNTIFS('District I'!$L$7:$L$2976,"4",'District I'!$O$7:$O$2976,"2") | E12: =SUM(C12:D12) | F12: =COUNTIFS('District I'!$L$7:$L$2976,"4",'District I'!$O$7:$O$2976,"1", 'District I'!$B$7:$B$2976,"1") | G12: =COUNTIFS('District I'!$L$7:$L$2976,"4",'District I'!$O$7:$O$2976,"2", 'District I'!$B$7:$B$2976,"1") | H12: =COUNTIFS('District I'!$L$7:$L$2976,"4",'District I'!$O$7:$O$2976,"1", 'District I'!$B$7:$B$2976,"2") | I12: =COUNTIFS('District I'!$L$7:$L$2976,"4",'District I'!$O$7:$O$2976,"2", 'District I'!$B$7:$B$2976,"2") | J12: =COUNTIFS('District I'!$L$7:$L$2976,"4",'District I'!$O$7:$O$2976,"1", 'District I'!$B$7:$B$2976,"3") | K12: =COUNTIFS('District I'!$L$7:$L$2976,"4",'District I'!$O$7:$O$2976,"2", 'District I'!$B$7:$B$2976,"3") | L12: =COUNTIFS('District I'!$L$7:$L$2976,"4",'District I'!$O$7:$O$2976,"1", 'District I'!$B$7:$B$2976,"4") | M12: =COUNTIFS('District I'!$L$7:$L$2976,"4",'District I'!$O$7:$O$2976,"2", 'District I'!$B$7:$B$2976,"4") | N12: =COUNTIFS('District I'!$L$7:$L$2976,"4",'District I'!$O$7:$O$2976,"1", 'District I'!$B$7:$B$2976,"5") | O12: =COUNTIFS('District I'!$L$7:$L$2976,"4",'District I'!$O$7:$O$2976,"2", 'District I'!$B$7:$B$2976,"5") | P12: =COUNTIFS('District I'!$L$7:$L$2976,"4",'District I'!$O$7:$O$2976,"1", 'District I'!$B$7:$B$2976,"6") | Q12: =COUNTIFS('District I'!$L$7:$L$2976,"4",'District I'!$O$7:$O$2976,"2", 'District I'!$B$7:$B$2976,"6") | R12: =COUNTIFS('District I'!$L$7:$L$2976,"4",'District I'!$O$7:$O$2976,"1", 'District I'!$B$7:$B$2976,"7") | S12: =COUNTIFS('District I'!$L$7:$L$2976,"4",'District I'!$O$7:$O$2976,"2", 'District I'!$B$7:$B$2976,"7") | T12: =COUNTIFS('District I'!$L$7:$L$2976,"4",'District I'!$O$7:$O$2976,"1", 'District I'!$B$7:$B$2976,"8") | U12: =COUNTIFS('District I'!$L$7:$L$2976,"4",'District I'!$O$7:$O$2976,"2", 'District I'!$B$7:$B$2976,"8") | V12: =SUM(F12:U12) | X12: SINGLE PARENT | Y12: NO | Z12: MALE | AA12: FEMALE | AB12: TOTAL | AC12: MALE | AD12: FEMALE | AE12: MALE | AF12: FEMALE | AG12: MALE | AH12: FEMALE | AI12: MALE | AJ12: FEMALE | AK12: MALE | AL12: FEMALE | AM12: MALE | AN12: FEMALE | AO12: MALE | AP12: FEMALE | AQ12: MALE | AR12: FEMALE | AS12: TOTAL
A13: 5 | B13: =COUNTIF('District I'!$L$7:$L$2976,"5") | C13: =COUNTIFS('District I'!$L$7:$L$2976,"5",'District I'!$O$7:$O$2976,"1") | D13: =COUNTIFS('District I'!$L$7:$L$2976,"5",'District I'!$O$7:$O$2976,"2") | E13: =SUM(C13:D13) | F13: =COUNTIFS('District I'!$L$7:$L$2976,"5",'District I'!$O$7:$O$2976,"1", 'District I'!$B$7:$B$2976,"1") | G13: =COUNTIFS('District I'!$L$7:$L$2976,"5",'District I'!$O$7:$O$2976,"2", 'District I'!$B$7:$B$2976,"1") | H13: =COUNTIFS('District I'!$L$7:$L$2976,"5",'District I'!$O$7:$O$2976,"1", 'District I'!$B$7:$B$2976,"2") | I13: =COUNTIFS('District I'!$L$7:$L$2976,"5",'District I'!$O$7:$O$2976,"2", 'District I'!$B$7:$B$2976,"2") | J13: =COUNTIFS('District I'!$L$7:$L$2976,"5",'District I'!$O$7:$O$2976,"1", 'District I'!$B$7:$B$2976,"3") | K13: =COUNTIFS('District I'!$L$7:$L$2976,"5",'District I'!$O$7:$O$2976,"2", 'District I'!$B$7:$B$2976,"3") | L13: =COUNTIFS('District I'!$L$7:$L$2976,"5",'District I'!$O$7:$O$2976,"1", 'District I'!$B$7:$B$2976,"4") | M13: =COUNTIFS('District I'!$L$7:$L$2976,"5",'District I'!$O$7:$O$2976,"2", 'District I'!$B$7:$B$2976,"4") | N13: =COUNTIFS('District I'!$L$7:$L$2976,"5",'District I'!$O$7:$O$2976,"1", 'District I'!$B$7:$B$2976,"5") | O13: =COUNTIFS('District I'!$L$7:$L$2976,"5",'District I'!$O$7:$O$2976,"2", 'District I'!$B$7:$B$2976,"5") | P13: =COUNTIFS('District I'!$L$7:$L$2976,"5",'District I'!$O$7:$O$2976,"1", 'District I'!$B$7:$B$2976,"6") | Q13: =COUNTIFS('District I'!$L$7:$L$2976,"5",'District I'!$O$7:$O$2976,"2", 'District I'!$B$7:$B$2976,"6") | R13: =COUNTIFS('District I'!$L$7:$L$2976,"5",'District I'!$O$7:$O$2976,"1", 'District I'!$B$7:$B$2976,"7") | S13: =COUNTIFS('District I'!$L$7:$L$2976,"5",'District I'!$O$7:$O$2976,"2", 'District I'!$B$7:$B$2976,"7") | T13: =COUNTIFS('District I'!$L$7:$L$2976,"5",'District I'!$O$7:$O$2976,"1", 'District I'!$B$7:$B$2976,"8") | U13: =COUNTIFS('District I'!$L$7:$L$2976,"5",'District I'!$O$7:$O$2976,"2", 'District I'!$B$7:$B$2976,"8") | V13: =SUM(F13:U13) | X13: YES | Y13: =COUNTIF('District I'!$M$7:$M$2976,"1") | Z13: =COUNTIFS('District I'!$M$7:$M$2976,"1",'District I'!$O$7:$O$2976,"1") | AA13: =COUNTIFS('District I'!$M$7:$M$2976,"1",'District I'!$O$7:$O$2976,"2") | AB13: =SUM(Z13:AA13) | AC13: =COUNTIFS('District I'!$M$7:$M$2976,"1",'District I'!$O$7:$O$2976,"1", 'District I'!$B$7:$B$2976,"1") | AD13: =COUNTIFS('District I'!$M$7:$M$2976,"1",'District I'!$O$7:$O$2976,"2", 'District I'!$B$7:$B$2976,"1") | AE13: =COUNTIFS('District I'!$M$7:$M$2976,"1",'District I'!$O$7:$O$2976,"1", 'District I'!$B$7:$B$2976,"2") | AF13: =COUNTIFS('District I'!$M$7:$M$2976,"1",'District I'!$O$7:$O$2976,"2", 'District I'!$B$7:$B$2976,"2") | AG13: =COUNTIFS('District I'!$M$7:$M$2976,"1",'District I'!$O$7:$O$2976,"1", 'District I'!$B$7:$B$2976,"3") | AH13: =COUNTIFS('District I'!$M$7:$M$2976,"1",'District I'!$O$7:$O$2976,"2", 'District I'!$B$7:$B$2976,"3") | AI13: =COUNTIFS('District I'!$M$7:$M$2976,"1",'District I'!$O$7:$O$2976,"1", 'District I'!$B$7:$B$2976,"4") | AJ13: =COUNTIFS('District I'!$M$7:$M$2976,"1",'District I'!$O$7:$O$2976,"2", 'District I'!$B$7:$B$2976,"4") | AK13: =COUNTIFS('District I'!$M$7:$M$2976,"1",'District I'!$O$7:$O$2976,"1", 'District I'!$B$7:$B$2976,"5") | AL13: =COUNTIFS('District I'!$M$7:$M$2976,"1",'District I'!$O$7:$O$2976,"2", 'District I'!$B$7:$B$2976,"5") | AM13: =COUNTIFS('District I'!$M$7:$M$2976,"1",'District I'!$O$7:$O$2976,"1", 'District I'!$B$7:$B$2976,"6") | AN13: =COUNTIFS('District I'!$M$7:$M$2976,"1",'District I'!$O$7:$O$2976,"2", 'District I'!$B$7:$B$2976,"6") | AO13: =COUNTIFS('District I'!$M$7:$M$2976,"1",'District I'!$O$7:$O$2976,"1", 'District I'!$B$7:$B$2976,"7") | AP13: =COUNTIFS('District I'!$M$7:$M$2976,"1",'District I'!$O$7:$O$2976,"2", 'District I'!$B$7:$B$2976,"7") | AQ13: =COUNTIFS('District I'!$M$7:$M$2976,"1",'District I'!$O$7:$O$2976,"1", 'District I'!$B$7:$B$2976,"8") | AR13: =COUNTIFS('District I'!$M$7:$M$2976,"1",'District I'!$O$7:$O$2976,"2", 'District I'!$B$7:$B$2976,"8") | AS13: =SUM(AC13:AR13)
A14: 6 | B14: =COUNTIF('District I'!$L$7:$L$2976,"6") | C14: =COUNTIFS('District I'!$L$7:$L$2976,"6",'District I'!$O$7:$O$2976,"1") | D14: =COUNTIFS('District I'!$L$7:$L$2976,"6",'District I'!$O$7:$O$2976,"2") | E14: =SUM(C14:D14) | F14: =COUNTIFS('District I'!$L$7:$L$2976,"6",'District I'!$O$7:$O$2976,"1", 'District I'!$B$7:$B$2976,"1") | G14: =COUNTIFS('District I'!$L$7:$L$2976,"6",'District I'!$O$7:$O$2976,"2", 'District I'!$B$7:$B$2976,"1") | H14: =COUNTIFS('District I'!$L$7:$L$2976,"6",'District I'!$O$7:$O$2976,"1", 'District I'!$B$7:$B$2976,"2") | I14: =COUNTIFS('District I'!$L$7:$L$2976,"6",'District I'!$O$7:$O$2976,"2", 'District I'!$B$7:$B$2976,"2") | J14: =COUNTIFS('District I'!$L$7:$L$2976,"6",'District I'!$O$7:$O$2976,"1", 'District I'!$B$7:$B$2976,"3") | K14: =COUNTIFS('District I'!$L$7:$L$2976,"6",'District I'!$O$7:$O$2976,"2", 'District I'!$B$7:$B$2976,"3") | L14: =COUNTIFS('District I'!$L$7:$L$2976,"6",'District I'!$O$7:$O$2976,"1", 'District I'!$B$7:$B$2976,"4") | M14: =COUNTIFS('District I'!$L$7:$L$2976,"6",'District I'!$O$7:$O$2976,"2", 'District I'!$B$7:$B$2976,"4") | N14: =COUNTIFS('District I'!$L$7:$L$2976,"6",'District I'!$O$7:$O$2976,"1", 'District I'!$B$7:$B$2976,"5") | O14: =COUNTIFS('District I'!$L$7:$L$2976,"6",'District I'!$O$7:$O$2976,"2", 'District I'!$B$7:$B$2976,"5") | P14: =COUNTIFS('District I'!$L$7:$L$2976,"6",'District I'!$O$7:$O$2976,"1", 'District I'!$B$7:$B$2976,"6") | Q14: =COUNTIFS('District I'!$L$7:$L$2976,"6",'District I'!$O$7:$O$2976,"2", 'District I'!$B$7:$B$2976,"6") | R14: =COUNTIFS('District I'!$L$7:$L$2976,"6",'District I'!$O$7:$O$2976,"1", 'District I'!$B$7:$B$2976,"7") | S14: =COUNTIFS('District I'!$L$7:$L$2976,"6",'District I'!$O$7:$O$2976,"2", 'District I'!$B$7:$B$2976,"7") | T14: =COUNTIFS('District I'!$L$7:$L$2976,"6",'District I'!$O$7:$O$2976,"1", 'District I'!$B$7:$B$2976,"8") | U14: =COUNTIFS('District I'!$L$7:$L$2976,"6",'District I'!$O$7:$O$2976,"2", 'District I'!$B$7:$B$2976,"8") | V14: =SUM(F14:U14) | X14: NO | Y14: =COUNTIF('District I'!$M$7:$M$2976,"2") | Z14: =COUNTIFS('District I'!$M$7:$M$2976,"2",'District I'!$O$7:$O$2976,"1") | AA14: =COUNTIFS('District I'!$M$7:$M$2976,"2",'District I'!$O$7:$O$2976,"2") | AB14: =SUM(Z14:AA14) | AC14: =COUNTIFS('District I'!$M$7:$M$2976,"2",'District I'!$O$7:$O$2976,"1", 'District I'!$B$7:$B$2976,"1") | AD14: =COUNTIFS('District I'!$M$7:$M$2976,"2",'District I'!$O$7:$O$2976,"2", 'District I'!$B$7:$B$2976,"1") | AE14: =COUNTIFS('District I'!$M$7:$M$2976,"2",'District I'!$O$7:$O$2976,"1", 'District I'!$B$7:$B$2976,"2") | AF14: =COUNTIFS('District I'!$M$7:$M$2976,"2",'District I'!$O$7:$O$2976,"2", 'District I'!$B$7:$B$2976,"2") | AG14: =COUNTIFS('District I'!$M$7:$M$2976,"2",'District I'!$O$7:$O$2976,"1", 'District I'!$B$7:$B$2976,"3") | AH14: =COUNTIFS('District I'!$M$7:$M$2976,"2",'District I'!$O$7:$O$2976,"2", 'District I'!$B$7:$B$2976,"3") | AI14: =COUNTIFS('District I'!$M$7:$M$2976,"2",'District I'!$O$7:$O$2976,"1", 'District I'!$B$7:$B$2976,"4") | AJ14: =COUNTIFS('District I'!$M$7:$M$2976,"2",'District I'!$O$7:$O$2976,"2", 'District I'!$B$7:$B$2976,"4") | AK14: =COUNTIFS('District I'!$M$7:$M$2976,"2",'District I'!$O$7:$O$2976,"1", 'District I'!$B$7:$B$2976,"5") | AL14: =COUNTIFS('District I'!$M$7:$M$2976,"2",'District I'!$O$7:$O$2976,"2", 'District I'!$B$7:$B$2976,"5") | AM14: =COUNTIFS('District I'!$M$7:$M$2976,"2",'District I'!$O$7:$O$2976,"1", 'District I'!$B$7:$B$2976,"6") | AN14: =COUNTIFS('District I'!$M$7:$M$2976,"2",'District I'!$O$7:$O$2976,"2", 'District I'!$B$7:$B$2976,"6") | AO14: =COUNTIFS('District I'!$M$7:$M$2976,"2",'District I'!$O$7:$O$2976,"1", 'District I'!$B$7:$B$2976,"7") | AP14: =COUNTIFS('District I'!$M$7:$M$2976,"2",'District I'!$O$7:$O$2976,"2", 'District I'!$B$7:$B$2976,"7") | AQ14: =COUNTIFS('District I'!$M$7:$M$2976,"2",'District I'!$O$7:$O$2976,"1", 'District I'!$B$7:$B$2976,"8") | AR14: =COUNTIFS('District I'!$M$7:$M$2976,"2",'District I'!$O$7:$O$2976,"2", 'District I'!$B$7:$B$2976,"8") | AS14: =SUM(AC14:AR14)
A15: 7 | B15: =COUNTIF('District I'!$L$7:$L$2976,"7") | C15: =COUNTIFS('District I'!$L$7:$L$2976,"7",'District I'!$O$7:$O$2976,"1") | D15: =COUNTIFS('District I'!$L$7:$L$2976,"7",'District I'!$O$7:$O$2976,"2") | E15: =SUM(C15:D15) | F15: =COUNTIFS('District I'!$L$7:$L$2976,"7",'District I'!$O$7:$O$2976,"1", 'District I'!$B$7:$B$2976,"1") | G15: =COUNTIFS('District I'!$L$7:$L$2976,"7",'District I'!$O$7:$O$2976,"2", 'District I'!$B$7:$B$2976,"1") | H15: =COUNTIFS('District I'!$L$7:$L$2976,"7",'District I'!$O$7:$O$2976,"1", 'District I'!$B$7:$B$2976,"2") | I15: =COUNTIFS('District I'!$L$7:$L$2976,"7",'District I'!$O$7:$O$2976,"2", 'District I'!$B$7:$B$2976,"2") | J15: =COUNTIFS('District I'!$L$7:$L$2976,"7",'District I'!$O$7:$O$2976,"1", 'District I'!$B$7:$B$2976,"3") | K15: =COUNTIFS('District I'!$L$7:$L$2976,"7",'District I'!$O$7:$O$2976,"2", 'District I'!$B$7:$B$2976,"3") | L15: =COUNTIFS('District I'!$L$7:$L$2976,"7",'District I'!$O$7:$O$2976,"1", 'District I'!$B$7:$B$2976,"4") | M15: =COUNTIFS('District I'!$L$7:$L$2976,"7",'District I'!$O$7:$O$2976,"2", 'District I'!$B$7:$B$2976,"4") | N15: =COUNTIFS('District I'!$L$7:$L$2976,"7",'District I'!$O$7:$O$2976,"1", 'District I'!$B$7:$B$2976,"5") | O15: =COUNTIFS('District I'!$L$7:$L$2976,"7",'District I'!$O$7:$O$2976,"2", 'District I'!$B$7:$B$2976,"5") | P15: =COUNTIFS('District I'!$L$7:$L$2976,"7",'District I'!$O$7:$O$2976,"1", 'District I'!$B$7:$B$2976,"6") | Q15: =COUNTIFS('District I'!$L$7:$L$2976,"7",'District I'!$O$7:$O$2976,"2", 'District I'!$B$7:$B$2976,"6") | R15: =COUNTIFS('District I'!$L$7:$L$2976,"7",'District I'!$O$7:$O$2976,"1", 'District I'!$B$7:$B$2976,"7") | S15: =COUNTIFS('District I'!$L$7:$L$2976,"7",'District I'!$O$7:$O$2976,"2", 'District I'!$B$7:$B$2976,"7") | T15: =COUNTIFS('District I'!$L$7:$L$2976,"7",'District I'!$O$7:$O$2976,"1", 'District I'!$B$7:$B$2976,"8") | U15: =COUNTIFS('District I'!$L$7:$L$2976,"7",'District I'!$O$7:$O$2976,"2", 'District I'!$B$7:$B$2976,"8") | V15: =SUM(F15:U15) | X15: TOTAL | Y15: =SUM(Y13:Y14) | Z15: =SUM(Z13:Z14) | AA15: =SUM(AA13:AA14) | AB15: =SUM(AB13:AB14) | AC15: =SUM(AC13:AC14) | AD15: =SUM(AD13:AD14) | AE15: =SUM(AE13:AE14) | AF15: =SUM(AF13:AF14) | ... AR15: =SUM(AR13:AR14) | AS15: =SUM(AC15:AR15)
A16: 8 | B16: =COUNTIF('District I'!$L$7:$L$2976,"8") | C16: =COUNTIFS('District I'!$L$7:$L$2976,"8",'District I'!$O$7:$O$2976,"1") | D16: =COUNTIFS('District I'!$L$7:$L$2976,"8",'District I'!$O$7:$O$2976,"2") | E16: =SUM(C16:D16) | F16: =COUNTIFS('District I'!$L$7:$L$2976,"8",'District I'!$O$7:$O$2976,"1", 'District I'!$B$7:$B$2976,"1") | G16: =COUNTIFS('District I'!$L$7:$L$2976,"8",'District I'!$O$7:$O$2976,"2", 'District I'!$B$7:$B$2976,"1") | H16: =COUNTIFS('District I'!$L$7:$L$2976,"8",'District I'!$O$7:$O$2976,"1", 'District I'!$B$7:$B$2976,"2") | I16: =COUNTIFS('District I'!$L$7:$L$2976,"8",'District I'!$O$7:$O$2976,"2", 'District I'!$B$7:$B$2976,"2") | J16: =COUNTIFS('District I'!$L$7:$L$2976,"8",'District I'!$O$7:$O$2976,"1", 'District I'!$B$7:$B$2976,"3") | K16: =COUNTIFS('District I'!$L$7:$L$2976,"8",'District I'!$O$7:$O$2976,"2", 'District I'!$B$7:$B$2976,"3") | L16: =COUNTIFS('District I'!$L$7:$L$2976,"8",'District I'!$O$7:$O$2976,"1", 'District I'!$B$7:$B$2976,"4") | M16: =COUNTIFS('District I'!$L$7:$L$2976,"8",'District I'!$O$7:$O$2976,"2", 'District I'!$B$7:$B$2976,"4") | N16: =COUNTIFS('District I'!$L$7:$L$2976,"8",'District I'!$O$7:$O$2976,"1", 'District I'!$B$7:$B$2976,"5") | O16: =COUNTIFS('District I'!$L$7:$L$2976,"8",'District I'!$O$7:$O$2976,"2", 'District I'!$B$7:$B$2976,"5") | P16: =COUNTIFS('District I'!$L$7:$L$2976,"8",'District I'!$O$7:$O$2976,"1", 'District I'!$B$7:$B$2976,"6") | Q16: =COUNTIFS('District I'!$L$7:$L$2976,"8",'District I'!$O$7:$O$2976,"2", 'District I'!$B$7:$B$2976,"6") | R16: =COUNTIFS('District I'!$L$7:$L$2976,"8",'District I'!$O$7:$O$2976,"1", 'District I'!$B$7:$B$2976,"7") | S16: =COUNTIFS('District I'!$L$7:$L$2976,"8",'District I'!$O$7:$O$2976,"2", 'District I'!$B$7:$B$2976,"7") | T16: =COUNTIFS('District I'!$L$7:$L$2976,"8",'District I'!$O$7:$O$2976,"1", 'District I'!$B$7:$B$2976,"8") | U16: =COUNTIFS('District I'!$L$7:$L$2976,"8",'District I'!$O$7:$O$2976,"2", 'District I'!$B$7:$B$2976,"8") | V16: =SUM(F16:U16)
A17: 9 | B17: =COUNTIF('District I'!$L$7:$L$2976,"9") | C17: =COUNTIFS('District I'!$L$7:$L$2976,"9",'District I'!$O$7:$O$2976,"1") | D17: =COUNTIFS('District I'!$L$7:$L$2976,"9",'District I'!$O$7:$O$2976,"2") | E17: =SUM(C17:D17) | F17: =COUNTIFS('District I'!$L$7:$L$2976,"9",'District I'!$O$7:$O$2976,"1", 'District I'!$B$7:$B$2976,"1") | G17: =COUNTIFS('District I'!$L$7:$L$2976,"9",'District I'!$O$7:$O$2976,"2", 'District I'!$B$7:$B$2976,"1") | H17: =COUNTIFS('District I'!$L$7:$L$2976,"9",'District I'!$O$7:$O$2976,"1", 'District I'!$B$7:$B$2976,"2") | I17: =COUNTIFS('District I'!$L$7:$L$2976,"9",'District I'!$O$7:$O$2976,"2", 'District I'!$B$7:$B$2976,"2") | J17: =COUNTIFS('District I'!$L$7:$L$2976,"9",'District I'!$O$7:$O$2976,"1", 'District I'!$B$7:$B$2976,"3") | K17: =COUNTIFS('District I'!$L$7:$L$2976,"9",'District I'!$O$7:$O$2976,"2", 'District I'!$B$7:$B$2976,"3") | L17: =COUNTIFS('District I'!$L$7:$L$2976,"9",'District I'!$O$7:$O$2976,"1", 'District I'!$B$7:$B$2976,"4") | M17: =COUNTIFS('District I'!$L$7:$L$2976,"9",'District I'!$O$7:$O$2976,"2", 'District I'!$B$7:$B$2976,"4") | N17: =COUNTIFS('District I'!$L$7:$L$2976,"9",'District I'!$O$7:$O$2976,"1", 'District I'!$B$7:$B$2976,"5") | O17: =COUNTIFS('District I'!$L$7:$L$2976,"9",'District I'!$O$7:$O$2976,"2", 'District I'!$B$7:$B$2976,"5") | P17: =COUNTIFS('District I'!$L$7:$L$2976,"9",'District I'!$O$7:$O$2976,"1", 'District I'!$B$7:$B$2976,"6") | Q17: =COUNTIFS('District I'!$L$7:$L$2976,"9",'District I'!$O$7:$O$2976,"2", 'District I'!$B$7:$B$2976,"6") | R17: =COUNTIFS('District I'!$L$7:$L$2976,"9",'District I'!$O$7:$O$2976,"1", 'District I'!$B$7:$B$2976,"7") | S17: =COUNTIFS('District I'!$L$7:$L$2976,"9",'District I'!$O$7:$O$2976,"2", 'District I'!$B$7:$B$2976,"7") | T17: =COUNTIFS('District I'!$L$7:$L$2976,"9",'District I'!$O$7:$O$2976,"1", 'District I'!$B$7:$B$2976,"8") | U17: =COUNTIFS('District I'!$L$7:$L$2976,"9",'District I'!$O$7:$O$2976,"2", 'District I'!$B$7:$B$2976,"8") | V17: =SUM(F17:U17) | X17: Age at first Marriage 15-ONWARDS females | Y17: NO | Z17: Zone I | AA17: Zone II | AB17: Zone III | AC17: Zone IV | AD17: Zone V | AE17: Zone VI | AF17: Zone VII | AG17: Zone VIII | AH17: TOTAL
A18: 10 | B18: =COUNTIF('District I'!$L$7:$L$2976,"10") | C18: =COUNTIFS('District I'!$L$7:$L$2976,"10",'District I'!$O$7:$O$2976,"1") | D18: =COUNTIFS('District I'!$L$7:$L$2976,"10",'District I'!$O$7:$O$2976,"2") | E18: =SUM(C18:D18) | F18: =COUNTIFS('District I'!$L$7:$L$2976,"10",'District I'!$O$7:$O$2976,"1", 'District I'!$B$7:$B$2976,"1") | G18: =COUNTIFS('District I'!$L$7:$L$2976,"10",'District I'!$O$7:$O$2976,"2", 'District I'!$B$7:$B$2976,"1") | H18: =COUNTIFS('District I'!$L$7:$L$2976,"10",'District I'!$O$7:$O$2976,"1", 'District I'!$B$7:$B$2976,"2") | I18: =COUNTIFS('District I'!$L$7:$L$2976,"10",'District I'!$O$7:$O$2976,"2", 'District I'!$B$7:$B$2976,"2") | J18: =COUNTIFS('District I'!$L$7:$L$2976,"10",'District I'!$O$7:$O$2976,"1", 'District I'!$B$7:$B$2976,"3") | K18: =COUNTIFS('District I'!$L$7:$L$2976,"10",'District I'!$O$7:$O$2976,"2", 'District I'!$B$7:$B$2976,"3") | L18: =COUNTIFS('District I'!$L$7:$L$2976,"10",'District I'!$O$7:$O$2976,"1", 'District I'!$B$7:$B$2976,"4") | M18: =COUNTIFS('District I'!$L$7:$L$2976,"10",'District I'!$O$7:$O$2976,"2", 'District I'!$B$7:$B$2976,"4") | N18: =COUNTIFS('District I'!$L$7:$L$2976,"10",'District I'!$O$7:$O$2976,"1", 'District I'!$B$7:$B$2976,"5") | O18: =COUNTIFS('District I'!$L$7:$L$2976,"10",'District I'!$O$7:$O$2976,"2", 'District I'!$B$7:$B$2976,"5") | P18: =COUNTIFS('District I'!$L$7:$L$2976,"10",'District I'!$O$7:$O$2976,"1", 'District I'!$B$7:$B$2976,"6") | Q18: =COUNTIFS('District I'!$L$7:$L$2976,"10",'District I'!$O$7:$O$2976,"2", 'District I'!$B$7:$B$2976,"6") | R18: =COUNTIFS('District I'!$L$7:$L$2976,"10",'District I'!$O$7:$O$2976,"1", 'District I'!$B$7:$B$2976,"7") | S18: =COUNTIFS('District I'!$L$7:$L$2976,"10",'District I'!$O$7:$O$2976,"2", 'District I'!$B$7:$B$2976,"7") | T18: =COUNTIFS('District I'!$L$7:$L$2976,"10",'District I'!$O$7:$O$2976,"1", 'District I'!$B$7:$B$2976,"8") | U18: =COUNTIFS('District I'!$L$7:$L$2976,"10",'District I'!$O$7:$O$2976,"2", 'District I'!$B$7:$B$2976,"8") | V18: =SUM(F18:U18) | X18: AVERAGE | Y18: =AVERAGE('District I'!$N$7:$N$2976) | Z18: =AVERAGEIFS('District I'!$N$7:$N$2976, 'District I'!$B$7:$B$2976,1) | AA18: =AVERAGEIFS('District I'!$N$7:$N$2976, 'District I'!$B$7:$B$2976,2) | AB18: =AVERAGEIFS('District I'!$N$7:$N$2976, 'District I'!$B$7:$B$2976,3) | AC18: =AVERAGEIFS('District I'!$N$7:$N$2976, 'District I'!$B$7:$B$2976,4) | AD18: =AVERAGEIFS('District I'!$N$7:$N$2976, 'District I'!$B$7:$B$2976,5) | AE18: =AVERAGEIFS('District I'!$N$7:$N$2976, 'District I'!$B$7:$B$2976,6) | AF18: =AVERAGEIFS('District I'!$N$7:$N$2976, 'District I'!$B$7:$B$2976,7) | AH18: =AVERAGE(Z18:AF18)
A19: 11 | B19: =COUNTIF('District I'!$L$7:$L$2976,"11") | C19: =COUNTIFS('District I'!$L$7:$L$2976,"11",'District I'!$O$7:$O$2976,"1") | D19: =COUNTIFS('District I'!$L$7:$L$2976,"11",'District I'!$O$7:$O$2976,"2") | E19: =SUM(C19:D19) | F19: =COUNTIFS('District I'!$L$7:$L$2976,"11",'District I'!$O$7:$O$2976,"1", 'District I'!$B$7:$B$2976,"1") | G19: =COUNTIFS('District I'!$L$7:$L$2976,"11",'District I'!$O$7:$O$2976,"2", 'District I'!$B$7:$B$2976,"1") | H19: =COUNTIFS('District I'!$L$7:$L$2976,"11",'District I'!$O$7:$O$2976,"1", 'District I'!$B$7:$B$2976,"2") | I19: =COUNTIFS('District I'!$L$7:$L$2976,"11",'District I'!$O$7:$O$2976,"2", 'District I'!$B$7:$B$2976,"2") | J19: =COUNTIFS('District I'!$L$7:$L$2976,"11",'District I'!$O$7:$O$2976,"1", 'District I'!$B$7:$B$2976,"3") | K19: =COUNTIFS('District I'!$L$7:$L$2976,"11",'District I'!$O$7:$O$2976,"2", 'District I'!$B$7:$B$2976,"3") | L19: =COUNTIFS('District I'!$L$7:$L$2976,"11",'District I'!$O$7:$O$2976,"1", 'District I'!$B$7:$B$2976,"4") | M19: =COUNTIFS('District I'!$L$7:$L$2976,"11",'District I'!$O$7:$O$2976,"2", 'District I'!$B$7:$B$2976,"4") | N19: =COUNTIFS('District I'!$L$7:$L$2976,"11",'District I'!$O$7:$O$2976,"1", 'District I'!$B$7:$B$2976,"5") | O19: =COUNTIFS('District I'!$L$7:$L$2976,"11",'District I'!$O$7:$O$2976,"2", 'District I'!$B$7:$B$2976,"5") | P19: =COUNTIFS('District I'!$L$7:$L$2976,"11",'District I'!$O$7:$O$2976,"1", 'District I'!$B$7:$B$2976,"6") | Q19: =COUNTIFS('District I'!$L$7:$L$2976,"11",'District I'!$O$7:$O$2976,"2", 'District I'!$B$7:$B$2976,"6") | R19: =COUNTIFS('District I'!$L$7:$L$2976,"11",'District I'!$O$7:$O$2976,"1", 'District I'!$B$7:$B$2976,"7") | S19: =COUNTIFS('District I'!$L$7:$L$2976,"11",'District I'!$O$7:$O$2976,"2", 'District I'!$B$7:$B$2976,"7") | T19: =COUNTIFS('District I'!$L$7:$L$2976,"11",'District I'!$O$7:$O$2976,"1", 'District I'!$B$7:$B$2976,"8") | U19: =COUNTIFS('District I'!$L$7:$L$2976,"11",'District I'!$O$7:$O$2976,"2", 'District I'!$B$7:$B$2976,"8") | V19: =SUM(F19:U19) | X19: HIGH (MAX) | Y19: =MAX('District I'!$N$7:$N$2976) | Z19: =_xludf.MAXIFS('District I'!$N$7:$N$2976, "1") | AA19: =MAX(IF('District I'!$B$7:$B$2976,"2",'District I'!$N$7:$N$2976)) | AB19: =MAX(IF('District I'!$B$7:$B$2976,"3",'District I'!$N$7:$N$2976)) | AH19: =AVERAGE(Z19:AG19)
A20: 12 | B20: =COUNTIF('District I'!$L$7:$L$2976,"12") | C20: =COUNTIFS('District I'!$L$7:$L$2976,"12",'District I'!$O$7:$O$2976,"1") | D20: =COUNTIFS('District I'!$L$7:$L$2976,"12",'District I'!$O$7:$O$2976,"2") | E20: =SUM(C20:D20) | F20: =COUNTIFS('District I'!$L$7:$L$2976,"12",'District I'!$O$7:$O$2976,"1", 'District I'!$B$7:$B$2976,"1") | G20: =COUNTIFS('District I'!$L$7:$L$2976,"12",'District I'!$O$7:$O$2976,"2", 'District I'!$B$7:$B$2976,"1") | H20: =COUNTIFS('District I'!$L$7:$L$2976,"12",'District I'!$O$7:$O$2976,"1", 'District I'!$B$7:$B$2976,"2") | I20: =COUNTIFS('District I'!$L$7:$L$2976,"12",'District I'!$O$7:$O$2976,"2", 'District I'!$B$7:$B$2976,"2") | J20: =COUNTIFS('District I'!$L$7:$L$2976,"12",'District I'!$O$7:$O$2976,"1", 'District I'!$B$7:$B$2976,"3") | K20: =COUNTIFS('District I'!$L$7:$L$2976,"12",'District I'!$O$7:$O$2976,"2", 'District I'!$B$7:$B$2976,"3") | L20: =COUNTIFS('District I'!$L$7:$L$2976,"12",'District I'!$O$7:$O$2976,"1", 'District I'!$B$7:$B$2976,"4") | M20: =COUNTIFS('District I'!$L$7:$L$2976,"12",'District I'!$O$7:$O$2976,"2", 'District I'!$B$7:$B$2976,"4") | N20: =COUNTIFS('District I'!$L$7:$L$2976,"12",'District I'!$O$7:$O$2976,"1", 'District I'!$B$7:$B$2976,"5") | O20: =COUNTIFS('District I'!$L$7:$L$2976,"12",'District I'!$O$7:$O$2976,"2", 'District I'!$B$7:$B$2976,"5") | P20: =COUNTIFS('District I'!$L$7:$L$2976,"12",'District I'!$O$7:$O$2976,"1", 'District I'!$B$7:$B$2976,"6") | Q20: =COUNTIFS('District I'!$L$7:$L$2976,"12",'District I'!$O$7:$O$2976,"2", 'District I'!$B$7:$B$2976,"6") | R20: =COUNTIFS('District I'!$L$7:$L$2976,"12",'District I'!$O$7:$O$2976,"1", 'District I'!$B$7:$B$2976,"7") | S20: =COUNTIFS('District I'!$L$7:$L$2976,"12",'District I'!$O$7:$O$2976,"2", 'District I'!$B$7:$B$2976,"7") | T20: =COUNTIFS('District I'!$L$7:$L$2976,"12",'District I'!$O$7:$O$2976,"1", 'District I'!$B$7:$B$2976,"8") | U20: =COUNTIFS('District I'!$L$7:$L$2976,"12",'District I'!$O$7:$O$2976,"2", 'District I'!$B$7:$B$2976,"8") | V20: =SUM(F20:U20) | X20: LOW (MIN) | Y20: =MIN('District I'!$N$7:$N$2976) | AH20: =AVERAGE(Z20:AG20)
A21: 13 | B21: =COUNTIF('District I'!$L$7:$L$2976,"13") | C21: =COUNTIFS('District I'!$L$7:$L$2976,"13",'District I'!$O$7:$O$2976,"1") | D21: =COUNTIFS('District I'!$L$7:$L$2976,"13",'District I'!$O$7:$O$2976,"2") | E21: =SUM(C21:D21) | F21: =COUNTIFS('District I'!$L$7:$L$2976,"13",'District I'!$O$7:$O$2976,"1", 'District I'!$B$7:$B$2976,"1") | G21: =COUNTIFS('District I'!$L$7:$L$2976,"13",'District I'!$O$7:$O$2976,"2", 'District I'!$B$7:$B$2976,"1") | H21: =COUNTIFS('District I'!$L$7:$L$2976,"13",'District I'!$O$7:$O$2976,"1", 'District I'!$B$7:$B$2976,"2") | I21: =COUNTIFS('District I'!$L$7:$L$2976,"13",'District I'!$O$7:$O$2976,"2", 'District I'!$B$7:$B$2976,"2") | J21: =COUNTIFS('District I'!$L$7:$L$2976,"13",'District I'!$O$7:$O$2976,"1", 'District I'!$B$7:$B$2976,"3") | K21: =COUNTIFS('District I'!$L$7:$L$2976,"13",'District I'!$O$7:$O$2976,"2", 'District I'!$B$7:$B$2976,"3") | L21: =COUNTIFS('District I'!$L$7:$L$2976,"13",'District I'!$O$7:$O$2976,"1", 'District I'!$B$7:$B$2976,"4") | M21: =COUNTIFS('District I'!$L$7:$L$2976,"13",'District I'!$O$7:$O$2976,"2", 'District I'!$B$7:$B$2976,"4") | N21: =COUNTIFS('District I'!$L$7:$L$2976,"13",'District I'!$O$7:$O$2976,"1", 'District I'!$B$7:$B$2976,"5") | O21: =COUNTIFS('District I'!$L$7:$L$2976,"13",'District I'!$O$7:$O$2976,"2", 'District I'!$B$7:$B$2976,"5") | P21: =COUNTIFS('District I'!$L$7:$L$2976,"13",'District I'!$O$7:$O$2976,"1", 'District I'!$B$7:$B$2976,"6") | Q21: =COUNTIFS('District I'!$L$7:$L$2976,"13",'District I'!$O$7:$O$2976,"2", 'District I'!$B$7:$B$2976,"6") | R21: =COUNTIFS('District I'!$L$7:$L$2976,"13",'District I'!$O$7:$O$2976,"1", 'District I'!$B$7:$B$2976,"7") | S21: =COUNTIFS('District I'!$L$7:$L$2976,"13",'District I'!$O$7:$O$2976,"2", 'District I'!$B$7:$B$2976,"7") | T21: =COUNTIFS('District I'!$L$7:$L$2976,"13",'District I'!$O$7:$O$2976,"1", 'District I'!$B$7:$B$2976,"8 ") | U21: =COUNTIFS('District I'!$L$7:$L$2976,"13",'District I'!$O$7:$O$2976,"2", 'District I'!$B$7:$B$2976,"8") | V21: =SUM(F21:U21)
A22: 14 | B22: =COUNTIF('District I'!$L$7:$L$2976,"14") | C22: =COUNTIFS('District I'!$L$7:$L$2976,"14",'District I'!$O$7:$O$2976,"1") | D22: =COUNTIFS('District I'!$L$7:$L$2976,"14",'District I'!$O$7:$O$2976,"2") | E22: =SUM(C22:D22) | F22: =COUNTIFS('District I'!$L$7:$L$2976,"14",'District I'!$O$7:$O$2976,"1", 'District I'!$B$7:$B$2976,"1") | G22: =COUNTIFS('District I'!$L$7:$L$2976,"14",'District I'!$O$7:$O$2976,"2", 'District I'!$B$7:$B$2976,"1") | H22: =COUNTIFS('District I'!$L$7:$L$2976,"14",'District I'!$O$7:$O$2976,"1", 'District I'!$B$7:$B$2976,"2") | I22: =COUNTIFS('District I'!$L$7:$L$2976,"14",'District I'!$O$7:$O$2976,"2", 'District I'!$B$7:$B$2976,"2") | J22: =COUNTIFS('District I'!$L$7:$L$2976,"14",'District I'!$O$7:$O$2976,"1", 'District I'!$B$7:$B$2976,"3") | K22: =COUNTIFS('District I'!$L$7:$L$2976,"14",'District I'!$O$7:$O$2976,"2", 'District I'!$B$7:$B$2976,"3") | L22: =COUNTIFS('District I'!$L$7:$L$2976,"14",'District I'!$O$7:$O$2976,"1", 'District I'!$B$7:$B$2976,"4") | M22: =COUNTIFS('District I'!$L$7:$L$2976,"14",'District I'!$O$7:$O$2976,"2", 'District I'!$B$7:$B$2976,"4") | N22: =COUNTIFS('District I'!$L$7:$L$2976,"14",'District I'!$O$7:$O$2976,"1", 'District I'!$B$7:$B$2976,"5") | O22: =COUNTIFS('District I'!$L$7:$L$2976,"14",'District I'!$O$7:$O$2976,"2", 'District I'!$B$7:$B$2976,"5") | P22: =COUNTIFS('District I'!$L$7:$L$2976,"14",'District I'!$O$7:$O$2976,"1", 'District I'!$B$7:$B$2976,"6") | Q22: =COUNTIFS('District I'!$L$7:$L$2976,"14",'District I'!$O$7:$O$2976,"2", 'District I'!$B$7:$B$2976,"6") | R22: =COUNTIFS('District I'!$L$7:$L$2976,"14",'District I'!$O$7:$O$2976,"1", 'District I'!$B$7:$B$2976,"7") | S22: =COUNTIFS('District I'!$L$7:$L$2976,"14",'District I'!$O$7:$O$2976,"2", 'District I'!$B$7:$B$2976,"7") | T22: =COUNTIFS('District I'!$L$7:$L$2976,"14",'District I'!$O$7:$O$2976,"1", 'District I'!$B$7:$B$2976,"8") | U22: =COUNTIFS('District I'!$L$7:$L$2976,"14",'District I'!$O$7:$O$2976,"2", 'District I'!$B$7:$B$2976,"8") | V22: =SUM(F22:U22) | X22: SEX | Y22: No | Z22: Zone I | AA22: Zone II | AB22: Zone III | AC22: Zone IV | AD22: Zone V | AE22: Zone VI | AF22: Zone VII | AG22: Zone VII | AH22: TOTAL
A23: 15 | B23: =COUNTIF('District I'!$L$7:$L$2976,"15") | C23: =COUNTIFS('District I'!$L$7:$L$2976,"15",'District I'!$O$7:$O$2976,"1") | D23: =COUNTIFS('District I'!$L$7:$L$2976,"15",'District I'!$O$7:$O$2976,"2") | E23: =SUM(C23:D23) | F23: =COUNTIFS('District I'!$L$7:$L$2976,"15",'District I'!$O$7:$O$2976,"1", 'District I'!$B$7:$B$2976,"1") | G23: =COUNTIFS('District I'!$L$7:$L$2976,"15",'District I'!$O$7:$O$2976,"2", 'District I'!$B$7:$B$2976,"1") | H23: =COUNTIFS('District I'!$L$7:$L$2976,"15",'District I'!$O$7:$O$2976,"1", 'District I'!$B$7:$B$2976,"2") | I23: =COUNTIFS('District I'!$L$7:$L$2976,"15",'District I'!$O$7:$O$2976,"2", 'District I'!$B$7:$B$2976,"2") | J23: =COUNTIFS('District I'!$L$7:$L$2976,"15",'District I'!$O$7:$O$2976,"1", 'District I'!$B$7:$B$2976,"3") | K23: =COUNTIFS('District I'!$L$7:$L$2976,"15",'District I'!$O$7:$O$2976,"2", 'District I'!$B$7:$B$2976,"3") | L23: =COUNTIFS('District I'!$L$7:$L$2976,"15",'District I'!$O$7:$O$2976,"1", 'District I'!$B$7:$B$2976,"4") | M23: =COUNTIFS('District I'!$L$7:$L$2976,"15",'District I'!$O$7:$O$2976,"2", 'District I'!$B$7:$B$2976,"4") | N23: =COUNTIFS('District I'!$L$7:$L$2976,"15",'District I'!$O$7:$O$2976,"1", 'District I'!$B$7:$B$2976,"5") | O23: =COUNTIFS('District I'!$L$7:$L$2976,"15",'District I'!$O$7:$O$2976,"2", 'District I'!$B$7:$B$2976,"5") | P23: =COUNTIFS('District I'!$L$7:$L$2976,"15",'District I'!$O$7:$O$2976,"1", 'District I'!$B$7:$B$2976,"6") | Q23: =COUNTIFS('District I'!$L$7:$L$2976,"15",'District I'!$O$7:$O$2976,"2", 'District I'!$B$7:$B$2976,"6") | R23: =COUNTIFS('District I'!$L$7:$L$2976,"15",'District I'!$O$7:$O$2976,"1", 'District I'!$B$7:$B$2976,"7") | S23: =COUNTIFS('District I'!$L$7:$L$2976,"15",'District I'!$O$7:$O$2976,"2", 'District I'!$B$7:$B$2976,"7") | T23: =COUNTIFS('District I'!$L$7:$L$2976,"15",'District I'!$O$7:$O$2976,"1", 'District I'!$B$7:$B$2976,"8") | U23: =COUNTIFS('District I'!$L$7:$L$2976,"15",'District I'!$O$7:$O$2976,"2", 'District I'!$B$7:$B$2976,"8") | V23: =SUM(F23:U23) | X23: MALE | Y23: =COUNTIF('District I'!$O$7:$O$2976,"1") | Z23: =COUNTIFS('District I'!$O$7:$O$2976,"1", 'District I'!$B$7:$B$2976,"1") | AA23: =COUNTIFS('District I'!$O$7:$O$2976,"1", 'District I'!$B$7:$B$2976,"2") | AB23: =COUNTIFS('District I'!$O$7:$O$2976,"1", 'District I'!$B$7:$B$2976,"3") | AC23: =COUNTIFS('District I'!$O$7:$O$2976,"1", 'District I'!$B$7:$B$2976,"4") | AD23: =COUNTIFS('District I'!$O$7:$O$2976,"1", 'District I'!$B$7:$B$2976,"5") | AE23: =COUNTIFS('District I'!$O$7:$O$2976,"1", 'District I'!$B$7:$B$2976,"6") | AF23: =COUNTIFS('District I'!$O$7:$O$2976,"1", 'District I'!$B$7:$B$2976,"7") | AG23: =COUNTIFS('District I'!$O$7:$O$2976,"1", 'District I'!$B$7:$B$2976,"8") | AH23: =SUM(Z23:AG23)
A24: 16 | B24: =COUNTIF('District I'!$L$7:$L$2976,"16") | C24: =COUNTIFS('District I'!$L$7:$L$2976,"16",'District I'!$O$7:$O$2976,"1") | D24: =COUNTIFS('District I'!$L$7:$L$2976,"16",'District I'!$O$7:$O$2976,"2") | E24: =SUM(C24:D24) | F24: =COUNTIFS('District I'!$L$7:$L$2976,"16",'District I'!$O$7:$O$2976,"1", 'District I'!$B$7:$B$2976,"1") | G24: =COUNTIFS('District I'!$L$7:$L$2976,"16",'District I'!$O$7:$O$2976,"2", 'District I'!$B$7:$B$2976,"1") | H24: =COUNTIFS('District I'!$L$7:$L$2976,"16",'District I'!$O$7:$O$2976,"1", 'District I'!$B$7:$B$2976,"2") | I24: =COUNTIFS('District I'!$L$7:$L$2976,"16",'District I'!$O$7:$O$2976,"2", 'District I'!$B$7:$B$2976,"2") | J24: =COUNTIFS('District I'!$L$7:$L$2976,"16",'District I'!$O$7:$O$2976,"1", 'District I'!$B$7:$B$2976,"3") | K24: =COUNTIFS('District I'!$L$7:$L$2976,"16",'District I'!$O$7:$O$2976,"2", 'District I'!$B$7:$B$2976,"3") | L24: =COUNTIFS('District I'!$L$7:$L$2976,"16",'District I'!$O$7:$O$2976,"1", 'District I'!$B$7:$B$2976,"4") | M24: =COUNTIFS('District I'!$L$7:$L$2976,"16",'District I'!$O$7:$O$2976,"2", 'District I'!$B$7:$B$2976,"4") | N24: =COUNTIFS('District I'!$L$7:$L$2976,"16",'District I'!$O$7:$O$2976,"1", 'District I'!$B$7:$B$2976,"5") | O24: =COUNTIFS('District I'!$L$7:$L$2976,"16",'District I'!$O$7:$O$2976,"2", 'District I'!$B$7:$B$2976,"5") | P24: =COUNTIFS('District I'!$L$7:$L$2976,"16",'District I'!$O$7:$O$2976,"1", 'District I'!$B$7:$B$2976,"6") | Q24: =COUNTIFS('District I'!$L$7:$L$2976,"16",'District I'!$O$7:$O$2976,"2", 'District I'!$B$7:$B$2976,"6") | R24: =COUNTIFS('District I'!$L$7:$L$2976,"16",'District I'!$O$7:$O$2976,"1", 'District I'!$B$7:$B$2976,"7") | S24: =COUNTIFS('District I'!$L$7:$L$2976,"16",'District I'!$O$7:$O$2976,"2", 'District I'!$B$7:$B$2976,"7") | T24: =COUNTIFS('District I'!$L$7:$L$2976,"16",'District I'!$O$7:$O$2976,"1", 'District I'!$B$7:$B$2976,"8") | U24: =COUNTIFS('District I'!$L$7:$L$2976,"16",'District I'!$O$7:$O$2976,"2", 'District I'!$B$7:$B$2976,"8") | V24: =SUM(F24:U24) | X24: FEMALE | Y24: =COUNTIF('District I'!$O$7:$O$2976,"2") | Z24: =COUNTIFS('District I'!$O$7:$O$2976,"2", 'District I'!$B$7:$B$2976,"1") | AA24: =COUNTIFS('District I'!$O$7:$O$2976,"2", 'District I'!$B$7:$B$2976,"2") | AB24: =COUNTIFS('District I'!$O$7:$O$2976,"2", 'District I'!$B$7:$B$2976,"3") | AC24: =COUNTIFS('District I'!$O$7:$O$2976,"2", 'District I'!$B$7:$B$2976,"4") | AD24: =COUNTIFS('District I'!$O$7:$O$2976,"2", 'District I'!$B$7:$B$2976,"5") | AE24: =COUNTIFS('District I'!$O$7:$O$2976,"2", 'District I'!$B$7:$B$2976,"6") | AF24: =COUNTIFS('District I'!$O$7:$O$2976,"2", 'District I'!$B$7:$B$2976,"7") | AG24: =COUNTIFS('District I'!$O$7:$O$2976,"2", 'District I'!$B$7:$B$2976,"8") | AH24: =SUM(Z24:AG24)
A25: 17 | B25: =COUNTIF('District I'!$L$7:$L$2976,"17") | C25: =COUNTIFS('District I'!$L$7:$L$2976,"17",'District I'!$O$7:$O$2976,"1") | D25: =COUNTIFS('District I'!$L$7:$L$2976,"17",'District I'!$O$7:$O$2976,"2") | E25: =SUM(C25:D25) | F25: =COUNTIFS('District I'!$L$7:$L$2976,"17",'District I'!$O$7:$O$2976,"1", 'District I'!$B$7:$B$2976,"1") | G25: =COUNTIFS('District I'!$L$7:$L$2976,"17",'District I'!$O$7:$O$2976,"2", 'District I'!$B$7:$B$2976,"1") | H25: =COUNTIFS('District I'!$L$7:$L$2976,"17",'District I'!$O$7:$O$2976,"1", 'District I'!$B$7:$B$2976,"2") | I25: =COUNTIFS('District I'!$L$7:$L$2976,"17",'District I'!$O$7:$O$2976,"2", 'District I'!$B$7:$B$2976,"2") | J25: =COUNTIFS('District I'!$L$7:$L$2976,"17",'District I'!$O$7:$O$2976,"1", 'District I'!$B$7:$B$2976,"3") | K25: =COUNTIFS('District I'!$L$7:$L$2976,"17",'District I'!$O$7:$O$2976,"2", 'District I'!$B$7:$B$2976,"3") | L25: =COUNTIFS('District I'!$L$7:$L$2976,"17",'District I'!$O$7:$O$2976,"1", 'District I'!$B$7:$B$2976,"4") | M25: =COUNTIFS('District I'!$L$7:$L$2976,"17",'District I'!$O$7:$O$2976,"2", 'District I'!$B$7:$B$2976,"4") | N25: =COUNTIFS('District I'!$L$7:$L$2976,"17",'District I'!$O$7:$O$2976,"1", 'District I'!$B$7:$B$2976,"5") | O25: =COUNTIFS('District I'!$L$7:$L$2976,"17",'District I'!$O$7:$O$2976,"2", 'District I'!$B$7:$B$2976,"5") | P25: =COUNTIFS('District I'!$L$7:$L$2976,"17",'District I'!$O$7:$O$2976,"1", 'District I'!$B$7:$B$2976,"6") | Q25: =COUNTIFS('District I'!$L$7:$L$2976,"17",'District I'!$O$7:$O$2976,"2", 'District I'!$B$7:$B$2976,"6") | R25: =COUNTIFS('District I'!$L$7:$L$2976,"17",'District I'!$O$7:$O$2976,"1", 'District I'!$B$7:$B$2976,"7") | S25: =COUNTIFS('District I'!$L$7:$L$2976,"17",'District I'!$O$7:$O$2976,"2", 'District I'!$B$7:$B$2976,"7") | T25: =COUNTIFS('District I'!$L$7:$L$2976,"17",'District I'!$O$7:$O$2976,"1", 'District I'!$B$7:$B$2976,"8") | U25: =COUNTIFS('District I'!$L$7:$L$2976,"17",'District I'!$O$7:$O$2976,"2", 'District I'!$B$7:$B$2976,"8") | V25: =SUM(F25:U25) | X25: TOTAL | Y25: =SUM(Y23:Y24) | Z25: =SUM(Z23:Z24) | AA25: =SUM(AA23:AA24) | AB25: =SUM(AB23:AB24) | AC25: =SUM(AC23:AC24) | AD25: =SUM(AD23:AD24) | AE25: =SUM(AE23:AE24) | AF25: =SUM(AF23:AF24) | AG25: =SUM(AG23:AG24) | AH25: =SUM(Z25:AG25)
A26: 18 | B26: =COUNTIF('District I'!$L$7:$L$2976,"18") | C26: =COUNTIFS('District I'!$L$7:$L$2976,"18",'District I'!$O$7:$O$2976,"1") | D26: =COUNTIFS('District I'!$L$7:$L$2976,"18",'District I'!$O$7:$O$2976,"2") | E26: =SUM(C26:D26) | F26: =COUNTIFS('District I'!$L$7:$L$2976,"18",'District I'!$O$7:$O$2976,"1", 'District I'!$B$7:$B$2976,"1") | G26: =COUNTIFS('District I'!$L$7:$L$2976,"18",'District I'!$O$7:$O$2976,"2", 'District I'!$B$7:$B$2976,"1") | H26: =COUNTIFS('District I'!$L$7:$L$2976,"18",'District I'!$O$7:$O$2976,"1", 'District I'!$B$7:$B$2976,"2") | I26: =COUNTIFS('District I'!$L$7:$L$2976,"18",'District I'!$O$7:$O$2976,"2", 'District I'!$B$7:$B$2976,"2") | J26: =COUNTIFS('District I'!$L$7:$L$2976,"18",'District I'!$O$7:$O$2976,"1", 'District I'!$B$7:$B$2976,"3") | K26: =COUNTIFS('District I'!$L$7:$L$2976,"18",'District I'!$O$7:$O$2976,"2", 'District I'!$B$7:$B$2976,"3") | L26: =COUNTIFS('District I'!$L$7:$L$2976,"18",'District I'!$O$7:$O$2976,"1", 'District I'!$B$7:$B$2976,"4") | M26: =COUNTIFS('District I'!$L$7:$L$2976,"18",'District I'!$O$7:$O$2976,"2", 'District I'!$B$7:$B$2976,"4") | N26: =COUNTIFS('District I'!$L$7:$L$2976,"18",'District I'!$O$7:$O$2976,"1", 'District I'!$B$7:$B$2976,"5") | O26: =COUNTIFS('District I'!$L$7:$L$2976,"18",'District I'!$O$7:$O$2976,"2", 'District I'!$B$7:$B$2976,"5") | P26: =COUNTIFS('District I'!$L$7:$L$2976,"18",'District I'!$O$7:$O$2976,"1", 'District I'!$B$7:$B$2976,"6") | Q26: =COUNTIFS('District I'!$L$7:$L$2976,"18",'District I'!$O$7:$O$2976,"2", 'District I'!$B$7:$B$2976,"6") | R26: =COUNTIFS('District I'!$L$7:$L$2976,"18",'District I'!$O$7:$O$2976,"1", 'District I'!$B$7:$B$2976,"7") | S26: =COUNTIFS('District I'!$L$7:$L$2976,"18",'District I'!$O$7:$O$2976,"2", 'District I'!$B$7:$B$2976,"7") | T26: =COUNTIFS('District I'!$L$7:$L$2976,"18",'District I'!$O$7:$O$2976,"1", 'District I'!$B$7:$B$2976,"8") | U26: =COUNTIFS('District I'!$L$7:$L$2976,"18",'District I'!$O$7:$O$2976,"2", 'District I'!$B$7:$B$2976,"8") | V26: =SUM(F26:U26)
A27: 19 | B27: =COUNTIF('District I'!$L$7:$L$2976,"19") | C27: =COUNTIFS('District I'!$L$7:$L$2976,"19",'District I'!$O$7:$O$2976,"1") | D27: =COUNTIFS('District I'!$L$7:$L$2976,"19",'District I'!$O$7:$O$2976,"2") | E27: =SUM(C27:D27) | F27: =COUNTIFS('District I'!$L$7:$L$2976,"19",'District I'!$O$7:$O$2976,"1", 'District I'!$B$7:$B$2976,"1") | G27: =COUNTIFS('District I'!$L$7:$L$2976,"19",'District I'!$O$7:$O$2976,"2", 'District I'!$B$7:$B$2976,"1") | H27: =COUNTIFS('District I'!$L$7:$L$2976,"19",'District I'!$O$7:$O$2976,"1", 'District I'!$B$7:$B$2976,"2") | I27: =COUNTIFS('District I'!$L$7:$L$2976,"19",'District I'!$O$7:$O$2976,"2", 'District I'!$B$7:$B$2976,"2") | J27: =COUNTIFS('District I'!$L$7:$L$2976,"19",'District I'!$O$7:$O$2976,"1", 'District I'!$B$7:$B$2976,"3") | K27: =COUNTIFS('District I'!$L$7:$L$2976,"19",'District I'!$O$7:$O$2976,"2", 'District I'!$B$7:$B$2976,"3") | L27: =COUNTIFS('District I'!$L$7:$L$2976,"19",'District I'!$O$7:$O$2976,"1", 'District I'!$B$7:$B$2976,"4") | M27: =COUNTIFS('District I'!$L$7:$L$2976,"19",'District I'!$O$7:$O$2976,"2", 'District I'!$B$7:$B$2976,"4") | N27: =COUNTIFS('District I'!$L$7:$L$2976,"19",'District I'!$O$7:$O$2976,"1", 'District I'!$B$7:$B$2976,"5") | O27: =COUNTIFS('District I'!$L$7:$L$2976,"19",'District I'!$O$7:$O$2976,"2", 'District I'!$B$7:$B$2976,"5") | P27: =COUNTIFS('District I'!$L$7:$L$2976,"19",'District I'!$O$7:$O$2976,"1", 'District I'!$B$7:$B$2976,"6") | Q27: =COUNTIFS('District I'!$L$7:$L$2976,"19",'District I'!$O$7:$O$2976,"2", 'District I'!$B$7:$B$2976,"6") | R27: =COUNTIFS('District I'!$L$7:$L$2976,"19",'District I'!$O$7:$O$2976,"1", 'District I'!$B$7:$B$2976,"7") | S27: =COUNTIFS('District I'!$L$7:$L$2976,"19",'District I'!$O$7:$O$2976,"2", 'District I'!$B$7:$B$2976,"7") | T27: =COUNTIFS('District I'!$L$7:$L$2976,"19",'District I'!$O$7:$O$2976,"1", 'District I'!$B$7:$B$2976,"8") | U27: =COUNTIFS('District I'!$L$7:$L$2976,"19",'District I'!$O$7:$O$2976,"2", 'District I'!$B$7:$B$2976,"8") | V27: =SUM(F27:U27)
A28: 20 | B28: =COUNTIF('District I'!$L$7:$L$2976,"20") | C28: =COUNTIFS('District I'!$L$7:$L$2976,"20",'District I'!$O$7:$O$2976,"1") | D28: =COUNTIFS('District I'!$L$7:$L$2976,"20",'District I'!$O$7:$O$2976,"2") | E28: =SUM(C28:D28) | F28: =COUNTIFS('District I'!$L$7:$L$2976,"20",'District I'!$O$7:$O$2976,"1", 'District I'!$B$7:$B$2976,"1") | G28: =COUNTIFS('District I'!$L$7:$L$2976,"20",'District I'!$O$7:$O$2976,"2", 'District I'!$B$7:$B$2976,"1") | H28: =COUNTIFS('District I'!$L$7:$L$2976,"20",'District I'!$O$7:$O$2976,"1", 'District I'!$B$7:$B$2976,"2") | I28: =COUNTIFS('District I'!$L$7:$L$2976,"20",'District I'!$O$7:$O$2976,"2", 'District I'!$B$7:$B$2976,"2") | J28: =COUNTIFS('District I'!$L$7:$L$2976,"20",'District I'!$O$7:$O$2976,"1", 'District I'!$B$7:$B$2976,"3") | K28: =COUNTIFS('District I'!$L$7:$L$2976,"20",'District I'!$O$7:$O$2976,"2", 'District I'!$B$7:$B$2976,"3") | L28: =COUNTIFS('District I'!$L$7:$L$2976,"20",'District I'!$O$7:$O$2976,"1", 'District I'!$B$7:$B$2976,"4") | M28: =COUNTIFS('District I'!$L$7:$L$2976,"20",'District I'!$O$7:$O$2976,"2", 'District I'!$B$7:$B$2976,"4") | N28: =COUNTIFS('District I'!$L$7:$L$2976,"20",'District I'!$O$7:$O$2976,"1", 'District I'!$B$7:$B$2976,"5") | O28: =COUNTIFS('District I'!$L$7:$L$2976,"20",'District I'!$O$7:$O$2976,"2", 'District I'!$B$7:$B$2976,"5") | P28: =COUNTIFS('District I'!$L$7:$L$2976,"20",'District I'!$O$7:$O$2976,"1", 'District I'!$B$7:$B$2976,"6") | Q28: =COUNTIFS('District I'!$L$7:$L$2976,"20",'District I'!$O$7:$O$2976,"2", 'District I'!$B$7:$B$2976,"6") | R28: =COUNTIFS('District I'!$L$7:$L$2976,"20",'District I'!$O$7:$O$2976,"1", 'District I'!$B$7:$B$2976,"7") | S28: =COUNTIFS('District I'!$L$7:$L$2976,"20",'District I'!$O$7:$O$2976,"2", 'District I'!$B$7:$B$2976,"7") | T28: =COUNTIFS('District I'!$L$7:$L$2976,"20",'District I'!$O$7:$O$2976,"1", 'District I'!$B$7:$B$2976,"8") | U28: =COUNTIFS('District I'!$L$7:$L$2976,"20",'District I'!$O$7:$O$2976,"2", 'District I'!$B$7:$B$2976,"8") | V28: =SUM(F28:U28) | X28: Access to Information =SUMPRODUCT(--(ISNUMBER(SEARCH(TEXT,RANGE)))) | Y28: No | Z28: Zone I | AA28: Zone II | AB28: Zone III | AC28: Zone IV | AD28: Zone V | AE28: Zone VI | AF28: Zone VII | AG28: Zone VIII | AH28: TOTAL
A29: 21 | B29: =COUNTIF('District I'!$L$7:$L$2976,"21") | C29: =COUNTIFS('District I'!$L$7:$L$2976,"21",'District I'!$O$7:$O$2976,"1") | D29: =COUNTIFS('District I'!$L$7:$L$2976,"21",'District I'!$O$7:$O$2976,"2") | E29: =SUM(C29:D29) | F29: =COUNTIFS('District I'!$L$7:$L$2976,"21",'District I'!$O$7:$O$2976,"1", 'District I'!$B$7:$B$2976,"1") | G29: =COUNTIFS('District I'!$L$7:$L$2976,"21",'District I'!$O$7:$O$2976,"2", 'District I'!$B$7:$B$2976,"1") | H29: =COUNTIFS('District I'!$L$7:$L$2976,"21",'District I'!$O$7:$O$2976,"1", 'District I'!$B$7:$B$2976,"2") | I29: =COUNTIFS('District I'!$L$7:$L$2976,"21",'District I'!$O$7:$O$2976,"2", 'District I'!$B$7:$B$2976,"2") | J29: =COUNTIFS('District I'!$L$7:$L$2976,"21",'District I'!$O$7:$O$2976,"1", 'District I'!$B$7:$B$2976,"3") | K29: =COUNTIFS('District I'!$L$7:$L$2976,"21",'District I'!$O$7:$O$2976,"2", 'District I'!$B$7:$B$2976,"3") | L29: =COUNTIFS('District I'!$L$7:$L$2976,"21",'District I'!$O$7:$O$2976,"1", 'District I'!$B$7:$B$2976,"4") | M29: =COUNTIFS('District I'!$L$7:$L$2976,"21",'District I'!$O$7:$O$2976,"2", 'District I'!$B$7:$B$2976,"4") | N29: =COUNTIFS('District I'!$L$7:$L$2976,"21",'District I'!$O$7:$O$2976,"1", 'District I'!$B$7:$B$2976,"5") | O29: =COUNTIFS('District I'!$L$7:$L$2976,"21",'District I'!$O$7:$O$2976,"2", 'District I'!$B$7:$B$2976,"5") | P29: =COUNTIFS('District I'!$L$7:$L$2976,"21",'District I'!$O$7:$O$2976,"1", 'District I'!$B$7:$B$2976,"6") | Q29: =COUNTIFS('District I'!$L$7:$L$2976,"21",'District I'!$O$7:$O$2976,"2", 'District I'!$B$7:$B$2976,"6") | R29: =COUNTIFS('District I'!$L$7:$L$2976,"21",'District I'!$O$7:$O$2976,"1", 'District I'!$B$7:$B$2976,"7") | S29: =COUNTIFS('District I'!$L$7:$L$2976,"21",'District I'!$O$7:$O$2976,"2", 'District I'!$B$7:$B$2976,"7") | T29: =COUNTIFS('District I'!$L$7:$L$2976,"21",'District I'!$O$7:$O$2976,"1", 'District I'!$B$7:$B$2976,"8") | U29: =COUNTIFS('District I'!$L$7:$L$2976,"21",'District I'!$O$7:$O$2976,"2", 'District I'!$B$7:$B$2976,"8") | V29: =SUM(F29:U29) | X29: Television | Y29: {=SUMPRODUCT(--(ISNUMBER(SEARCH(1,'District I'!$P$7:$P$2976))))}
A30: 22 | B30: =COUNTIF('District I'!$L$7:$L$2976,"22") | C30: =COUNTIFS('District I'!$L$7:$L$2976,"22",'District I'!$O$7:$O$2976,"1") | D30: =COUNTIFS('District I'!$L$7:$L$2976,"22",'District I'!$O$7:$O$2976,"2") | E30: =SUM(C30:D30) | F30: =COUNTIFS('District I'!$L$7:$L$2976,"22",'District I'!$O$7:$O$2976,"1", 'District I'!$B$7:$B$2976,"1") | G30: =COUNTIFS('District I'!$L$7:$L$2976,"22",'District I'!$O$7:$O$2976,"2", 'District I'!$B$7:$B$2976,"1") | H30: =COUNTIFS('District I'!$L$7:$L$2976,"22",'District I'!$O$7:$O$2976,"1", 'District I'!$B$7:$B$2976,"2") | I30: =COUNTIFS('District I'!$L$7:$L$2976,"22",'District I'!$O$7:$O$2976,"2", 'District I'!$B$7:$B$2976,"2") | J30: =COUNTIFS('District I'!$L$7:$L$2976,"22",'District I'!$O$7:$O$2976,"1", 'District I'!$B$7:$B$2976,"3") | K30: =COUNTIFS('District I'!$L$7:$L$2976,"22",'District I'!$O$7:$O$2976,"2", 'District I'!$B$7:$B$2976,"3") | L30: =COUNTIFS('District I'!$L$7:$L$2976,"22",'District I'!$O$7:$O$2976,"1", 'District I'!$B$7:$B$2976,"4") | M30: =COUNTIFS('District I'!$L$7:$L$2976,"22",'District I'!$O$7:$O$2976,"2", 'District I'!$B$7:$B$2976,"4") | N30: =COUNTIFS('District I'!$L$7:$L$2976,"22",'District I'!$O$7:$O$2976,"1", 'District I'!$B$7:$B$2976,"5") | O30: =COUNTIFS('District I'!$L$7:$L$2976,"22",'District I'!$O$7:$O$2976,"2", 'District I'!$B$7:$B$2976,"5") | P30: =COUNTIFS('District I'!$L$7:$L$2976,"22",'District I'!$O$7:$O$2976,"1", 'District I'!$B$7:$B$2976,"6") | Q30: =COUNTIFS('District I'!$L$7:$L$2976,"22",'District I'!$O$7:$O$2976,"2", 'District I'!$B$7:$B$2976,"6") | R30: =COUNTIFS('District I'!$L$7:$L$2976,"22",'District I'!$O$7:$O$2976,"1", 'District I'!$B$7:$B$2976,"7") | S30: =COUNTIFS('District I'!$L$7:$L$2976,"22",'District I'!$O$7:$O$2976,"2", 'District I'!$B$7:$B$2976,"7") | T30: =COUNTIFS('District I'!$L$7:$L$2976,"22",'District I'!$O$7:$O$2976,"1", 'District I'!$B$7:$B$2976,"8") | U30: =COUNTIFS('District I'!$L$7:$L$2976,"22",'District I'!$O$7:$O$2976,"2", 'District I'!$B$7:$B$2976,"8") | V30: =SUM(F30:U30) | X30: Radio | Y30: {=SUMPRODUCT(--(ISNUMBER(SEARCH(2,'District I'!$P$7:$P$2976))))}
A31: 23 | B31: =COUNTIF('District I'!$L$7:$L$2976,"23") | C31: =COUNTIFS('District I'!$L$7:$L$2976,"23",'District I'!$O$7:$O$2976,"1") | D31: =COUNTIFS('District I'!$L$7:$L$2976,"23",'District I'!$O$7:$O$2976,"2") | E31: =SUM(C31:D31) | F31: =COUNTIFS('District I'!$L$7:$L$2976,"23",'District I'!$O$7:$O$2976,"1", 'District I'!$B$7:$B$2976,"1") | G31: =COUNTIFS('District I'!$L$7:$L$2976,"23",'District I'!$O$7:$O$2976,"2", 'District I'!$B$7:$B$2976,"1") | H31: =COUNTIFS('District I'!$L$7:$L$2976,"23",'District I'!$O$7:$O$2976,"1", 'District I'!$B$7:$B$2976,"2") | I31: =COUNTIFS('District I'!$L$7:$L$2976,"23",'District I'!$O$7:$O$2976,"2", 'District I'!$B$7:$B$2976,"2") | J31: =COUNTIFS('District I'!$L$7:$L$2976,"23",'District I'!$O$7:$O$2976,"1", 'District I'!$B$7:$B$2976,"3") | K31: =COUNTIFS('District I'!$L$7:$L$2976,"23",'District I'!$O$7:$O$2976,"2", 'District I'!$B$7:$B$2976,"3") | L31: =COUNTIFS('District I'!$L$7:$L$2976,"23",'District I'!$O$7:$O$2976,"1", 'District I'!$B$7:$B$2976,"4") | M31: =COUNTIFS('District I'!$L$7:$L$2976,"23",'District I'!$O$7:$O$2976,"2", 'District I'!$B$7:$B$2976,"4") | N31: =COUNTIFS('District I'!$L$7:$L$2976,"23",'District I'!$O$7:$O$2976,"1", 'District I'!$B$7:$B$2976,"5") | O31: =COUNTIFS('District I'!$L$7:$L$2976,"23",'District I'!$O$7:$O$2976,"2", 'District I'!$B$7:$B$2976,"5") | P31: =COUNTIFS('District I'!$L$7:$L$2976,"23",'District I'!$O$7:$O$2976,"1", 'District I'!$B$7:$B$2976,"6") | Q31: =COUNTIFS('District I'!$L$7:$L$2976,"23",'District I'!$O$7:$O$2976,"2", 'District I'!$B$7:$B$2976,"6") | R31: =COUNTIFS('District I'!$L$7:$L$2976,"23",'District I'!$O$7:$O$2976,"1", 'District I'!$B$7:$B$2976,"7") | S31: =COUNTIFS('District I'!$L$7:$L$2976,"23",'District I'!$O$7:$O$2976,"2", 'District I'!$B$7:$B$2976,"7") | T31: =COUNTIFS('District I'!$L$7:$L$2976,"23",'District I'!$O$7:$O$2976,"1", 'District I'!$B$7:$B$2976,"8") | U31: =COUNTIFS('District I'!$L$7:$L$2976,"23",'District I'!$O$7:$O$2976,"2", 'District I'!$B$7:$B$2976,"8") | V31: =SUM(F31:U31) | X31: [Person_1]) | Y31: {=SUMPRODUCT(--(ISNUMBER(SEARCH(3,'District I'!$P$7:$P$2976))))}
A32: 24 | B32: =COUNTIF('District I'!$L$7:$L$2976,"24") | C32: =COUNTIFS('District I'!$L$7:$L$2976,"24",'District I'!$O$7:$O$2976,"1") | D32: =COUNTIFS('District I'!$L$7:$L$2976,"24",'District I'!$O$7:$O$2976,"2") | E32: =SUM(C32:D32) | F32: =COUNTIFS('District I'!$L$7:$L$2976,"24",'District I'!$O$7:$O$2976,"1", 'District I'!$B$7:$B$2976,"1") | G32: =COUNTIFS('District I'!$L$7:$L$2976,"24",'District I'!$O$7:$O$2976,"2", 'District I'!$B$7:$B$2976,"1") | H32: =COUNTIFS('District I'!$L$7:$L$2976,"24",'District I'!$O$7:$O$2976,"1", 'District I'!$B$7:$B$2976,"2") | I32: =COUNTIFS('District I'!$L$7:$L$2976,"24",'District I'!$O$7:$O$2976,"2", 'District I'!$B$7:$B$2976,"2") | J32: =COUNTIFS('District I'!$L$7:$L$2976,"24",'District I'!$O$7:$O$2976,"1", 'District I'!$B$7:$B$2976,"3") | K32: =COUNTIFS('District I'!$L$7:$L$2976,"24",'District I'!$O$7:$O$2976,"2", 'District I'!$B$7:$B$2976,"3") | L32: =COUNTIFS('District I'!$L$7:$L$2976,"24",'District I'!$O$7:$O$2976,"1", 'District I'!$B$7:$B$2976,"4") | M32: =COUNTIFS('District I'!$L$7:$L$2976,"24",'District I'!$O$7:$O$2976,"2", 'District I'!$B$7:$B$2976,"4") | N32: =COUNTIFS('District I'!$L$7:$L$2976,"24",'District I'!$O$7:$O$2976,"1", 'District I'!$B$7:$B$2976,"5") | O32: =COUNTIFS('District I'!$L$7:$L$2976,"24",'District I'!$O$7:$O$2976,"2", 'District I'!$B$7:$B$2976,"5") | P32: =COUNTIFS('District I'!$L$7:$L$2976,"24",'District I'!$O$7:$O$2976,"1", 'District I'!$B$7:$B$2976,"6") | Q32: =COUNTIFS('District I'!$L$7:$L$2976,"24",'District I'!$O$7:$O$2976,"2", 'District I'!$B$7:$B$2976,"6") | R32: =COUNTIFS('District I'!$L$7:$L$2976,"24",'District I'!$O$7:$O$2976,"1", 'District I'!$B$7:$B$2976,"7") | S32: =COUNTIFS('District I'!$L$7:$L$2976,"24",'District I'!$O$7:$O$2976,"2", 'District I'!$B$7:$B$2976,"7") | T32: =COUNTIFS('District I'!$L$7:$L$2976,"24",'District I'!$O$7:$O$2976,"1", 'District I'!$B$7:$B$2976,"8") | U32: =COUNTIFS('District I'!$L$7:$L$2976,"24",'District I'!$O$7:$O$2976,"2", 'District I'!$B$7:$B$2976,"8") | V32: =SUM(F32:U32) | X32: Newspaper | Y32: {=SUMPRODUCT(--(ISNUMBER(SEARCH(4,'District I'!$P$7:$P$2976))))}
A33: 25 | B33: =COUNTIF('District I'!$L$7:$L$2976,"25") | C33: =COUNTIFS('District I'!$L$7:$L$2976,"25",'District I'!$O$7:$O$2976,"1") | D33: =COUNTIFS('District I'!$L$7:$L$2976,"25",'District I'!$O$7:$O$2976,"2") | E33: =SUM(C33:D33) | F33: =COUNTIFS('District I'!$L$7:$L$2976,"25",'District I'!$O$7:$O$2976,"1", 'District I'!$B$7:$B$2976,"1") | G33: =COUNTIFS('District I'!$L$7:$L$2976,"25",'District I'!$O$7:$O$2976,"2", 'District I'!$B$7:$B$2976,"1") | H33: =COUNTIFS('District I'!$L$7:$L$2976,"25",'District I'!$O$7:$O$2976,"1", 'District I'!$B$7:$B$2976,"2") | I33: =COUNTIFS('District I'!$L$7:$L$2976,"25",'District I'!$O$7:$O$2976,"2", 'District I'!$B$7:$B$2976,"2") | J33: =COUNTIFS('District I'!$L$7:$L$2976,"25",'District I'!$O$7:$O$2976,"1", 'District I'!$B$7:$B$2976,"3") | K33: =COUNTIFS('District I'!$L$7:$L$2976,"25",'District I'!$O$7:$O$2976,"2", 'District I'!$B$7:$B$2976,"3") | L33: =COUNTIFS('District I'!$L$7:$L$2976,"25",'District I'!$O$7:$O$2976,"1", 'District I'!$B$7:$B$2976,"4") | M33: =COUNTIFS('District I'!$L$7:$L$2976,"25",'District I'!$O$7:$O$2976,"2", 'District I'!$B$7:$B$2976,"4") | N33: =COUNTIFS('District I'!$L$7:$L$2976,"25",'District I'!$O$7:$O$2976,"1", 'District I'!$B$7:$B$2976,"5") | O33: =COUNTIFS('District I'!$L$7:$L$2976,"25",'District I'!$O$7:$O$2976,"2", 'District I'!$B$7:$B$2976,"5") | P33: =COUNTIFS('District I'!$L$7:$L$2976,"25",'District I'!$O$7:$O$2976,"1", 'District I'!$B$7:$B$2976,"6") | Q33: =COUNTIFS('District I'!$L$7:$L$2976,"25",'District I'!$O$7:$O$2976,"2", 'District I'!$B$7:$B$2976,"6") | R33: =COUNTIFS('District I'!$L$7:$L$2976,"25",'District I'!$O$7:$O$2976,"1", 'District I'!$B$7:$B$2976,"7") | S33: =COUNTIFS('District I'!$L$7:$L$2976,"25",'District I'!$O$7:$O$2976,"2", 'District I'!$B$7:$B$2976,"7") | T33: =COUNTIFS('District I'!$L$7:$L$2976,"25",'District I'!$O$7:$O$2976,"1", 'District I'!$B$7:$B$2976,"8") | U33: =COUNTIFS('District I'!$L$7:$L$2976,"25",'District I'!$O$7:$O$2976,"2", 'District I'!$B$7:$B$2976,"8") | V33: =SUM(F33:U33) | X33: Municipal/ Barangay Dessimination | Y33: {=SUMPRODUCT(--(ISNUMBER(SEARCH(5,'District I'!$P$7:$P$2976))))}
A34: 26 | B34: =COUNTIF('District I'!$L$7:$L$2976,"26") | C34: =COUNTIFS('District I'!$L$7:$L$2976,"26",'District I'!$O$7:$O$2976,"1") | D34: =COUNTIFS('District I'!$L$7:$L$2976,"26",'District I'!$O$7:$O$2976,"2") | E34: =SUM(C34:D34) | F34: =COUNTIFS('District I'!$L$7:$L$2976,"26",'District I'!$O$7:$O$2976,"1", 'District I'!$B$7:$B$2976,"1") | G34: =COUNTIFS('District I'!$L$7:$L$2976,"26",'District I'!$O$7:$O$2976,"2", 'District I'!$B$7:$B$2976,"1") | H34: =COUNTIFS('District I'!$L$7:$L$2976,"26",'District I'!$O$7:$O$2976,"1", 'District I'!$B$7:$B$2976,"2") | I34: =COUNTIFS('District I'!$L$7:$L$2976,"26",'District I'!$O$7:$O$2976,"2", 'District I'!$B$7:$B$2976,"2") | J34: =COUNTIFS('District I'!$L$7:$L$2976,"26",'District I'!$O$7:$O$2976,"1", 'District I'!$B$7:$B$2976,"3") | K34: =COUNTIFS('District I'!$L$7:$L$2976,"26",'District I'!$O$7:$O$2976,"2", 'District I'!$B$7:$B$2976,"3") | L34: =COUNTIFS('District I'!$L$7:$L$2976,"26",'District I'!$O$7:$O$2976,"1", 'District I'!$B$7:$B$2976,"4") | M34: =COUNTIFS('District I'!$L$7:$L$2976,"26",'District I'!$O$7:$O$2976,"2", 'District I'!$B$7:$B$2976,"4") | N34: =COUNTIFS('District I'!$L$7:$L$2976,"26",'District I'!$O$7:$O$2976,"1", 'District I'!$B$7:$B$2976,"5") | O34: =COUNTIFS('District I'!$L$7:$L$2976,"26",'District I'!$O$7:$O$2976,"2", 'District I'!$B$7:$B$2976,"5") | P34: =COUNTIFS('District I'!$L$7:$L$2976,"26",'District I'!$O$7:$O$2976,"1", 'District I'!$B$7:$B$2976,"6") | Q34: =COUNTIFS('District I'!$L$7:$L$2976,"26",'District I'!$O$7:$O$2976,"2", 'District I'!$B$7:$B$2976,"6") | R34: =COUNTIFS('District I'!$L$7:$L$2976,"26",'District I'!$O$7:$O$2976,"1", 'District I'!$B$7:$B$2976,"7") | S34: =COUNTIFS('District I'!$L$7:$L$2976,"26",'District I'!$O$7:$O$2976,"2", 'District I'!$B$7:$B$2976,"7") | T34: =COUNTIFS('District I'!$L$7:$L$2976,"26",'District I'!$O$7:$O$2976,"1", 'District I'!$B$7:$B$2976,"8") | U34: =COUNTIFS('District I'!$L$7:$L$2976,"26",'District I'!$O$7:$O$2976,"2", 'District I'!$B$7:$B$2976,"8") | V34: =SUM(F34:U34) | X34: Hearsay | Y34: {=SUMPRODUCT(--(ISNUMBER(SEARCH(6,'District I'!$P$7:$P$2976))))}
A35: 27 | B35: =COUNTIF('District I'!$L$7:$L$2976,"27") | C35: =COUNTIFS('District I'!$L$7:$L$2976,"27",'District I'!$O$7:$O$2976,"1") | D35: =COUNTIFS('District I'!$L$7:$L$2976,"27",'District I'!$O$7:$O$2976,"2") | E35: =SUM(C35:D35) | F35: =COUNTIFS('District I'!$L$7:$L$2976,"27",'District I'!$O$7:$O$2976,"1", 'District I'!$B$7:$B$2976,"1") | G35: =COUNTIFS('District I'!$L$7:$L$2976,"27",'District I'!$O$7:$O$2976,"2", 'District I'!$B$7:$B$2976,"1") | H35: =COUNTIFS('District I'!$L$7:$L$2976,"27",'District I'!$O$7:$O$2976,"1", 'District I'!$B$7:$B$2976,"2") | I35: =COUNTIFS('District I'!$L$7:$L$2976,"27",'District I'!$O$7:$O$2976,"2", 'District I'!$B$7:$B$2976,"2") | J35: =COUNTIFS('District I'!$L$7:$L$2976,"27",'District I'!$O$7:$O$2976,"1", 'District I'!$B$7:$B$2976,"3") | K35: =COUNTIFS('District I'!$L$7:$L$2976,"27",'District I'!$O$7:$O$2976,"2", 'District I'!$B$7:$B$2976,"3") | L35: =COUNTIFS('District I'!$L$7:$L$2976,"27",'District I'!$O$7:$O$2976,"1", 'District I'!$B$7:$B$2976,"4") | M35: =COUNTIFS('District I'!$L$7:$L$2976,"27",'District I'!$O$7:$O$2976,"2", 'District I'!$B$7:$B$2976,"4") | N35: =COUNTIFS('District I'!$L$7:$L$2976,"27",'District I'!$O$7:$O$2976,"1", 'District I'!$B$7:$B$2976,"5") | O35: =COUNTIFS('District I'!$L$7:$L$2976,"27",'District I'!$O$7:$O$2976,"2", 'District I'!$B$7:$B$2976,"5") | P35: =COUNTIFS('District I'!$L$7:$L$2976,"27",'District I'!$O$7:$O$2976,"1", 'District I'!$B$7:$B$2976,"6") | Q35: =COUNTIFS('District I'!$L$7:$L$2976,"27",'District I'!$O$7:$O$2976,"2", 'District I'!$B$7:$B$2976,"6") | R35: =COUNTIFS('District I'!$L$7:$L$2976,"27",'District I'!$O$7:$O$2976,"1", 'District I'!$B$7:$B$2976,"7") | S35: =COUNTIFS('District I'!$L$7:$L$2976,"27",'District I'!$O$7:$O$2976,"2", 'District I'!$B$7:$B$2976,"7") | T35: =COUNTIFS('District I'!$L$7:$L$2976,"27",'District I'!$O$7:$O$2976,"1", 'District I'!$B$7:$B$2976,"8") | U35: =COUNTIFS('District I'!$L$7:$L$2976,"27",'District I'!$O$7:$O$2976,"2", 'District I'!$B$7:$B$2976,"8") | V35: =SUM(F35:U35) | X35: TOTAL | Y35: =SUM(Y29:Y34)
A36: 28 | B36: =COUNTIF('District I'!$L$7:$L$2976,"28") | C36: =COUNTIFS('District I'!$L$7:$L$2976,"28",'District I'!$O$7:$O$2976,"1") | D36: =COUNTIFS('District I'!$L$7:$L$2976,"28",'District I'!$O$7:$O$2976,"2") | E36: =SUM(C36:D36) | F36: =COUNTIFS('District I'!$L$7:$L$2976,"28",'District I'!$O$7:$O$2976,"1", 'District I'!$B$7:$B$2976,"1") | G36: =COUNTIFS('District I'!$L$7:$L$2976,"28",'District I'!$O$7:$O$2976,"2", 'District I'!$B$7:$B$2976,"1") | H36: =COUNTIFS('District I'!$L$7:$L$2976,"28",'District I'!$O$7:$O$2976,"1", 'District I'!$B$7:$B$2976,"2") | I36: =COUNTIFS('District I'!$L$7:$L$2976,"28",'District I'!$O$7:$O$2976,"2", 'District I'!$B$7:$B$2976,"2") | J36: =COUNTIFS('District I'!$L$7:$L$2976,"28",'District I'!$O$7:$O$2976,"1", 'District I'!$B$7:$B$2976,"3") | K36: =COUNTIFS('District I'!$L$7:$L$2976,"28",'District I'!$O$7:$O$2976,"2", 'District I'!$B$7:$B$2976,"3") | L36: =COUNTIFS('District I'!$L$7:$L$2976,"28",'District I'!$O$7:$O$2976,"1", 'District I'!$B$7:$B$2976,"4") | M36: =COUNTIFS('District I'!$L$7:$L$2976,"28",'District I'!$O$7:$O$2976,"2", 'District I'!$B$7:$B$2976,"4") | N36: =COUNTIFS('District I'!$L$7:$L$2976,"28",'District I'!$O$7:$O$2976,"1", 'District I'!$B$7:$B$2976,"5") | O36: =COUNTIFS('District I'!$L$7:$L$2976,"28",'District I'!$O$7:$O$2976,"2", 'District I'!$B$7:$B$2976,"5") | P36: =COUNTIFS('District I'!$L$7:$L$2976,"28",'District I'!$O$7:$O$2976,"1", 'District I'!$B$7:$B$2976,"6") | Q36: =COUNTIFS('District I'!$L$7:$L$2976,"28",'District I'!$O$7:$O$2976,"2", 'District I'!$B$7:$B$2976,"6") | R36: =COUNTIFS('District I'!$L$7:$L$2976,"28",'District I'!$O$7:$O$2976,"1", 'District I'!$B$7:$B$2976,"7") | S36: =COUNTIFS('District I'!$L$7:$L$2976,"28",'District I'!$O$7:$O$2976,"2", 'District I'!$B$7:$B$2976,"7") | T36: =COUNTIFS('District I'!$L$7:$L$2976,"28",'District I'!$O$7:$O$2976,"1", 'District I'!$B$7:$B$2976,"8") | U36: =COUNTIFS('District I'!$L$7:$L$2976,"28",'District I'!$O$7:$O$2976,"2", 'District I'!$B$7:$B$2976,"8") | V36: =SUM(F36:U36)
A37: 29 | B37: =COUNTIF('District I'!$L$7:$L$2976,"29") | C37: =COUNTIFS('District I'!$L$7:$L$2976,"29",'District I'!$O$7:$O$2976,"1") | D37: =COUNTIFS('District I'!$L$7:$L$2976,"29",'District I'!$O$7:$O$2976,"2") | E37: =SUM(C37:D37) | F37: =COUNTIFS('District I'!$L$7:$L$2976,"29",'District I'!$O$7:$O$2976,"1", 'District I'!$B$7:$B$2976,"1") | G37: =COUNTIFS('District I'!$L$7:$L$2976,"29",'District I'!$O$7:$O$2976,"2", 'District I'!$B$7:$B$2976,"1") | H37: =COUNTIFS('District I'!$L$7:$L$2976,"29",'District I'!$O$7:$O$2976,"1", 'District I'!$B$7:$B$2976,"2") | I37: =COUNTIFS('District I'!$L$7:$L$2976,"29",'District I'!$O$7:$O$2976,"2", 'District I'!$B$7:$B$2976,"2") | J37: =COUNTIFS('District I'!$L$7:$L$2976,"29",'District I'!$O$7:$O$2976,"1", 'District I'!$B$7:$B$2976,"3") | K37: =COUNTIFS('District I'!$L$7:$L$2976,"29",'District I'!$O$7:$O$2976,"2", 'District I'!$B$7:$B$2976,"3") | L37: =COUNTIFS('District I'!$L$7:$L$2976,"29",'District I'!$O$7:$O$2976,"1", 'District I'!$B$7:$B$2976,"4") | M37: =COUNTIFS('District I'!$L$7:$L$2976,"29",'District I'!$O$7:$O$2976,"2", 'District I'!$B$7:$B$2976,"4") | N37: =COUNTIFS('District I'!$L$7:$L$2976,"29",'District I'!$O$7:$O$2976,"1", 'District I'!$B$7:$B$2976,"5") | O37: =COUNTIFS('District I'!$L$7:$L$2976,"29",'District I'!$O$7:$O$2976,"2", 'District I'!$B$7:$B$2976,"5") | P37: =COUNTIFS('District I'!$L$7:$L$2976,"29",'District I'!$O$7:$O$2976,"1", 'District I'!$B$7:$B$2976,"6") | Q37: =COUNTIFS('District I'!$L$7:$L$2976,"29",'District I'!$O$7:$O$2976,"2", 'District I'!$B$7:$B$2976,"6") | R37: =COUNTIFS('District I'!$L$7:$L$2976,"29",'District I'!$O$7:$O$2976,"1", 'District I'!$B$7:$B$2976,"7") | S37: =COUNTIFS('District I'!$L$7:$L$2976,"29",'District I'!$O$7:$O$2976,"2", 'District I'!$B$7:$B$2976,"7") | T37: =COUNTIFS('District I'!$L$7:$L$2976,"29",'District I'!$O$7:$O$2976,"1", 'District I'!$B$7:$B$2976,"8") | U37: =COUNTIFS('District I'!$L$7:$L$2976,"29",'District I'!$O$7:$O$2976,"2", 'District I'!$B$7:$B$2976,"8") | V37: =SUM(F37:U37)
A38: 30 | B38: =COUNTIF('District I'!$L$7:$L$2976,"30") | C38: =COUNTIFS('District I'!$L$7:$L$2976,"30",'District I'!$O$7:$O$2976,"1") | D38: =COUNTIFS('District I'!$L$7:$L$2976,"30",'District I'!$O$7:$O$2976,"2") | E38: =SUM(C38:D38) | F38: =COUNTIFS('District I'!$L$7:$L$2976,"30",'District I'!$O$7:$O$2976,"1", 'District I'!$B$7:$B$2976,"1") | G38: =COUNTIFS('District I'!$L$7:$L$2976,"30",'District I'!$O$7:$O$2976,"2", 'District I'!$B$7:$B$2976,"1") | H38: =COUNTIFS('District I'!$L$7:$L$2976,"30",'District I'!$O$7:$O$2976,"1", 'District I'!$B$7:$B$2976,"2") | I38: =COUNTIFS('District I'!$L$7:$L$2976,"30",'District I'!$O$7:$O$2976,"2", 'District I'!$B$7:$B$2976,"2") | J38: =COUNTIFS('District I'!$L$7:$L$2976,"30",'District I'!$O$7:$O$2976,"1", 'District I'!$B$7:$B$2976,"3") | K38: =COUNTIFS('District I'!$L$7:$L$2976,"30",'District I'!$O$7:$O$2976,"2", 'District I'!$B$7:$B$2976,"3") | L38: =COUNTIFS('District I'!$L$7:$L$2976,"30",'District I'!$O$7:$O$2976,"1", 'District I'!$B$7:$B$2976,"4") | M38: =COUNTIFS('District I'!$L$7:$L$2976,"30",'District I'!$O$7:$O$2976,"2", 'District I'!$B$7:$B$2976,"4") | N38: =COUNTIFS('District I'!$L$7:$L$2976,"30",'District I'!$O$7:$O$2976,"1", 'District I'!$B$7:$B$2976,"5") | O38: =COUNTIFS('District I'!$L$7:$L$2976,"30",'District I'!$O$7:$O$2976,"2", 'District I'!$B$7:$B$2976,"5") | P38: =COUNTIFS('District I'!$L$7:$L$2976,"30",'District I'!$O$7:$O$2976,"1", 'District I'!$B$7:$B$2976,"6") | Q38: =COUNTIFS('District I'!$L$7:$L$2976,"30",'District I'!$O$7:$O$2976,"2", 'District I'!$B$7:$B$2976,"6") | R38: =COUNTIFS('District I'!$L$7:$L$2976,"30",'District I'!$O$7:$O$2976,"1", 'District I'!$B$7:$B$2976,"7") | S38: =COUNTIFS('District I'!$L$7:$L$2976,"30",'District I'!$O$7:$O$2976,"2", 'District I'!$B$7:$B$2976,"7") | T38: =COUNTIFS('District I'!$L$7:$L$2976,"30",'District I'!$O$7:$O$2976,"1", 'District I'!$B$7:$B$2976,"8 ") | U38: =COUNTIFS('District I'!$L$7:$L$2976,"30",'District I'!$O$7:$O$2976,"2", 'District I'!$B$7:$B$2976,"8") | V38: =SUM(F38:U38)
A39: 31 | B39: =COUNTIF('District I'!$L$7:$L$2976,"31") | C39: =COUNTIFS('District I'!$L$7:$L$2976,"31",'District I'!$O$7:$O$2976,"1") | D39: =COUNTIFS('District I'!$L$7:$L$2976,"31",'District I'!$O$7:$O$2976,"2") | E39: =SUM(C39:D39) | F39: =COUNTIFS('District I'!$L$7:$L$2976,"31",'District I'!$O$7:$O$2976,"1", 'District I'!$B$7:$B$2976,"1") | G39: =COUNTIFS('District I'!$L$7:$L$2976,"31",'District I'!$O$7:$O$2976,"2", 'District I'!$B$7:$B$2976,"1") | H39: =COUNTIFS('District I'!$L$7:$L$2976,"31",'District I'!$O$7:$O$2976,"1", 'District I'!$B$7:$B$2976,"2") | I39: =COUNTIFS('District I'!$L$7:$L$2976,"31",'District I'!$O$7:$O$2976,"2", 'District I'!$B$7:$B$2976,"2") | J39: =COUNTIFS('District I'!$L$7:$L$2976,"31",'District I'!$O$7:$O$2976,"1", 'District I'!$B$7:$B$2976,"3") | K39: =COUNTIFS('District I'!$L$7:$L$2976,"31",'District I'!$O$7:$O$2976,"2", 'District I'!$B$7:$B$2976,"3") | L39: =COUNTIFS('District I'!$L$7:$L$2976,"31",'District I'!$O$7:$O$2976,"1", 'District I'!$B$7:$B$2976,"4") | M39: =COUNTIFS('District I'!$L$7:$L$2976,"31",'District I'!$O$7:$O$2976,"2", 'District I'!$B$7:$B$2976,"4") | N39: =COUNTIFS('District I'!$L$7:$L$2976,"31",'District I'!$O$7:$O$2976,"1", 'District I'!$B$7:$B$2976,"5") | O39: =COUNTIFS('District I'!$L$7:$L$2976,"31",'District I'!$O$7:$O$2976,"2", 'District I'!$B$7:$B$2976,"5") | P39: =COUNTIFS('District I'!$L$7:$L$2976,"31",'District I'!$O$7:$O$2976,"1", 'District I'!$B$7:$B$2976,"6") | Q39: =COUNTIFS('District I'!$L$7:$L$2976,"31",'District I'!$O$7:$O$2976,"2", 'District I'!$B$7:$B$2976,"6") | R39: =COUNTIFS('District I'!$L$7:$L$2976,"31",'District I'!$O$7:$O$2976,"1", 'District I'!$B$7:$B$2976,"7") | S39: =COUNTIFS('District I'!$L$7:$L$2976,"31",'District I'!$O$7:$O$2976,"2", 'District I'!$B$7:$B$2976,"7") | T39: =COUNTIFS('District I'!$L$7:$L$2976,"31",'District I'!$O$7:$O$2976,"1", 'District I'!$B$7:$B$2976,"8") | U39: =COUNTIFS('District I'!$L$7:$L$2976,"31",'District I'!$O$7:$O$2976,"2", 'District I'!$B$7:$B$2976,"8") | V39: =SUM(F39:U39)
A40: 32 | B40: =COUNTIF('District I'!$L$7:$L$2976,"32") | C40: =COUNTIFS('District I'!$L$7:$L$2976,"32",'District I'!$O$7:$O$2976,"1") | D40: =COUNTIFS('District I'!$L$7:$L$2976,"32",'District I'!$O$7:$O$2976,"2") | E40: =SUM(C40:D40) | F40: =COUNTIFS('District I'!$L$7:$L$2976,"32",'District I'!$O$7:$O$2976,"1", 'District I'!$B$7:$B$2976,"1") | G40: =COUNTIFS('District I'!$L$7:$L$2976,"32",'District I'!$O$7:$O$2976,"2", 'District I'!$B$7:$B$2976,"1") | H40: =COUNTIFS('District I'!$L$7:$L$2976,"32",'District I'!$O$7:$O$2976,"1", 'District I'!$B$7:$B$2976,"2") | I40: =COUNTIFS('District I'!$L$7:$L$2976,"32",'District I'!$O$7:$O$2976,"2", 'District I'!$B$7:$B$2976,"2") | J40: =COUNTIFS('District I'!$L$7:$L$2976,"32",'District I'!$O$7:$O$2976,"1", 'District I'!$B$7:$B$2976,"3") | K40: =COUNTIFS('District I'!$L$7:$L$2976,"32",'District I'!$O$7:$O$2976,"2", 'District I'!$B$7:$B$2976,"3") | L40: =COUNTIFS('District I'!$L$7:$L$2976,"32",'District I'!$O$7:$O$2976,"1", 'District I'!$B$7:$B$2976,"4") | M40: =COUNTIFS('District I'!$L$7:$L$2976,"32",'District I'!$O$7:$O$2976,"2", 'District I'!$B$7:$B$2976,"4") | N40: =COUNTIFS('District I'!$L$7:$L$2976,"32",'District I'!$O$7:$O$2976,"1", 'District I'!$B$7:$B$2976,"5") | O40: =COUNTIFS('District I'!$L$7:$L$2976,"32",'District I'!$O$7:$O$2976,"2", 'District I'!$B$7:$B$2976,"5") | P40: =COUNTIFS('District I'!$L$7:$L$2976,"32",'District I'!$O$7:$O$2976,"1", 'District I'!$B$7:$B$2976,"6") | Q40: =COUNTIFS('District I'!$L$7:$L$2976,"32",'District I'!$O$7:$O$2976,"2", 'District I'!$B$7:$B$2976,"6") | R40: =COUNTIFS('District I'!$L$7:$L$2976,"32",'District I'!$O$7:$O$2976,"1", 'District I'!$B$7:$B$2976,"7") | S40: =COUNTIFS('District I'!$L$7:$L$2976,"32",'District I'!$O$7:$O$2976,"2", 'District I'!$B$7:$B$2976,"7") | T40: =COUNTIFS('District I'!$L$7:$L$2976,"32",'District I'!$O$7:$O$2976,"1", 'District I'!$B$7:$B$2976,"8") | U40: =COUNTIFS('District I'!$L$7:$L$2976,"32",'District I'!$O$7:$O$2976,"2", 'District I'!$B$7:$B$2976,"8") | V40: =SUM(F40:U40)
A41: 33 | B41: =COUNTIF('District I'!$L$7:$L$2976,"33") | C41: =COUNTIFS('District I'!$L$7:$L$2976,"33",'District I'!$O$7:$O$2976,"1") | D41: =COUNTIFS('District I'!$L$7:$L$2976,"33",'District I'!$O$7:$O$2976,"2") | E41: =SUM(C41:D41) | F41: =COUNTIFS('District I'!$L$7:$L$2976,"33",'District I'!$O$7:$O$2976,"1", 'District I'!$B$7:$B$2976,"1") | G41: =COUNTIFS('District I'!$L$7:$L$2976,"33",'District I'!$O$7:$O$2976,"2", 'District I'!$B$7:$B$2976,"1") | H41: =COUNTIFS('District I'!$L$7:$L$2976,"33",'District I'!$O$7:$O$2976,"1", 'District I'!$B$7:$B$2976,"2") | I41: =COUNTIFS('District I'!$L$7:$L$2976,"33",'District I'!$O$7:$O$2976,"2", 'District I'!$B$7:$B$2976,"2") | J41: =COUNTIFS('District I'!$L$7:$L$2976,"33",'District I'!$O$7:$O$2976,"1", 'District I'!$B$7:$B$2976,"3") | K41: =COUNTIFS('District I'!$L$7:$L$2976,"33",'District I'!$O$7:$O$2976,"2", 'District I'!$B$7:$B$2976,"3") | L41: =COUNTIFS('District I'!$L$7:$L$2976,"33",'District I'!$O$7:$O$2976,"1", 'District I'!$B$7:$B$2976,"4") | M41: =COUNTIFS('District I'!$L$7:$L$2976,"33",'District I'!$O$7:$O$2976,"2", 'District I'!$B$7:$B$2976,"4") | N41: =COUNTIFS('District I'!$L$7:$L$2976,"33",'District I'!$O$7:$O$2976,"1", 'District I'!$B$7:$B$2976,"5") | O41: =COUNTIFS('District I'!$L$7:$L$2976,"33",'District I'!$O$7:$O$2976,"2", 'District I'!$B$7:$B$2976,"5") | P41: =COUNTIFS('District I'!$L$7:$L$2976,"33",'District I'!$O$7:$O$2976,"1", 'District I'!$B$7:$B$2976,"6") | Q41: =COUNTIFS('District I'!$L$7:$L$2976,"33",'District I'!$O$7:$O$2976,"2", 'District I'!$B$7:$B$2976,"6") | R41: =COUNTIFS('District I'!$L$7:$L$2976,"33",'District I'!$O$7:$O$2976,"1", 'District I'!$B$7:$B$2976,"7") | S41: =COUNTIFS('District I'!$L$7:$L$2976,"33",'District I'!$O$7:$O$2976,"2", 'District I'!$B$7:$B$2976,"7") | T41: =COUNTIFS('District I'!$L$7:$L$2976,"33",'District I'!$O$7:$O$2976,"1", 'District I'!$B$7:$B$2976,"8") | U41: =COUNTIFS('District I'!$L$7:$L$2976,"33",'District I'!$O$7:$O$2976,"2", 'District I'!$B$7:$B$2976,"8") | V41: =SUM(F41:U41)
A42: 34 | B42: =COUNTIF('District I'!$L$7:$L$2976,"34") | C42: =COUNTIFS('District I'!$L$7:$L$2976,"34",'District I'!$O$7:$O$2976,"1") | D42: =COUNTIFS('District I'!$L$7:$L$2976,"34",'District I'!$O$7:$O$2976,"2") | E42: =SUM(C42:D42) | F42: =COUNTIFS('District I'!$L$7:$L$2976,"34",'District I'!$O$7:$O$2976,"1", 'District I'!$B$7:$B$2976,"1") | G42: =COUNTIFS('District I'!$L$7:$L$2976,"34",'District I'!$O$7:$O$2976,"2", 'District I'!$B$7:$B$2976,"1") | H42: =COUNTIFS('District I'!$L$7:$L$2976,"34",'District I'!$O$7:$O$2976,"1", 'District I'!$B$7:$B$2976,"2") | I42: =COUNTIFS('District I'!$L$7:$L$2976,"34",'District I'!$O$7:$O$2976,"2", 'District I'!$B$7:$B$2976,"2") | J42: =COUNTIFS('District I'!$L$7:$L$2976,"34",'District I'!$O$7:$O$2976,"1", 'District I'!$B$7:$B$2976,"3") | K42: =COUNTIFS('District I'!$L$7:$L$2976,"34",'District I'!$O$7:$O$2976,"2", 'District I'!$B$7:$B$2976,"3") | L42: =COUNTIFS('District I'!$L$7:$L$2976,"34",'District I'!$O$7:$O$2976,"1", 'District I'!$B$7:$B$2976,"4") | M42: =COUNTIFS('District I'!$L$7:$L$2976,"34",'District I'!$O$7:$O$2976,"2", 'District I'!$B$7:$B$2976,"4") | N42: =COUNTIFS('District I'!$L$7:$L$2976,"34",'District I'!$O$7:$O$2976,"1", 'District I'!$B$7:$B$2976,"5") | O42: =COUNTIFS('District I'!$L$7:$L$2976,"34",'District I'!$O$7:$O$2976,"2", 'District I'!$B$7:$B$2976,"5") | P42: =COUNTIFS('District I'!$L$7:$L$2976,"34",'District I'!$O$7:$O$2976,"1", 'District I'!$B$7:$B$2976,"6") | Q42: =COUNTIFS('District I'!$L$7:$L$2976,"34",'District I'!$O$7:$O$2976,"2", 'District I'!$B$7:$B$2976,"6") | R42: =COUNTIFS('District I'!$L$7:$L$2976,"34",'District I'!$O$7:$O$2976,"1", 'District I'!$B$7:$B$2976,"7") | S42: =COUNTIFS('District I'!$L$7:$L$2976,"34",'District I'!$O$7:$O$2976,"2", 'District I'!$B$7:$B$2976,"7") | T42: =COUNTIFS('District I'!$L$7:$L$2976,"34",'District I'!$O$7:$O$2976,"1", 'District I'!$B$7:$B$2976,"8") | U42: =COUNTIFS('District I'!$L$7:$L$2976,"34",'District I'!$O$7:$O$2976,"2", 'District I'!$B$7:$B$2976,"8") | V42: =SUM(F42:U42)
A43: 35 | B43: =COUNTIF('District I'!$L$7:$L$2976,"35") | C43: =COUNTIFS('District I'!$L$7:$L$2976,"35",'District I'!$O$7:$O$2976,"1") | D43: =COUNTIFS('District I'!$L$7:$L$2976,"35",'District I'!$O$7:$O$2976,"2") | E43: =SUM(C43:D43) | F43: =COUNTIFS('District I'!$L$7:$L$2976,"35",'District I'!$O$7:$O$2976,"1", 'District I'!$B$7:$B$2976,"1") | G43: =COUNTIFS('District I'!$L$7:$L$2976,"35",'District I'!$O$7:$O$2976,"2", 'District I'!$B$7:$B$2976,"1") | H43: =COUNTIFS('District I'!$L$7:$L$2976,"35",'District I'!$O$7:$O$2976,"1", 'District I'!$B$7:$B$2976,"2") | I43: =COUNTIFS('District I'!$L$7:$L$2976,"35",'District I'!$O$7:$O$2976,"2", 'District I'!$B$7:$B$2976,"2") | J43: =COUNTIFS('District I'!$L$7:$L$2976,"35",'District I'!$O$7:$O$2976,"1", 'District I'!$B$7:$B$2976,"3") | K43: =COUNTIFS('District I'!$L$7:$L$2976,"35",'District I'!$O$7:$O$2976,"2", 'District I'!$B$7:$B$2976,"3") | L43: =COUNTIFS('District I'!$L$7:$L$2976,"35",'District I'!$O$7:$O$2976,"1", 'District I'!$B$7:$B$2976,"4") | M43: =COUNTIFS('District I'!$L$7:$L$2976,"35",'District I'!$O$7:$O$2976,"2", 'District I'!$B$7:$B$2976,"4") | N43: =COUNTIFS('District I'!$L$7:$L$2976,"35",'District I'!$O$7:$O$2976,"1", 'District I'!$B$7:$B$2976,"5") | O43: =COUNTIFS('District I'!$L$7:$L$2976,"35",'District I'!$O$7:$O$2976,"2", 'District I'!$B$7:$B$2976,"5") | P43: =COUNTIFS('District I'!$L$7:$L$2976,"35",'District I'!$O$7:$O$2976,"1", 'District I'!$B$7:$B$2976,"6") | Q43: =COUNTIFS('District I'!$L$7:$L$2976,"35",'District I'!$O$7:$O$2976,"2", 'District I'!$B$7:$B$2976,"6") | R43: =COUNTIFS('District I'!$L$7:$L$2976,"35",'District I'!$O$7:$O$2976,"1", 'District I'!$B$7:$B$2976,"7") | S43: =COUNTIFS('District I'!$L$7:$L$2976,"35",'District I'!$O$7:$O$2976,"2", 'District I'!$B$7:$B$2976,"7") | T43: =COUNTIFS('District I'!$L$7:$L$2976,"35",'District I'!$O$7:$O$2976,"1", 'District I'!$B$7:$B$2976,"8") | U43: =COUNTIFS('District I'!$L$7:$L$2976,"35",'District I'!$O$7:$O$2976,"2", 'District I'!$B$7:$B$2976,"8") | V43: =SUM(F43:U43)
A44: 36 | B44: =COUNTIF('District I'!$L$7:$L$2976,"36") | C44: =COUNTIFS('District I'!$L$7:$L$2976,"36",'District I'!$O$7:$O$2976,"1") | D44: =COUNTIFS('District I'!$L$7:$L$2976,"36",'District I'!$O$7:$O$2976,"2") | E44: =SUM(C44:D44) | F44: =COUNTIFS('District I'!$L$7:$L$2976,"36",'District I'!$O$7:$O$2976,"1", 'District I'!$B$7:$B$2976,"1") | G44: =COUNTIFS('District I'!$L$7:$L$2976,"36",'District I'!$O$7:$O$2976,"2", 'District I'!$B$7:$B$2976,"1") | H44: =COUNTIFS('District I'!$L$7:$L$2976,"36",'District I'!$O$7:$O$2976,"1", 'District I'!$B$7:$B$2976,"2") | I44: =COUNTIFS('District I'!$L$7:$L$2976,"36",'District I'!$O$7:$O$2976,"2", 'District I'!$B$7:$B$2976,"2") | J44: =COUNTIFS('District I'!$L$7:$L$2976,"36",'District I'!$O$7:$O$2976,"1", 'District I'!$B$7:$B$2976,"3") | K44: =COUNTIFS('District I'!$L$7:$L$2976,"36",'District I'!$O$7:$O$2976,"2", 'District I'!$B$7:$B$2976,"3") | L44: =COUNTIFS('District I'!$L$7:$L$2976,"36",'District I'!$O$7:$O$2976,"1", 'District I'!$B$7:$B$2976,"4") | M44: =COUNTIFS('District I'!$L$7:$L$2976,"36",'District I'!$O$7:$O$2976,"2", 'District I'!$B$7:$B$2976,"4") | N44: =COUNTIFS('District I'!$L$7:$L$2976,"36",'District I'!$O$7:$O$2976,"1", 'District I'!$B$7:$B$2976,"5") | O44: =COUNTIFS('District I'!$L$7:$L$2976,"36",'District I'!$O$7:$O$2976,"2", 'District I'!$B$7:$B$2976,"5") | P44: =COUNTIFS('District I'!$L$7:$L$2976,"36",'District I'!$O$7:$O$2976,"1", 'District I'!$B$7:$B$2976,"6") | Q44: =COUNTIFS('District I'!$L$7:$L$2976,"36",'District I'!$O$7:$O$2976,"2", 'District I'!$B$7:$B$2976,"6") | R44: =COUNTIFS('District I'!$L$7:$L$2976,"36",'District I'!$O$7:$O$2976,"1", 'District I'!$B$7:$B$2976,"7") | S44: =COUNTIFS('District I'!$L$7:$L$2976,"36",'District I'!$O$7:$O$2976,"2", 'District I'!$B$7:$B$2976,"7") | T44: =COUNTIFS('District I'!$L$7:$L$2976,"36",'District I'!$O$7:$O$2976,"1", 'District I'!$B$7:$B$2976,"8") | U44: =COUNTIFS('District I'!$L$7:$L$2976,"36",'District I'!$O$7:$O$2976,"2", 'District I'!$B$7:$B$2976,"8") | V44: =SUM(F44:U44)
A45: 37 | B45: =COUNTIF('District I'!$L$7:$L$2976,"37") | C45: =COUNTIFS('District I'!$L$7:$L$2976,"37",'District I'!$O$7:$O$2976,"1") | D45: =COUNTIFS('District I'!$L$7:$L$2976,"37",'District I'!$O$7:$O$2976,"2") | E45: =SUM(C45:D45) | F45: =COUNTIFS('District I'!$L$7:$L$2976,"37",'District I'!$O$7:$O$2976,"1", 'District I'!$B$7:$B$2976,"1") | G45: =COUNTIFS('District I'!$L$7:$L$2976,"37",'District I'!$O$7:$O$2976,"2", 'District I'!$B$7:$B$2976,"1") | H45: =COUNTIFS('District I'!$L$7:$L$2976,"37",'District I'!$O$7:$O$2976,"1", 'District I'!$B$7:$B$2976,"2") | I45: =COUNTIFS('District I'!$L$7:$L$2976,"37",'District I'!$O$7:$O$2976,"2", 'District I'!$B$7:$B$2976,"2") | J45: =COUNTIFS('District I'!$L$7:$L$2976,"37",'District I'!$O$7:$O$2976,"1", 'District I'!$B$7:$B$2976,"3") | K45: =COUNTIFS('District I'!$L$7:$L$2976,"37",'District I'!$O$7:$O$2976,"2", 'District I'!$B$7:$B$2976,"3") | L45: =COUNTIFS('District I'!$L$7:$L$2976,"37",'District I'!$O$7:$O$2976,"1", 'District I'!$B$7:$B$2976,"4") | M45: =COUNTIFS('District I'!$L$7:$L$2976,"37",'District I'!$O$7:$O$2976,"2", 'District I'!$B$7:$B$2976,"4") | N45: =COUNTIFS('District I'!$L$7:$L$2976,"37",'District I'!$O$7:$O$2976,"1", 'District I'!$B$7:$B$2976,"5") | O45: =COUNTIFS('District I'!$L$7:$L$2976,"37",'District I'!$O$7:$O$2976,"2", 'District I'!$B$7:$B$2976,"5") | P45: =COUNTIFS('District I'!$L$7:$L$2976,"37",'District I'!$O$7:$O$2976,"1", 'District I'!$B$7:$B$2976,"6") | Q45: =COUNTIFS('District I'!$L$7:$L$2976,"37",'District I'!$O$7:$O$2976,"2", 'District I'!$B$7:$B$2976,"6") | R45: =COUNTIFS('District I'!$L$7:$L$2976,"37",'District I'!$O$7:$O$2976,"1", 'District I'!$B$7:$B$2976,"7") | S45: =COUNTIFS('District I'!$L$7:$L$2976,"37",'District I'!$O$7:$O$2976,"2", 'District I'!$B$7:$B$2976,"7") | T45: =COUNTIFS('District I'!$L$7:$L$2976,"37",'District I'!$O$7:$O$2976,"1", 'District I'!$B$7:$B$2976,"8") | U45: =COUNTIFS('District I'!$L$7:$L$2976,"37",'District I'!$O$7:$O$2976,"2", 'District I'!$B$7:$B$2976,"8") | V45: =SUM(F45:U45)
A46: 38 | B46: =COUNTIF('District I'!$L$7:$L$2976,"38") | C46: =COUNTIFS('District I'!$L$7:$L$2976,"38",'District I'!$O$7:$O$2976,"1") | D46: =COUNTIFS('District I'!$L$7:$L$2976,"38",'District I'!$O$7:$O$2976,"2") | E46: =SUM(C46:D46) | F46: =COUNTIFS('District I'!$L$7:$L$2976,"38",'District I'!$O$7:$O$2976,"1", 'District I'!$B$7:$B$2976,"1") | G46: =COUNTIFS('District I'!$L$7:$L$2976,"38",'District I'!$O$7:$O$2976,"2", 'District I'!$B$7:$B$2976,"1") | H46: =COUNTIFS('District I'!$L$7:$L$2976,"38",'District I'!$O$7:$O$2976,"1", 'District I'!$B$7:$B$2976,"2") | I46: =COUNTIFS('District I'!$L$7:$L$2976,"38",'District I'!$O$7:$O$2976,"2", 'District I'!$B$7:$B$2976,"2") | J46: =COUNTIFS('District I'!$L$7:$L$2976,"38",'District I'!$O$7:$O$2976,"1", 'District I'!$B$7:$B$2976,"3") | K46: =COUNTIFS('District I'!$L$7:$L$2976,"38",'District I'!$O$7:$O$2976,"2", 'District I'!$B$7:$B$2976,"3") | L46: =COUNTIFS('District I'!$L$7:$L$2976,"38",'District I'!$O$7:$O$2976,"1", 'District I'!$B$7:$B$2976,"4") | M46: =COUNTIFS('District I'!$L$7:$L$2976,"38",'District I'!$O$7:$O$2976,"2", 'District I'!$B$7:$B$2976,"4") | N46: =COUNTIFS('District I'!$L$7:$L$2976,"38",'District I'!$O$7:$O$2976,"1", 'District I'!$B$7:$B$2976,"5") | O46: =COUNTIFS('District I'!$L$7:$L$2976,"38",'District I'!$O$7:$O$2976,"2", 'District I'!$B$7:$B$2976,"5") | P46: =COUNTIFS('District I'!$L$7:$L$2976,"38",'District I'!$O$7:$O$2976,"1", 'District I'!$B$7:$B$2976,"6") | Q46: =COUNTIFS('District I'!$L$7:$L$2976,"38",'District I'!$O$7:$O$2976,"2", 'District I'!$B$7:$B$2976,"6") | R46: =COUNTIFS('District I'!$L$7:$L$2976,"38",'District I'!$O$7:$O$2976,"1", 'District I'!$B$7:$B$2976,"7") | S46: =COUNTIFS('District I'!$L$7:$L$2976,"38",'District I'!$O$7:$O$2976,"2", 'District I'!$B$7:$B$2976,"7") | T46: =COUNTIFS('District I'!$L$7:$L$2976,"38",'District I'!$O$7:$O$2976,"1", 'District I'!$B$7:$B$2976,"8") | U46: =COUNTIFS('District I'!$L$7:$L$2976,"38",'District I'!$O$7:$O$2976,"2", 'District I'!$B$7:$B$2976,"8") | V46: =SUM(F46:U46)
A47: 39 | B47: =COUNTIF('District I'!$L$7:$L$2976,"39") | C47: =COUNTIFS('District I'!$L$7:$L$2976,"39",'District I'!$O$7:$O$2976,"1") | D47: =COUNTIFS('District I'!$L$7:$L$2976,"39",'District I'!$O$7:$O$2976,"2") | E47: =SUM(C47:D47) | F47: =COUNTIFS('District I'!$L$7:$L$2976,"39",'District I'!$O$7:$O$2976,"1", 'District I'!$B$7:$B$2976,"1") | G47: =COUNTIFS('District I'!$L$7:$L$2976,"39",'District I'!$O$7:$O$2976,"2", 'District I'!$B$7:$B$2976,"1") | H47: =COUNTIFS('District I'!$L$7:$L$2976,"39",'District I'!$O$7:$O$2976,"1", 'District I'!$B$7:$B$2976,"2") | I47: =COUNTIFS('District I'!$L$7:$L$2976,"39",'District I'!$O$7:$O$2976,"2", 'District I'!$B$7:$B$2976,"12") | J47: =COUNTIFS('District I'!$L$7:$L$2976,"39",'District I'!$O$7:$O$2976,"1", 'District I'!$B$7:$B$2976,"3") | K47: =COUNTIFS('District I'!$L$7:$L$2976,"39",'District I'!$O$7:$O$2976,"2", 'District I'!$B$7:$B$2976,"3") | L47: =COUNTIFS('District I'!$L$7:$L$2976,"39",'District I'!$O$7:$O$2976,"1", 'District I'!$B$7:$B$2976,"4") | M47: =COUNTIFS('District I'!$L$7:$L$2976,"39",'District I'!$O$7:$O$2976,"2", 'District I'!$B$7:$B$2976,"4") | N47: =COUNTIFS('District I'!$L$7:$L$2976,"39",'District I'!$O$7:$O$2976,"1", 'District I'!$B$7:$B$2976,"5") | O47: =COUNTIFS('District I'!$L$7:$L$2976,"39",'District I'!$O$7:$O$2976,"2", 'District I'!$B$7:$B$2976,"5") | P47: =COUNTIFS('District I'!$L$7:$L$2976,"39",'District I'!$O$7:$O$2976,"1", 'District I'!$B$7:$B$2976,"6") | Q47: =COUNTIFS('District I'!$L$7:$L$2976,"39",'District I'!$O$7:$O$2976,"2", 'District I'!$B$7:$B$2976,"6") | R47: =COUNTIFS('District I'!$L$7:$L$2976,"39",'District I'!$O$7:$O$2976,"1", 'District I'!$B$7:$B$2976,"7") | S47: =COUNTIFS('District I'!$L$7:$L$2976,"39",'District I'!$O$7:$O$2976,"2", 'District I'!$B$7:$B$2976,"7") | T47: =COUNTIFS('District I'!$L$7:$L$2976,"39",'District I'!$O$7:$O$2976,"1", 'District I'!$B$7:$B$2976,"8") | U47: =COUNTIFS('District I'!$L$7:$L$2976,"39",'District I'!$O$7:$O$2976,"2", 'District I'!$B$7:$B$2976,"8") | V47: =SUM(F47:U47)
A48: 40 | B48: =COUNTIF('District I'!$L$7:$L$2976,"40") | C48: =COUNTIFS('District I'!$L$7:$L$2976,"40",'District I'!$O$7:$O$2976,"1") | D48: =COUNTIFS('District I'!$L$7:$L$2976,"40",'District I'!$O$7:$O$2976,"2") | E48: =SUM(C48:D48) | F48: =COUNTIFS('District I'!$L$7:$L$2976,"40",'District I'!$O$7:$O$2976,"1", 'District I'!$B$7:$B$2976,"1") | G48: =COUNTIFS('District I'!$L$7:$L$2976,"40",'District I'!$O$7:$O$2976,"2", 'District I'!$B$7:$B$2976,"1") | H48: =COUNTIFS('District I'!$L$7:$L$2976,"40",'District I'!$O$7:$O$2976,"1", 'District I'!$B$7:$B$2976,"2") | I48: =COUNTIFS('District I'!$L$7:$L$2976,"40",'District I'!$O$7:$O$2976,"2", 'District I'!$B$7:$B$2976,"2") | J48: =COUNTIFS('District I'!$L$7:$L$2976,"40",'District I'!$O$7:$O$2976,"1", 'District I'!$B$7:$B$2976,"3") | K48: =COUNTIFS('District I'!$L$7:$L$2976,"40",'District I'!$O$7:$O$2976,"2", 'District I'!$B$7:$B$2976,"3") | L48: =COUNTIFS('District I'!$L$7:$L$2976,"40",'District I'!$O$7:$O$2976,"1", 'District I'!$B$7:$B$2976,"4") | M48: =COUNTIFS('District I'!$L$7:$L$2976,"40",'District I'!$O$7:$O$2976,"2", 'District I'!$B$7:$B$2976,"4") | N48: =COUNTIFS('District I'!$L$7:$L$2976,"40",'District I'!$O$7:$O$2976,"1", 'District I'!$B$7:$B$2976,"5") | O48: =COUNTIFS('District I'!$L$7:$L$2976,"40",'District I'!$O$7:$O$2976,"2", 'District I'!$B$7:$B$2976,"5") | P48: =COUNTIFS('District I'!$L$7:$L$2976,"40",'District I'!$O$7:$O$2976,"1", 'District I'!$B$7:$B$2976,"6") | Q48: =COUNTIFS('District I'!$L$7:$L$2976,"40",'District I'!$O$7:$O$2976,"2", 'District I'!$B$7:$B$2976,"6") | R48: =COUNTIFS('District I'!$L$7:$L$2976,"40",'District I'!$O$7:$O$2976,"1", 'District I'!$B$7:$B$2976,"7") | S48: =COUNTIFS('District I'!$L$7:$L$2976,"40",'District I'!$O$7:$O$2976,"2", 'District I'!$B$7:$B$2976,"7") | T48: =COUNTIFS('District I'!$L$7:$L$2976,"40",'District I'!$O$7:$O$2976,"1", 'District I'!$B$7:$B$2976,"8") | U48: =COUNTIFS('District I'!$L$7:$L$2976,"40",'District I'!$O$7:$O$2976,"2", 'District I'!$B$7:$B$2976,"8") | V48: =SUM(F48:U48)
A49: 41 | B49: =COUNTIF('District I'!$L$7:$L$2976,"41") | C49: =COUNTIFS('District I'!$L$7:$L$2976,"41",'District I'!$O$7:$O$2976,"1") | D49: =COUNTIFS('District I'!$L$7:$L$2976,"41",'District I'!$O$7:$O$2976,"2") | E49: =SUM(C49:D49) | F49: =COUNTIFS('District I'!$L$7:$L$2976,"41",'District I'!$O$7:$O$2976,"1", 'District I'!$B$7:$B$2976,"1") | G49: =COUNTIFS('District I'!$L$7:$L$2976,"41",'District I'!$O$7:$O$2976,"2", 'District I'!$B$7:$B$2976,"1") | H49: =COUNTIFS('District I'!$L$7:$L$2976,"41",'District I'!$O$7:$O$2976,"1", 'District I'!$B$7:$B$2976,"2") | I49: =COUNTIFS('District I'!$L$7:$L$2976,"41",'District I'!$O$7:$O$2976,"2", 'District I'!$B$7:$B$2976,"2") | J49: =COUNTIFS('District I'!$L$7:$L$2976,"41",'District I'!$O$7:$O$2976,"1", 'District I'!$B$7:$B$2976,"3") | K49: =COUNTIFS('District I'!$L$7:$L$2976,"41",'District I'!$O$7:$O$2976,"2", 'District I'!$B$7:$B$2976,"3") | L49: =COUNTIFS('District I'!$L$7:$L$2976,"41",'District I'!$O$7:$O$2976,"1", 'District I'!$B$7:$B$2976,"4") | M49: =COUNTIFS('District I'!$L$7:$L$2976,"41",'District I'!$O$7:$O$2976,"2", 'District I'!$B$7:$B$2976,"4") | N49: =COUNTIFS('District I'!$L$7:$L$2976,"41",'District I'!$O$7:$O$2976,"1", 'District I'!$B$7:$B$2976,"5") | O49: =COUNTIFS('District I'!$L$7:$L$2976,"41",'District I'!$O$7:$O$2976,"2", 'District I'!$B$7:$B$2976,"5") | P49: =COUNTIFS('District I'!$L$7:$L$2976,"41",'District I'!$O$7:$O$2976,"1", 'District I'!$B$7:$B$2976,"6") | Q49: =COUNTIFS('District I'!$L$7:$L$2976,"41",'District I'!$O$7:$O$2976,"2", 'District I'!$B$7:$B$2976,"6") | R49: =COUNTIFS('District I'!$L$7:$L$2976,"41",'District I'!$O$7:$O$2976,"1", 'District I'!$B$7:$B$2976,"7") | S49: =COUNTIFS('District I'!$L$7:$L$2976,"41",'District I'!$O$7:$O$2976,"2", 'District I'!$B$7:$B$2976,"7") | T49: =COUNTIFS('District I'!$L$7:$L$2976,"41",'District I'!$O$7:$O$2976,"1", 'District I'!$B$7:$B$2976,"8") | U49: =COUNTIFS('District I'!$L$7:$L$2976,"41",'District I'!$O$7:$O$2976,"2", 'District I'!$B$7:$B$2976,"8") | V49: =SUM(F49:U49)
A50: 42 | B50: =COUNTIF('District I'!$L$7:$L$2976,"42") | C50: =COUNTIFS('District I'!$L$7:$L$2976,"42",'District I'!$O$7:$O$2976,"1") | D50: =COUNTIFS('District I'!$L$7:$L$2976,"42",'District I'!$O$7:$O$2976,"2") | E50: =SUM(C50:D50) | F50: =COUNTIFS('District I'!$L$7:$L$2976,"42",'District I'!$O$7:$O$2976,"1", 'District I'!$B$7:$B$2976,"1") | G50: =COUNTIFS('District I'!$L$7:$L$2976,"42",'District I'!$O$7:$O$2976,"2", 'District I'!$B$7:$B$2976,"1") | H50: =COUNTIFS('District I'!$L$7:$L$2976,"42",'District I'!$O$7:$O$2976,"1", 'District I'!$B$7:$B$2976,"2") | I50: =COUNTIFS('District I'!$L$7:$L$2976,"42",'District I'!$O$7:$O$2976,"2", 'District I'!$B$7:$B$2976,"2") | J50: =COUNTIFS('District I'!$L$7:$L$2976,"42",'District I'!$O$7:$O$2976,"1", 'District I'!$B$7:$B$2976,"3") | K50: =COUNTIFS('District I'!$L$7:$L$2976,"42",'District I'!$O$7:$O$2976,"2", 'District I'!$B$7:$B$2976,"3") | L50: =COUNTIFS('District I'!$L$7:$L$2976,"42",'District I'!$O$7:$O$2976,"1", 'District I'!$B$7:$B$2976,"4") | M50: =COUNTIFS('District I'!$L$7:$L$2976,"42",'District I'!$O$7:$O$2976,"2", 'District I'!$B$7:$B$2976,"4") | N50: =COUNTIFS('District I'!$L$7:$L$2976,"42",'District I'!$O$7:$O$2976,"1", 'District I'!$B$7:$B$2976,"5") | O50: =COUNTIFS('District I'!$L$7:$L$2976,"42",'District I'!$O$7:$O$2976,"2", 'District I'!$B$7:$B$2976,"5") | P50: =COUNTIFS('District I'!$L$7:$L$2976,"42",'District I'!$O$7:$O$2976,"1", 'District I'!$B$7:$B$2976,"6") | Q50: =COUNTIFS('District I'!$L$7:$L$2976,"42",'District I'!$O$7:$O$2976,"2", 'District I'!$B$7:$B$2976,"6") | R50: =COUNTIFS('District I'!$L$7:$L$2976,"42",'District I'!$O$7:$O$2976,"1", 'District I'!$B$7:$B$2976,"7") | S50: =COUNTIFS('District I'!$L$7:$L$2976,"42",'District I'!$O$7:$O$2976,"2", 'District I'!$B$7:$B$2976,"7") | T50: =COUNTIFS('District I'!$L$7:$L$2976,"42",'District I'!$O$7:$O$2976,"1", 'District I'!$B$7:$B$2976,"8") | U50: =COUNTIFS('District I'!$L$7:$L$2976,"42",'District I'!$O$7:$O$2976,"2", 'District I'!$B$7:$B$2976,"8") | V50: =SUM(F50:U50)
A51: 43 | B51: =COUNTIF('District I'!$L$7:$L$2976,"43") | C51: =COUNTIFS('District I'!$L$7:$L$2976,"43",'District I'!$O$7:$O$2976,"1") | D51: =COUNTIFS('District I'!$L$7:$L$2976,"43",'District I'!$O$7:$O$2976,"2") | E51: =SUM(C51:D51) | F51: =COUNTIFS('District I'!$L$7:$L$2976,"43",'District I'!$O$7:$O$2976,"1", 'District I'!$B$7:$B$2976,"1") | G51: =COUNTIFS('District I'!$L$7:$L$2976,"43",'District I'!$O$7:$O$2976,"2", 'District I'!$B$7:$B$2976,"1") | H51: =COUNTIFS('District I'!$L$7:$L$2976,"43",'District I'!$O$7:$O$2976,"1", 'District I'!$B$7:$B$2976,"2") | I51: =COUNTIFS('District I'!$L$7:$L$2976,"43",'District I'!$O$7:$O$2976,"2", 'District I'!$B$7:$B$2976,"2") | J51: =COUNTIFS('District I'!$L$7:$L$2976,"43",'District I'!$O$7:$O$2976,"1", 'District I'!$B$7:$B$2976,"3") | K51: =COUNTIFS('District I'!$L$7:$L$2976,"43",'District I'!$O$7:$O$2976,"2", 'District I'!$B$7:$B$2976,"3") | L51: =COUNTIFS('District I'!$L$7:$L$2976,"43",'District I'!$O$7:$O$2976,"1", 'District I'!$B$7:$B$2976,"4") | M51: =COUNTIFS('District I'!$L$7:$L$2976,"43",'District I'!$O$7:$O$2976,"2", 'District I'!$B$7:$B$2976,"4") | N51: =COUNTIFS('District I'!$L$7:$L$2976,"43",'District I'!$O$7:$O$2976,"1", 'District I'!$B$7:$B$2976,"5") | O51: =COUNTIFS('District I'!$L$7:$L$2976,"43",'District I'!$O$7:$O$2976,"2", 'District I'!$B$7:$B$2976,"5") | P51: =COUNTIFS('District I'!$L$7:$L$2976,"43",'District I'!$O$7:$O$2976,"1", 'District I'!$B$7:$B$2976,"6") | Q51: =COUNTIFS('District I'!$L$7:$L$2976,"43",'District I'!$O$7:$O$2976,"2", 'District I'!$B$7:$B$2976,"6") | R51: =COUNTIFS('District I'!$L$7:$L$2976,"43",'District I'!$O$7:$O$2976,"1", 'District I'!$B$7:$B$2976,"7") | S51: =COUNTIFS('District I'!$L$7:$L$2976,"43",'District I'!$O$7:$O$2976,"2", 'District I'!$B$7:$B$2976,"7") | T51: =COUNTIFS('District I'!$L$7:$L$2976,"43",'District I'!$O$7:$O$2976,"1", 'District I'!$B$7:$B$2976,"8") | U51: =COUNTIFS('District I'!$L$7:$L$2976,"43",'District I'!$O$7:$O$2976,"2", 'District I'!$B$7:$B$2976,"8") | V51: =SUM(F51:U51)
A52: 44 | B52: =COUNTIF('District I'!$L$7:$L$2976,"44") | C52: =COUNTIFS('District I'!$L$7:$L$2976,"44",'District I'!$O$7:$O$2976,"1") | D52: =COUNTIFS('District I'!$L$7:$L$2976,"44",'District I'!$O$7:$O$2976,"2") | E52: =SUM(C52:D52) | F52: =COUNTIFS('District I'!$L$7:$L$2976,"44",'District I'!$O$7:$O$2976,"1", 'District I'!$B$7:$B$2976,"1") | G52: =COUNTIFS('District I'!$L$7:$L$2976,"44",'District I'!$O$7:$O$2976,"2", 'District I'!$B$7:$B$2976,"1") | H52: =COUNTIFS('District I'!$L$7:$L$2976,"44",'District I'!$O$7:$O$2976,"1", 'District I'!$B$7:$B$2976,"2") | I52: =COUNTIFS('District I'!$L$7:$L$2976,"44",'District I'!$O$7:$O$2976,"2", 'District I'!$B$7:$B$2976,"2") | J52: =COUNTIFS('District I'!$L$7:$L$2976,"44",'District I'!$O$7:$O$2976,"1", 'District I'!$B$7:$B$2976,"3") | K52: =COUNTIFS('District I'!$L$7:$L$2976,"44",'District I'!$O$7:$O$2976,"2", 'District I'!$B$7:$B$2976,"3") | L52: =COUNTIFS('District I'!$L$7:$L$2976,"44",'District I'!$O$7:$O$2976,"1", 'District I'!$B$7:$B$2976,"4") | M52: =COUNTIFS('District I'!$L$7:$L$2976,"44",'District I'!$O$7:$O$2976,"2", 'District I'!$B$7:$B$2976,"4") | N52: =COUNTIFS('District I'!$L$7:$L$2976,"44",'District I'!$O$7:$O$2976,"1", 'District I'!$B$7:$B$2976,"5") | O52: =COUNTIFS('District I'!$L$7:$L$2976,"44",'District I'!$O$7:$O$2976,"2", 'District I'!$B$7:$B$2976,"5") | P52: =COUNTIFS('District I'!$L$7:$L$2976,"44",'District I'!$O$7:$O$2976,"1", 'District I'!$B$7:$B$2976,"6") | Q52: =COUNTIFS('District I'!$L$7:$L$2976,"44",'District I'!$O$7:$O$2976,"2", 'District I'!$B$7:$B$2976,"6") | R52: =COUNTIFS('District I'!$L$7:$L$2976,"44",'District I'!$O$7:$O$2976,"1", 'District I'!$B$7:$B$2976,"7") | S52: =COUNTIFS('District I'!$L$7:$L$2976,"44",'District I'!$O$7:$O$2976,"2", 'District I'!$B$7:$B$2976,"7") | T52: =COUNTIFS('District I'!$L$7:$L$2976,"44",'District I'!$O$7:$O$2976,"1", 'District I'!$B$7:$B$2976,"8") | U52: =COUNTIFS('District I'!$L$7:$L$2976,"44",'District I'!$O$7:$O$2976,"2", 'District I'!$B$7:$B$2976,"8 ") | V52: =SUM(F52:U52)
A53: 45 | B53: =COUNTIF('District I'!$L$7:$L$2976,"45") | C53: =COUNTIFS('District I'!$L$7:$L$2976,"45",'District I'!$O$7:$O$2976,"1") | D53: =COUNTIFS('District I'!$L$7:$L$2976,"45",'District I'!$O$7:$O$2976,"2") | E53: =SUM(C53:D53) | F53: =COUNTIFS('District I'!$L$7:$L$2976,"45",'District I'!$O$7:$O$2976,"1", 'District I'!$B$7:$B$2976,"1") | G53: =COUNTIFS('District I'!$L$7:$L$2976,"45",'District I'!$O$7:$O$2976,"2", 'District I'!$B$7:$B$2976,"1") | H53: =COUNTIFS('District I'!$L$7:$L$2976,"45",'District I'!$O$7:$O$2976,"1", 'District I'!$B$7:$B$2976,"2") | I53: =COUNTIFS('District I'!$L$7:$L$2976,"45",'District I'!$O$7:$O$2976,"2", 'District I'!$B$7:$B$2976,"2") | J53: =COUNTIFS('District I'!$L$7:$L$2976,"45",'District I'!$O$7:$O$2976,"1", 'District I'!$B$7:$B$2976,"3") | K53: =COUNTIFS('District I'!$L$7:$L$2976,"45",'District I'!$O$7:$O$2976,"2", 'District I'!$B$7:$B$2976,"3") | L53: =COUNTIFS('District I'!$L$7:$L$2976,"45",'District I'!$O$7:$O$2976,"1", 'District I'!$B$7:$B$2976,"4") | M53: =COUNTIFS('District I'!$L$7:$L$2976,"45",'District I'!$O$7:$O$2976,"2", 'District I'!$B$7:$B$2976,"4") | N53: =COUNTIFS('District I'!$L$7:$L$2976,"45",'District I'!$O$7:$O$2976,"1", 'District I'!$B$7:$B$2976,"5") | O53: =COUNTIFS('District I'!$L$7:$L$2976,"45",'District I'!$O$7:$O$2976,"2", 'District I'!$B$7:$B$2976,"5") | P53: =COUNTIFS('District I'!$L$7:$L$2976,"45",'District I'!$O$7:$O$2976,"1", 'District I'!$B$7:$B$2976,"6") | Q53: =COUNTIFS('District I'!$L$7:$L$2976,"45",'District I'!$O$7:$O$2976,"2", 'District I'!$B$7:$B$2976,"6") | R53: =COUNTIFS('District I'!$L$7:$L$2976,"45",'District I'!$O$7:$O$2976,"1", 'District I'!$B$7:$B$2976,"7") | S53: =COUNTIFS('District I'!$L$7:$L$2976,"45",'District I'!$O$7:$O$2976,"2", 'District I'!$B$7:$B$2976,"7") | T53: =COUNTIFS('District I'!$L$7:$L$2976,"45",'District I'!$O$7:$O$2976,"1", 'District I'!$B$7:$B$2976,"8") | U53: =COUNTIFS('District I'!$L$7:$L$2976,"45",'District I'!$O$7:$O$2976,"2", 'District I'!$B$7:$B$2976,"8") | V53: =SUM(F53:U53)
A54: 46 | B54: =COUNTIF('District I'!$L$7:$L$2976,"46") | C54: =COUNTIFS('District I'!$L$7:$L$2976,"46",'District I'!$O$7:$O$2976,"1") | D54: =COUNTIFS('District I'!$L$7:$L$2976,"46",'District I'!$O$7:$O$2976,"2") | E54: =SUM(C54:D54) | F54: =COUNTIFS('District I'!$L$7:$L$2976,"46",'District I'!$O$7:$O$2976,"1", 'District I'!$B$7:$B$2976,"1") | G54: =COUNTIFS('District I'!$L$7:$L$2976,"46",'District I'!$O$7:$O$2976,"2", 'District I'!$B$7:$B$2976,"1") | H54: =COUNTIFS('District I'!$L$7:$L$2976,"46",'District I'!$O$7:$O$2976,"2", 'District I'!$B$7:$B$2976,"1") | I54: =COUNTIFS('District I'!$L$7:$L$2976,"46",'District I'!$O$7:$O$2976,"2", 'District I'!$B$7:$B$2976,"2") | J54: =COUNTIFS('District I'!$L$7:$L$2976,"46",'District I'!$O$7:$O$2976,"1", 'District I'!$B$7:$B$2976,"3") | K54: =COUNTIFS('District I'!$L$7:$L$2976,"46",'District I'!$O$7:$O$2976,"2", 'District I'!$B$7:$B$2976,"3") | L54: =COUNTIFS('District I'!$L$7:$L$2976,"46",'District I'!$O$7:$O$2976,"1", 'District I'!$B$7:$B$2976,"4") | M54: =COUNTIFS('District I'!$L$7:$L$2976,"46",'District I'!$O$7:$O$2976,"2", 'District I'!$B$7:$B$2976,"4") | N54: =COUNTIFS('District I'!$L$7:$L$2976,"46",'District I'!$O$7:$O$2976,"1", 'District I'!$B$7:$B$2976,"5") | O54: =COUNTIFS('District I'!$L$7:$L$2976,"46",'District I'!$O$7:$O$2976,"2", 'District I'!$B$7:$B$2976,"5") | P54: =COUNTIFS('District I'!$L$7:$L$2976,"46",'District I'!$O$7:$O$2976,"1", 'District I'!$B$7:$B$2976,"6") | Q54: =COUNTIFS('District I'!$L$7:$L$2976,"46",'District I'!$O$7:$O$2976,"2", 'District I'!$B$7:$B$2976,"6") | R54: =COUNTIFS('District I'!$L$7:$L$2976,"46",'District I'!$O$7:$O$2976,"1", 'District I'!$B$7:$B$2976,"7") | S54: =COUNTIFS('District I'!$L$7:$L$2976,"46",'District I'!$O$7:$O$2976,"2", 'District I'!$B$7:$B$2976,"7") | T54: =COUNTIFS('District I'!$L$7:$L$2976,"46",'District I'!$O$7:$O$2976,"1", 'District I'!$B$7:$B$2976,"8") | U54: =COUNTIFS('District I'!$L$7:$L$2976,"46",'District I'!$O$7:$O$2976,"2", 'District I'!$B$7:$B$2976,"8") | V54: =SUM(F54:U54)
A55: 47 | B55: =COUNTIF('District I'!$L$7:$L$2976,"47") | C55: =COUNTIFS('District I'!$L$7:$L$2976,"47",'District I'!$O$7:$O$2976,"1") | D55: =COUNTIFS('District I'!$L$7:$L$2976,"47",'District I'!$O$7:$O$2976,"2") | E55: =SUM(C55:D55) | F55: =COUNTIFS('District I'!$L$7:$L$2976,"47",'District I'!$O$7:$O$2976,"1", 'District I'!$B$7:$B$2976,"1") | G55: =COUNTIFS('District I'!$L$7:$L$2976,"47",'District I'!$O$7:$O$2976,"2", 'District I'!$B$7:$B$2976,"1") | H55: =COUNTIFS('District I'!$L$7:$L$2976,"47",'District I'!$O$7:$O$2976,"1", 'District I'!$B$7:$B$2976,"2") | I55: =COUNTIFS('District I'!$L$7:$L$2976,"47",'District I'!$O$7:$O$2976,"2", 'District I'!$B$7:$B$2976,"2") | J55: =COUNTIFS('District I'!$L$7:$L$2976,"47",'District I'!$O$7:$O$2976,"1", 'District I'!$B$7:$B$2976,"3") | K55: =COUNTIFS('District I'!$L$7:$L$2976,"47",'District I'!$O$7:$O$2976,"2", 'District I'!$B$7:$B$2976,"3") | L55: =COUNTIFS('District I'!$L$7:$L$2976,"47",'District I'!$O$7:$O$2976,"1", 'District I'!$B$7:$B$2976,"4") | M55: =COUNTIFS('District I'!$L$7:$L$2976,"47",'District I'!$O$7:$O$2976,"2", 'District I'!$B$7:$B$2976,"4") | N55: =COUNTIFS('District I'!$L$7:$L$2976,"47",'District I'!$O$7:$O$2976,"1", 'District I'!$B$7:$B$2976,"5") | O55: =COUNTIFS('District I'!$L$7:$L$2976,"47",'District I'!$O$7:$O$2976,"2", 'District I'!$B$7:$B$2976,"5") | P55: =COUNTIFS('District I'!$L$7:$L$2976,"47",'District I'!$O$7:$O$2976,"1", 'District I'!$B$7:$B$2976,"6") | Q55: =COUNTIFS('District I'!$L$7:$L$2976,"47",'District I'!$O$7:$O$2976,"2", 'District I'!$B$7:$B$2976,"6") | R55: =COUNTIFS('District I'!$L$7:$L$2976,"47",'District I'!$O$7:$O$2976,"1", 'District I'!$B$7:$B$2976,"7") | S55: =COUNTIFS('District I'!$L$7:$L$2976,"47",'District I'!$O$7:$O$2976,"2", 'District I'!$B$7:$B$2976,"7") | T55: =COUNTIFS('District I'!$L$7:$L$2976,"47",'District I'!$O$7:$O$2976,"1", 'District I'!$B$7:$B$2976,"8") | U55: =COUNTIFS('District I'!$L$7:$L$2976,"47",'District I'!$O$7:$O$2976,"2", 'District I'!$B$7:$B$2976,"8") | V55: =SUM(F55:U55)
A56: 48 | B56: =COUNTIF('District I'!$L$7:$L$2976,"48") | C56: =COUNTIFS('District I'!$L$7:$L$2976,"48",'District I'!$O$7:$O$2976,"1") | D56: =COUNTIFS('District I'!$L$7:$L$2976,"48",'District I'!$O$7:$O$2976,"2") | E56: =SUM(C56:D56) | F56: =COUNTIFS('District I'!$L$7:$L$2976,"48",'District I'!$O$7:$O$2976,"1", 'District I'!$B$7:$B$2976,"1") | G56: =COUNTIFS('District I'!$L$7:$L$2976,"48",'District I'!$O$7:$O$2976,"2", 'District I'!$B$7:$B$2976,"1") | H56: =COUNTIFS('District I'!$L$7:$L$2976,"48",'District I'!$O$7:$O$2976,"1", 'District I'!$B$7:$B$2976,"2") | I56: =COUNTIFS('District I'!$L$7:$L$2976,"48",'District I'!$O$7:$O$2976,"2", 'District I'!$B$7:$B$2976,"2") | J56: =COUNTIFS('District I'!$L$7:$L$2976,"48",'District I'!$O$7:$O$2976,"1", 'District I'!$B$7:$B$2976,"3") | K56: =COUNTIFS('District I'!$L$7:$L$2976,"48",'District I'!$O$7:$O$2976,"2", 'District I'!$B$7:$B$2976,"3") | L56: =COUNTIFS('District I'!$L$7:$L$2976,"48",'District I'!$O$7:$O$2976,"1", 'District I'!$B$7:$B$2976,"4") | M56: =COUNTIFS('District I'!$L$7:$L$2976,"48",'District I'!$O$7:$O$2976,"2", 'District I'!$B$7:$B$2976,"4") | N56: =COUNTIFS('District I'!$L$7:$L$2976,"48",'District I'!$O$7:$O$2976,"1", 'District I'!$B$7:$B$2976,"5") | O56: =COUNTIFS('District I'!$L$7:$L$2976,"48",'District I'!$O$7:$O$2976,"2", 'District I'!$B$7:$B$2976,"5") | P56: =COUNTIFS('District I'!$L$7:$L$2976,"48",'District I'!$O$7:$O$2976,"1", 'District I'!$B$7:$B$2976,"6") | Q56: =COUNTIFS('District I'!$L$7:$L$2976,"48",'District I'!$O$7:$O$2976,"2", 'District I'!$B$7:$B$2976,"6") | R56: =COUNTIFS('District I'!$L$7:$L$2976,"48",'District I'!$O$7:$O$2976,"1", 'District I'!$B$7:$B$2976,"7") | S56: =COUNTIFS('District I'!$L$7:$L$2976,"48",'District I'!$O$7:$O$2976,"2", 'District I'!$B$7:$B$2976,"7") | T56: =COUNTIFS('District I'!$L$7:$L$2976,"48",'District I'!$O$7:$O$2976,"1", 'District I'!$B$7:$B$2976,"8") | U56: =COUNTIFS('District I'!$L$7:$L$2976,"48",'District I'!$O$7:$O$2976,"2", 'District I'!$B$7:$B$2976,"8") | V56: =SUM(F56:U56)
A57: 49 | B57: =COUNTIF('District I'!$L$7:$L$2976,"49") | C57: =COUNTIFS('District I'!$L$7:$L$2976,"49",'District I'!$O$7:$O$2976,"1") | D57: =COUNTIFS('District I'!$L$7:$L$2976,"49",'District I'!$O$7:$O$2976,"2") | E57: =SUM(C57:D57) | F57: =COUNTIFS('District I'!$L$7:$L$2976,"49",'District I'!$O$7:$O$2976,"1", 'District I'!$B$7:$B$2976,"1") | G57: =COUNTIFS('District I'!$L$7:$L$2976,"49",'District I'!$O$7:$O$2976,"2", 'District I'!$B$7:$B$2976,"1") | H57: =COUNTIFS('District I'!$L$7:$L$2976,"49",'District I'!$O$7:$O$2976,"1", 'District I'!$B$7:$B$2976,"2") | I57: =COUNTIFS('District I'!$L$7:$L$2976,"49",'District I'!$O$7:$O$2976,"2", 'District I'!$B$7:$B$2976,"2") | J57: =COUNTIFS('District I'!$L$7:$L$2976,"49",'District I'!$O$7:$O$2976,"1", 'District I'!$B$7:$B$2976,"3") | K57: =COUNTIFS('District I'!$L$7:$L$2976,"49",'District I'!$O$7:$O$2976,"2", 'District I'!$B$7:$B$2976,"3") | L57: =COUNTIFS('District I'!$L$7:$L$2976,"49",'District I'!$O$7:$O$2976,"1", 'District I'!$B$7:$B$2976,"4") | M57: =COUNTIFS('District I'!$L$7:$L$2976,"49",'District I'!$O$7:$O$2976,"2", 'District I'!$B$7:$B$2976,"4") | N57: =COUNTIFS('District I'!$L$7:$L$2976,"49",'District I'!$O$7:$O$2976,"1", 'District I'!$B$7:$B$2976,"5") | O57: =COUNTIFS('District I'!$L$7:$L$2976,"49",'District I'!$O$7:$O$2976,"2", 'District I'!$B$7:$B$2976,"5") | P57: =COUNTIFS('District I'!$L$7:$L$2976,"49",'District I'!$O$7:$O$2976,"1", 'District I'!$B$7:$B$2976,"6") | Q57: =COUNTIFS('District I'!$L$7:$L$2976,"49",'District I'!$O$7:$O$2976,"2", 'District I'!$B$7:$B$2976,"6") | R57: =COUNTIFS('District I'!$L$7:$L$2976,"49",'District I'!$O$7:$O$2976,"1", 'District I'!$B$7:$B$2976,"7") | S57: =COUNTIFS('District I'!$L$7:$L$2976,"49",'District I'!$O$7:$O$2976,"2", 'District I'!$B$7:$B$2976,"7") | T57: =COUNTIFS('District I'!$L$7:$L$2976,"49",'District I'!$O$7:$O$2976,"1", 'District I'!$B$7:$B$2976,"8") | U57: =COUNTIFS('District I'!$L$7:$L$2976,"49",'District I'!$O$7:$O$2976,"2", 'District I'!$B$7:$B$2976,"8") | V57: =SUM(F57:U57)
A58: 50 | B58: =COUNTIF('District I'!$L$7:$L$2976,"50") | C58: =COUNTIFS('District I'!$L$7:$L$2976,"50",'District I'!$O$7:$O$2976,"1") | D58: =COUNTIFS('District I'!$L$7:$L$2976,"50",'District I'!$O$7:$O$2976,"2") | E58: =SUM(C58:D58) | F58: =COUNTIFS('District I'!$L$7:$L$2976,"50",'District I'!$O$7:$O$2976,"1", 'District I'!$B$7:$B$2976,"1") | G58: =COUNTIFS('District I'!$L$7:$L$2976,"50",'District I'!$O$7:$O$2976,"2", 'District I'!$B$7:$B$2976,"1") | H58: =COUNTIFS('District I'!$L$7:$L$2976,"50",'District I'!$O$7:$O$2976,"1", 'District I'!$B$7:$B$2976,"2") | I58: =COUNTIFS('District I'!$L$7:$L$2976,"50",'District I'!$O$7:$O$2976,"2", 'District I'!$B$7:$B$2976,"2") | J58: =COUNTIFS('District I'!$L$7:$L$2976,"50",'District I'!$O$7:$O$2976,"1", 'District I'!$B$7:$B$2976,"3") | K58: =COUNTIFS('District I'!$L$7:$L$2976,"50",'District I'!$O$7:$O$2976,"2", 'District I'!$B$7:$B$2976,"3") | L58: =COUNTIFS('District I'!$L$7:$L$2976,"50",'District I'!$O$7:$O$2976,"1", 'District I'!$B$7:$B$2976,"4") | M58: =COUNTIFS('District I'!$L$7:$L$2976,"50",'District I'!$O$7:$O$2976,"2", 'District I'!$B$7:$B$2976,"4") | N58: =COUNTIFS('District I'!$L$7:$L$2976,"50",'District I'!$O$7:$O$2976,"1", 'District I'!$B$7:$B$2976,"5") | O58: =COUNTIFS('District I'!$L$7:$L$2976,"50",'District I'!$O$7:$O$2976,"2", 'District I'!$B$7:$B$2976,"5") | P58: =COUNTIFS('District I'!$L$7:$L$2976,"50",'District I'!$O$7:$O$2976,"1", 'District I'!$B$7:$B$2976,"6") | Q58: =COUNTIFS('District I'!$L$7:$L$2976,"50",'District I'!$O$7:$O$2976,"2", 'District I'!$B$7:$B$2976,"6") | R58: =COUNTIFS('District I'!$L$7:$L$2976,"50",'District I'!$O$7:$O$2976,"1", 'District I'!$B$7:$B$2976,"7") | S58: =COUNTIFS('District I'!$L$7:$L$2976,"50",'District I'!$O$7:$O$2976,"2", 'District I'!$B$7:$B$2976,"7") | T58: =COUNTIFS('District I'!$L$7:$L$2976,"50",'District I'!$O$7:$O$2976,"1", 'District I'!$B$7:$B$2976,"8") | U58: =COUNTIFS('District I'!$L$7:$L$2976,"50",'District I'!$O$7:$O$2976,"2", 'District I'!$B$7:$B$2976,"8") | V58: =SUM(F58:U58)
A59: 51 | B59: =COUNTIF('District I'!$L$7:$L$2976,"51") | C59: =COUNTIFS('District I'!$L$7:$L$2976,"51",'District I'!$O$7:$O$2976,"1") | D59: =COUNTIFS('District I'!$L$7:$L$2976,"51",'District I'!$O$7:$O$2976,"2") | E59: =SUM(C59:D59) | F59: =COUNTIFS('District I'!$L$7:$L$2976,"51",'District I'!$O$7:$O$2976,"1", 'District I'!$B$7:$B$2976,"1") | G59: =COUNTIFS('District I'!$L$7:$L$2976,"51",'District I'!$O$7:$O$2976,"2", 'District I'!$B$7:$B$2976,"1") | H59: =COUNTIFS('District I'!$L$7:$L$2976,"51",'District I'!$O$7:$O$2976,"1", 'District I'!$B$7:$B$2976,"2") | I59: =COUNTIFS('District I'!$L$7:$L$2976,"51",'District I'!$O$7:$O$2976,"2", 'District I'!$B$7:$B$2976,"2") | J59: =COUNTIFS('District I'!$L$7:$L$2976,"51",'District I'!$O$7:$O$2976,"1", 'District I'!$B$7:$B$2976,"3") | K59: =COUNTIFS('District I'!$L$7:$L$2976,"51",'District I'!$O$7:$O$2976,"2", 'District I'!$B$7:$B$2976,"3") | L59: =COUNTIFS('District I'!$L$7:$L$2976,"51",'District I'!$O$7:$O$2976,"1", 'District I'!$B$7:$B$2976,"4") | M59: =COUNTIFS('District I'!$L$7:$L$2976,"51",'District I'!$O$7:$O$2976,"2", 'District I'!$B$7:$B$2976,"4") | N59: =COUNTIFS('District I'!$L$7:$L$2976,"51",'District I'!$O$7:$O$2976,"1", 'District I'!$B$7:$B$2976,"5") | O59: =COUNTIFS('District I'!$L$7:$L$2976,"51",'District I'!$O$7:$O$2976,"2", 'District I'!$B$7:$B$2976,"5") | P59: =COUNTIFS('District I'!$L$7:$L$2976,"51",'District I'!$O$7:$O$2976,"1", 'District I'!$B$7:$B$2976,"6") | Q59: =COUNTIFS('District I'!$L$7:$L$2976,"51",'District I'!$O$7:$O$2976,"2", 'District I'!$B$7:$B$2976,"6") | R59: =COUNTIFS('District I'!$L$7:$L$2976,"51",'District I'!$O$7:$O$2976,"1", 'District I'!$B$7:$B$2976,"7") | S59: =COUNTIFS('District I'!$L$7:$L$2976,"51",'District I'!$O$7:$O$2976,"2", 'District I'!$B$7:$B$2976,"7") | T59: =COUNTIFS('District I'!$L$7:$L$2976,"51",'District I'!$O$7:$O$2976,"1", 'District I'!$B$7:$B$2976,"8") | U59: =COUNTIFS('District I'!$L$7:$L$2976,"51",'District I'!$O$7:$O$2976,"2", 'District I'!$B$7:$B$2976,"8") | V59: =SUM(F59:U59)
A60: 52 | B60: =COUNTIF('District I'!$L$7:$L$2976,"52") | C60: =COUNTIFS('District I'!$L$7:$L$2976,"52",'District I'!$O$7:$O$2976,"1") | D60: =COUNTIFS('District I'!$L$7:$L$2976,"52",'District I'!$O$7:$O$2976,"2") | E60: =SUM(C60:D60) | F60: =COUNTIFS('District I'!$L$7:$L$2976,"52",'District I'!$O$7:$O$2976,"1", 'District I'!$B$7:$B$2976,"1") | G60: =COUNTIFS('District I'!$L$7:$L$2976,"52",'District I'!$O$7:$O$2976,"2", 'District I'!$B$7:$B$2976,"1") | H60: =COUNTIFS('District I'!$L$7:$L$2976,"52",'District I'!$O$7:$O$2976,"1", 'District I'!$B$7:$B$2976,"2") | I60: =COUNTIFS('District I'!$L$7:$L$2976,"52",'District I'!$O$7:$O$2976,"2", 'District I'!$B$7:$B$2976,"2") | J60: =COUNTIFS('District I'!$L$7:$L$2976,"52",'District I'!$O$7:$O$2976,"1", 'District I'!$B$7:$B$2976,"3") | K60: =COUNTIFS('District I'!$L$7:$L$2976,"52",'District I'!$O$7:$O$2976,"2", 'District I'!$B$7:$B$2976,"3") | L60: =COUNTIFS('District I'!$L$7:$L$2976,"52",'District I'!$O$7:$O$2976,"1", 'District I'!$B$7:$B$2976,"4") | M60: =COUNTIFS('District I'!$L$7:$L$2976,"52",'District I'!$O$7:$O$2976,"2", 'District I'!$B$7:$B$2976,"4") | N60: =COUNTIFS('District I'!$L$7:$L$2976,"52",'District I'!$O$7:$O$2976,"1", 'District I'!$B$7:$B$2976,"5") | O60: =COUNTIFS('District I'!$L$7:$L$2976,"52",'District I'!$O$7:$O$2976,"2", 'District I'!$B$7:$B$2976,"5") | P60: =COUNTIFS('District I'!$L$7:$L$2976,"52",'District I'!$O$7:$O$2976,"1", 'District I'!$B$7:$B$2976,"6") | Q60: =COUNTIFS('District I'!$L$7:$L$2976,"52",'District I'!$O$7:$O$2976,"2", 'District I'!$B$7:$B$2976,"6") | R60: =COUNTIFS('District I'!$L$7:$L$2976,"52",'District I'!$O$7:$O$2976,"1", 'District I'!$B$7:$B$2976,"7") | S60: =COUNTIFS('District I'!$L$7:$L$2976,"52",'District I'!$O$7:$O$2976,"2", 'District I'!$B$7:$B$2976,"7") | T60: =COUNTIFS('District I'!$L$7:$L$2976,"52",'District I'!$O$7:$O$2976,"1", 'District I'!$B$7:$B$2976,"8") | U60: =COUNTIFS('District I'!$L$7:$L$2976,"52",'District I'!$O$7:$O$2976,"2", 'District I'!$B$7:$B$2976,"8") | V60: =SUM(F60:U60)
A61: 53 | B61: =COUNTIF('District I'!$L$7:$L$2976,"53") | C61: =COUNTIFS('District I'!$L$7:$L$2976,"53",'District I'!$O$7:$O$2976,"1") | D61: =COUNTIFS('District I'!$L$7:$L$2976,"53",'District I'!$O$7:$O$2976,"2") | E61: =SUM(C61:D61) | F61: =COUNTIFS('District I'!$L$7:$L$2976,"53",'District I'!$O$7:$O$2976,"1", 'District I'!$B$7:$B$2976,"1") | G61: =COUNTIFS('District I'!$L$7:$L$2976,"53",'District I'!$O$7:$O$2976,"2", 'District I'!$B$7:$B$2976,"1") | H61: =COUNTIFS('District I'!$L$7:$L$2976,"53",'District I'!$O$7:$O$2976,"1", 'District I'!$B$7:$B$2976,"2") | I61: =COUNTIFS('District I'!$L$7:$L$2976,"53",'District I'!$O$7:$O$2976,"2", 'District I'!$B$7:$B$2976,"2") | J61: =COUNTIFS('District I'!$L$7:$L$2976,"53",'District I'!$O$7:$O$2976,"1", 'District I'!$B$7:$B$2976,"3") | K61: =COUNTIFS('District I'!$L$7:$L$2976,"53",'District I'!$O$7:$O$2976,"2", 'District I'!$B$7:$B$2976,"3") | L61: =COUNTIFS('District I'!$L$7:$L$2976,"53",'District I'!$O$7:$O$2976,"1", 'District I'!$B$7:$B$2976,"4") | M61: =COUNTIFS('District I'!$L$7:$L$2976,"53",'District I'!$O$7:$O$2976,"2", 'District I'!$B$7:$B$2976,"4") | N61: =COUNTIFS('District I'!$L$7:$L$2976,"53",'District I'!$O$7:$O$2976,"1", 'District I'!$B$7:$B$2976,"5") | O61: =COUNTIFS('District I'!$L$7:$L$2976,"53",'District I'!$O$7:$O$2976,"2", 'District I'!$B$7:$B$2976,"5") | P61: =COUNTIFS('District I'!$L$7:$L$2976,"53",'District I'!$O$7:$O$2976,"1", 'District I'!$B$7:$B$2976,"6") | Q61: =COUNTIFS('District I'!$L$7:$L$2976,"53",'District I'!$O$7:$O$2976,"2", 'District I'!$B$7:$B$2976,"6") | R61: =COUNTIFS('District I'!$L$7:$L$2976,"53",'District I'!$O$7:$O$2976,"1", 'District I'!$B$7:$B$2976,"7") | S61: =COUNTIFS('District I'!$L$7:$L$2976,"53",'District I'!$O$7:$O$2976,"2", 'District I'!$B$7:$B$2976,"7") | T61: =COUNTIFS('District I'!$L$7:$L$2976,"53",'District I'!$O$7:$O$2976,"1", 'District I'!$B$7:$B$2976,"8") | U61: =COUNTIFS('District I'!$L$7:$L$2976,"53",'District I'!$O$7:$O$2976,"2", 'District I'!$B$7:$B$2976,"8") | V61: =SUM(F61:U61)
A62: 54 | B62: =COUNTIF('District I'!$L$7:$L$2976,"54") | C62: =COUNTIFS('District I'!$L$7:$L$2976,"54",'District I'!$O$7:$O$2976,"1") | D62: =COUNTIFS('District I'!$L$7:$L$2976,"54",'District I'!$O$7:$O$2976,"2") | E62: =SUM(C62:D62) | F62: =COUNTIFS('District I'!$L$7:$L$2976,"54",'District I'!$O$7:$O$2976,"1", 'District I'!$B$7:$B$2976,"1") | G62: =COUNTIFS('District I'!$L$7:$L$2976,"54",'District I'!$O$7:$O$2976,"2", 'District I'!$B$7:$B$2976,"1") | H62: =COUNTIFS('District I'!$L$7:$L$2976,"54",'District I'!$O$7:$O$2976,"1", 'District I'!$B$7:$B$2976,"2") | I62: =COUNTIFS('District I'!$L$7:$L$2976,"54",'District I'!$O$7:$O$2976,"2", 'District I'!$B$7:$B$2976,"2") | J62: =COUNTIFS('District I'!$L$7:$L$2976,"54",'District I'!$O$7:$O$2976,"1", 'District I'!$B$7:$B$2976,"3") | K62: =COUNTIFS('District I'!$L$7:$L$2976,"54",'District I'!$O$7:$O$2976,"2", 'District I'!$B$7:$B$2976,"3") | L62: =COUNTIFS('District I'!$L$7:$L$2976,"54",'District I'!$O$7:$O$2976,"1", 'District I'!$B$7:$B$2976,"4") | M62: =COUNTIFS('District I'!$L$7:$L$2976,"54",'District I'!$O$7:$O$2976,"2", 'District I'!$B$7:$B$2976,"4") | N62: =COUNTIFS('District I'!$L$7:$L$2976,"54",'District I'!$O$7:$O$2976,"1", 'District I'!$B$7:$B$2976,"5") | O62: =COUNTIFS('District I'!$L$7:$L$2976,"54",'District I'!$O$7:$O$2976,"2", 'District I'!$B$7:$B$2976,"5") | P62: =COUNTIFS('District I'!$L$7:$L$2976,"54",'District I'!$O$7:$O$2976,"1", 'District I'!$B$7:$B$2976,"6") | Q62: =COUNTIFS('District I'!$L$7:$L$2976,"54",'District I'!$O$7:$O$2976,"2", 'District I'!$B$7:$B$2976,"6") | R62: =COUNTIFS('District I'!$L$7:$L$2976,"54",'District I'!$O$7:$O$2976,"1", 'District I'!$B$7:$B$2976,"7") | S62: =COUNTIFS('District I'!$L$7:$L$2976,"54",'District I'!$O$7:$O$2976,"2", 'District I'!$B$7:$B$2976,"7") | T62: =COUNTIFS('District I'!$L$7:$L$2976,"54",'District I'!$O$7:$O$2976,"1", 'District I'!$B$7:$B$2976,"8") | U62: =COUNTIFS('District I'!$L$7:$L$2976,"54",'District I'!$O$7:$O$2976,"2", 'District I'!$B$7:$B$2976,"8") | V62: =SUM(F62:U62)
A63: 55 | B63: =COUNTIF('District I'!$L$7:$L$2976,"55") | C63: =COUNTIFS('District I'!$L$7:$L$2976,"55",'District I'!$O$7:$O$2976,"1") | D63: =COUNTIFS('District I'!$L$7:$L$2976,"55",'District I'!$O$7:$O$2976,"2") | E63: =SUM(C63:D63) | F63: =COUNTIFS('District I'!$L$7:$L$2976,"55",'District I'!$O$7:$O$2976,"1", 'District I'!$B$7:$B$2976,"1") | G63: =COUNTIFS('District I'!$L$7:$L$2976,"55",'District I'!$O$7:$O$2976,"2", 'District I'!$B$7:$B$2976,"1") | H63: =COUNTIFS('District I'!$L$7:$L$2976,"55",'District I'!$O$7:$O$2976,"1", 'District I'!$B$7:$B$2976,"2") | I63: =COUNTIFS('District I'!$L$7:$L$2976,"55",'District I'!$O$7:$O$2976,"2", 'District I'!$B$7:$B$2976,"2") | J63: =COUNTIFS('District I'!$L$7:$L$2976,"55",'District I'!$O$7:$O$2976,"1", 'District I'!$B$7:$B$2976,"3") | K63: =COUNTIFS('District I'!$L$7:$L$2976,"55",'District I'!$O$7:$O$2976,"2", 'District I'!$B$7:$B$2976,"3") | L63: =COUNTIFS('District I'!$L$7:$L$2976,"55",'District I'!$O$7:$O$2976,"1", 'District I'!$B$7:$B$2976,"4") | M63: =COUNTIFS('District I'!$L$7:$L$2976,"55",'District I'!$O$7:$O$2976,"2", 'District I'!$B$7:$B$2976,"4") | N63: =COUNTIFS('District I'!$L$7:$L$2976,"55",'District I'!$O$7:$O$2976,"1", 'District I'!$B$7:$B$2976,"5") | O63: =COUNTIFS('District I'!$L$7:$L$2976,"55",'District I'!$O$7:$O$2976,"2", 'District I'!$B$7:$B$2976,"5") | P63: =COUNTIFS('District I'!$L$7:$L$2976,"55",'District I'!$O$7:$O$2976,"1", 'District I'!$B$7:$B$2976,"6") | Q63: =COUNTIFS('District I'!$L$7:$L$2976,"55",'District I'!$O$7:$O$2976,"2", 'District I'!$B$7:$B$2976,"6") | R63: =COUNTIFS('District I'!$L$7:$L$2976,"55",'District I'!$O$7:$O$2976,"1", 'District I'!$B$7:$B$2976,"7") | S63: =COUNTIFS('District I'!$L$7:$L$2976,"55",'District I'!$O$7:$O$2976,"2", 'District I'!$B$7:$B$2976,"7") | T63: =COUNTIFS('District I'!$L$7:$L$2976,"55",'District I'!$O$7:$O$2976,"1", 'District I'!$B$7:$B$2976,"8") | U63: =COUNTIFS('District I'!$L$7:$L$2976,"55",'District I'!$O$7:$O$2976,"2", 'District I'!$B$7:$B$2976,"8") | V63: =SUM(F63:U63)
A64: 56 | B64: =COUNTIF('District I'!$L$7:$L$2976,"56") | C64: =COUNTIFS('District I'!$L$7:$L$2976,"56",'District I'!$O$7:$O$2976,"1") | D64: =COUNTIFS('District I'!$L$7:$L$2976,"56",'District I'!$O$7:$O$2976,"2") | E64: =SUM(C64:D64) | F64: =COUNTIFS('District I'!$L$7:$L$2976,"56",'District I'!$O$7:$O$2976,"1", 'District I'!$B$7:$B$2976,"1") | G64: =COUNTIFS('District I'!$L$7:$L$2976,"56",'District I'!$O$7:$O$2976,"2", 'District I'!$B$7:$B$2976,"1") | H64: =COUNTIFS('District I'!$L$7:$L$2976,"56",'District I'!$O$7:$O$2976,"1", 'District I'!$B$7:$B$2976,"2") | I64: =COUNTIFS('District I'!$L$7:$L$2976,"56",'District I'!$O$7:$O$2976,"2", 'District I'!$B$7:$B$2976,"2") | J64: =COUNTIFS('District I'!$L$7:$L$2976,"56",'District I'!$O$7:$O$2976,"1", 'District I'!$B$7:$B$2976,"3") | K64: =COUNTIFS('District I'!$L$7:$L$2976,"56",'District I'!$O$7:$O$2976,"2", 'District I'!$B$7:$B$2976,"3") | L64: =COUNTIFS('District I'!$L$7:$L$2976,"56",'District I'!$O$7:$O$2976,"1", 'District I'!$B$7:$B$2976,"4") | M64: =COUNTIFS('District I'!$L$7:$L$2976,"56",'District I'!$O$7:$O$2976,"2", 'District I'!$B$7:$B$2976,"4") | N64: =COUNTIFS('District I'!$L$7:$L$2976,"56",'District I'!$O$7:$O$2976,"1", 'District I'!$B$7:$B$2976,"5") | O64: =COUNTIFS('District I'!$L$7:$L$2976,"56",'District I'!$O$7:$O$2976,"2", 'District I'!$B$7:$B$2976,"5") | P64: =COUNTIFS('District I'!$L$7:$L$2976,"56",'District I'!$O$7:$O$2976,"1", 'District I'!$B$7:$B$2976,"6") | Q64: =COUNTIFS('District I'!$L$7:$L$2976,"56",'District I'!$O$7:$O$2976,"2", 'District I'!$B$7:$B$2976,"6") | R64: =COUNTIFS('District I'!$L$7:$L$2976,"56",'District I'!$O$7:$O$2976,"1", 'District I'!$B$7:$B$2976,"7") | S64: =COUNTIFS('District I'!$L$7:$L$2976,"56",'District I'!$O$7:$O$2976,"2", 'District I'!$B$7:$B$2976,"7") | T64: =COUNTIFS('District I'!$L$7:$L$2976,"56",'District I'!$O$7:$O$2976,"1", 'District I'!$B$7:$B$2976,"8") | U64: =COUNTIFS('District I'!$L$7:$L$2976,"56",'District I'!$O$7:$O$2976,"2", 'District I'!$B$7:$B$2976,"8") | V64: =SUM(F64:U64)
A65: 57 | B65: =COUNTIF('District I'!$L$7:$L$2976,"57") | C65: =COUNTIFS('District I'!$L$7:$L$2976,"57",'District I'!$O$7:$O$2976,"1") | D65: =COUNTIFS('District I'!$L$7:$L$2976,"57",'District I'!$O$7:$O$2976,"2") | E65: =SUM(C65:D65) | F65: =COUNTIFS('District I'!$L$7:$L$2976,"57",'District I'!$O$7:$O$2976,"1", 'District I'!$B$7:$B$2976,"1") | G65: =COUNTIFS('District I'!$L$7:$L$2976,"57",'District I'!$O$7:$O$2976,"2", 'District I'!$B$7:$B$2976,"1") | H65: =COUNTIFS('District I'!$L$7:$L$2976,"57",'District I'!$O$7:$O$2976,"1", 'District I'!$B$7:$B$2976,"2") | I65: =COUNTIFS('District I'!$L$7:$L$2976,"57",'District I'!$O$7:$O$2976,"2", 'District I'!$B$7:$B$2976,"2") | J65: =COUNTIFS('District I'!$L$7:$L$2976,"57",'District I'!$O$7:$O$2976,"1", 'District I'!$B$7:$B$2976,"3") | K65: =COUNTIFS('District I'!$L$7:$L$2976,"57",'District I'!$O$7:$O$2976,"2", 'District I'!$B$7:$B$2976,"3") | L65: =COUNTIFS('District I'!$L$7:$L$2976,"57",'District I'!$O$7:$O$2976,"1", 'District I'!$B$7:$B$2976,"4") | M65: =COUNTIFS('District I'!$L$7:$L$2976,"57",'District I'!$O$7:$O$2976,"2", 'District I'!$B$7:$B$2976,"4") | N65: =COUNTIFS('District I'!$L$7:$L$2976,"57",'District I'!$O$7:$O$2976,"1", 'District I'!$B$7:$B$2976,"5") | O65: =COUNTIFS('District I'!$L$7:$L$2976,"57",'District I'!$O$7:$O$2976,"2", 'District I'!$B$7:$B$2976,"5") | P65: =COUNTIFS('District I'!$L$7:$L$2976,"57",'District I'!$O$7:$O$2976,"1", 'District I'!$B$7:$B$2976,"6") | Q65: =COUNTIFS('District I'!$L$7:$L$2976,"57",'District I'!$O$7:$O$2976,"2", 'District I'!$B$7:$B$2976,"6") | R65: =COUNTIFS('District I'!$L$7:$L$2976,"57",'District I'!$O$7:$O$2976,"1", 'District I'!$B$7:$B$2976,"7") | S65: =COUNTIFS('District I'!$L$7:$L$2976,"57",'District I'!$O$7:$O$2976,"2", 'District I'!$B$7:$B$2976,"7") | T65: =COUNTIFS('District I'!$L$7:$L$2976,"57",'District I'!$O$7:$O$2976,"1", 'District I'!$B$7:$B$2976,"8") | U65: =COUNTIFS('District I'!$L$7:$L$2976,"57",'District I'!$O$7:$O$2976,"2", 'District I'!$B$7:$B$2976,"8") | V65: =SUM(F65:U65)
A66: 58 | B66: =COUNTIF('District I'!$L$7:$L$2976,"58") | C66: =COUNTIFS('District I'!$L$7:$L$2976,"58",'District I'!$O$7:$O$2976,"1") | D66: =COUNTIFS('District I'!$L$7:$L$2976,"58",'District I'!$O$7:$O$2976,"2") | E66: =SUM(C66:D66) | F66: =COUNTIFS('District I'!$L$7:$L$2976,"58",'District I'!$O$7:$O$2976,"1", 'District I'!$B$7:$B$2976,"1") | G66: =COUNTIFS('District I'!$L$7:$L$2976,"58",'District I'!$O$7:$O$2976,"2", 'District I'!$B$7:$B$2976,"1") | H66: =COUNTIFS('District I'!$L$7:$L$2976,"58",'District I'!$O$7:$O$2976,"1", 'District I'!$B$7:$B$2976,"2") | I66: =COUNTIFS('District I'!$L$7:$L$2976,"58",'District I'!$O$7:$O$2976,"2", 'District I'!$B$7:$B$2976,"2") | J66: =COUNTIFS('District I'!$L$7:$L$2976,"58",'District I'!$O$7:$O$2976,"1", 'District I'!$B$7:$B$2976,"3") | K66: =COUNTIFS('District I'!$L$7:$L$2976,"58",'District I'!$O$7:$O$2976,"2", 'District I'!$B$7:$B$2976,"3") | L66: =COUNTIFS('District I'!$L$7:$L$2976,"58",'District I'!$O$7:$O$2976,"1", 'District I'!$B$7:$B$2976,"4") | M66: =COUNTIFS('District I'!$L$7:$L$2976,"58",'District I'!$O$7:$O$2976,"2", 'District I'!$B$7:$B$2976,"4") | N66: =COUNTIFS('District I'!$L$7:$L$2976,"58",'District I'!$O$7:$O$2976,"1", 'District I'!$B$7:$B$2976,"5") | O66: =COUNTIFS('District I'!$L$7:$L$2976,"58",'District I'!$O$7:$O$2976,"2", 'District I'!$B$7:$B$2976,"5") | P66: =COUNTIFS('District I'!$L$7:$L$2976,"58",'District I'!$O$7:$O$2976,"1", 'District I'!$B$7:$B$2976,"6") | Q66: =COUNTIFS('District I'!$L$7:$L$2976,"58",'District I'!$O$7:$O$2976,"2", 'District I'!$B$7:$B$2976,"6") | R66: =COUNTIFS('District I'!$L$7:$L$2976,"58",'District I'!$O$7:$O$2976,"1", 'District I'!$B$7:$B$2976,"7") | S66: =COUNTIFS('District I'!$L$7:$L$2976,"58",'District I'!$O$7:$O$2976,"2", 'District I'!$B$7:$B$2976,"7") | T66: =COUNTIFS('District I'!$L$7:$L$2976,"58",'District I'!$O$7:$O$2976,"1", 'District I'!$B$7:$B$2976,"8 ") | U66: =COUNTIFS('District I'!$L$7:$L$2976,"58",'District I'!$O$7:$O$2976,"2", 'District I'!$B$7:$B$2976,"8") | V66: =SUM(F66:U66)
A67: 59 | B67: =COUNTIF('District I'!$L$7:$L$2976,"59") | C67: =COUNTIFS('District I'!$L$7:$L$2976,"59",'District I'!$O$7:$O$2976,"1") | D67: =COUNTIFS('District I'!$L$7:$L$2976,"59",'District I'!$O$7:$O$2976,"2") | E67: =SUM(C67:D67) | F67: =COUNTIFS('District I'!$L$7:$L$2976,"59",'District I'!$O$7:$O$2976,"1", 'District I'!$B$7:$B$2976,"1") | G67: =COUNTIFS('District I'!$L$7:$L$2976,"59",'District I'!$O$7:$O$2976,"2", 'District I'!$B$7:$B$2976,"1") | H67: =COUNTIFS('District I'!$L$7:$L$2976,"59",'District I'!$O$7:$O$2976,"1", 'District I'!$B$7:$B$2976,"2") | I67: =COUNTIFS('District I'!$L$7:$L$2976,"59",'District I'!$O$7:$O$2976,"2", 'District I'!$B$7:$B$2976,"2") | J67: =COUNTIFS('District I'!$L$7:$L$2976,"59",'District I'!$O$7:$O$2976,"1", 'District I'!$B$7:$B$2976,"3") | K67: =COUNTIFS('District I'!$L$7:$L$2976,"59",'District I'!$O$7:$O$2976,"2", 'District I'!$B$7:$B$2976,"3") | L67: =COUNTIFS('District I'!$L$7:$L$2976,"59",'District I'!$O$7:$O$2976,"1", 'District I'!$B$7:$B$2976,"4") | M67: =COUNTIFS('District I'!$L$7:$L$2976,"59",'District I'!$O$7:$O$2976,"2", 'District I'!$B$7:$B$2976,"4") | N67: =COUNTIFS('District I'!$L$7:$L$2976,"59",'District I'!$O$7:$O$2976,"1", 'District I'!$B$7:$B$2976,"5") | O67: =COUNTIFS('District I'!$L$7:$L$2976,"59",'District I'!$O$7:$O$2976,"2", 'District I'!$B$7:$B$2976,"5") | P67: =COUNTIFS('District I'!$L$7:$L$2976,"59",'District I'!$O$7:$O$2976,"1", 'District I'!$B$7:$B$2976,"6") | Q67: =COUNTIFS('District I'!$L$7:$L$2976,"59",'District I'!$O$7:$O$2976,"2", 'District I'!$B$7:$B$2976,"6") | R67: =COUNTIFS('District I'!$L$7:$L$2976,"59",'District I'!$O$7:$O$2976,"1", 'District I'!$B$7:$B$2976,"7") | S67: =COUNTIFS('District I'!$L$7:$L$2976,"59",'District I'!$O$7:$O$2976,"2", 'District I'!$B$7:$B$2976,"7") | T67: =COUNTIFS('District I'!$L$7:$L$2976,"59",'District I'!$O$7:$O$2976,"1", 'District I'!$B$7:$B$2976,"8") | U67: =COUNTIFS('District I'!$L$7:$L$2976,"59",'District I'!$O$7:$O$2976,"2", 'District I'!$B$7:$B$2976,"8") | V67: =SUM(F67:U67)
A68: 60 | B68: =COUNTIF('District I'!$L$7:$L$2976,"60") | C68: =COUNTIFS('District I'!$L$7:$L$2976,"60",'District I'!$O$7:$O$2976,"1") | D68: =COUNTIFS('District I'!$L$7:$L$2976,"60",'District I'!$O$7:$O$2976,"2") | E68: =SUM(C68:D68) | F68: =COUNTIFS('District I'!$L$7:$L$2976,"60",'District I'!$O$7:$O$2976,"1", 'District I'!$B$7:$B$2976,"1") | G68: =COUNTIFS('District I'!$L$7:$L$2976,"60",'District I'!$O$7:$O$2976,"2", 'District I'!$B$7:$B$2976,"1") | H68: =COUNTIFS('District I'!$L$7:$L$2976,"60",'District I'!$O$7:$O$2976,"1", 'District I'!$B$7:$B$2976,"2") | I68: =COUNTIFS('District I'!$L$7:$L$2976,"60",'District I'!$O$7:$O$2976,"2", 'District I'!$B$7:$B$2976,"2") | J68: =COUNTIFS('District I'!$L$7:$L$2976,"60",'District I'!$O$7:$O$2976,"1", 'District I'!$B$7:$B$2976,"3") | K68: =COUNTIFS('District I'!$L$7:$L$2976,"60",'District I'!$O$7:$O$2976,"2", 'District I'!$B$7:$B$2976,"3") | L68: =COUNTIFS('District I'!$L$7:$L$2976,"60",'District I'!$O$7:$O$2976,"1", 'District I'!$B$7:$B$2976,"4") | M68: =COUNTIFS('District I'!$L$7:$L$2976,"60",'District I'!$O$7:$O$2976,"2", 'District I'!$B$7:$B$2976,"4") | N68: =COUNTIFS('District I'!$L$7:$L$2976,"60",'District I'!$O$7:$O$2976,"1", 'District I'!$B$7:$B$2976,"5") | O68: =COUNTIFS('District I'!$L$7:$L$2976,"60",'District I'!$O$7:$O$2976,"2", 'District I'!$B$7:$B$2976,"5") | P68: =COUNTIFS('District I'!$L$7:$L$2976,"60",'District I'!$O$7:$O$2976,"1", 'District I'!$B$7:$B$2976,"6") | Q68: =COUNTIFS('District I'!$L$7:$L$2976,"60",'District I'!$O$7:$O$2976,"2", 'District I'!$B$7:$B$2976,"6") | R68: =COUNTIFS('District I'!$L$7:$L$2976,"60",'District I'!$O$7:$O$2976,"1", 'District I'!$B$7:$B$2976,"7") | S68: =COUNTIFS('District I'!$L$7:$L$2976,"60",'District I'!$O$7:$O$2976,"2", 'District I'!$B$7:$B$2976,"7") | T68: =COUNTIFS('District I'!$L$7:$L$2976,"60",'District I'!$O$7:$O$2976,"1", 'District I'!$B$7:$B$2976,"8") | U68: =COUNTIFS('District I'!$L$7:$L$2976,"60",'District I'!$O$7:$O$2976,"2", 'District I'!$B$7:$B$2976,"8") | V68: =SUM(F68:U68)
A69: 61 | B69: =COUNTIF('District I'!$L$7:$L$2976,"61") | C69: =COUNTIFS('District I'!$L$7:$L$2976,"61",'District I'!$O$7:$O$2976,"1") | D69: =COUNTIFS('District I'!$L$7:$L$2976,"61",'District I'!$O$7:$O$2976,"2") | E69: =SUM(C69:D69) | F69: =COUNTIFS('District I'!$L$7:$L$2976,"61",'District I'!$O$7:$O$2976,"1", 'District I'!$B$7:$B$2976,"1") | G69: =COUNTIFS('District I'!$L$7:$L$2976,"61",'District I'!$O$7:$O$2976,"2", 'District I'!$B$7:$B$2976,"1") | H69: =COUNTIFS('District I'!$L$7:$L$2976,"61",'District I'!$O$7:$O$2976,"1", 'District I'!$B$7:$B$2976,"2") | I69: =COUNTIFS('District I'!$L$7:$L$2976,"61",'District I'!$O$7:$O$2976,"2", 'District I'!$B$7:$B$2976,"2") | J69: =COUNTIFS('District I'!$L$7:$L$2976,"61",'District I'!$O$7:$O$2976,"1", 'District I'!$B$7:$B$2976,"3") | K69: =COUNTIFS('District I'!$L$7:$L$2976,"61",'District I'!$O$7:$O$2976,"2", 'District I'!$B$7:$B$2976,"3") | L69: =COUNTIFS('District I'!$L$7:$L$2976,"61",'District I'!$O$7:$O$2976,"1", 'District I'!$B$7:$B$2976,"4") | M69: =COUNTIFS('District I'!$L$7:$L$2976,"61",'District I'!$O$7:$O$2976,"2", 'District I'!$B$7:$B$2976,"4") | N69: =COUNTIFS('District I'!$L$7:$L$2976,"61",'District I'!$O$7:$O$2976,"1", 'District I'!$B$7:$B$2976,"5") | O69: =COUNTIFS('District I'!$L$7:$L$2976,"61",'District I'!$O$7:$O$2976,"2", 'District I'!$B$7:$B$2976,"5") | P69: =COUNTIFS('District I'!$L$7:$L$2976,"61",'District I'!$O$7:$O$2976,"1", 'District I'!$B$7:$B$2976,"66") | Q69: =COUNTIFS('District I'!$L$7:$L$2976,"61",'District I'!$O$7:$O$2976,"2", 'District I'!$B$7:$B$2976,"6") | R69: =COUNTIFS('District I'!$L$7:$L$2976,"61",'District I'!$O$7:$O$2976,"1", 'District I'!$B$7:$B$2976,"7") | S69: =COUNTIFS('District I'!$L$7:$L$2976,"61",'District I'!$O$7:$O$2976,"2", 'District I'!$B$7:$B$2976,"7") | T69: =COUNTIFS('District I'!$L$7:$L$2976,"61",'District I'!$O$7:$O$2976,"1", 'District I'!$B$7:$B$2976,"8") | U69: =COUNTIFS('District I'!$L$7:$L$2976,"61",'District I'!$O$7:$O$2976,"2", 'District I'!$B$7:$B$2976,"8") | V69: =SUM(F69:U69)
A70: 62 | B70: =COUNTIF('District I'!$L$7:$L$2976,"62") | C70: =COUNTIFS('District I'!$L$7:$L$2976,"62",'District I'!$O$7:$O$2976,"1") | D70: =COUNTIFS('District I'!$L$7:$L$2976,"62",'District I'!$O$7:$O$2976,"2") | E70: =SUM(C70:D70) | F70: =COUNTIFS('District I'!$L$7:$L$2976,"62",'District I'!$O$7:$O$2976,"1", 'District I'!$B$7:$B$2976,"1") | G70: =COUNTIFS('District I'!$L$7:$L$2976,"62",'District I'!$O$7:$O$2976,"2", 'District I'!$B$7:$B$2976,"1") | H70: =COUNTIFS('District I'!$L$7:$L$2976,"62",'District I'!$O$7:$O$2976,"1", 'District I'!$B$7:$B$2976,"2") | I70: =COUNTIFS('District I'!$L$7:$L$2976,"62",'District I'!$O$7:$O$2976,"2", 'District I'!$B$7:$B$2976,"2") | J70: =COUNTIFS('District I'!$L$7:$L$2976,"62",'District I'!$O$7:$O$2976,"1", 'District I'!$B$7:$B$2976,"3") | K70: =COUNTIFS('District I'!$L$7:$L$2976,"62",'District I'!$O$7:$O$2976,"2", 'District I'!$B$7:$B$2976,"3") | L70: =COUNTIFS('District I'!$L$7:$L$2976,"62",'District I'!$O$7:$O$2976,"1", 'District I'!$B$7:$B$2976,"4") | M70: =COUNTIFS('District I'!$L$7:$L$2976,"62",'District I'!$O$7:$O$2976,"2", 'District I'!$B$7:$B$2976,"4") | N70: =COUNTIFS('District I'!$L$7:$L$2976,"62",'District I'!$O$7:$O$2976,"1", 'District I'!$B$7:$B$2976,"5") | O70: =COUNTIFS('District I'!$L$7:$L$2976,"62",'District I'!$O$7:$O$2976,"2", 'District I'!$B$7:$B$2976,"5") | P70: =COUNTIFS('District I'!$L$7:$L$2976,"62",'District I'!$O$7:$O$2976,"1", 'District I'!$B$7:$B$2976,"6") | Q70: =COUNTIFS('District I'!$L$7:$L$2976,"62",'District I'!$O$7:$O$2976,"2", 'District I'!$B$7:$B$2976,"6") | R70: =COUNTIFS('District I'!$L$7:$L$2976,"62",'District I'!$O$7:$O$2976,"1", 'District I'!$B$7:$B$2976,"7") | S70: =COUNTIFS('District I'!$L$7:$L$2976,"62",'District I'!$O$7:$O$2976,"2", 'District I'!$B$7:$B$2976,"7") | T70: =COUNTIFS('District I'!$L$7:$L$2976,"62",'District I'!$O$7:$O$2976,"1", 'District I'!$B$7:$B$2976,"8") | U70: =COUNTIFS('District I'!$L$7:$L$2976,"62",'District I'!$O$7:$O$2976,"2", 'District I'!$B$7:$B$2976,"8") | V70: =SUM(F70:U70)
A71: 63 | B71: =COUNTIF('District I'!$L$7:$L$2976,"63") | C71: =COUNTIFS('District I'!$L$7:$L$2976,"63",'District I'!$O$7:$O$2976,"1") | D71: =COUNTIFS('District I'!$L$7:$L$2976,"63",'District I'!$O$7:$O$2976,"2") | E71: =SUM(C71:D71) | F71: =COUNTIFS('District I'!$L$7:$L$2976,"63",'District I'!$O$7:$O$2976,"1", 'District I'!$B$7:$B$2976,"1") | G71: =COUNTIFS('District I'!$L$7:$L$2976,"63",'District I'!$O$7:$O$2976,"2", 'District I'!$B$7:$B$2976,"1") | H71: =COUNTIFS('District I'!$L$7:$L$2976,"63",'District I'!$O$7:$O$2976,"1", 'District I'!$B$7:$B$2976,"2") | I71: =COUNTIFS('District I'!$L$7:$L$2976,"63",'District I'!$O$7:$O$2976,"2", 'District I'!$B$7:$B$2976,"2") | J71: =COUNTIFS('District I'!$L$7:$L$2976,"63",'District I'!$O$7:$O$2976,"1", 'District I'!$B$7:$B$2976,"3") | K71: =COUNTIFS('District I'!$L$7:$L$2976,"63",'District I'!$O$7:$O$2976,"2", 'District I'!$B$7:$B$2976,"3") | L71: =COUNTIFS('District I'!$L$7:$L$2976,"63",'District I'!$O$7:$O$2976,"1", 'District I'!$B$7:$B$2976,"4") | M71: =COUNTIFS('District I'!$L$7:$L$2976,"63",'District I'!$O$7:$O$2976,"2", 'District I'!$B$7:$B$2976,"4") | N71: =COUNTIFS('District I'!$L$7:$L$2976,"63",'District I'!$O$7:$O$2976,"1", 'District I'!$B$7:$B$2976,"5") | O71: =COUNTIFS('District I'!$L$7:$L$2976,"63",'District I'!$O$7:$O$2976,"2", 'District I'!$B$7:$B$2976,"5") | P71: =COUNTIFS('District I'!$L$7:$L$2976,"63",'District I'!$O$7:$O$2976,"1", 'District I'!$B$7:$B$2976,"6") | Q71: =COUNTIFS('District I'!$L$7:$L$2976,"63",'District I'!$O$7:$O$2976,"2", 'District I'!$B$7:$B$2976,"6") | R71: =COUNTIFS('District I'!$L$7:$L$2976,"63",'District I'!$O$7:$O$2976,"1", 'District I'!$B$7:$B$2976,"7") | S71: =COUNTIFS('District I'!$L$7:$L$2976,"63",'District I'!$O$7:$O$2976,"2", 'District I'!$B$7:$B$2976,"7") | T71: =COUNTIFS('District I'!$L$7:$L$2976,"63",'District I'!$O$7:$O$2976,"1", 'District I'!$B$7:$B$2976,"8") | U71: =COUNTIFS('District I'!$L$7:$L$2976,"63",'District I'!$O$7:$O$2976,"2", 'District I'!$B$7:$B$2976,"8") | V71: =SUM(F71:U71)
A72: 64 | B72: =COUNTIF('District I'!$L$7:$L$2976,"64") | C72: =COUNTIFS('District I'!$L$7:$L$2976,"64",'District I'!$O$7:$O$2976,"1") | D72: =COUNTIFS('District I'!$L$7:$L$2976,"64",'District I'!$O$7:$O$2976,"2") | E72: =SUM(C72:D72) | F72: =COUNTIFS('District I'!$L$7:$L$2976,"64",'District I'!$O$7:$O$2976,"1", 'District I'!$B$7:$B$2976,"1") | G72: =COUNTIFS('District I'!$L$7:$L$2976,"64",'District I'!$O$7:$O$2976,"2", 'District I'!$B$7:$B$2976,"1") | H72: =COUNTIFS('District I'!$L$7:$L$2976,"64",'District I'!$O$7:$O$2976,"1", 'District I'!$B$7:$B$2976,"2") | I72: =COUNTIFS('District I'!$L$7:$L$2976,"64",'District I'!$O$7:$O$2976,"2", 'District I'!$B$7:$B$2976,"2") | J72: =COUNTIFS('District I'!$L$7:$L$2976,"64",'District I'!$O$7:$O$2976,"1", 'District I'!$B$7:$B$2976,"3") | K72: =COUNTIFS('District I'!$L$7:$L$2976,"64",'District I'!$O$7:$O$2976,"2", 'District I'!$B$7:$B$2976,"3") | L72: =COUNTIFS('District I'!$L$7:$L$2976,"64",'District I'!$O$7:$O$2976,"1", 'District I'!$B$7:$B$2976,"4") | M72: =COUNTIFS('District I'!$L$7:$L$2976,"64",'District I'!$O$7:$O$2976,"2", 'District I'!$B$7:$B$2976,"4") | N72: =COUNTIFS('District I'!$L$7:$L$2976,"64",'District I'!$O$7:$O$2976,"1", 'District I'!$B$7:$B$2976,"5") | O72: =COUNTIFS('District I'!$L$7:$L$2976,"64",'District I'!$O$7:$O$2976,"2", 'District I'!$B$7:$B$2976,"5") | P72: =COUNTIFS('District I'!$L$7:$L$2976,"64",'District I'!$O$7:$O$2976,"1", 'District I'!$B$7:$B$2976,"6") | Q72: =COUNTIFS('District I'!$L$7:$L$2976,"64",'District I'!$O$7:$O$2976,"2", 'District I'!$B$7:$B$2976,"6") | R72: =COUNTIFS('District I'!$L$7:$L$2976,"64",'District I'!$O$7:$O$2976,"1", 'District I'!$B$7:$B$2976,"7") | S72: =COUNTIFS('District I'!$L$7:$L$2976,"64",'District I'!$O$7:$O$2976,"2", 'District I'!$B$7:$B$2976,"7") | T72: =COUNTIFS('District I'!$L$7:$L$2976,"64",'District I'!$O$7:$O$2976,"1", 'District I'!$B$7:$B$2976,"8") | U72: =COUNTIFS('District I'!$L$7:$L$2976,"64",'District I'!$O$7:$O$2976,"2", 'District I'!$B$7:$B$2976,"8") | V72: =SUM(F72:U72)
A73: 65 | B73: =COUNTIF('District I'!$L$7:$L$2976,"65") | C73: =COUNTIFS('District I'!$L$7:$L$2976,"65",'District I'!$O$7:$O$2976,"1") | D73: =COUNTIFS('District I'!$L$7:$L$2976,"65",'District I'!$O$7:$O$2976,"2") | E73: =SUM(C73:D73) | F73: =COUNTIFS('District I'!$L$7:$L$2976,"65",'District I'!$O$7:$O$2976,"1", 'District I'!$B$7:$B$2976,"1") | G73: =COUNTIFS('District I'!$L$7:$L$2976,"65",'District I'!$O$7:$O$2976,"2", 'District I'!$B$7:$B$2976,"1") | H73: =COUNTIFS('District I'!$L$7:$L$2976,"65",'District I'!$O$7:$O$2976,"1", 'District I'!$B$7:$B$2976,"2") | I73: =COUNTIFS('District I'!$L$7:$L$2976,"65",'District I'!$O$7:$O$2976,"2", 'District I'!$B$7:$B$2976,"2") | J73: =COUNTIFS('District I'!$L$7:$L$2976,"65",'District I'!$O$7:$O$2976,"1", 'District I'!$B$7:$B$2976,"3") | K73: =COUNTIFS('District I'!$L$7:$L$2976,"65",'District I'!$O$7:$O$2976,"2", 'District I'!$B$7:$B$2976,"3") | L73: =COUNTIFS('District I'!$L$7:$L$2976,"65",'District I'!$O$7:$O$2976,"1", 'District I'!$B$7:$B$2976,"4") | M73: =COUNTIFS('District I'!$L$7:$L$2976,"65",'District I'!$O$7:$O$2976,"2", 'District I'!$B$7:$B$2976,"4") | N73: =COUNTIFS('District I'!$L$7:$L$2976,"65",'District I'!$O$7:$O$2976,"1", 'District I'!$B$7:$B$2976,"5") | O73: =COUNTIFS('District I'!$L$7:$L$2976,"65",'District I'!$O$7:$O$2976,"2", 'District I'!$B$7:$B$2976,"5") | P73: =COUNTIFS('District I'!$L$7:$L$2976,"65",'District I'!$O$7:$O$2976,"1", 'District I'!$B$7:$B$2976,"6") | Q73: =COUNTIFS('District I'!$L$7:$L$2976,"65",'District I'!$O$7:$O$2976,"2", 'District I'!$B$7:$B$2976,"6") | R73: =COUNTIFS('District I'!$L$7:$L$2976,"65",'District I'!$O$7:$O$2976,"1", 'District I'!$B$7:$B$2976,"7") | S73: =COUNTIFS('District I'!$L$7:$L$2976,"65",'District I'!$O$7:$O$2976,"2", 'District I'!$B$7:$B$2976,"7") | T73: =COUNTIFS('District I'!$L$7:$L$2976,"65",'District I'!$O$7:$O$2976,"1", 'District I'!$B$7:$B$2976,"8") | U73: =COUNTIFS('District I'!$L$7:$L$2976,"65",'District I'!$O$7:$O$2976,"2", 'District I'!$B$7:$B$2976,"8") | V73: =SUM(F73:U73)
A74: 66 | B74: =COUNTIF('District I'!$L$7:$L$2976,"66") | C74: =COUNTIFS('District I'!$L$7:$L$2976,"66",'District I'!$O$7:$O$2976,"1") | D74: =COUNTIFS('District I'!$L$7:$L$2976,"66",'District I'!$O$7:$O$2976,"2") | E74: =SUM(C74:D74) | F74: =COUNTIFS('District I'!$L$7:$L$2976,"66",'District I'!$O$7:$O$2976,"1", 'District I'!$B$7:$B$2976,"1") | G74: =COUNTIFS('District I'!$L$7:$L$2976,"66",'District I'!$O$7:$O$2976,"2", 'District I'!$B$7:$B$2976,"1") | H74: =COUNTIFS('District I'!$L$7:$L$2976,"66",'District I'!$O$7:$O$2976,"1", 'District I'!$B$7:$B$2976,"2") | I74: =COUNTIFS('District I'!$L$7:$L$2976,"66",'District I'!$O$7:$O$2976,"2", 'District I'!$B$7:$B$2976,"2") | J74: =COUNTIFS('District I'!$L$7:$L$2976,"66",'District I'!$O$7:$O$2976,"1", 'District I'!$B$7:$B$2976,"3") | K74: =COUNTIFS('District I'!$L$7:$L$2976,"66",'District I'!$O$7:$O$2976,"2", 'District I'!$B$7:$B$2976,"3") | L74: =COUNTIFS('District I'!$L$7:$L$2976,"66",'District I'!$O$7:$O$2976,"1", 'District I'!$B$7:$B$2976,"4") | M74: =COUNTIFS('District I'!$L$7:$L$2976,"66",'District I'!$O$7:$O$2976,"2", 'District I'!$B$7:$B$2976,"4") | N74: =COUNTIFS('District I'!$L$7:$L$2976,"66",'District I'!$O$7:$O$2976,"1", 'District I'!$B$7:$B$2976,"5") | O74: =COUNTIFS('District I'!$L$7:$L$2976,"66",'District I'!$O$7:$O$2976,"2", 'District I'!$B$7:$B$2976,"5") | P74: =COUNTIFS('District I'!$L$7:$L$2976,"66",'District I'!$O$7:$O$2976,"1", 'District I'!$B$7:$B$2976,"6") | Q74: =COUNTIFS('District I'!$L$7:$L$2976,"66",'District I'!$O$7:$O$2976,"2", 'District I'!$B$7:$B$2976,"6") | R74: =COUNTIFS('District I'!$L$7:$L$2976,"66",'District I'!$O$7:$O$2976,"1", 'District I'!$B$7:$B$2976,"7") | S74: =COUNTIFS('District I'!$L$7:$L$2976,"66",'District I'!$O$7:$O$2976,"2", 'District I'!$B$7:$B$2976,"7") | T74: =COUNTIFS('District I'!$L$7:$L$2976,"66",'District I'!$O$7:$O$2976,"1", 'District I'!$B$7:$B$2976,"8") | U74: =COUNTIFS('District I'!$L$7:$L$2976,"66",'District I'!$O$7:$O$2976,"2", 'District I'!$B$7:$B$2976,"8") | V74: =SUM(F74:U74)
A75: 67 | B75: =COUNTIF('District I'!$L$7:$L$2976,"67") | C75: =COUNTIFS('District I'!$L$7:$L$2976,"67",'District I'!$O$7:$O$2976,"1") | D75: =COUNTIFS('District I'!$L$7:$L$2976,"67",'District I'!$O$7:$O$2976,"2") | E75: =SUM(C75:D75) | F75: =COUNTIFS('District I'!$L$7:$L$2976,"67",'District I'!$O$7:$O$2976,"1", 'District I'!$B$7:$B$2976,"1") | G75: =COUNTIFS('District I'!$L$7:$L$2976,"67",'District I'!$O$7:$O$2976,"2", 'District I'!$B$7:$B$2976,"1") | H75: =COUNTIFS('District I'!$L$7:$L$2976,"67",'District I'!$O$7:$O$2976,"1", 'District I'!$B$7:$B$2976,"2") | I75: =COUNTIFS('District I'!$L$7:$L$2976,"67",'District I'!$O$7:$O$2976,"2", 'District I'!$B$7:$B$2976,"2") | J75: =COUNTIFS('District I'!$L$7:$L$2976,"67",'District I'!$O$7:$O$2976,"1", 'District I'!$B$7:$B$2976,"3") | K75: =COUNTIFS('District I'!$L$7:$L$2976,"67",'District I'!$O$7:$O$2976,"2", 'District I'!$B$7:$B$2976,"3") | L75: =COUNTIFS('District I'!$L$7:$L$2976,"67",'District I'!$O$7:$O$2976,"1", 'District I'!$B$7:$B$2976,"4") | M75: =COUNTIFS('District I'!$L$7:$L$2976,"67",'District I'!$O$7:$O$2976,"2", 'District I'!$B$7:$B$2976,"4") | N75: =COUNTIFS('District I'!$L$7:$L$2976,"67",'District I'!$O$7:$O$2976,"1", 'District I'!$B$7:$B$2976,"5") | O75: =COUNTIFS('District I'!$L$7:$L$2976,"67",'District I'!$O$7:$O$2976,"2", 'District I'!$B$7:$B$2976,"5") | P75: =COUNTIFS('District I'!$L$7:$L$2976,"67",'District I'!$O$7:$O$2976,"1", 'District I'!$B$7:$B$2976,"6") | Q75: =COUNTIFS('District I'!$L$7:$L$2976,"67",'District I'!$O$7:$O$2976,"2", 'District I'!$B$7:$B$2976,"6") | R75: =COUNTIFS('District I'!$L$7:$L$2976,"67",'District I'!$O$7:$O$2976,"1", 'District I'!$B$7:$B$2976,"7") | S75: =COUNTIFS('District I'!$L$7:$L$2976,"67",'District I'!$O$7:$O$2976,"2", 'District I'!$B$7:$B$2976,"7") | T75: =COUNTIFS('District I'!$L$7:$L$2976,"67",'District I'!$O$7:$O$2976,"1", 'District I'!$B$7:$B$2976,"8") | U75: =COUNTIFS('District I'!$L$7:$L$2976,"67",'District I'!$O$7:$O$2976,"2", 'District I'!$B$7:$B$2976,"8") | V75: =SUM(F75:U75)
A76: 68 | B76: =COUNTIF('District I'!$L$7:$L$2976,"68") | C76: =COUNTIFS('District I'!$L$7:$L$2976,"68",'District I'!$O$7:$O$2976,"1") | D76: =COUNTIFS('District I'!$L$7:$L$2976,"68",'District I'!$O$7:$O$2976,"2") | E76: =SUM(C76:D76) | F76: =COUNTIFS('District I'!$L$7:$L$2976,"68",'District I'!$O$7:$O$2976,"1", 'District I'!$B$7:$B$2976,"1") | G76: =COUNTIFS('District I'!$L$7:$L$2976,"68",'District I'!$O$7:$O$2976,"2", 'District I'!$B$7:$B$2976,"1") | H76: =COUNTIFS('District I'!$L$7:$L$2976,"68",'District I'!$O$7:$O$2976,"1", 'District I'!$B$7:$B$2976,"2") | I76: =COUNTIFS('District I'!$L$7:$L$2976,"68",'District I'!$O$7:$O$2976,"2", 'District I'!$B$7:$B$2976,"2") | J76: =COUNTIFS('District I'!$L$7:$L$2976,"68",'District I'!$O$7:$O$2976,"1", 'District I'!$B$7:$B$2976,"3") | K76: =COUNTIFS('District I'!$L$7:$L$2976,"68",'District I'!$O$7:$O$2976,"2", 'District I'!$B$7:$B$2976,"3") | L76: =COUNTIFS('District I'!$L$7:$L$2976,"68",'District I'!$O$7:$O$2976,"1", 'District I'!$B$7:$B$2976,"4") | M76: =COUNTIFS('District I'!$L$7:$L$2976,"68",'District I'!$O$7:$O$2976,"2", 'District I'!$B$7:$B$2976,"4") | N76: =COUNTIFS('District I'!$L$7:$L$2976,"68",'District I'!$O$7:$O$2976,"1", 'District I'!$B$7:$B$2976,"5") | O76: =COUNTIFS('District I'!$L$7:$L$2976,"68",'District I'!$O$7:$O$2976,"2", 'District I'!$B$7:$B$2976,"5") | P76: =COUNTIFS('District I'!$L$7:$L$2976,"68",'District I'!$O$7:$O$2976,"1", 'District I'!$B$7:$B$2976,"6") | Q76: =COUNTIFS('District I'!$L$7:$L$2976,"68",'District I'!$O$7:$O$2976,"2", 'District I'!$B$7:$B$2976,"6") | R76: =COUNTIFS('District I'!$L$7:$L$2976,"68",'District I'!$O$7:$O$2976,"1", 'District I'!$B$7:$B$2976,"7") | S76: =COUNTIFS('District I'!$L$7:$L$2976,"68",'District I'!$O$7:$O$2976,"2", 'District I'!$B$7:$B$2976,"7") | T76: =COUNTIFS('District I'!$L$7:$L$2976,"68",'District I'!$O$7:$O$2976,"1", 'District I'!$B$7:$B$2976,"8") | U76: =COUNTIFS('District I'!$L$7:$L$2976,"68",'District I'!$O$7:$O$2976,"2", 'District I'!$B$7:$B$2976,"8") | V76: =SUM(F76:U76)
A77: 69 | B77: =COUNTIF('District I'!$L$7:$L$2976,"69") | C77: =COUNTIFS('District I'!$L$7:$L$2976,"69",'District I'!$O$7:$O$2976,"1") | D77: =COUNTIFS('District I'!$L$7:$L$2976,"69",'District I'!$O$7:$O$2976,"2") | E77: =SUM(C77:D77) | F77: =COUNTIFS('District I'!$L$7:$L$2976,"69",'District I'!$O$7:$O$2976,"1", 'District I'!$B$7:$B$2976,"1") | G77: =COUNTIFS('District I'!$L$7:$L$2976,"69",'District I'!$O$7:$O$2976,"2", 'District I'!$B$7:$B$2976,"1") | H77: =COUNTIFS('District I'!$L$7:$L$2976,"69",'District I'!$O$7:$O$2976,"1", 'District I'!$B$7:$B$2976,"2") | I77: =COUNTIFS('District I'!$L$7:$L$2976,"69",'District I'!$O$7:$O$2976,"2", 'District I'!$B$7:$B$2976,"2") | J77: =COUNTIFS('District I'!$L$7:$L$2976,"69",'District I'!$O$7:$O$2976,"1", 'District I'!$B$7:$B$2976,"3") | K77: =COUNTIFS('District I'!$L$7:$L$2976,"69",'District I'!$O$7:$O$2976,"2", 'District I'!$B$7:$B$2976,"3") | L77: =COUNTIFS('District I'!$L$7:$L$2976,"69",'District I'!$O$7:$O$2976,"1", 'District I'!$B$7:$B$2976,"4") | M77: =COUNTIFS('District I'!$L$7:$L$2976,"69",'District I'!$O$7:$O$2976,"2", 'District I'!$B$7:$B$2976,"4") | N77: =COUNTIFS('District I'!$L$7:$L$2976,"69",'District I'!$O$7:$O$2976,"1", 'District I'!$B$7:$B$2976,"5") | O77: =COUNTIFS('District I'!$L$7:$L$2976,"69",'District I'!$O$7:$O$2976,"2", 'District I'!$B$7:$B$2976,"5") | P77: =COUNTIFS('District I'!$L$7:$L$2976,"69",'District I'!$O$7:$O$2976,"1", 'District I'!$B$7:$B$2976,"6") | Q77: =COUNTIFS('District I'!$L$7:$L$2976,"69",'District I'!$O$7:$O$2976,"2", 'District I'!$B$7:$B$2976,"6") | R77: =COUNTIFS('District I'!$L$7:$L$2976,"69",'District I'!$O$7:$O$2976,"1", 'District I'!$B$7:$B$2976,"7") | S77: =COUNTIFS('District I'!$L$7:$L$2976,"69",'District I'!$O$7:$O$2976,"2", 'District I'!$B$7:$B$2976,"7") | T77: =COUNTIFS('District I'!$L$7:$L$2976,"69",'District I'!$O$7:$O$2976,"1", 'District I'!$B$7:$B$2976,"8") | U77: =COUNTIFS('District I'!$L$7:$L$2976,"69",'District I'!$O$7:$O$2976,"2", 'District I'!$B$7:$B$2976,"8") | V77: =SUM(F77:U77)
A78: 70 | B78: =COUNTIF('District I'!$L$7:$L$2976,"70") | C78: =COUNTIFS('District I'!$L$7:$L$2976,"70",'District I'!$O$7:$O$2976,"1") | D78: =COUNTIFS('District I'!$L$7:$L$2976,"70",'District I'!$O$7:$O$2976,"2") | E78: =SUM(C78:D78) | F78: =COUNTIFS('District I'!$L$7:$L$2976,"70",'District I'!$O$7:$O$2976,"1", 'District I'!$B$7:$B$2976,"1") | G78: =COUNTIFS('District I'!$L$7:$L$2976,"70",'District I'!$O$7:$O$2976,"2", 'District I'!$B$7:$B$2976,"1") | H78: =COUNTIFS('District I'!$L$7:$L$2976,"70",'District I'!$O$7:$O$2976,"1", 'District I'!$B$7:$B$2976,"2") | I78: =COUNTIFS('District I'!$L$7:$L$2976,"70",'District I'!$O$7:$O$2976,"2", 'District I'!$B$7:$B$2976,"2") | J78: =COUNTIFS('District I'!$L$7:$L$2976,"70",'District I'!$O$7:$O$2976,"1", 'District I'!$B$7:$B$2976,"3") | K78: =COUNTIFS('District I'!$L$7:$L$2976,"70",'District I'!$O$7:$O$2976,"2", 'District I'!$B$7:$B$2976,"3") | L78: =COUNTIFS('District I'!$L$7:$L$2976,"70",'District I'!$O$7:$O$2976,"1", 'District I'!$B$7:$B$2976,"4") | M78: =COUNTIFS('District I'!$L$7:$L$2976,"70",'District I'!$O$7:$O$2976,"2", 'District I'!$B$7:$B$2976,"4") | N78: =COUNTIFS('District I'!$L$7:$L$2976,"70",'District I'!$O$7:$O$2976,"1", 'District I'!$B$7:$B$2976,"5") | O78: =COUNTIFS('District I'!$L$7:$L$2976,"70",'District I'!$O$7:$O$2976,"2", 'District I'!$B$7:$B$2976,"5") | P78: =COUNTIFS('District I'!$L$7:$L$2976,"70",'District I'!$O$7:$O$2976,"1", 'District I'!$B$7:$B$2976,"6") | Q78: =COUNTIFS('District I'!$L$7:$L$2976,"70",'District I'!$O$7:$O$2976,"2", 'District I'!$B$7:$B$2976,"6") | R78: =COUNTIFS('District I'!$L$7:$L$2976,"70",'District I'!$O$7:$O$2976,"1", 'District I'!$B$7:$B$2976,"7") | S78: =COUNTIFS('District I'!$L$7:$L$2976,"70",'District I'!$O$7:$O$2976,"2", 'District I'!$B$7:$B$2976,"7") | T78: =COUNTIFS('District I'!$L$7:$L$2976,"70",'District I'!$O$7:$O$2976,"1", 'District I'!$B$7:$B$2976,"8") | U78: =COUNTIFS('District I'!$L$7:$L$2976,"70",'District I'!$O$7:$O$2976,"2", 'District I'!$B$7:$B$2976,"8") | V78: =SUM(F78:U78)
A79: 71 | B79: =COUNTIF('District I'!$L$7:$L$2976,"71") | C79: =COUNTIFS('District I'!$L$7:$L$2976,"71",'District I'!$O$7:$O$2976,"1") | D79: =COUNTIFS('District I'!$L$7:$L$2976,"71",'District I'!$O$7:$O$2976,"2") | E79: =SUM(C79:D79) | F79: =COUNTIFS('District I'!$L$7:$L$2976,"71",'District I'!$O$7:$O$2976,"1", 'District I'!$B$7:$B$2976,"1") | G79: =COUNTIFS('District I'!$L$7:$L$2976,"71",'District I'!$O$7:$O$2976,"2", 'District I'!$B$7:$B$2976,"1") | H79: =COUNTIFS('District I'!$L$7:$L$2976,"71",'District I'!$O$7:$O$2976,"1", 'District I'!$B$7:$B$2976,"2") | I79: =COUNTIFS('District I'!$L$7:$L$2976,"71",'District I'!$O$7:$O$2976,"2", 'District I'!$B$7:$B$2976,"2") | J79: =COUNTIFS('District I'!$L$7:$L$2976,"71",'District I'!$O$7:$O$2976,"1", 'District I'!$B$7:$B$2976,"3") | K79: =COUNTIFS('District I'!$L$7:$L$2976,"71",'District I'!$O$7:$O$2976,"2", 'District I'!$B$7:$B$2976,"3") | L79: =COUNTIFS('District I'!$L$7:$L$2976,"71",'District I'!$O$7:$O$2976,"1", 'District I'!$B$7:$B$2976,"4") | M79: =COUNTIFS('District I'!$L$7:$L$2976,"71",'District I'!$O$7:$O$2976,"2", 'District I'!$B$7:$B$2976,"4") | N79: =COUNTIFS('District I'!$L$7:$L$2976,"71",'District I'!$O$7:$O$2976,"1", 'District I'!$B$7:$B$2976,"5") | O79: =COUNTIFS('District I'!$L$7:$L$2976,"71",'District I'!$O$7:$O$2976,"2", 'District I'!$B$7:$B$2976,"5") | P79: =COUNTIFS('District I'!$L$7:$L$2976,"71",'District I'!$O$7:$O$2976,"1", 'District I'!$B$7:$B$2976,"6") | Q79: =COUNTIFS('District I'!$L$7:$L$2976,"71",'District I'!$O$7:$O$2976,"2", 'District I'!$B$7:$B$2976,"6") | R79: =COUNTIFS('District I'!$L$7:$L$2976,"71",'District I'!$O$7:$O$2976,"1", 'District I'!$B$7:$B$2976,"7") | S79: =COUNTIFS('District I'!$L$7:$L$2976,"71",'District I'!$O$7:$O$2976,"2", 'District I'!$B$7:$B$2976,"7") | T79: =COUNTIFS('District I'!$L$7:$L$2976,"71",'District I'!$O$7:$O$2976,"1", 'District I'!$B$7:$B$2976,"8") | U79: =COUNTIFS('District I'!$L$7:$L$2976,"71",'District I'!$O$7:$O$2976,"2", 'District I'!$B$7:$B$2976,"8") | V79: =SUM(F79:U79)
A80: 72 | B80: =COUNTIF('District I'!$L$7:$L$2976,"72") | C80: =COUNTIFS('District I'!$L$7:$L$2976,"72",'District I'!$O$7:$O$2976,"1") | D80: =COUNTIFS('District I'!$L$7:$L$2976,"72",'District I'!$O$7:$O$2976,"2") | E80: =SUM(C80:D80) | F80: =COUNTIFS('District I'!$L$7:$L$2976,"72",'District I'!$O$7:$O$2976,"1", 'District I'!$B$7:$B$2976,"1") | G80: =COUNTIFS('District I'!$L$7:$L$2976,"72",'District I'!$O$7:$O$2976,"2", 'District I'!$B$7:$B$2976,"1") | H80: =COUNTIFS('District I'!$L$7:$L$2976,"72",'District I'!$O$7:$O$2976,"1", 'District I'!$B$7:$B$2976,"2") | I80: =COUNTIFS('District I'!$L$7:$L$2976,"72",'District I'!$O$7:$O$2976,"2", 'District I'!$B$7:$B$2976,"2") | J80: =COUNTIFS('District I'!$L$7:$L$2976,"72",'District I'!$O$7:$O$2976,"1", 'District I'!$B$7:$B$2976,"3") | K80: =COUNTIFS('District I'!$L$7:$L$2976,"72",'District I'!$O$7:$O$2976,"2", 'District I'!$B$7:$B$2976,"3") | L80: =COUNTIFS('District I'!$L$7:$L$2976,"72",'District I'!$O$7:$O$2976,"1", 'District I'!$B$7:$B$2976,"4") | M80: =COUNTIFS('District I'!$L$7:$L$2976,"72",'District I'!$O$7:$O$2976,"2", 'District I'!$B$7:$B$2976,"4") | N80: =COUNTIFS('District I'!$L$7:$L$2976,"72",'District I'!$O$7:$O$2976,"1", 'District I'!$B$7:$B$2976,"5") | O80: =COUNTIFS('District I'!$L$7:$L$2976,"72",'District I'!$O$7:$O$2976,"2", 'District I'!$B$7:$B$2976,"5") | P80: =COUNTIFS('District I'!$L$7:$L$2976,"72",'District I'!$O$7:$O$2976,"1", 'District I'!$B$7:$B$2976,"6") | Q80: =COUNTIFS('District I'!$L$7:$L$2976,"72",'District I'!$O$7:$O$2976,"2", 'District I'!$B$7:$B$2976,"6") | R80: =COUNTIFS('District I'!$L$7:$L$2976,"72",'District I'!$O$7:$O$2976,"1", 'District I'!$B$7:$B$2976,"7") | S80: =COUNTIFS('District I'!$L$7:$L$2976,"72",'District I'!$O$7:$O$2976,"2.", 'District I'!$B$7:$B$2976,"7") | T80: =COUNTIFS('District I'!$L$7:$L$2976,"72",'District I'!$O$7:$O$2976,"1", 'District I'!$B$7:$B$2976,"8") | U80: =COUNTIFS('District I'!$L$7:$L$2976,"72",'District I'!$O$7:$O$2976,"2.", 'District I'!$B$7:$B$2976,"8") | V80: =SUM(F80:U80)
A81: 73 | B81: =COUNTIF('District I'!$L$7:$L$2976,"73") | C81: =COUNTIFS('District I'!$L$7:$L$2976,"73",'District I'!$O$7:$O$2976,"1") | D81: =COUNTIFS('District I'!$L$7:$L$2976,"73",'District I'!$O$7:$O$2976,"2") | E81: =SUM(C81:D81) | F81: =COUNTIFS('District I'!$L$7:$L$2976,"73",'District I'!$O$7:$O$2976,"1", 'District I'!$B$7:$B$2976,"1") | G81: =COUNTIFS('District I'!$L$7:$L$2976,"73",'District I'!$O$7:$O$2976,"2", 'District I'!$B$7:$B$2976,"1") | H81: =COUNTIFS('District I'!$L$7:$L$2976,"73",'District I'!$O$7:$O$2976,"1", 'District I'!$B$7:$B$2976,"2") | I81: =COUNTIFS('District I'!$L$7:$L$2976,"73",'District I'!$O$7:$O$2976,"2", 'District I'!$B$7:$B$2976,"2") | J81: =COUNTIFS('District I'!$L$7:$L$2976,"73",'District I'!$O$7:$O$2976,"1", 'District I'!$B$7:$B$2976,"3") | K81: =COUNTIFS('District I'!$L$7:$L$2976,"73",'District I'!$O$7:$O$2976,"2", 'District I'!$B$7:$B$2976,"3") | L81: =COUNTIFS('District I'!$L$7:$L$2976,"73",'District I'!$O$7:$O$2976,"1", 'District I'!$B$7:$B$2976,"4") | M81: =COUNTIFS('District I'!$L$7:$L$2976,"73",'District I'!$O$7:$O$2976,"2", 'District I'!$B$7:$B$2976,"4") | N81: =COUNTIFS('District I'!$L$7:$L$2976,"73",'District I'!$O$7:$O$2976,"1", 'District I'!$B$7:$B$2976,"5") | O81: =COUNTIFS('District I'!$L$7:$L$2976,"73",'District I'!$O$7:$O$2976,"2", 'District I'!$B$7:$B$2976,"5") | P81: =COUNTIFS('District I'!$L$7:$L$2976,"73",'District I'!$O$7:$O$2976,"1", 'District I'!$B$7:$B$2976,"6") | Q81: =COUNTIFS('District I'!$L$7:$L$2976,"73",'District I'!$O$7:$O$2976,"2", 'District I'!$B$7:$B$2976,"6") | R81: =COUNTIFS('District I'!$L$7:$L$2976,"73",'District I'!$O$7:$O$2976,"1", 'District I'!$B$7:$B$2976,"7") | S81: =COUNTIFS('District I'!$L$7:$L$2976,"73",'District I'!$O$7:$O$2976,"2", 'District I'!$B$7:$B$2976,"7") | T81: =COUNTIFS('District I'!$L$7:$L$2976,"73",'District I'!$O$7:$O$2976,"1", 'District I'!$B$7:$B$2976,"8") | U81: =COUNTIFS('District I'!$L$7:$L$2976,"73",'District I'!$O$7:$O$2976,"2", 'District I'!$B$7:$B$2976,"8") | V81: =SUM(F81:U81)
A82: 74 | B82: =COUNTIF('District I'!$L$7:$L$2976,"74") | C82: =COUNTIFS('District I'!$L$7:$L$2976,"74",'District I'!$O$7:$O$2976,"1") | D82: =COUNTIFS('District I'!$L$7:$L$2976,"74",'District I'!$O$7:$O$2976,"2") | E82: =SUM(C82:D82) | F82: =COUNTIFS('District I'!$L$7:$L$2976,"74",'District I'!$O$7:$O$2976,"1", 'District I'!$B$7:$B$2976,"1") | G82: =COUNTIFS('District I'!$L$7:$L$2976,"74",'District I'!$O$7:$O$2976,"2", 'District I'!$B$7:$B$2976,"1") | H82: =COUNTIFS('District I'!$L$7:$L$2976,"74",'District I'!$O$7:$O$2976,"1", 'District I'!$B$7:$B$2976,"2") | I82: =COUNTIFS('District I'!$L$7:$L$2976,"74",'District I'!$O$7:$O$2976,"2", 'District I'!$B$7:$B$2976,"2") | J82: =COUNTIFS('District I'!$L$7:$L$2976,"74",'District I'!$O$7:$O$2976,"1", 'District I'!$B$7:$B$2976,"3") | K82: =COUNTIFS('District I'!$L$7:$L$2976,"74",'District I'!$O$7:$O$2976,"2", 'District I'!$B$7:$B$2976,"3") | L82: =COUNTIFS('District I'!$L$7:$L$2976,"74",'District I'!$O$7:$O$2976,"1", 'District I'!$B$7:$B$2976,"4") | M82: =COUNTIFS('District I'!$L$7:$L$2976,"74",'District I'!$O$7:$O$2976,"2", 'District I'!$B$7:$B$2976,"4") | N82: =COUNTIFS('District I'!$L$7:$L$2976,"74",'District I'!$O$7:$O$2976,"1", 'District I'!$B$7:$B$2976,"5") | O82: =COUNTIFS('District I'!$L$7:$L$2976,"74",'District I'!$O$7:$O$2976,"2", 'District I'!$B$7:$B$2976,"5") | P82: =COUNTIFS('District I'!$L$7:$L$2976,"74",'District I'!$O$7:$O$2976,"1", 'District I'!$B$7:$B$2976,"6") | Q82: =COUNTIFS('District I'!$L$7:$L$2976,"74",'District I'!$O$7:$O$2976,"2", 'District I'!$B$7:$B$2976,"6") | R82: =COUNTIFS('District I'!$L$7:$L$2976,"74",'District I'!$O$7:$O$2976,"1", 'District I'!$B$7:$B$2976,"7") | S82: =COUNTIFS('District I'!$L$7:$L$2976,"74",'District I'!$O$7:$O$2976,"2", 'District I'!$B$7:$B$2976,"7") | T82: =COUNTIFS('District I'!$L$7:$L$2976,"74",'District I'!$O$7:$O$2976,"1", 'District I'!$B$7:$B$2976,"8") | U82: =COUNTIFS('District I'!$L$7:$L$2976,"74",'District I'!$O$7:$O$2976,"2", 'District I'!$B$7:$B$2976,"8") | V82: =SUM(F82:U82)
A83: 75 | B83: =COUNTIF('District I'!$L$7:$L$2976,"75") | C83: =COUNTIFS('District I'!$L$7:$L$2976,"75",'District I'!$O$7:$O$2976,"1") | D83: =COUNTIFS('District I'!$L$7:$L$2976,"75",'District I'!$O$7:$O$2976,"2") | E83: =SUM(C83:D83) | F83: =COUNTIFS('District I'!$L$7:$L$2976,"75",'District I'!$O$7:$O$2976,"1", 'District I'!$B$7:$B$2976,"1") | G83: =COUNTIFS('District I'!$L$7:$L$2976,"75",'District I'!$O$7:$O$2976,"2", 'District I'!$B$7:$B$2976,"1") | H83: =COUNTIFS('District I'!$L$7:$L$2976,"75",'District I'!$O$7:$O$2976,"1", 'District I'!$B$7:$B$2976,"2") | I83: =COUNTIFS('District I'!$L$7:$L$2976,"75",'District I'!$O$7:$O$2976,"2", 'District I'!$B$7:$B$2976,"2") | J83: =COUNTIFS('District I'!$L$7:$L$2976,"75",'District I'!$O$7:$O$2976,"1", 'District I'!$B$7:$B$2976,"3") | K83: =COUNTIFS('District I'!$L$7:$L$2976,"75",'District I'!$O$7:$O$2976,"2", 'District I'!$B$7:$B$2976,"3") | L83: =COUNTIFS('District I'!$L$7:$L$2976,"75",'District I'!$O$7:$O$2976,"1", 'District I'!$B$7:$B$2976,"4") | M83: =COUNTIFS('District I'!$L$7:$L$2976,"75",'District I'!$O$7:$O$2976,"2", 'District I'!$B$7:$B$2976,"4") | N83: =COUNTIFS('District I'!$L$7:$L$2976,"75",'District I'!$O$7:$O$2976,"1", 'District I'!$B$7:$B$2976,"5") | O83: =COUNTIFS('District I'!$L$7:$L$2976,"75",'District I'!$O$7:$O$2976,"2", 'District I'!$B$7:$B$2976,"5") | P83: =COUNTIFS('District I'!$L$7:$L$2976,"75",'District I'!$O$7:$O$2976,"1", 'District I'!$B$7:$B$2976,"6") | Q83: =COUNTIFS('District I'!$L$7:$L$2976,"75",'District I'!$O$7:$O$2976,"2", 'District I'!$B$7:$B$2976,"6") | R83: =COUNTIFS('District I'!$L$7:$L$2976,"75",'District I'!$O$7:$O$2976,"1", 'District I'!$B$7:$B$2976,"7") | S83: =COUNTIFS('District I'!$L$7:$L$2976,"75",'District I'!$O$7:$O$2976,"2", 'District I'!$B$7:$B$2976,"7") | T83: =COUNTIFS('District I'!$L$7:$L$2976,"75",'District I'!$O$7:$O$2976,"1", 'District I'!$B$7:$B$2976,"8") | U83: =COUNTIFS('District I'!$L$7:$L$2976,"75",'District I'!$O$7:$O$2976,"2", 'District I'!$B$7:$B$2976,"8") | V83: =SUM(F83:U83)
A84: 76 | B84: =COUNTIF('District I'!$L$7:$L$2976,"76") | C84: =COUNTIFS('District I'!$L$7:$L$2976,"76",'District I'!$O$7:$O$2976,"1") | D84: =COUNTIFS('District I'!$L$7:$L$2976,"76",'District I'!$O$7:$O$2976,"2") | E84: =SUM(C84:D84) | F84: =COUNTIFS('District I'!$L$7:$L$2976,"76",'District I'!$O$7:$O$2976,"1", 'District I'!$B$7:$B$2976,"1") | G84: =COUNTIFS('District I'!$L$7:$L$2976,"76",'District I'!$O$7:$O$2976,"2", 'District I'!$B$7:$B$2976,"1") | H84: =COUNTIFS('District I'!$L$7:$L$2976,"76",'District I'!$O$7:$O$2976,"1", 'District I'!$B$7:$B$2976,"2") | I84: =COUNTIFS('District I'!$L$7:$L$2976,"76",'District I'!$O$7:$O$2976,"2", 'District I'!$B$7:$B$2976,"2") | J84: =COUNTIFS('District I'!$L$7:$L$2976,"76",'District I'!$O$7:$O$2976,"1", 'District I'!$B$7:$B$2976,"3") | K84: =COUNTIFS('District I'!$L$7:$L$2976,"76",'District I'!$O$7:$O$2976,"2", 'District I'!$B$7:$B$2976,"3") | L84: =COUNTIFS('District I'!$L$7:$L$2976,"76",'District I'!$O$7:$O$2976,"1", 'District I'!$B$7:$B$2976,"4") | M84: =COUNTIFS('District I'!$L$7:$L$2976,"76",'District I'!$O$7:$O$2976,"2", 'District I'!$B$7:$B$2976,"4") | N84: =COUNTIFS('District I'!$L$7:$L$2976,"76",'District I'!$O$7:$O$2976,"1", 'District I'!$B$7:$B$2976,"5") | O84: =COUNTIFS('District I'!$L$7:$L$2976,"76",'District I'!$O$7:$O$2976,"2", 'District I'!$B$7:$B$2976,"5") | P84: =COUNTIFS('District I'!$L$7:$L$2976,"76",'District I'!$O$7:$O$2976,"1", 'District I'!$B$7:$B$2976,"6") | Q84: =COUNTIFS('District I'!$L$7:$L$2976,"76",'District I'!$O$7:$O$2976,"2", 'District I'!$B$7:$B$2976,"6") | R84: =COUNTIFS('District I'!$L$7:$L$2976,"76",'District I'!$O$7:$O$2976,"1", 'District I'!$B$7:$B$2976,"7") | S84: =COUNTIFS('District I'!$L$7:$L$2976,"76",'District I'!$O$7:$O$2976,"2", 'District I'!$B$7:$B$2976,"7") | T84: =COUNTIFS('District I'!$L$7:$L$2976,"76",'District I'!$O$7:$O$2976,"1", 'District I'!$B$7:$B$2976,"8") | U84: =COUNTIFS('District I'!$L$7:$L$2976,"76",'District I'!$O$7:$O$2976,"2", 'District I'!$B$7:$B$2976,"8") | V84: =SUM(F84:U84)
A85: 77 | B85: =COUNTIF('District I'!$L$7:$L$2976,"77") | C85: =COUNTIFS('District I'!$L$7:$L$2976,"77",'District I'!$O$7:$O$2976,"1") | D85: =COUNTIFS('District I'!$L$7:$L$2976,"77",'District I'!$O$7:$O$2976,"2") | E85: =SUM(C85:D85) | F85: =COUNTIFS('District I'!$L$7:$L$2976,"77",'District I'!$O$7:$O$2976,"1", 'District I'!$B$7:$B$2976,"1") | G85: =COUNTIFS('District I'!$L$7:$L$2976,"77",'District I'!$O$7:$O$2976,"2", 'District I'!$B$7:$B$2976,"1") | H85: =COUNTIFS('District I'!$L$7:$L$2976,"77",'District I'!$O$7:$O$2976,"1", 'District I'!$B$7:$B$2976,"2") | I85: =COUNTIFS('District I'!$L$7:$L$2976,"77",'District I'!$O$7:$O$2976,"2", 'District I'!$B$7:$B$2976,"2") | J85: =COUNTIFS('District I'!$L$7:$L$2976,"77",'District I'!$O$7:$O$2976,"1", 'District I'!$B$7:$B$2976,"3") | K85: =COUNTIFS('District I'!$L$7:$L$2976,"77",'District I'!$O$7:$O$2976,"2", 'District I'!$B$7:$B$2976,"3") | L85: =COUNTIFS('District I'!$L$7:$L$2976,"77",'District I'!$O$7:$O$2976,"1", 'District I'!$B$7:$B$2976,"4") | M85: =COUNTIFS('District I'!$L$7:$L$2976,"77",'District I'!$O$7:$O$2976,"2", 'District I'!$B$7:$B$2976,"4") | N85: =COUNTIFS('District I'!$L$7:$L$2976,"77",'District I'!$O$7:$O$2976,"1", 'District I'!$B$7:$B$2976,"5") | O85: =COUNTIFS('District I'!$L$7:$L$2976,"77",'District I'!$O$7:$O$2976,"2", 'District I'!$B$7:$B$2976,"5") | P85: =COUNTIFS('District I'!$L$7:$L$2976,"77",'District I'!$O$7:$O$2976,"1", 'District I'!$B$7:$B$2976,"6") | Q85: =COUNTIFS('District I'!$L$7:$L$2976,"77",'District I'!$O$7:$O$2976,"2", 'District I'!$B$7:$B$2976,"6") | R85: =COUNTIFS('District I'!$L$7:$L$2976,"77",'District I'!$O$7:$O$2976,"1", 'District I'!$B$7:$B$2976,"7") | S85: =COUNTIFS('District I'!$L$7:$L$2976,"77",'District I'!$O$7:$O$2976,"2", 'District I'!$B$7:$B$2976,"7") | T85: =COUNTIFS('District I'!$L$7:$L$2976,"77",'District I'!$O$7:$O$2976,"1", 'District I'!$B$7:$B$2976,"8") | U85: =COUNTIFS('District I'!$L$7:$L$2976,"77",'District I'!$O$7:$O$2976,"2", 'District I'!$B$7:$B$2976,"8") | V85: =SUM(F85:U85)
A86: 78 | B86: =COUNTIF('District I'!$L$7:$L$2976,"78") | C86: =COUNTIFS('District I'!$L$7:$L$2976,"78",'District I'!$O$7:$O$2976,"1") | D86: =COUNTIFS('District I'!$L$7:$L$2976,"78",'District I'!$O$7:$O$2976,"2") | E86: =SUM(C86:D86) | F86: =COUNTIFS('District I'!$L$7:$L$2976,"78",'District I'!$O$7:$O$2976,"1", 'District I'!$B$7:$B$2976,"1") | G86: =COUNTIFS('District I'!$L$7:$L$2976,"78",'District I'!$O$7:$O$2976,"2", 'District I'!$B$7:$B$2976,"1") | H86: =COUNTIFS('District I'!$L$7:$L$2976,"78",'District I'!$O$7:$O$2976,"1", 'District I'!$B$7:$B$2976,"2") | I86: =COUNTIFS('District I'!$L$7:$L$2976,"78",'District I'!$O$7:$O$2976,"2", 'District I'!$B$7:$B$2976,"2") | J86: =COUNTIFS('District I'!$L$7:$L$2976,"78",'District I'!$O$7:$O$2976,"1", 'District I'!$B$7:$B$2976,"3") | K86: =COUNTIFS('District I'!$L$7:$L$2976,"78",'District I'!$O$7:$O$2976,"2", 'District I'!$B$7:$B$2976,"3") | L86: =COUNTIFS('District I'!$L$7:$L$2976,"78",'District I'!$O$7:$O$2976,"1", 'District I'!$B$7:$B$2976,"4") | M86: =COUNTIFS('District I'!$L$7:$L$2976,"78",'District I'!$O$7:$O$2976,"2", 'District I'!$B$7:$B$2976,"4") | N86: =COUNTIFS('District I'!$L$7:$L$2976,"78",'District I'!$O$7:$O$2976,"1", 'District I'!$B$7:$B$2976,"5") | O86: =COUNTIFS('District I'!$L$7:$L$2976,"78",'District I'!$O$7:$O$2976,"2", 'District I'!$B$7:$B$2976,"5") | P86: =COUNTIFS('District I'!$L$7:$L$2976,"78",'District I'!$O$7:$O$2976,"1", 'District I'!$B$7:$B$2976,"6") | Q86: =COUNTIFS('District I'!$L$7:$L$2976,"78",'District I'!$O$7:$O$2976,"2", 'District I'!$B$7:$B$2976,"6") | R86: =COUNTIFS('District I'!$L$7:$L$2976,"78",'District I'!$O$7:$O$2976,"1", 'District I'!$B$7:$B$2976,"7") | S86: =COUNTIFS('District I'!$L$7:$L$2976,"78",'District I'!$O$7:$O$2976,"2", 'District I'!$B$7:$B$2976,"7") | T86: =COUNTIFS('District I'!$L$7:$L$2976,"78",'District I'!$O$7:$O$2976,"1", 'District I'!$B$7:$B$2976,"8") | U86: =COUNTIFS('District I'!$L$7:$L$2976,"78",'District I'!$O$7:$O$2976,"2", 'District I'!$B$7:$B$2976,"8") | V86: =SUM(F86:U86)
A87: 79 | B87: =COUNTIF('District I'!$L$7:$L$2976,"79") | C87: =COUNTIFS('District I'!$L$7:$L$2976,"79",'District I'!$O$7:$O$2976,"1") | D87: =COUNTIFS('District I'!$L$7:$L$2976,"79",'District I'!$O$7:$O$2976,"2") | E87: =SUM(C87:D87) | F87: =COUNTIFS('District I'!$L$7:$L$2976,"79",'District I'!$O$7:$O$2976,"1", 'District I'!$B$7:$B$2976,"1") | G87: =COUNTIFS('District I'!$L$7:$L$2976,"79",'District I'!$O$7:$O$2976,"2", 'District I'!$B$7:$B$2976,"1") | H87: =COUNTIFS('District I'!$L$7:$L$2976,"79",'District I'!$O$7:$O$2976,"1", 'District I'!$B$7:$B$2976,"2") | I87: =COUNTIFS('District I'!$L$7:$L$2976,"79",'District I'!$O$7:$O$2976,"2", 'District I'!$B$7:$B$2976,"2") | J87: =COUNTIFS('District I'!$L$7:$L$2976,"79",'District I'!$O$7:$O$2976,"1", 'District I'!$B$7:$B$2976,"3") | K87: =COUNTIFS('District I'!$L$7:$L$2976,"79",'District I'!$O$7:$O$2976,"2", 'District I'!$B$7:$B$2976,"3") | L87: =COUNTIFS('District I'!$L$7:$L$2976,"79",'District I'!$O$7:$O$2976,"1", 'District I'!$B$7:$B$2976,"4") | M87: =COUNTIFS('District I'!$L$7:$L$2976,"79",'District I'!$O$7:$O$2976,"2", 'District I'!$B$7:$B$2976,"4") | N87: =COUNTIFS('District I'!$L$7:$L$2976,"79",'District I'!$O$7:$O$2976,"1", 'District I'!$B$7:$B$2976,"5") | O87: =COUNTIFS('District I'!$L$7:$L$2976,"79",'District I'!$O$7:$O$2976,"2", 'District I'!$B$7:$B$2976,"5") | P87: =COUNTIFS('District I'!$L$7:$L$2976,"79",'District I'!$O$7:$O$2976,"1", 'District I'!$B$7:$B$2976,"6") | Q87: =COUNTIFS('District I'!$L$7:$L$2976,"79",'District I'!$O$7:$O$2976,"2", 'District I'!$B$7:$B$2976,"6") | R87: =COUNTIFS('District I'!$L$7:$L$2976,"79",'District I'!$O$7:$O$2976,"1", 'District I'!$B$7:$B$2976,"7") | S87: =COUNTIFS('District I'!$L$7:$L$2976,"79",'District I'!$O$7:$O$2976,"2", 'District I'!$B$7:$B$2976,"7") | T87: =COUNTIFS('District I'!$L$7:$L$2976,"79",'District I'!$O$7:$O$2976,"1", 'District I'!$B$7:$B$2976,"7 8") | U87: =COUNTIFS('District I'!$L$7:$L$2976,"79",'District I'!$O$7:$O$2976,"2", 'District I'!$B$7:$B$2976,"8") | V87: =SUM(F87:U87)
A88: 80 | B88: =COUNTIF('District I'!$L$7:$L$2976,"80") | C88: =COUNTIFS('District I'!$L$7:$L$2976,"80",'District I'!$O$7:$O$2976,"1") | D88: =COUNTIFS('District I'!$L$7:$L$2976,"80",'District I'!$O$7:$O$2976,"2") | E88: =SUM(C88:D88) | F88: =COUNTIFS('District I'!$L$7:$L$2976,"80",'District I'!$O$7:$O$2976,"1", 'District I'!$B$7:$B$2976,"1") | G88: =COUNTIFS('District I'!$L$7:$L$2976,"80",'District I'!$O$7:$O$2976,"2", 'District I'!$B$7:$B$2976,"1") | H88: =COUNTIFS('District I'!$L$7:$L$2976,"80",'District I'!$O$7:$O$2976,"1", 'District I'!$B$7:$B$2976,"2") | I88: =COUNTIFS('District I'!$L$7:$L$2976,"80",'District I'!$O$7:$O$2976,"2", 'District I'!$B$7:$B$2976,"2") | J88: =COUNTIFS('District I'!$L$7:$L$2976,"80",'District I'!$O$7:$O$2976,"1", 'District I'!$B$7:$B$2976,"3") | K88: =COUNTIFS('District I'!$L$7:$L$2976,"80",'District I'!$O$7:$O$2976,"2", 'District I'!$B$7:$B$2976,"3") | L88: =COUNTIFS('District I'!$L$7:$L$2976,"80",'District I'!$O$7:$O$2976,"1", 'District I'!$B$7:$B$2976,"4") | M88: =COUNTIFS('District I'!$L$7:$L$2976,"80",'District I'!$O$7:$O$2976,"2", 'District I'!$B$7:$B$2976,"4") | N88: =COUNTIFS('District I'!$L$7:$L$2976,"80",'District I'!$O$7:$O$2976,"1", 'District I'!$B$7:$B$2976,"5") | O88: =COUNTIFS('District I'!$L$7:$L$2976,"80",'District I'!$O$7:$O$2976,"2", 'District I'!$B$7:$B$2976,"5") | P88: =COUNTIFS('District I'!$L$7:$L$2976,"80",'District I'!$O$7:$O$2976,"1", 'District I'!$B$7:$B$2976,"6") | Q88: =COUNTIFS('District I'!$L$7:$L$2976,"80",'District I'!$O$7:$O$2976,"2", 'District I'!$B$7:$B$2976,"6") | R88: =COUNTIFS('District I'!$L$7:$L$2976,"80",'District I'!$O$7:$O$2976,"1", 'District I'!$B$7:$B$2976,"7") | S88: =COUNTIFS('District I'!$L$7:$L$2976,"80",'District I'!$O$7:$O$2976,"2", 'District I'!$B$7:$B$2976,"7") | T88: =COUNTIFS('District I'!$L$7:$L$2976,"80",'District I'!$O$7:$O$2976,"1", 'District I'!$B$7:$B$2976,"8") | U88: =COUNTIFS('District I'!$L$7:$L$2976,"80",'District I'!$O$7:$O$2976,"2", 'District I'!$B$7:$B$2976,"8") | V88: =SUM(F88:U88)
A89: 81 | B89: =COUNTIF('District I'!$L$7:$L$2976,"81") | C89: =COUNTIFS('District I'!$L$7:$L$2976,"81",'District I'!$O$7:$O$2976,"1") | D89: =COUNTIFS('District I'!$L$7:$L$2976,"81",'District I'!$O$7:$O$2976,"2") | E89: =SUM(C89:D89) | F89: =COUNTIFS('District I'!$L$7:$L$2976,"81",'District I'!$O$7:$O$2976,"1", 'District I'!$B$7:$B$2976,"1") | G89: =COUNTIFS('District I'!$L$7:$L$2976,"81",'District I'!$O$7:$O$2976,"2", 'District I'!$B$7:$B$2976,"1") | H89: =COUNTIFS('District I'!$L$7:$L$2976,"81",'District I'!$O$7:$O$2976,"1", 'District I'!$B$7:$B$2976,"2") | I89: =COUNTIFS('District I'!$L$7:$L$2976,"81",'District I'!$O$7:$O$2976,"2", 'District I'!$B$7:$B$2976,"2") | J89: =COUNTIFS('District I'!$L$7:$L$2976,"81",'District I'!$O$7:$O$2976,"1", 'District I'!$B$7:$B$2976,"3") | K89: =COUNTIFS('District I'!$L$7:$L$2976,"81",'District I'!$O$7:$O$2976,"2", 'District I'!$B$7:$B$2976,"3") | L89: =COUNTIFS('District I'!$L$7:$L$2976,"81",'District I'!$O$7:$O$2976,"1", 'District I'!$B$7:$B$2976,"4") | M89: =COUNTIFS('District I'!$L$7:$L$2976,"81",'District I'!$O$7:$O$2976,"2", 'District I'!$B$7:$B$2976,"4") | N89: =COUNTIFS('District I'!$L$7:$L$2976,"81",'District I'!$O$7:$O$2976,"1", 'District I'!$B$7:$B$2976,"5") | O89: =COUNTIFS('District I'!$L$7:$L$2976,"81",'District I'!$O$7:$O$2976,"2", 'District I'!$B$7:$B$2976,"5") | P89: =COUNTIFS('District I'!$L$7:$L$2976,"81",'District I'!$O$7:$O$2976,"1", 'District I'!$B$7:$B$2976,"6") | Q89: =COUNTIFS('District I'!$L$7:$L$2976,"81",'District I'!$O$7:$O$2976,"2", 'District I'!$B$7:$B$2976,"6") | R89: =COUNTIFS('District I'!$L$7:$L$2976,"81",'District I'!$O$7:$O$2976,"1", 'District I'!$B$7:$B$2976,"7") | S89: =COUNTIFS('District I'!$L$7:$L$2976,"81",'District I'!$O$7:$O$2976,"2.", 'District I'!$B$7:$B$2976,"7") | T89: =COUNTIFS('District I'!$L$7:$L$2976,"81",'District I'!$O$7:$O$2976,"1", 'District I'!$B$7:$B$2976,"8") | U89: =COUNTIFS('District I'!$L$7:$L$2976,"81",'District I'!$O$7:$O$2976,"2.", 'District I'!$B$7:$B$2976,"8") | V89: =SUM(F89:U89)
A90: 82 | B90: =COUNTIF('District I'!$L$7:$L$2976,"82") | C90: =COUNTIFS('District I'!$L$7:$L$2976,"82",'District I'!$O$7:$O$2976,"1") | D90: =COUNTIFS('District I'!$L$7:$L$2976,"82",'District I'!$O$7:$O$2976,"2") | E90: =SUM(C90:D90) | F90: =COUNTIFS('District I'!$L$7:$L$2976,"82",'District I'!$O$7:$O$2976,"1", 'District I'!$B$7:$B$2976,"1") | G90: =COUNTIFS('District I'!$L$7:$L$2976,"82",'District I'!$O$7:$O$2976,"2", 'District I'!$B$7:$B$2976,"1") | H90: =COUNTIFS('District I'!$L$7:$L$2976,"82",'District I'!$O$7:$O$2976,"1", 'District I'!$B$7:$B$2976,"2") | I90: =COUNTIFS('District I'!$L$7:$L$2976,"82",'District I'!$O$7:$O$2976,"2", 'District I'!$B$7:$B$2976,"2") | J90: =COUNTIFS('District I'!$L$7:$L$2976,"82",'District I'!$O$7:$O$2976,"1", 'District I'!$B$7:$B$2976,"3") | K90: =COUNTIFS('District I'!$L$7:$L$2976,"82",'District I'!$O$7:$O$2976,"2", 'District I'!$B$7:$B$2976,"3") | L90: =COUNTIFS('District I'!$L$7:$L$2976,"82",'District I'!$O$7:$O$2976,"1", 'District I'!$B$7:$B$2976,"4") | M90: =COUNTIFS('District I'!$L$7:$L$2976,"82",'District I'!$O$7:$O$2976,"2", 'District I'!$B$7:$B$2976,"4") | N90: =COUNTIFS('District I'!$L$7:$L$2976,"82",'District I'!$O$7:$O$2976,"1", 'District I'!$B$7:$B$2976,"5") | O90: =COUNTIFS('District I'!$L$7:$L$2976,"82",'District I'!$O$7:$O$2976,"2", 'District I'!$B$7:$B$2976,"5") | P90: =COUNTIFS('District I'!$L$7:$L$2976,"82",'District I'!$O$7:$O$2976,"1", 'District I'!$B$7:$B$2976,"6") | Q90: =COUNTIFS('District I'!$L$7:$L$2976,"82",'District I'!$O$7:$O$2976,"2", 'District I'!$B$7:$B$2976,"6") | R90: =COUNTIFS('District I'!$L$7:$L$2976,"82",'District I'!$O$7:$O$2976,"1", 'District I'!$B$7:$B$2976,"7") | S90: =COUNTIFS('District I'!$L$7:$L$2976,"82",'District I'!$O$7:$O$2976,"2", 'District I'!$B$7:$B$2976,"7") | T90: =COUNTIFS('District I'!$L$7:$L$2976,"82",'District I'!$O$7:$O$2976,"1", 'District I'!$B$7:$B$2976,"8") | U90: =COUNTIFS('District I'!$L$7:$L$2976,"82",'District I'!$O$7:$O$2976,"2", 'District I'!$B$7:$B$2976,"8") | V90: =SUM(F90:U90)
A91: 83 | B91: =COUNTIF('District I'!$L$7:$L$2976,"83") | C91: =COUNTIFS('District I'!$L$7:$L$2976,"83",'District I'!$O$7:$O$2976,"1") | D91: =COUNTIFS('District I'!$L$7:$L$2976,"83",'District I'!$O$7:$O$2976,"2") | E91: =SUM(C91:D91) | F91: =COUNTIFS('District I'!$L$7:$L$2976,"83",'District I'!$O$7:$O$2976,"1", 'District I'!$B$7:$B$2976,"1") | G91: =COUNTIFS('District I'!$L$7:$L$2976,"83",'District I'!$O$7:$O$2976,"2", 'District I'!$B$7:$B$2976,"1") | H91: =COUNTIFS('District I'!$L$7:$L$2976,"83",'District I'!$O$7:$O$2976,"1", 'District I'!$B$7:$B$2976,"2") | I91: =COUNTIFS('District I'!$L$7:$L$2976,"83",'District I'!$O$7:$O$2976,"2", 'District I'!$B$7:$B$2976,"2") | J91: =COUNTIFS('District I'!$L$7:$L$2976,"83",'District I'!$O$7:$O$2976,"1", 'District I'!$B$7:$B$2976,"3") | K91: =COUNTIFS('District I'!$L$7:$L$2976,"83",'District I'!$O$7:$O$2976,"2", 'District I'!$B$7:$B$2976,"3") | L91: =COUNTIFS('District I'!$L$7:$L$2976,"83",'District I'!$O$7:$O$2976,"1", 'District I'!$B$7:$B$2976,"4") | M91: =COUNTIFS('District I'!$L$7:$L$2976,"83",'District I'!$O$7:$O$2976,"2", 'District I'!$B$7:$B$2976,"4") | N91: =COUNTIFS('District I'!$L$7:$L$2976,"83",'District I'!$O$7:$O$2976,"1", 'District I'!$B$7:$B$2976,"5") | O91: =COUNTIFS('District I'!$L$7:$L$2976,"83",'District I'!$O$7:$O$2976,"2", 'District I'!$B$7:$B$2976,"5") | P91: =COUNTIFS('District I'!$L$7:$L$2976,"83",'District I'!$O$7:$O$2976,"1", 'District I'!$B$7:$B$2976,"6") | Q91: =COUNTIFS('District I'!$L$7:$L$2976,"83",'District I'!$O$7:$O$2976,"2", 'District I'!$B$7:$B$2976,"6") | R91: =COUNTIFS('District I'!$L$7:$L$2976,"83",'District I'!$O$7:$O$2976,"1", 'District I'!$B$7:$B$2976,"7") | S91: =COUNTIFS('District I'!$L$7:$L$2976,"83",'District I'!$O$7:$O$2976,"2", 'District I'!$B$7:$B$2976,"7") | T91: =COUNTIFS('District I'!$L$7:$L$2976,"83",'District I'!$O$7:$O$2976,"1", 'District I'!$B$7:$B$2976,"8") | U91: =COUNTIFS('District I'!$L$7:$L$2976,"83",'District I'!$O$7:$O$2976,"2", 'District I'!$B$7:$B$2976,"8") | V91: =SUM(F91:U91)
A92: 84 | B92: =COUNTIF('District I'!$L$7:$L$2976,"84") | C92: =COUNTIFS('District I'!$L$7:$L$2976,"84",'District I'!$O$7:$O$2976,"1") | D92: =COUNTIFS('District I'!$L$7:$L$2976,"84",'District I'!$O$7:$O$2976,"2") | E92: =SUM(C92:D92) | F92: =COUNTIFS('District I'!$L$7:$L$2976,"84",'District I'!$O$7:$O$2976,"1", 'District I'!$B$7:$B$2976,"1") | G92: =COUNTIFS('District I'!$L$7:$L$2976,"84",'District I'!$O$7:$O$2976,"2", 'District I'!$B$7:$B$2976,"1") | H92: =COUNTIFS('District I'!$L$7:$L$2976,"84",'District I'!$O$7:$O$2976,"1", 'District I'!$B$7:$B$2976,"2") | I92: =COUNTIFS('District I'!$L$7:$L$2976,"84",'District I'!$O$7:$O$2976,"2", 'District I'!$B$7:$B$2976,"2") | J92: =COUNTIFS('District I'!$L$7:$L$2976,"84",'District I'!$O$7:$O$2976,"1", 'District I'!$B$7:$B$2976,"3") | K92: =COUNTIFS('District I'!$L$7:$L$2976,"84",'District I'!$O$7:$O$2976,"2", 'District I'!$B$7:$B$2976,"3") | L92: =COUNTIFS('District I'!$L$7:$L$2976,"84",'District I'!$O$7:$O$2976,"1", 'District I'!$B$7:$B$2976,"4") | M92: =COUNTIFS('District I'!$L$7:$L$2976,"84",'District I'!$O$7:$O$2976,"2", 'District I'!$B$7:$B$2976,"4") | N92: =COUNTIFS('District I'!$L$7:$L$2976,"84",'District I'!$O$7:$O$2976,"1", 'District I'!$B$7:$B$2976,"5") | O92: =COUNTIFS('District I'!$L$7:$L$2976,"84",'District I'!$O$7:$O$2976,"2", 'District I'!$B$7:$B$2976,"5") | P92: =COUNTIFS('District I'!$L$7:$L$2976,"84",'District I'!$O$7:$O$2976,"1", 'District I'!$B$7:$B$2976,"6") | Q92: =COUNTIFS('District I'!$L$7:$L$2976,"84",'District I'!$O$7:$O$2976,"2", 'District I'!$B$7:$B$2976,"6") | R92: =COUNTIFS('District I'!$L$7:$L$2976,"84",'District I'!$O$7:$O$2976,"1", 'District I'!$B$7:$B$2976,"7") | S92: =COUNTIFS('District I'!$L$7:$L$2976,"84",'District I'!$O$7:$O$2976,"2", 'District I'!$B$7:$B$2976,"7") | T92: =COUNTIFS('District I'!$L$7:$L$2976,"84",'District I'!$O$7:$O$2976,"1", 'District I'!$B$7:$B$2976,"8") | U92: =COUNTIFS('District I'!$L$7:$L$2976,"84",'District I'!$O$7:$O$2976,"2", 'District I'!$B$7:$B$2976,"8") | V92: =SUM(F92:U92)
A93: 85 | B93: =COUNTIF('District I'!$L$7:$L$2976,"85") | C93: =COUNTIFS('District I'!$L$7:$L$2976,"85",'District I'!$O$7:$O$2976,"1") | D93: =COUNTIFS('District I'!$L$7:$L$2976,"85",'District I'!$O$7:$O$2976,"2") | E93: =SUM(C93:D93) | F93: =COUNTIFS('District I'!$L$7:$L$2976,"85",'District I'!$O$7:$O$2976,"1", 'District I'!$B$7:$B$2976,"1") | G93: =COUNTIFS('District I'!$L$7:$L$2976,"85",'District I'!$O$7:$O$2976,"2", 'District I'!$B$7:$B$2976,"1") | H93: =COUNTIFS('District I'!$L$7:$L$2976,"85",'District I'!$O$7:$O$2976,"1", 'District I'!$B$7:$B$2976,"2") | I93: =COUNTIFS('District I'!$L$7:$L$2976,"85",'District I'!$O$7:$O$2976,"2", 'District I'!$B$7:$B$2976,"2") | J93: =COUNTIFS('District I'!$L$7:$L$2976,"85",'District I'!$O$7:$O$2976,"1", 'District I'!$B$7:$B$2976,"3") | K93: =COUNTIFS('District I'!$L$7:$L$2976,"85",'District I'!$O$7:$O$2976,"2", 'District I'!$B$7:$B$2976,"3") | L93: =COUNTIFS('District I'!$L$7:$L$2976,"85",'District I'!$O$7:$O$2976,"1", 'District I'!$B$7:$B$2976,"4") | M93: =COUNTIFS('District I'!$L$7:$L$2976,"85",'District I'!$O$7:$O$2976,"2", 'District I'!$B$7:$B$2976,"4") | N93: =COUNTIFS('District I'!$L$7:$L$2976,"85",'District I'!$O$7:$O$2976,"1", 'District I'!$B$7:$B$2976,"5") | O93: =COUNTIFS('District I'!$L$7:$L$2976,"85",'District I'!$O$7:$O$2976,"2", 'District I'!$B$7:$B$2976,"5") | P93: =COUNTIFS('District I'!$L$7:$L$2976,"85",'District I'!$O$7:$O$2976,"1", 'District I'!$B$7:$B$2976,"6") | Q93: =COUNTIFS('District I'!$L$7:$L$2976,"85",'District I'!$O$7:$O$2976,"2", 'District I'!$B$7:$B$2976,"6") | R93: =COUNTIFS('District I'!$L$7:$L$2976,"85",'District I'!$O$7:$O$2976,"1", 'District I'!$B$7:$B$2976,"7") | S93: =COUNTIFS('District I'!$L$7:$L$2976,"85",'District I'!$O$7:$O$2976,"2", 'District I'!$B$7:$B$2976,"7") | T93: =COUNTIFS('District I'!$L$7:$L$2976,"85",'District I'!$O$7:$O$2976,"1", 'District I'!$B$7:$B$2976,"8") | U93: =COUNTIFS('District I'!$L$7:$L$2976,"85",'District I'!$O$7:$O$2976,"2", 'District I'!$B$7:$B$2976,"8") | V93: =SUM(F93:U93)
A94: 86 | B94: =COUNTIF('District I'!$L$7:$L$2976,"86") | C94: =COUNTIFS('District I'!$L$7:$L$2976,"86",'District I'!$O$7:$O$2976,"1") | D94: =COUNTIFS('District I'!$L$7:$L$2976,"86",'District I'!$O$7:$O$2976,"2") | E94: =SUM(C94:D94) | F94: =COUNTIFS('District I'!$L$7:$L$2976,"86",'District I'!$O$7:$O$2976,"1", 'District I'!$B$7:$B$2976,"1") | G94: =COUNTIFS('District I'!$L$7:$L$2976,"86",'District I'!$O$7:$O$2976,"2", 'District I'!$B$7:$B$2976,"1") | H94: =COUNTIFS('District I'!$L$7:$L$2976,"86",'District I'!$O$7:$O$2976,"1", 'District I'!$B$7:$B$2976,"2") | I94: =COUNTIFS('District I'!$L$7:$L$2976,"86",'District I'!$O$7:$O$2976,"2", 'District I'!$B$7:$B$2976,"2") | J94: =COUNTIFS('District I'!$L$7:$L$2976,"86",'District I'!$O$7:$O$2976,"1", 'District I'!$B$7:$B$2976,"3") | K94: =COUNTIFS('District I'!$L$7:$L$2976,"86",'District I'!$O$7:$O$2976,"2", 'District I'!$B$7:$B$2976,"3") | L94: =COUNTIFS('District I'!$L$7:$L$2976,"86",'District I'!$O$7:$O$2976,"1", 'District I'!$B$7:$B$2976,"4") | M94: =COUNTIFS('District I'!$L$7:$L$2976,"86",'District I'!$O$7:$O$2976,"2", 'District I'!$B$7:$B$2976,"4") | N94: =COUNTIFS('District I'!$L$7:$L$2976,"86",'District I'!$O$7:$O$2976,"1", 'District I'!$B$7:$B$2976,"5") | O94: =COUNTIFS('District I'!$L$7:$L$2976,"86",'District I'!$O$7:$O$2976,"2", 'District I'!$B$7:$B$2976,"5") | P94: =COUNTIFS('District I'!$L$7:$L$2976,"86",'District I'!$O$7:$O$2976,"1", 'District I'!$B$7:$B$2976,"6") | Q94: =COUNTIFS('District I'!$L$7:$L$2976,"86",'District I'!$O$7:$O$2976,"2", 'District I'!$B$7:$B$2976,"6") | R94: =COUNTIFS('District I'!$L$7:$L$2976,"86",'District I'!$O$7:$O$2976,"1", 'District I'!$B$7:$B$2976,"7") | S94: =COUNTIFS('District I'!$L$7:$L$2976,"86",'District I'!$O$7:$O$2976,"2", 'District I'!$B$7:$B$2976,"7") | T94: =COUNTIFS('District I'!$L$7:$L$2976,"86",'District I'!$O$7:$O$2976,"1", 'District I'!$B$7:$B$2976,"8") | U94: =COUNTIFS('District I'!$L$7:$L$2976,"86",'District I'!$O$7:$O$2976,"2", 'District I'!$B$7:$B$2976,"8") | V94: =SUM(F94:U94)
A95: 87 | B95: =COUNTIF('District I'!$L$7:$L$2976,"87") | C95: =COUNTIFS('District I'!$L$7:$L$2976,"87",'District I'!$O$7:$O$2976,"1") | D95: =COUNTIFS('District I'!$L$7:$L$2976,"87",'District I'!$O$7:$O$2976,"2") | E95: =SUM(C95:D95) | F95: =COUNTIFS('District I'!$L$7:$L$2976,"87",'District I'!$O$7:$O$2976,"1", 'District I'!$B$7:$B$2976,"1") | G95: =COUNTIFS('District I'!$L$7:$L$2976,"87",'District I'!$O$7:$O$2976,"2", 'District I'!$B$7:$B$2976,"1") | H95: =COUNTIFS('District I'!$L$7:$L$2976,"87",'District I'!$O$7:$O$2976,"1", 'District I'!$B$7:$B$2976,"2") | I95: =COUNTIFS('District I'!$L$7:$L$2976,"87",'District I'!$O$7:$O$2976,"2", 'District I'!$B$7:$B$2976,"2") | J95: =COUNTIFS('District I'!$L$7:$L$2976,"87",'District I'!$O$7:$O$2976,"1", 'District I'!$B$7:$B$2976,"3") | K95: =COUNTIFS('District I'!$L$7:$L$2976,"87",'District I'!$O$7:$O$2976,"2", 'District I'!$B$7:$B$2976,"3") | L95: =COUNTIFS('District I'!$L$7:$L$2976,"87",'District I'!$O$7:$O$2976,"1", 'District I'!$B$7:$B$2976,"4") | M95: =COUNTIFS('District I'!$L$7:$L$2976,"87",'District I'!$O$7:$O$2976,"2", 'District I'!$B$7:$B$2976,"4") | N95: =COUNTIFS('District I'!$L$7:$L$2976,"87",'District I'!$O$7:$O$2976,"1", 'District I'!$B$7:$B$2976,"5") | O95: =COUNTIFS('District I'!$L$7:$L$2976,"87",'District I'!$O$7:$O$2976,"2", 'District I'!$B$7:$B$2976,"5") | P95: =COUNTIFS('District I'!$L$7:$L$2976,"87",'District I'!$O$7:$O$2976,"1", 'District I'!$B$7:$B$2976,"6") | Q95: =COUNTIFS('District I'!$L$7:$L$2976,"87",'District I'!$O$7:$O$2976,"2", 'District I'!$B$7:$B$2976,"6") | R95: =COUNTIFS('District I'!$L$7:$L$2976,"87",'District I'!$O$7:$O$2976,"1", 'District I'!$B$7:$B$2976,"7") | S95: =COUNTIFS('District I'!$L$7:$L$2976,"87",'District I'!$O$7:$O$2976,"2", 'District I'!$B$7:$B$2976,"7") | T95: =COUNTIFS('District I'!$L$7:$L$2976,"87",'District I'!$O$7:$O$2976,"1", 'District I'!$B$7:$B$2976,"8") | U95: =COUNTIFS('District I'!$L$7:$L$2976,"87",'District I'!$O$7:$O$2976,"2", 'District I'!$B$7:$B$2976,"8") | V95: =SUM(F95:U95)
A96: 88 | B96: =COUNTIF('District I'!$L$7:$L$2976,"88") | C96: =COUNTIFS('District I'!$L$7:$L$2976,"88",'District I'!$O$7:$O$2976,"1") | D96: =COUNTIFS('District I'!$L$7:$L$2976,"88",'District I'!$O$7:$O$2976,"2") | E96: =SUM(C96:D96) | F96: =COUNTIFS('District I'!$L$7:$L$2976,"88",'District I'!$O$7:$O$2976,"1", 'District I'!$B$7:$B$2976,"1") | G96: =COUNTIFS('District I'!$L$7:$L$2976,"88",'District I'!$O$7:$O$2976,"2", 'District I'!$B$7:$B$2976,"1") | H96: =COUNTIFS('District I'!$L$7:$L$2976,"88",'District I'!$O$7:$O$2976,"1", 'District I'!$B$7:$B$2976,"2") | I96: =COUNTIFS('District I'!$L$7:$L$2976,"88",'District I'!$O$7:$O$2976,"2", 'District I'!$B$7:$B$2976,"2") | J96: =COUNTIFS('District I'!$L$7:$L$2976,"88",'District I'!$O$7:$O$2976,"1", 'District I'!$B$7:$B$2976,"3") | K96: =COUNTIFS('District I'!$L$7:$L$2976,"88",'District I'!$O$7:$O$2976,"2", 'District I'!$B$7:$B$2976,"3") | L96: =COUNTIFS('District I'!$L$7:$L$2976,"88",'District I'!$O$7:$O$2976,"1", 'District I'!$B$7:$B$2976,"4") | M96: =COUNTIFS('District I'!$L$7:$L$2976,"88",'District I'!$O$7:$O$2976,"2", 'District I'!$B$7:$B$2976,"4") | N96: =COUNTIFS('District I'!$L$7:$L$2976,"88",'District I'!$O$7:$O$2976,"1", 'District I'!$B$7:$B$2976,"5") | O96: =COUNTIFS('District I'!$L$7:$L$2976,"88",'District I'!$O$7:$O$2976,"2", 'District I'!$B$7:$B$2976,"5") | P96: =COUNTIFS('District I'!$L$7:$L$2976,"88",'District I'!$O$7:$O$2976,"1", 'District I'!$B$7:$B$2976,"6") | Q96: =COUNTIFS('District I'!$L$7:$L$2976,"88",'District I'!$O$7:$O$2976,"2", 'District I'!$B$7:$B$2976,"6") | R96: =COUNTIFS('District I'!$L$7:$L$2976,"88",'District I'!$O$7:$O$2976,"1", 'District I'!$B$7:$B$2976,"7") | S96: =COUNTIFS('District I'!$L$7:$L$2976,"88",'District I'!$O$7:$O$2976,"2", 'District I'!$B$7:$B$2976,"7") | T96: =COUNTIFS('District I'!$L$7:$L$2976,"88",'District I'!$O$7:$O$2976,"1", 'District I'!$B$7:$B$2976,"8") | U96: =COUNTIFS('District I'!$L$7:$L$2976,"88",'District I'!$O$7:$O$2976,"2", 'District I'!$B$7:$B$2976,"8") | V96: =SUM(F96:U96)
A97: 89 | B97: =COUNTIF('District I'!$L$7:$L$2976,"89") | C97: =COUNTIFS('District I'!$L$7:$L$2976,"89",'District I'!$O$7:$O$2976,"1") | D97: =COUNTIFS('District I'!$L$7:$L$2976,"89",'District I'!$O$7:$O$2976,"2") | E97: =SUM(C97:D97) | F97: =COUNTIFS('District I'!$L$7:$L$2976,"89",'District I'!$O$7:$O$2976,"1", 'District I'!$B$7:$B$2976,"1") | G97: =COUNTIFS('District I'!$L$7:$L$2976,"89",'District I'!$O$7:$O$2976,"2", 'District I'!$B$7:$B$2976,"1") | H97: =COUNTIFS('District I'!$L$7:$L$2976,"89",'District I'!$O$7:$O$2976,"1", 'District I'!$B$7:$B$2976,"2") | I97: =COUNTIFS('District I'!$L$7:$L$2976,"89",'District I'!$O$7:$O$2976,"2", 'District I'!$B$7:$B$2976,"2") | J97: =COUNTIFS('District I'!$L$7:$L$2976,"89",'District I'!$O$7:$O$2976,"1", 'District I'!$B$7:$B$2976,"3") | K97: =COUNTIFS('District I'!$L$7:$L$2976,"89",'District I'!$O$7:$O$2976,"2", 'District I'!$B$7:$B$2976,"3") | L97: =COUNTIFS('District I'!$L$7:$L$2976,"89",'District I'!$O$7:$O$2976,"1", 'District I'!$B$7:$B$2976,"4") | M97: =COUNTIFS('District I'!$L$7:$L$2976,"89",'District I'!$O$7:$O$2976,"2", 'District I'!$B$7:$B$2976,"4") | N97: =COUNTIFS('District I'!$L$7:$L$2976,"89",'District I'!$O$7:$O$2976,"1", 'District I'!$B$7:$B$2976,"5") | O97: =COUNTIFS('District I'!$L$7:$L$2976,"89",'District I'!$O$7:$O$2976,"2", 'District I'!$B$7:$B$2976,"5") | P97: =COUNTIFS('District I'!$L$7:$L$2976,"89",'District I'!$O$7:$O$2976,"1", 'District I'!$B$7:$B$2976,"6") | Q97: =COUNTIFS('District I'!$L$7:$L$2976,"89",'District I'!$O$7:$O$2976,"2", 'District I'!$B$7:$B$2976,"6") | R97: =COUNTIFS('District I'!$L$7:$L$2976,"89",'District I'!$O$7:$O$2976,"1", 'District I'!$B$7:$B$2976,"7") | S97: =COUNTIFS('District I'!$L$7:$L$2976,"89",'District I'!$O$7:$O$2976,"2", 'District I'!$B$7:$B$2976,"7") | T97: =COUNTIFS('District I'!$L$7:$L$2976,"89",'District I'!$O$7:$O$2976,"1", 'District I'!$B$7:$B$2976,"8") | U97: =COUNTIFS('District I'!$L$7:$L$2976,"89",'District I'!$O$7:$O$2976,"2", 'District I'!$B$7:$B$2976,"8") | V97: =SUM(F97:U97)
A98: 90 | B98: =COUNTIF('District I'!$L$7:$L$2976,"90") | C98: =COUNTIFS('District I'!$L$7:$L$2976,"90",'District I'!$O$7:$O$2976,"1") | D98: =COUNTIFS('District I'!$L$7:$L$2976,"90",'District I'!$O$7:$O$2976,"2") | E98: =SUM(C98:D98) | F98: =COUNTIFS('District I'!$L$7:$L$2976,"90",'District I'!$O$7:$O$2976,"1", 'District I'!$B$7:$B$2976,"1") | G98: =COUNTIFS('District I'!$L$7:$L$2976,"90",'District I'!$O$7:$O$2976,"2", 'District I'!$B$7:$B$2976,"1") | H98: =COUNTIFS('District I'!$L$7:$L$2976,"90",'District I'!$O$7:$O$2976,"1", 'District I'!$B$7:$B$2976,"2") | I98: =COUNTIFS('District I'!$L$7:$L$2976,"90",'District I'!$O$7:$O$2976,"2", 'District I'!$B$7:$B$2976,"2") | J98: =COUNTIFS('District I'!$L$7:$L$2976,"90",'District I'!$O$7:$O$2976,"1", 'District I'!$B$7:$B$2976,"3") | K98: =COUNTIFS('District I'!$L$7:$L$2976,"90",'District I'!$O$7:$O$2976,"2", 'District I'!$B$7:$B$2976,"3") | L98: =COUNTIFS('District I'!$L$7:$L$2976,"90",'District I'!$O$7:$O$2976,"1", 'District I'!$B$7:$B$2976,"4") | M98: =COUNTIFS('District I'!$L$7:$L$2976,"90",'District I'!$O$7:$O$2976,"2", 'District I'!$B$7:$B$2976,"4") | N98: =COUNTIFS('District I'!$L$7:$L$2976,"90",'District I'!$O$7:$O$2976,"1", 'District I'!$B$7:$B$2976,"5") | O98: =COUNTIFS('District I'!$L$7:$L$2976,"90",'District I'!$O$7:$O$2976,"2", 'District I'!$B$7:$B$2976,"5") | P98: =COUNTIFS('District I'!$L$7:$L$2976,"90",'District I'!$O$7:$O$2976,"1", 'District I'!$B$7:$B$2976,"6") | Q98: =COUNTIFS('District I'!$L$7:$L$2976,"90",'District I'!$O$7:$O$2976,"2", 'District I'!$B$7:$B$2976,"6") | R98: =COUNTIFS('District I'!$L$7:$L$2976,"90",'District I'!$O$7:$O$2976,"1", 'District I'!$B$7:$B$2976,"7") | S98: =COUNTIFS('District I'!$L$7:$L$2976,"90",'District I'!$O$7:$O$2976,"2", 'District I'!$B$7:$B$2976,"7") | T98: =COUNTIFS('District I'!$L$7:$L$2976,"90",'District I'!$O$7:$O$2976,"1", 'District I'!$B$7:$B$2976,"8") | U98: =COUNTIFS('District I'!$L$7:$L$2976,"90",'District I'!$O$7:$O$2976,"2", 'District I'!$B$7:$B$2976,"8") | V98: =SUM(F98:U98)
A99: 91 | B99: =COUNTIF('District I'!$L$7:$L$2976,"91") | C99: =COUNTIFS('District I'!$L$7:$L$2976,"91",'District I'!$O$7:$O$2976,"1") | D99: =COUNTIFS('District I'!$L$7:$L$2976,"91",'District I'!$O$7:$O$2976,"2") | E99: =SUM(C99:D99) | F99: =COUNTIFS('District I'!$L$7:$L$2976,"91",'District I'!$O$7:$O$2976,"1", 'District I'!$B$7:$B$2976,"1") | G99: =COUNTIFS('District I'!$L$7:$L$2976,"91",'District I'!$O$7:$O$2976,"2", 'District I'!$B$7:$B$2976,"1") | H99: =COUNTIFS('District I'!$L$7:$L$2976,"91",'District I'!$O$7:$O$2976,"1", 'District I'!$B$7:$B$2976,"2") | I99: =COUNTIFS('District I'!$L$7:$L$2976,"91",'District I'!$O$7:$O$2976,"2", 'District I'!$B$7:$B$2976,"2") | J99: =COUNTIFS('District I'!$L$7:$L$2976,"91",'District I'!$O$7:$O$2976,"1", 'District I'!$B$7:$B$2976,"3") | K99: =COUNTIFS('District I'!$L$7:$L$2976,"91",'District I'!$O$7:$O$2976,"2", 'District I'!$B$7:$B$2976,"3") | L99: =COUNTIFS('District I'!$L$7:$L$2976,"91",'District I'!$O$7:$O$2976,"1", 'District I'!$B$7:$B$2976,"4") | M99: =COUNTIFS('District I'!$L$7:$L$2976,"91",'District I'!$O$7:$O$2976,"2", 'District I'!$B$7:$B$2976,"4") | N99: =COUNTIFS('District I'!$L$7:$L$2976,"91",'District I'!$O$7:$O$2976,"1", 'District I'!$B$7:$B$2976,"5") | O99: =COUNTIFS('District I'!$L$7:$L$2976,"91",'District I'!$O$7:$O$2976,"2", 'District I'!$B$7:$B$2976,"5") | P99: =COUNTIFS('District I'!$L$7:$L$2976,"91",'District I'!$O$7:$O$2976,"1", 'District I'!$B$7:$B$2976,"6") | Q99: =COUNTIFS('District I'!$L$7:$L$2976,"91",'District I'!$O$7:$O$2976,"2", 'District I'!$B$7:$B$2976,"6") | R99: =COUNTIFS('District I'!$L$7:$L$2976,"91",'District I'!$O$7:$O$2976,"1", 'District I'!$B$7:$B$2976,"7") | S99: =COUNTIFS('District I'!$L$7:$L$2976,"91",'District I'!$O$7:$O$2976,"2", 'District I'!$B$7:$B$2976,"7") | T99: =COUNTIFS('District I'!$L$7:$L$2976,"91",'District I'!$O$7:$O$2976,"1", 'District I'!$B$7:$B$2976,"8") | U99: =COUNTIFS('District I'!$L$7:$L$2976,"91",'District I'!$O$7:$O$2976,"2", 'District I'!$B$7:$B$2976,"8") | V99: =SUM(F99:U99)
A100: 92 | B100: =COUNTIF('District I'!$L$7:$L$2976,"92") | C100: =COUNTIFS('District I'!$L$7:$L$2976,"92",'District I'!$O$7:$O$2976,"1") | D100: =COUNTIFS('District I'!$L$7:$L$2976,"92",'District I'!$O$7:$O$2976,"2") | E100: =SUM(C100:D100) | F100: =COUNTIFS('District I'!$L$7:$L$2976,"92",'District I'!$O$7:$O$2976,"1", 'District I'!$B$7:$B$2976,"1") | G100: =COUNTIFS('District I'!$L$7:$L$2976,"92",'District I'!$O$7:$O$2976,"2", 'District I'!$B$7:$B$2976,"1") | H100: =COUNTIFS('District I'!$L$7:$L$2976,"92",'District I'!$O$7:$O$2976,"1", 'District I'!$B$7:$B$2976,"2") | I100: =COUNTIFS('District I'!$L$7:$L$2976,"92",'District I'!$O$7:$O$2976,"2", 'District I'!$B$7:$B$2976,"2") | J100: =COUNTIFS('District I'!$L$7:$L$2976,"92",'District I'!$O$7:$O$2976,"1", 'District I'!$B$7:$B$2976,"3") | K100: =COUNTIFS('District I'!$L$7:$L$2976,"92",'District I'!$O$7:$O$2976,"2", 'District I'!$B$7:$B$2976,"3") | L100: =COUNTIFS('District I'!$L$7:$L$2976,"92",'District I'!$O$7:$O$2976,"1", 'District I'!$B$7:$B$2976,"4") | M100: =COUNTIFS('District I'!$L$7:$L$2976,"92",'District I'!$O$7:$O$2976,"2", 'District I'!$B$7:$B$2976,"4") | N100: =COUNTIFS('District I'!$L$7:$L$2976,"92",'District I'!$O$7:$O$2976,"1", 'District I'!$B$7:$B$2976,"5") | O100: =COUNTIFS('District I'!$L$7:$L$2976,"92",'District I'!$O$7:$O$2976,"2", 'District I'!$B$7:$B$2976,"5") | P100: =COUNTIFS('District I'!$L$7:$L$2976,"92",'District I'!$O$7:$O$2976,"1", 'District I'!$B$7:$B$2976,"6") | Q100: =COUNTIFS('District I'!$L$7:$L$2976,"92",'District I'!$O$7:$O$2976,"2", 'District I'!$B$7:$B$2976,"6") | R100: =COUNTIFS('District I'!$L$7:$L$2976,"92",'District I'!$O$7:$O$2976,"1", 'District I'!$B$7:$B$2976,"7") | S100: =COUNTIFS('District I'!$L$7:$L$2976,"92",'District I'!$O$7:$O$2976,"2", 'District I'!$B$7:$B$2976,"7") | T100: =COUNTIFS('District I'!$L$7:$L$2976,"92",'District I'!$O$7:$O$2976,"1", 'District I'!$B$7:$B$2976,"8") | U100: =COUNTIFS('District I'!$L$7:$L$2976,"92",'District I'!$O$7:$O$2976,"2", 'District I'!$B$7:$B$2976,"8") | V100: =SUM(F100:U100)
A101: 93 | B101: =COUNTIF('District I'!$L$7:$L$2976,"93") | C101: =COUNTIFS('District I'!$L$7:$L$2976,"93",'District I'!$O$7:$O$2976,"1") | D101: =COUNTIFS('District I'!$L$7:$L$2976,"93",'District I'!$O$7:$O$2976,"2") | E101: =SUM(C101:D101) | F101: =COUNTIFS('District I'!$L$7:$L$2976,"93",'District I'!$O$7:$O$2976,"1", 'District I'!$B$7:$B$2976,"1") | G101: =COUNTIFS('District I'!$L$7:$L$2976,"93",'District I'!$O$7:$O$2976,"2", 'District I'!$B$7:$B$2976,"1") | H101: =COUNTIFS('District I'!$L$7:$L$2976,"93",'District I'!$O$7:$O$2976,"1", 'District I'!$B$7:$B$2976,"2") | I101: =COUNTIFS('District I'!$L$7:$L$2976,"93",'District I'!$O$7:$O$2976,"2", 'District I'!$B$7:$B$2976,"2") | J101: =COUNTIFS('District I'!$L$7:$L$2976,"93",'District I'!$O$7:$O$2976,"1", 'District I'!$B$7:$B$2976,"3") | K101: =COUNTIFS('District I'!$L$7:$L$2976,"93",'District I'!$O$7:$O$2976,"2", 'District I'!$B$7:$B$2976,"3") | L101: =COUNTIFS('District I'!$L$7:$L$2976,"93",'District I'!$O$7:$O$2976,"1", 'District I'!$B$7:$B$2976,"4") | M101: =COUNTIFS('District I'!$L$7:$L$2976,"93",'District I'!$O$7:$O$2976,"2", 'District I'!$B$7:$B$2976,"4") | N101: =COUNTIFS('District I'!$L$7:$L$2976,"93",'District I'!$O$7:$O$2976,"1", 'District I'!$B$7:$B$2976,"5") | O101: =COUNTIFS('District I'!$L$7:$L$2976,"93",'District I'!$O$7:$O$2976,"2", 'District I'!$B$7:$B$2976,"5") | P101: =COUNTIFS('District I'!$L$7:$L$2976,"93",'District I'!$O$7:$O$2976,"1", 'District I'!$B$7:$B$2976,"6") | Q101: =COUNTIFS('District I'!$L$7:$L$2976,"93",'District I'!$O$7:$O$2976,"2", 'District I'!$B$7:$B$2976,"6") | R101: =COUNTIFS('District I'!$L$7:$L$2976,"93",'District I'!$O$7:$O$2976,"1", 'District I'!$B$7:$B$2976,"7") | S101: =COUNTIFS('District I'!$L$7:$L$2976,"93",'District I'!$O$7:$O$2976,"2", 'District I'!$B$7:$B$2976,"7") | T101: =COUNTIFS('District I'!$L$7:$L$2976,"93",'District I'!$O$7:$O$2976,"1", 'District I'!$B$7:$B$2976,"8") | U101: =COUNTIFS('District I'!$L$7:$L$2976,"93",'District I'!$O$7:$O$2976,"2", 'District I'!$B$7:$B$2976,"8") | V101: =SUM(F101:U101)
