Workbook

Sheet District I SUMMARY
A5: AGE GROUP
F6: Zone I | H6: Zone II | J6: Zone III | L6: Zone IV | N6: Zone V | P6: Zone VI | R6: Zone VII | T6: Zone VIII
A7: AGE | B7: NO. | C7: MALE | D7: FEMALE | E7: TOTAL | F7: MALE | G7: FEMALE | H7: MALE | I7: FEMALE | J7: MALE | K7: FEMALE | L7: MALE | M7: FEMALE | N7: MALE | O7: FEMALE | P7: MALE | Q7: FEMALE | R7: MALE | S7: FEMALE | T7: MALE | U7: FEMALE | V7: TOTAL | Y7: Total | Z7: Zone I | AA7: Zone II | AB7: Zone III | AC7: Zone IV | AD7: Zone V | AE7: Zone VI | AF7: Zone VII | AG7: Zone VIII | AH7: TOTAL
A8: 0 | B8: =COUNTIF('District I'!$L$7:$L$2976,"0") | C8: =COUNTIFS('District I'!$L$7:$L$2976,"0",'District I'!$O$7:$O$2976,"1") | D8: =COUNTIFS('District I'!$L$7:$L$2976,"0",'District I'!$O$7:$O$2976,"2") | E8: =SUM(C8:D8) | F8: =COUNTIFS('District I'!$L$7:$L$2976,"0",'District I'!$O$7:$O$2976,"1", 'District I'!$B$7:$B$2976,"1") | G8: =COUNTIFS('District I'!$L$7:$L$2976,"0",'District I'!$O$7:$O$2976,"2",'District I'!$B$7:$B$2976,"1") | H8: =COUNTIFS('District I'!$L$7:$L$2976,"0",'District I'!$O$7:$O$2976,"1",'District I'!$B$7:$B$2976,"2") | I8: =COUNTIFS('District I'!$L$7:$L$2976,"0",'District I'!$O$7:$O$2976,"2",'District I'!$B$7:$B$2976,"2") | J8: =COUNTIFS('District I'!$L$7:$L$2976,"0",'District I'!$O$7:$O$2976,"1",'District I'!$B$7:$B$2976,"3") | K8: =COUNTIFS('District I'!$L$7:$L$2976,"0",'District I'!$O$7:$O$2976,"2",'District I'!$B$7:$B$2976,"3") | L8: =COUNTIFS('District I'!$L$7:$L$2976,"0",'District I'!$O$7:$O$2976,"1",'District I'!$B$7:$B$2976,"4") | M8: =COUNTIFS('District I'!$L$7:$L$2976,"0",'District I'!$O$7:$O$2976,"2",'District I'!$B$7:$B$2976,"4") | N8: =COUNTIFS('District I'!$L$7:$L$2976,"0",'District I'!$O$7:$O$2976,"1",'District I'!$B$7:$B$2976,"5") | O8: =COUNTIFS('District I'!$L$7:$L$2976,"0",'District I'!$O$7:$O$2976,"2",'District I'!$B$7:$B$2976,"5") | P8: =COUNTIFS('District I'!$L$7:$L$2976,"0",'District I'!$O$7:$O$2976,"1",'District I'!$B$7:$B$2976,"6") | Q8: =COUNTIFS('District I'!$L$7:$L$2976,"0",'District I'!$O$7:$O$2976,"2",'District I'!$B$7:$B$2976,"6") | R8: =COUNTIFS('District I'!$L$7:$L$2976,"0",'District I'!$O$7:$O$2976,"1",'District I'!$B$7:$B$2976,"7") | S8: =COUNTIFS('District I'!$L$7:$L$2976,"0",'District I'!$O$7:$O$2976,"2",'District I'!$B$7:$B$2976,"7") | T8: =COUNTIFS('District I'!$L$7:$L$2976,"0",'District I'!$O$7:$O$2976,"1",'District I'!$B$7:$B$2976,"8") | U8: =COUNTIFS('District I'!$L$7:$L$2976,"0",'District I'!$O$7:$O$2976,"2",'District I'!$B$7:$B$2976,"8") | V8: =SUM(F8:U8) | X8: Occupied | Y8: =COUNTIF('District I'!$H$7:$H$2976,"1") | Z8: =COUNTIFS('District I'!$H$7:$H$2976,"1",'District I'!$B$7:$B$2976,"1") | AA8: =COUNTIFS('District I'!$H$7:$H$2976,"1",'District I'!$B$7:$B$2976,"2") | AB8: =COUNTIFS('District I'!$H$7:$H$2976,"1",'District I'!$B$7:$B$2976,"3") | AC8: =COUNTIFS('District I'!$H$7:$H$2976,"1",'District I'!$B$7:$B$2976,"4") | AD8: =COUNTIFS('District I'!$H$7:$H$2976,"1",'District I'!$B$7:$B$2976,"5") | AE8: =COUNTIFS('District I'!$H$7:$H$2976,"1",'District I'!$B$7:$B$2976,"6") | AF8: =COUNTIFS('District I'!$H$7:$H$2976,"1",'District I'!$B$7:$B$2976,"7") | AG8: =COUNTIFS('District I'!$H$7:$H$2976,"1",'District I'!$B$7:$B$2976,"8") | AH8: =SUM(Z8:AG8)
A9: 1 | B9: =COUNTIF('District I'!$L$7:$L$2976,"1") | C9: =COUNTIFS('District I'!$L$7:$L$2976,"1",'District I'!$O$7:$O$2976,"1") | D9: =COUNTIFS('District I'!$L$7:$L$2976,"1",'District I'!$O$7:$O$2976,"2") | E9: =SUM(C9:D9) | F9: =COUNTIFS('District I'!$L$7:$L$2976,"1",'District I'!$O$7:$O$2976,"1", 'District I'!$B$7:$B$2976,"1") | G9: =COUNTIFS('District I'!$L$7:$L$2976,"1",'District I'!$O$7:$O$2976,"2", 'District I'!$B$7:$B$2976,"1") | H9: =COUNTIFS('District I'!$L$7:$L$2976,"1",'District I'!$O$7:$O$2976,"1", 'District I'!$B$7:$B$2976,"2") | I9: =COUNTIFS('District I'!$L$7:$L$2976,"1",'District I'!$O$7:$O$2976,"2", 'District I'!$B$7:$B$2976,"2") | J9: =COUNTIFS('District I'!$L$7:$L$2976,"1",'District I'!$O$7:$O$2976,"1", 'District I'!$B$7:$B$2976,"3") | K9: =COUNTIFS('District I'!$L$7:$L$2976,"1",'District I'!$O$7:$O$2976,"2", 'District I'!$B$7:$B$2976,"3") | L9: =COUNTIFS('District I'!$L$7:$L$2976,"1",'District I'!$O$7:$O$2976,"1", 'District I'!$B$7:$B$2976,"4") | M9: =COUNTIFS('District I'!$L$7:$L$2976,"1",'District I'!$O$7:$O$2976,"2", 'District I'!$B$7:$B$2976,"4") | N9: =COUNTIFS('District I'!$L$7:$L$2976,"1",'District I'!$O$7:$O$2976,"1", 'District I'!$B$7:$B$2976,"5") | O9: =COUNTIFS('District I'!$L$7:$L$2976,"1",'District I'!$O$7:$O$2976,"2", 'District I'!$B$7:$B$2976,"5") | P9: =COUNTIFS('District I'!$L$7:$L$2976,"1",'District I'!$O$7:$O$2976,"1", 'District I'!$B$7:$B$2976,"6") | Q9: =COUNTIFS('District I'!$L$7:$L$2976,"1",'District I'!$O$7:$O$2976,"2", 'District I'!$B$7:$B$2976,"6") | R9: =COUNTIFS('District I'!$L$7:$L$2976,"1",'District I'!$O$7:$O$2976,"1", 'District I'!$B$7:$B$2976,"7") | S9: =COUNTIFS('District I'!$L$7:$L$2976,"1",'District I'!$O$7:$O$2976,"2", 'District I'!$B$7:$B$2976,"7") | T9: =COUNTIFS('District I'!$L$7:$L$2976,"1",'District I'!$O$7:$O$2976,"1", 'District I'!$B$7:$B$2976,"8") | U9: =COUNTIFS('District I'!$L$7:$L$2976,"1",'District I'!$O$7:$O$2976,"2", 'District I'!$B$7:$B$2976,"8") | V9: =SUM(F9:U9) | X9: Vacant | Y9: =COUNTIF('District I'!$H$7:$H$2976,"2") | Z9: =COUNTIFS('District I'!$H$7:$H$2976,"2",'District I'!$B$7:$B$2976,"1") | AA9: =COUNTIFS('District I'!$H$7:$H$2976,"2",'District I'!$B$7:$B$2976,"2") | AB9: =COUNTIFS('District I'!$H$7:$H$2976,"2",'District I'!$B$7:$B$2976,"3") | AC9: =COUNTIFS('District I'!$H$7:$H$2976,"2",'District I'!$B$7:$B$2976,"4") | AD9: =COUNTIFS('District I'!$H$7:$H$2976,"2",'District I'!$B$7:$B$2976,"5") | AE9: =COUNTIFS('District I'!$H$7:$H$2976,"2",'District I'!$B$7:$B$2976,"6") | AF9: =COUNTIFS('District I'!$H$7:$H$2976,"2",'District I'!$B$7:$B$2976,"7") | AG9: =COUNTIFS('District I'!$H$7:$H$2976,"2",'District I'!$B$7:$B$2976,"8") | AH9: =SUM(Z9:AG9)
A10: 2 | B10: =COUNTIF('District I'!$L$7:$L$2976,"2") | C10: =COUNTIFS('District I'!$L$7:$L$2976,"2",'District I'!$O$7:$O$2976,"1") | D10: =COUNTIFS('District I'!$L$7:$L$2976,"2",'District I'!$O$7:$O$2976,"2") | E10: =SUM(C10:D10) | F10: =COUNTIFS('District I'!$L$7:$L$2976,"2",'District I'!$O$7:$O$2976,"1", 'District I'!$B$7:$B$2976,"1") | G10: =COUNTIFS('District I'!$L$7:$L$2976,"2",'District I'!$O$7:$O$2976,"2", 'District I'!$B$7:$B$2976,"1") | H10: =COUNTIFS('District I'!$L$7:$L$2976,"2",'District I'!$O$7:$O$2976,"1", 'District I'!$B$7:$B$2976,"2") | I10: =COUNTIFS('District I'!$L$7:$L$2976,"2",'District I'!$O$7:$O$2976,"2", 'District I'!$B$7:$B$2976,"2") | J10: =COUNTIFS('District I'!$L$7:$L$2976,"2",'District I'!$O$7:$O$2976,"1", 'District I'!$B$7:$B$2976,"3") | K10: =COUNTIFS('District I'!$L$7:$L$2976,"2",'District I'!$O$7:$O$2976,"2", 'District I'!$B$7:$B$2976,"3") | L10: =COUNTIFS('District I'!$L$7:$L$2976,"2",'District I'!$O$7:$O$2976,"1", 'District I'!$B$7:$B$2976,"4") | M10: =COUNTIFS('District I'!$L$7:$L$2976,"2",'District I'!$O$7:$O$2976,"2", 'District I'!$B$7:$B$2976,"4") | N10: =COUNTIFS('District I'!$L$7:$L$2976,"2",'District I'!$O$7:$O$2976,"1", 'District I'!$B$7:$B$2976,"5") | O10: =COUNTIFS('District I'!$L$7:$L$2976,"2",'District I'!$O$7:$O$2976,"2", 'District I'!$B$7:$B$2976,"5") | P10: =COUNTIFS('District I'!$L$7:$L$2976,"2",'District I'!$O$7:$O$2976,"1", 'District I'!$B$7:$B$2976,"6") | Q10: =COUNTIFS('District I'!$L$7:$L$2976,"2",'District I'!$O$7:$O$2976,"2", 'District I'!$B$7:$B$2976,"6") | R10: =COUNTIFS('District I'!$L$7:$L$2976,"2",'District I'!$O$7:$O$2976,"1", 'District I'!$B$7:$B$2976,"7") | S10: =COUNTIFS('District I'!$L$7:$L$2976,"2",'District I'!$O$7:$O$2976,"2", 'District I'!$B$7:$B$2976,"7") | T10: =COUNTIFS('District I'!$L$7:$L$2976,"2",'District I'!$O$7:$O$2976,"1", 'District I'!$B$7:$B$2976,"8") | U10: =COUNTIFS('District I'!$L$7:$L$2976,"2",'District I'!$O$7:$O$2976,"2", 'District I'!$B$7:$B$2976,"8") | V10: =SUM(F10:U10)
A11: 3 | B11: =COUNTIF('District I'!$L$7:$L$2976,"3") | C11: =COUNTIFS('District I'!$L$7:$L$2976,"3",'District I'!$O$7:$O$2976,"1") | D11: =COUNTIFS('District I'!$L$7:$L$2976,"3",'District I'!$O$7:$O$2976,"2") | E11: =SUM(C11:D11) | F11: =COUNTIFS('District I'!$L$7:$L$2976,"3",'District I'!$O$7:$O$2976,"1", 'District I'!$B$7:$B$2976,"1") | G11: =COUNTIFS('District I'!$L$7:$L$2976,"3",'District I'!$O$7:$O$2976,"2", 'District I'!$B$7:$B$2976,"1") | H11: =COUNTIFS('District I'!$L$7:$L$2976,"3",'District I'!$O$7:$O$2976,"1", 'District I'!$B$7:$B$2976,"2") | I11: =COUNTIFS('District I'!$L$7:$L$2976,"3",'District I'!$O$7:$O$2976,"2", 'District I'!$B$7:$B$2976,"2") | J11: =COUNTIFS('District I'!$L$7:$L$2976,"3",'District I'!$O$7:$O$2976,"1", 'District I'!$B$7:$B$2976,"3") | K11: =COUNTIFS('District I'!$L$7:$L$2976,"3",'District I'!$O$7:$O$2976,"2", 'District I'!$B$7:$B$2976,"3") | L11: =COUNTIFS('District I'!$L$7:$L$2976,"3",'District I'!$O$7:$O$2976,"1", 'District I'!$B$7:$B$2976,"4") | M11: =COUNTIFS('District I'!$L$7:$L$2976,"3",'District I'!$O$7:$O$2976,"2", 'District I'!$B$7:$B$2976,"4") | N11: =COUNTIFS('District I'!$L$7:$L$2976,"3",'District I'!$O$7:$O$2976,"1", 'District I'!$B$7:$B$2976,"5") | O11: =COUNTIFS('District I'!$L$7:$L$2976,"3",'District I'!$O$7:$O$2976,"2", 'District I'!$B$7:$B$2976,"5") | P11: =COUNTIFS('District I'!$L$7:$L$2976,"3",'District I'!$O$7:$O$2976,"1", 'District I'!$B$7:$B$2976,"6") | Q11: =COUNTIFS('District I'!$L$7:$L$2976,"3",'District I'!$O$7:$O$2976,"2", 'District I'!$B$7:$B$2976,"6") | R11: =COUNTIFS('District I'!$L$7:$L$2976,"3",'District I'!$O$7:$O$2976,"1", 'District I'!$B$7:$B$2976,"7") | S11: =COUNTIFS('District I'!$L$7:$L$2976,"3",'District I'!$O$7:$O$2976,"2", 'District I'!$B$7:$B$2976,"7") | T11: =COUNTIFS('District I'!$L$7:$L$2976,"3",'District I'!$O$7:$O$2976,"1", 'District I'!$B$7:$B$2976,"8") | U11: =COUNTIFS('District I'!$L$7:$L$2976,"3",'District I'!$O$7:$O$2976,"2", 'District I'!$B$7:$B$2976,"8") | V11: =SUM(F11:U11) | AC11: Zone I | AE11: Zone II | AG11: Zone III | AI11: Zone IV | AK11: Zone V | AM11: Zone VI | AO11: Zone VII | AQ11: Zone VIII
A12: 4 | B12: =COUNTIF('District I'!$L$7:$L$2976,"4") | C12: =COUNTIFS('District I'!$L$7:$L$2976,"4",'District I'!$O$7:$O$2976,"1") | D12: =COUNTIFS('District I'!$L$7:$L$2976,"4",'District I'!$O$7:$O$2976,"2") | E12: =SUM(C12:D12) | F12: =COUNTIFS('District I'!$L$7:$L$2976,"4",'District I'!$O$7:$O$2976,"1", 'District I'!$B$7:$B$2976,"1") | G12: =COUNTIFS('District I'!$L$7:$L$2976,"4",'District I'!$O$7:$O$2976,"2", 'District I'!$B$7:$B$2976,"1") | H12: =COUNTIFS('District I'!$L$7:$L$2976,"4",'District I'!$O$7:$O$2976,"1", 'District I'!$B$7:$B$2976,"2") | I12: =COUNTIFS('District I'!$L$7:$L$2976,"4",'District I'!$O$7:$O$2976,"2", 'District I'!$B$7:$B$2976,"2") | J12: =COUNTIFS('District I'!$L$7:$L$2976,"4",'District I'!$O$7:$O$2976,"1", 'District I'!$B$7:$B$2976,"3") | K12: =COUNTIFS('District I'!$L$7:$L$2976,"4",'District I'!$O$7:$O$2976,"2", 'District I'!$B$7:$B$2976,"3") | L12: =COUNTIFS('District I'!$L$7:$L$2976,"4",'District I'!$O$7:$O$2976,"1", 'District I'!$B$7:$B$2976,"4") | M12: =COUNTIFS('District I'!$L$7:$L$2976,"4",'District I'!$O$7:$O$2976,"2", 'District I'!$B$7:$B$2976,"4") | N12: =COUNTIFS('District I'!$L$7:$L$2976,"4",'District I'!$O$7:$O$2976,"1", 'District I'!$B$7:$B$2976,"5") | O12: =COUNTIFS('District I'!$L$7:$L$2976,"4",'District I'!$O$7:$O$2976,"2", 'District I'!$B$7:$B$2976,"5") | P12: =COUNTIFS('District I'!$L$7:$L$2976,"4",'District I'!$O$7:$O$2976,"1", 'District I'!$B$7:$B$2976,"6") | Q12: =COUNTIFS('District I'!$L$7:$L$2976,"4",'District I'!$O$7:$O$2976,"2", 'District I'!$B$7:$B$2976,"6") | R12: =COUNTIFS('District I'!$L$7:$L$2976,"4",'District I'!$O$7:$O$2976,"1", 'District I'!$B$7:$B$2976,"7") | S12: =COUNTIFS('District I'!$L$7:$L$2976,"4",'District I'!$O$7:$O$2976,"2", 'District I'!$B$7:$B$2976,"7") | T12: =COUNTIFS('District I'!$L$7:$L$2976,"4",'District I'!$O$7:$O$2976,"1", 'District I'!$B$7:$B$2976,"8") | U12: =COUNTIFS('District I'!$L$7:$L$2976,"4",'District I'!$O$7:$O$2976,"2", 'District I'!$B$7:$B$2976,"8") | V12: =SUM(F12:U12) | X12: SINGLE PARENT | Y12: NO | Z12: MALE | AA12: FEMALE | AB12: TOTAL | AC12: MALE | AD12: FEMALE | AE12: MALE | AF12: FEMALE | AG12: MALE | AH12: FEMALE | AI12: MALE | AJ12: FEMALE | AK12: MALE | AL12: FEMALE | AM12: MALE | AN12: FEMALE | AO12: MALE | AP12: FEMALE | AQ12: MALE | AR12: FEMALE | AS12: TOTAL
A13: 5 | B13: =COUNTIF('District I'!$L$7:$L$2976,"5") | C13: =COUNTIFS('District I'!$L$7:$L$2976,"5",'District I'!$O$7:$O$2976,"1") | D13: =COUNTIFS('District I'!$L$7:$L$2976,"5",'District I'!$O$7:$O$2976,"2") | E13: =SUM(C13:D13) | F13: =COUNTIFS('District I'!$L$7:$L$2976,"5",'District I'!$O$7:$O$2976,"1", 'District I'!$B$7:$B$2976,"1") | G13: =COUNTIFS('District I'!$L$7:$L$2976,"5",'District I'!$O$7:$O$2976,"2", 'District I'!$B$7:$B$2976,"1") | H13: =COUNTIFS('District I'!$L$7:$L$2976,"5",'District I'!$O$7:$O$2976,"1", 'District I'!$B$7:$B$2976,"2") | I13: =COUNTIFS('District I'!$L$7:$L$2976,"5",'District I'!$O$7:$O$2976,"2", 'District I'!$B$7:$B$2976,"2") | J13: =COUNTIFS('District I'!$L$7:$L$2976,"5",'District I'!$O$7:$O$2976,"1", 'District I'!$B$7:$B$2976,"3") | K13: =COUNTIFS('District I'!$L$7:$L$2976,"5",'District I'!$O$7:$O$2976,"2", 'District I'!$B$7:$B$2976,"3") | L13: =COUNTIFS('District I'!$L$7:$L$2976,"5",'District I'!$O$7:$O$2976,"1", 'District I'!$B$7:$B$2976,"4") | M13: =COUNTIFS('District I'!$L$7:$L$2976,"5",'District I'!$O$7:$O$2976,"2", 'District I'!$B$7:$B$2976,"4") | N13: =COUNTIFS('District I'!$L$7:$L$2976,"5",'District I'!$O$7:$O$2976,"1", 'District I'!$B$7:$B$2976,"5") | O13: =COUNTIFS('District I'!$L$7:$L$2976,"5",'District I'!$O$7:$O$2976,"2", 'District I'!$B$7:$B$2976,"5") | P13: =COUNTIFS('District I'!$L$7:$L$2976,"5",'District I'!$O$7:$O$2976,"1", 'District I'!$B$7:$B$2976,"6") | Q13: =COUNTIFS('District I'!$L$7:$L$2976,"5",'District I'!$O$7:$O$2976,"2", 'District I'!$B$7:$B$2976,"6") | R13: =COUNTIFS('District I'!$L$7:$L$2976,"5",'District I'!$O$7:$O$2976,"1", 'District I'!$B$7:$B$2976,"7") | S13: =COUNTIFS('District I'!$L$7:$L$2976,"5",'District I'!$O$7:$O$2976,"2", 'District I'!$B$7:$B$2976,"7") | T13: =COUNTIFS('District I'!$L$7:$L$2976,"5",'District I'!$O$7:$O$2976,"1", 'District I'!$B$7:$B$2976,"8") | U13: =COUNTIFS('District I'!$L$7:$L$2976,"5",'District I'!$O$7:$O$2976,"2", 'District I'!$B$7:$B$2976,"8") | V13: =SUM(F13:U13) | X13: YES | Y13: =COUNTIF('District I'!$M$7:$M$2976,"1") | Z13: =COUNTIFS('District I'!$M$7:$M$2976,"1",'District I'!$O$7:$O$2976,"1") | AA13: =COUNTIFS('District I'!$M$7:$M$2976,"1",'District I'!$O$7:$O$2976,"2") | AB13: =SUM(Z13:AA13) | AC13: =COUNTIFS('District I'!$M$7:$M$2976,"1",'District I'!$O$7:$O$2976,"1", 'District I'!$B$7:$B$2976,"1") | AD13: =COUNTIFS('District I'!$M$7:$M$2976,"1",'District I'!$O$7:$O$2976,"2", 'District I'!$B$7:$B$2976,"1") | AE13: =COUNTIFS('District I'!$M$7:$M$2976,"1",'District I'!$O$7:$O$2976,"1", 'District I'!$B$7:$B$2976,"2") | AF13: =COUNTIFS('District I'!$M$7:$M$2976,"1",'District I'!$O$7:$O$2976,"2", 'District I'!$B$7:$B$2976,"2") | AG13: =COUNTIFS('District I'!$M$7:$M$2976,"1",'District I'!$O$7:$O$2976,"1", 'District I'!$B$7:$B$2976,"3") | AH13: =COUNTIFS('District I'!$M$7:$M$2976,"1",'District I'!$O$7:$O$2976,"2", 'District I'!$B$7:$B$2976,"3") | AI13: =COUNTIFS('District I'!$M$7:$M$2976,"1",'District I'!$O$7:$O$2976,"1", 'District I'!$B$7:$B$2976,"4") | AJ13: =COUNTIFS('District I'!$M$7:$M$2976,"1",'District I'!$O$7:$O$2976,"2", 'District I'!$B$7:$B$2976,"4") | AK13: =COUNTIFS('District I'!$M$7:$M$2976,"1",'District I'!$O$7:$O$2976,"1", 'District I'!$B$7:$B$2976,"5") | AL13: =COUNTIFS('District I'!$M$7:$M$2976,"1",'District I'!$O$7:$O$2976,"2", 'District I'!$B$7:$B$2976,"5") | AM13: =COUNTIFS('District I'!$M$7:$M$2976,"1",'District I'!$O$7:$O$2976,"1", 'District I'!$B$7:$B$2976,"6") | AN13: =COUNTIFS('District I'!$M$7:$M$2976,"1",'District I'!$O$7:$O$2976,"2", 'District I'!$B$7:$B$2976,"6") | AO13: =COUNTIFS('District I'!$M$7:$M$2976,"1",'District I'!$O$7:$O$2976,"1", 'District I'!$B$7:$B$2976,"7") | AP13: =COUNTIFS('District I'!$M$7:$M$2976,"1",'District I'!$O$7:$O$2976,"2", 'District I'!$B$7:$B$2976,"7") | AQ13: =COUNTIFS('District I'!$M$7:$M$2976,"1",'District I'!$O$7:$O$2976,"1", 'District I'!$B$7:$B$2976,"8") | AR13: =COUNTIFS('District I'!$M$7:$M$2976,"1",'District I'!$O$7:$O$2976,"2", 'District I'!$B$7:$B$2976,"8") | AS13: =SUM(AC13:AR13)
A14: 6 | B14: =COUNTIF('District I'!$L$7:$L$2976,"6") | C14: =COUNTIFS('District I'!$L$7:$L$2976,"6",'District I'!$O$7:$O$2976,"1") | D14: =COUNTIFS('District I'!$L$7:$L$2976,"6",'District I'!$O$7:$O$2976,"2") | E14: =SUM(C14:D14) | F14: =COUNTIFS('District I'!$L$7:$L$2976,"6",'District I'!$O$7:$O$2976,"1", 'District I'!$B$7:$B$2976,"1") | G14: =COUNTIFS('District I'!$L$7:$L$2976,"6",'District I'!$O$7:$O$2976,"2", 'District I'!$B$7:$B$2976,"1") | H14: =COUNTIFS('District I'!$L$7:$L$2976,"6",'District I'!$O$7:$O$2976,"1", 'District I'!$B$7:$B$2976,"2") | I14: =COUNTIFS('District I'!$L$7:$L$2976,"6",'District I'!$O$7:$O$2976,"2", 'District I'!$B$7:$B$2976,"2") | J14: =COUNTIFS('District I'!$L$7:$L$2976,"6",'District I'!$O$7:$O$2976,"1", 'District I'!$B$7:$B$2976,"3") | K14: =COUNTIFS('District I'!$L$7:$L$2976,"6",'District I'!$O$7:$O$2976,"2", 'District I'!$B$7:$B$2976,"3") | L14: =COUNTIFS('District I'!$L$7:$L$2976,"6",'District I'!$O$7:$O$2976,"1", 'District I'!$B$7:$B$2976,"4") | M14: =COUNTIFS('District I'!$L$7:$L$2976,"6",'District I'!$O$7:$O$2976,"2", 'District I'!$B$7:$B$2976,"4") | N14: =COUNTIFS('District I'!$L$7:$L$2976,"6",'District I'!$O$7:$O$2976,"1", 'District I'!$B$7:$B$2976,"5") | O14: =COUNTIFS('District I'!$L$7:$L$2976,"6",'District I'!$O$7:$O$2976,"2", 'District I'!$B$7:$B$2976,"5") | P14: =COUNTIFS('District I'!$L$7:$L$2976,"6",'District I'!$O$7:$O$2976,"1", 'District I'!$B$7:$B$2976,"6") | Q14: =COUNTIFS('District I'!$L$7:$L$2976,"6",'District I'!$O$7:$O$2976,"2", 'District I'!$B$7:$B$2976,"6") | R14: =COUNTIFS('District I'!$L$7:$L$2976,"6",'District I'!$O$7:$O$2976,"1", 'District I'!$B$7:$B$2976,"7") | S14: =COUNTIFS('District I'!$L$7:$L$2976,"6",'District I'!$O$7:$O$2976,"2", 'District I'!$B$7:$B$2976,"7") | T14: =COUNTIFS('District I'!$L$7:$L$2976,"6",'District I'!$O$7:$O$2976,"1", 'District I'!$B$7:$B$2976,"8") | U14: =COUNTIFS('District I'!$L$7:$L$2976,"6",'District I'!$O$7:$O$2976,"2", 'District I'!$B$7:$B$2976,"8") | V14: =SUM(F14:U14) | X14: NO | Y14: =COUNTIF('District I'!$M$7:$M$2976,"2") | Z14: =COUNTIFS('District I'!$M$7:$M$2976,"2",'District I'!$O$7:$O$2976,"1") | AA14: =COUNTIFS('District I'!$M$7:$M$2976,"2",'District I'!$O$7:$O$2976,"2") | AB14: =SUM(Z14:AA14) | AC14: =COUNTIFS('District I'!$M$7:$M$2976,"2",'District I'!$O$7:$O$2976,"1", 'District I'!$B$7:$B$2976,"1") | AD14: =COUNTIFS('District I'!$M$7:$M$2976,"2",'District I'!$O$7:$O$2976,"2", 'District I'!$B$7:$B$2976,"1") | AE14: =COUNTIFS('District I'!$M$7:$M$2976,"2",'District I'!$O$7:$O$2976,"1", 'District I'!$B$7:$B$2976,"2") | AF14: =COUNTIFS('District I'!$M$7:$M$2976,"2",'District I'!$O$7:$O$2976,"2", 'District I'!$B$7:$B$2976,"2") | AG14: =COUNTIFS('District I'!$M$7:$M$2976,"2",'District I'!$O$7:$O$2976,"1", 'District I'!$B$7:$B$2976,"3") | AH14: =COUNTIFS('District I'!$M$7:$M$2976,"2",'District I'!$O$7:$O$2976,"2", 'District I'!$B$7:$B$2976,"3") | AI14: =COUNTIFS('District I'!$M$7:$M$2976,"2",'District I'!$O$7:$O$2976,"1", 'District I'!$B$7:$B$2976,"4") | AJ14: =COUNTIFS('District I'!$M$7:$M$2976,"2",'District I'!$O$7:$O$2976,"2", 'District I'!$B$7:$B$2976,"4") | AK14: =COUNTIFS('District I'!$M$7:$M$2976,"2",'District I'!$O$7:$O$2976,"1", 'District I'!$B$7:$B$2976,"5") | AL14: =COUNTIFS('District I'!$M$7:$M$2976,"2",'District I'!$O$7:$O$2976,"2", 'District I'!$B$7:$B$2976,"5") | AM14: =COUNTIFS('District I'!$M$7:$M$2976,"2",'District I'!$O$7:$O$2976,"1", 'District I'!$B$7:$B$2976,"6") | AN14: =COUNTIFS('District I'!$M$7:$M$2976,"2",'District I'!$O$7:$O$2976,"2", 'District I'!$B$7:$B$2976,"6") | AO14: =COUNTIFS('District I'!$M$7:$M$2976,"2",'District I'!$O$7:$O$2976,"1", 'District I'!$B$7:$B$2976,"7") | AP14: =COUNTIFS('District I'!$M$7:$M$2976,"2",'District I'!$O$7:$O$2976,"2", 'District I'!$B$7:$B$2976,"7") | AQ14: =COUNTIFS('District I'!$M$7:$M$2976,"2",'District I'!$O$7:$O$2976,"1", 'District I'!$B$7:$B$2976,"8") | AR14: =COUNTIFS('District I'!$M$7:$M$2976,"2",'District I'!$O$7:$O$2976,"2", 'District I'!$B$7:$B$2976,"8") | AS14: =SUM(AC14:AR14)
A15: 7 | B15: =COUNTIF('District I'!$L$7:$L$2976,"7") | C15: =COUNTIFS('District I'!$L$7:$L$2976,"7",'District I'!$O$7:$O$2976,"1") | D15: =COUNTIFS('District I'!$L$7:$L$2976,"7",'District I'!$O$7:$O$2976,"2") | E15: =SUM(C15:D15) | F15: =COUNTIFS('District I'!$L$7:$L$2976,"7",'District I'!$O$7:$O$2976,"1", 'District I'!$B$7:$B$2976,"1") | G15: =COUNTIFS('District I'!$L$7:$L$2976,"7",'District I'!$O$7:$O$2976,"2", 'District I'!$B$7:$B$2976,"1") | H15: =COUNTIFS('District I'!$L$7:$L$2976,"7",'District I'!$O$7:$O$2976,"1", 'District I'!$B$7:$B$2976,"2") | I15: =COUNTIFS('District I'!$L$7:$L$2976,"7",'District I'!$O$7:$O$2976,"2", 'District I'!$B$7:$B$2976,"2") | J15: =COUNTIFS('District I'!$L$7:$L$2976,"7",'District I'!$O$7:$O$2976,"1", 'District I'!$B$7:$B$2976,"3") | K15: =COUNTIFS('District I'!$L$7:$L$2976,"7",'District I'!$O$7:$O$2976,"2", 'District I'!$B$7:$B$2976,"3") | L15: =COUNTIFS('District I'!$L$7:$L$2976,"7",'District I'!$O$7:$O$2976,"1", 'District I'!$B$7:$B$2976,"4") | M15: =COUNTIFS('District I'!$L$7:$L$2976,"7",'District I'!$O$7:$O$2976,"2", 'District I'!$B$7:$B$2976,"4") | N15: =COUNTIFS('District I'!$L$7:$L$2976,"7",'District I'!$O$7:$O$2976,"1", 'District I'!$B$7:$B$2976,"5") | O15: =COUNTIFS('District I'!$L$7:$L$2976,"7",'District I'!$O$7:$O$2976,"2", 'District I'!$B$7:$B$2976,"5") | P15: =COUNTIFS('District I'!$L$7:$L$2976,"7",'District I'!$O$7:$O$2976,"1", 'District I'!$B$7:$B$2976,"6") | Q15: =COUNTIFS('District I'!$L$7:$L$2976,"7",'District I'!$O$7:$O$2976,"2", 'District I'!$B$7:$B$2976,"6") | R15: =COUNTIFS('District I'!$L$7:$L$2976,"7",'District I'!$O$7:$O$2976,"1", 'District I'!$B$7:$B$2976,"7") | S15: =COUNTIFS('District I'!$L$7:$L$2976,"7",'District I'!$O$7:$O$2976,"2", 'District I'!$B$7:$B$2976,"7") | T15: =COUNTIFS('District I'!$L$7:$L$2976,"7",'District I'!$O$7:$O$2976,"1", 'District I'!$B$7:$B$2976,"8") | U15: =COUNTIFS('District I'!$L$7:$L$2976,"7",'District I'!$O$7:$O$2976,"2", 'District I'!$B$7:$B$2976,"8") | V15: =SUM(F15:U15) | X15: TOTAL | Y15: =SUM(Y13:Y14) | Z15: =SUM(Z13:Z14) | AA15: =SUM(AA13:AA14) | AB15: =SUM(AB13:AB14) | AC15: =SUM(AC13:AC14) | AD15: =SUM(AD13:AD14) | AE15: =SUM(AE13:AE14) | AF15: =SUM(AF13:AF14) | ... AR15: =SUM(AR13:AR14) | AS15: =SUM(AC15:AR15)
A16: 8 | B16: =COUNTIF('District I'!$L$7:$L$2976,"8") | C16: =COUNTIFS('District I'!$L$7:$L$2976,"8",'District I'!$O$7:$O$2976,"1") | D16: =COUNTIFS('District I'!$L$7:$L$2976,"8",'District I'!$O$7:$O$2976,"2") | E16: =SUM(C16:D16) | F16: =COUNTIFS('District I'!$L$7:$L$2976,"8",'District I'!$O$7:$O$2976,"1", 'District I'!$B$7:$B$2976,"1") | G16: =COUNTIFS('District I'!$L$7:$L$2976,"8",'District I'!$O$7:$O$2976,"2", 'District I'!$B$7:$B$2976,"1") | H16: =COUNTIFS('District I'!$L$7:$L$2976,"8",'District I'!$O$7:$O$2976,"1", 'District I'!$B$7:$B$2976,"2") | I16: =COUNTIFS('District I'!$L$7:$L$2976,"8",'District I'!$O$7:$O$2976,"2", 'District I'!$B$7:$B$2976,"2") | J16: =COUNTIFS('District I'!$L$7:$L$2976,"8",'District I'!$O$7:$O$2976,"1", 'District I'!$B$7:$B$2976,"3") | K16: =COUNTIFS('District I'!$L$7:$L$2976,"8",'District I'!$O$7:$O$2976,"2", 'District I'!$B$7:$B$2976,"3") | L16: =COUNTIFS('District I'!$L$7:$L$2976,"8",'District I'!$O$7:$O$2976,"1", 'District I'!$B$7:$B$2976,"4") | M16: =COUNTIFS('District I'!$L$7:$L$2976,"8",'District I'!$O$7:$O$2976,"2", 'District I'!$B$7:$B$2976,"4") | N16: =COUNTIFS('District I'!$L$7:$L$2976,"8",'District I'!$O$7:$O$2976,"1", 'District I'!$B$7:$B$2976,"5") | O16: =COUNTIFS('District I'!$L$7:$L$2976,"8",'District I'!$O$7:$O$2976,"2", 'District I'!$B$7:$B$2976,"5") | P16: =COUNTIFS('District I'!$L$7:$L$2976,"8",'District I'!$O$7:$O$2976,"1", 'District I'!$B$7:$B$2976,"6") | Q16: =COUNTIFS('District I'!$L$7:$L$2976,"8",'District I'!$O$7:$O$2976,"2", 'District I'!$B$7:$B$2976,"6") | R16: =COUNTIFS('District I'!$L$7:$L$2976,"8",'District I'!$O$7:$O$2976,"1", 'District I'!$B$7:$B$2976,"7") | S16: =COUNTIFS('District I'!$L$7:$L$2976,"8",'District I'!$O$7:$O$2976,"2", 'District I'!$B$7:$B$2976,"7") | T16: =COUNTIFS('District I'!$L$7:$L$2976,"8",'District I'!$O$7:$O$2976,"1", 'District I'!$B$7:$B$2976,"8") | U16: =COUNTIFS('District I'!$L$7:$L$2976,"8",'District I'!$O$7:$O$2976,"2", 'District I'!$B$7:$B$2976,"8") | V16: =SUM(F16:U16)
A17: 9 | B17: =COUNTIF('District I'!$L$7:$L$2976,"9") | C17: =COUNTIFS('District I'!$L$7:$L$2976,"9",'District I'!$O$7:$O$2976,"1") | D17: =COUNTIFS('District I'!$L$7:$L$2976,"9",'District I'!$O$7:$O$2976,"2") | E17: =SUM(C17:D17) | F17: =COUNTIFS('District I'!$L$7:$L$2976,"9",'District I'!$O$7:$O$2976,"1", 'District I'!$B$7:$B$2976,"1") | G17: =COUNTIFS('District I'!$L$7:$L$2976,"9",'District I'!$O$7:$O$2976,"2", 'District I'!$B$7:$B$2976,"1") | H17: =COUNTIFS('District I'!$L$7:$L$2976,"9",'District I'!$O$7:$O$2976,"1", 'District I'!$B$7:$B$2976,"2") | I17: =COUNTIFS('District I'!$L$7:$L$2976,"9",'District I'!$O$7:$O$2976,"2", 'District I'!$B$7:$B$2976,"2") | J17: =COUNTIFS('District I'!$L$7:$L$2976,"9",'District I'!$O$7:$O$2976,"1", 'District I'!$B$7:$B$2976,"3") | K17: =COUNTIFS('District I'!$L$7:$L$2976,"9",'District I'!$O$7:$O$2976,"2", 'District I'!$B$7:$B$2976,"3") | L17: =COUNTIFS('District I'!$L$7:$L$2976,"9",'District I'!$O$7:$O$2976,"1", 'District I'!$B$7:$B$2976,"4") | M17: =COUNTIFS('District I'!$L$7:$L$2976,"9",'District I'!$O$7:$O$2976,"2", 'District I'!$B$7:$B$2976,"4") | N17: =COUNTIFS('District I'!$L$7:$L$2976,"9",'District I'!$O$7:$O$2976,"1", 'District I'!$B$7:$B$2976,"5") | O17: =COUNTIFS('District I'!$L$7:$L$2976,"9",'District I'!$O$7:$O$2976,"2", 'District I'!$B$7:$B$2976,"5") | P17: =COUNTIFS('District I'!$L$7:$L$2976,"9",'District I'!$O$7:$O$2976,"1", 'District I'!$B$7:$B$2976,"6") | Q17: =COUNTIFS('District I'!$L$7:$L$2976,"9",'District I'!$O$7:$O$2976,"2", 'District I'!$B$7:$B$2976,"6") | R17: =COUNTIFS('District I'!$L$7:$L$2976,"9",'District I'!$O$7:$O$2976,"1", 'District I'!$B$7:$B$2976,"7") | S17: =COUNTIFS('District I'!$L$7:$L$2976,"9",'District I'!$O$7:$O$2976,"2", 'District I'!$B$7:$B$2976,"7") | T17: =COUNTIFS('District I'!$L$7:$L$2976,"9",'District I'!$O$7:$O$2976,"1", 'District I'!$B$7:$B$2976,"8") | U17: =COUNTIFS('District I'!$L$7:$L$2976,"9",'District I'!$O$7:$O$2976,"2", 'District I'!$B$7:$B$2976,"8") | V17: =SUM(F17:U17) | X17: Age at first Marriage 15-ONWARDS females | Y17: NO | Z17: Zone I | AA17: Zone II | AB17: Zone III | AC17: Zone IV | AD17: Zone V | AE17: Zone VI | AF17: Zone VII | AG17: Zone VIII | AH17: TOTAL
A18: 10 | B18: =COUNTIF('District I'!$L$7:$L$2976,"10") | C18: =COUNTIFS('District I'!$L$7:$L$2976,"10",'District I'!$O$7:$O$2976,"1") | D18: =COUNTIFS('District I'!$L$7:$L$2976,"10",'District I'!$O$7:$O$2976,"2") | E18: =SUM(C18:D18) | F18: =COUNTIFS('District I'!$L$7:$L$2976,"10",'District I'!$O$7:$O$2976,"1", 'District I'!$B$7:$B$2976,"1") | G18: =COUNTIFS('District I'!$L$7:$L$2976,"10",'District I'!$O$7:$O$2976,"2", 'District I'!$B$7:$B$2976,"1") | H18: =COUNTIFS('District I'!$L$7:$L$2976,"10",'District I'!$O$7:$O$2976,"1", 'District I'!$B$7:$B$2976,"2") | I18: =COUNTIFS('District I'!$L$7:$L$2976,"10",'District I'!$O$7:$O$2976,"2", 'District I'!$B$7:$B$2976,"2") | J18: =COUNTIFS('District I'!$L$7:$L$2976,"10",'District I'!$O$7:$O$2976,"1", 'District I'!$B$7:$B$2976,"3") | K18: =COUNTIFS('District I'!$L$7:$L$2976,"10",'District I'!$O$7:$O$2976,"2", 'District I'!$B$7:$B$2976,"3") | L18: =COUNTIFS('District I'!$L$7:$L$2976,"10",'District I'!$O$7:$O$2976,"1", 'District I'!$B$7:$B$2976,"4") | M18: =COUNTIFS('District I'!$L$7:$L$2976,"10",'District I'!$O$7:$O$2976,"2", 'District I'!$B$7:$B$2976,"4") | N18: =COUNTIFS('District I'!$L$7:$L$2976,"10",'District I'!$O$7:$O$2976,"1", 'District I'!$B$7:$B$2976,"5") | O18: =COUNTIFS('District I'!$L$7:$L$2976,"10",'District I'!$O$7:$O$2976,"2", 'District I'!$B$7:$B$2976,"5") | P18: =COUNTIFS('District I'!$L$7:$L$2976,"10",'District I'!$O$7:$O$2976,"1", 'District I'!$B$7:$B$2976,"6") | Q18: =COUNTIFS('District I'!$L$7:$L$2976,"10",'District I'!$O$7:$O$2976,"2", 'District I'!$B$7:$B$2976,"6") | R18: =COUNTIFS('District I'!$L$7:$L$2976,"10",'District I'!$O$7:$O$2976,"1", 'District I'!$B$7:$B$2976,"7") | S18: =COUNTIFS('District I'!$L$7:$L$2976,"10",'District I'!$O$7:$O$2976,"2", 'District I'!$B$7:$B$2976,"7") | T18: =COUNTIFS('District I'!$L$7:$L$2976,"10",'District I'!$O$7:$O$2976,"1", 'District I'!$B$7:$B$2976,"8") | U18: =COUNTIFS('District I'!$L$7:$L$2976,"10",'District I'!$O$7:$O$2976,"2", 'District I'!$B$7:$B$2976,"8") | V18: =SUM(F18:U18) | X18: AVERAGE | Y18: =AVERAGE('District I'!$N$7:$N$2976) | Z18: =AVERAGEIFS('District I'!$N$7:$N$2976, 'District I'!$B$7:$B$2976,1) | AA18: =AVERAGEIFS('District I'!$N$7:$N$2976, 'District I'!$B$7:$B$2976,2) | AB18: =AVERAGEIFS('District I'!$N$7:$N$2976, 'District I'!$B$7:$B$2976,3) | AC18: =AVERAGEIFS('District I'!$N$7:$N$2976, 'District I'!$B$7:$B$2976,4) | AD18: =AVERAGEIFS('District I'!$N$7:$N$2976, 'District I'!$B$7:$B$2976,5) | AE18: =AVERAGEIFS('District I'!$N$7:$N$2976, 'District I'!$B$7:$B$2976,6) | AF18: =AVERAGEIFS('District I'!$N$7:$N$2976, 'District I'!$B$7:$B$2976,7) | AH18: =AVERAGE(Z18:AF18)
A19: 11 | B19: =COUNTIF('District I'!$L$7:$L$2976,"11") | C19: =COUNTIFS('District I'!$L$7:$L$2976,"11",'District I'!$O$7:$O$2976,"1") | D19: =COUNTIFS('District I'!$L$7:$L$2976,"11",'District I'!$O$7:$O$2976,"2") | E19: =SUM(C19:D19) | F19: =COUNTIFS('District I'!$L$7:$L$2976,"11",'District I'!$O$7:$O$2976,"1", 'District I'!$B$7:$B$2976,"1") | G19: =COUNTIFS('District I'!$L$7:$L$2976,"11",'District I'!$O$7:$O$2976,"2", 'District I'!$B$7:$B$2976,"1") | H19: =COUNTIFS('District I'!$L$7:$L$2976,"11",'District I'!$O$7:$O$2976,"1", 'District I'!$B$7:$B$2976,"2") | I19: =COUNTIFS('District I'!$L$7:$L$2976,"11",'District I'!$O$7:$O$2976,"2", 'District I'!$B$7:$B$2976,"2") | J19: =COUNTIFS('District I'!$L$7:$L$2976,"11",'District I'!$O$7:$O$2976,"1", 'District I'!$B$7:$B$2976,"3") | K19: =COUNTIFS('District I'!$L$7:$L$2976,"11",'District I'!$O$7:$O$2976,"2", 'District I'!$B$7:$B$2976,"3") | L19: =COUNTIFS('District I'!$L$7:$L$2976,"11",'District I'!$O$7:$O$2976,"1", 'District I'!$B$7:$B$2976,"4") | M19: =COUNTIFS('District I'!$L$7:$L$2976,"11",'District I'!$O$7:$O$2976,"2", 'District I'!$B$7:$B$2976,"4") | N19: =COUNTIFS('District I'!$L$7:$L$2976,"11",'District I'!$O$7:$O$2976,"1", 'District I'!$B$7:$B$2976,"5") | O19: =COUNTIFS('District I'!$L$7:$L$2976,"11",'District I'!$O$7:$O$2976,"2", 'District I'!$B$7:$B$2976,"5") | P19: =COUNTIFS('District I'!$L$7:$L$2976,"11",'District I'!$O$7:$O$2976,"1", 'District I'!$B$7:$B$2976,"6") | Q19: =COUNTIFS('District I'!$L$7:$L$2976,"11",'District I'!$O$7:$O$2976,"2", 'District I'!$B$7:$B$2976,"6") | R19: =COUNTIFS('District I'!$L$7:$L$2976,"11",'District I'!$O$7:$O$2976,"1", 'District I'!$B$7:$B$2976,"7") | S19: =COUNTIFS('District I'!$L$7:$L$2976,"11",'District I'!$O$7:$O$2976,"2", 'District I'!$B$7:$B$2976,"7") | T19: =COUNTIFS('District I'!$L$7:$L$2976,"11",'District I'!$O$7:$O$2976,"1", 'District I'!$B$7:$B$2976,"8") | U19: =COUNTIFS('District I'!$L$7:$L$2976,"11",'District I'!$O$7:$O$2976,"2", 'District I'!$B$7:$B$2976,"8") | V19: =SUM(F19:U19) | X19: HIGH (MAX) | Y19: =MAX('District I'!$N$7:$N$2976) | Z19: =_xludf.MAXIFS('District I'!$N$7:$N$2976, "1") | AA19: =MAX(IF('District I'!$B$7:$B$2976,"2",'District I'!$N$7:$N$2976)) | AB19: =MAX(IF('District I'!$B$7:$B$2976,"3",'District I'!$N$7:$N$2976)) | AH19: =AVERAGE(Z19:AG19)
A20: 12 | B20: =COUNTIF('District I'!$L$7:$L$2976,"12") | C20: =COUNTIFS('District I'!$L$7:$L$2976,"12",'District I'!$O$7:$O$2976,"1") | D20: =COUNTIFS('District I'!$L$7:$L$2976,"12",'District I'!$O$7:$O$2976,"2") | E20: =SUM(C20:D20) | F20: =COUNTIFS('District I'!$L$7:$L$2976,"12",'District I'!$O$7:$O$2976,"1", 'District I'!$B$7:$B$2976,"1") | G20: =COUNTIFS('District I'!$L$7:$L$2976,"12",'District I'!$O$7:$O$2976,"2", 'District I'!$B$7:$B$2976,"1") | H20: =COUNTIFS('District I'!$L$7:$L$2976,"12",'District I'!$O$7:$O$2976,"1", 'District I'!$B$7:$B$2976,"2") | I20: =COUNTIFS('District I'!$L$7:$L$2976,"12",'District I'!$O$7:$O$2976,"2", 'District I'!$B$7:$B$2976,"2") | J20: =COUNTIFS('District I'!$L$7:$L$2976,"12",'District I'!$O$7:$O$2976,"1", 'District I'!$B$7:$B$2976,"3") | K20: =COUNTIFS('District I'!$L$7:$L$2976,"12",'District I'!$O$7:$O$2976,"2", 'District I'!$B$7:$B$2976,"3") | L20: =COUNTIFS('District I'!$L$7:$L$2976,"12",'District I'!$O$7:$O$2976,"1", 'District I'!$B$7:$B$2976,"4") | M20: =COUNTIFS('District I'!$L$7:$L$2976,"12",'District I'!$O$7:$O$2976,"2", 'District I'!$B$7:$B$2976,"4") | N20: =COUNTIFS('District I'!$L$7:$L$2976,"12",'District I'!$O$7:$O$2976,"1", 'District I'!$B$7:$B$2976,"5") | O20: =COUNTIFS('District I'!$L$7:$L$2976,"12",'District I'!$O$7:$O$2976,"2", 'District I'!$B$7:$B$2976,"5") | P20: =COUNTIFS('District I'!$L$7:$L$2976,"12",'District I'!$O$7:$O$2976,"1", 'District I'!$B$7:$B$2976,"6") | Q20: =COUNTIFS('District I'!$L$7:$L$2976,"12",'District I'!$O$7:$O$2976,"2", 'District I'!$B$7:$B$2976,"6") | R20: =COUNTIFS('District I'!$L$7:$L$2976,"12",'District I'!$O$7:$O$2976,"1", 'District I'!$B$7:$B$2976,"7") | S20: =COUNTIFS('District I'!$L$7:$L$2976,"12",'District I'!$O$7:$O$2976,"2", 'District I'!$B$7:$B$2976,"7") | T20: =COUNTIFS('District I'!$L$7:$L$2976,"12",'District I'!$O$7:$O$2976,"1", 'District I'!$B$7:$B$2976,"8") | U20: =COUNTIFS('District I'!$L$7:$L$2976,"12",'District I'!$O$7:$O$2976,"2", 'District I'!$B$7:$B$2976,"8") | V20: =SUM(F20:U20) | X20: LOW (MIN) | Y20: =MIN('District I'!$N$7:$N$2976) | AH20: =AVERAGE(Z20:AG20)
A21: 13 | B21: =COUNTIF('District I'!$L$7:$L$2976,"13") | C21: =COUNTIFS('District I'!$L$7:$L$2976,"13",'District I'!$O$7:$O$2976,"1") | D21: =COUNTIFS('District I'!$L$7:$L$2976,"13",'District I'!$O$7:$O$2976,"2") | E21: =SUM(C21:D21) | F21: =COUNTIFS('District I'!$L$7:$L$2976,"13",'District I'!$O$7:$O$2976,"1", 'District I'!$B$7:$B$2976,"1") | G21: =COUNTIFS('District I'!$L$7:$L$2976,"13",'District I'!$O$7:$O$2976,"2", 'District I'!$B$7:$B$2976,"1") | H21: =COUNTIFS('District I'!$L$7:$L$2976,"13",'District I'!$O$7:$O$2976,"1", 'District I'!$B$7:$B$2976,"2") | I21: =COUNTIFS('District I'!$L$7:$L$2976,"13",'District I'!$O$7:$O$2976,"2", 'District I'!$B$7:$B$2976,"2") | J21: =COUNTIFS('District I'!$L$7:$L$2976,"13",'District I'!$O$7:$O$2976,"1", 'District I'!$B$7:$B$2976,"3") | K21: =COUNTIFS('District I'!$L$7:$L$2976,"13",'District I'!$O$7:$O$2976,"2", 'District I'!$B$7:$B$2976,"3") | L21: =COUNTIFS('District I'!$L$7:$L$2976,"13",'District I'!$O$7:$O$2976,"1", 'District I'!$B$7:$B$2976,"4") | M21: =COUNTIFS('District I'!$L$7:$L$2976,"13",'District I'!$O$7:$O$2976,"2", 'District I'!$B$7:$B$2976,"4") | N21: =COUNTIFS('District I'!$L$7:$L$2976,"13",'District I'!$O$7:$O$2976,"1", 'District I'!$B$7:$B$2976,"5") | O21: =COUNTIFS('District I'!$L$7:$L$2976,"13",'District I'!$O$7:$O$2976,"2", 'District I'!$B$7:$B$2976,"5") | P21: =COUNTIFS('District I'!$L$7:$L$2976,"13",'District I'!$O$7:$O$2976,"1", 'District I'!$B$7:$B$2976,"6") | Q21: =COUNTIFS('District I'!$L$7:$L$2976,"13",'District I'!$O$7:$O$2976,"2", 'District I'!$B$7:$B$2976,"6") | R21: =COUNTIFS('District I'!$L$7:$L$2976,"13",'District I'!$O$7:$O$2976,"1", 'District I'!$B$7:$B$2976,"7") | S21: =COUNTIFS('District I'!$L$7:$L$2976,"13",'District I'!$O$7:$O$2976,"2", 'District I'!$B$7:$B$2976,"7") | T21: =COUNTIFS('District I'!$L$7:$L$2976,"13",'District I'!$O$7:$O$2976,"1", 'District I'!$B$7:$B$2976,"8 ") | U21: =COUNTIFS('District I'!$L$7:$L$2976,"13",'District I'!$O$7:$O$2976,"2", 'District I'!$B$7:$B$2976,"8") | V21: =SUM(F21:U21)
A22: 14 | B22: =COUNTIF('District I'!$L$7:$L$2976,"14") | C22: =COUNTIFS('District I'!$L$7:$L$2976,"14",'District I'!$O$7:$O$2976,"1") | D22: =COUNTIFS('District I'!$L$7:$L$2976,"14",'District I'!$O$7:$O$2976,"2") | E22: =SUM(C22:D22) | F22: =COUNTIFS('District I'!$L$7:$L$2976,"14",'District I'!$O$7:$O$2976,"1", 'District I'!$B$7:$B$2976,"1") | G22: =COUNTIFS('District I'!$L$7:$L$2976,"14",'District I'!$O$7:$O$2976,"2", 'District I'!$B$7:$B$2976,"1") | H22: =COUNTIFS('District I'!$L$7:$L$2976,"14",'District I'!$O$7:$O$2976,"1", 'District I'!$B$7:$B$2976,"2") | I22: =COUNTIFS('District I'!$L$7:$L$2976,"14",'District I'!$O$7:$O$2976,"2", 'District I'!$B$7:$B$2976,"2") | J22: =COUNTIFS('District I'!$L$7:$L$2976,"14",'District I'!$O$7:$O$2976,"1", 'District I'!$B$7:$B$2976,"3") | K22: =COUNTIFS('District I'!$L$7:$L$2976,"14",'District I'!$O$7:$O$2976,"2", 'District I'!$B$7:$B$2976,"3") | L22: =COUNTIFS('District I'!$L$7:$L$2976,"14",'District I'!$O$7:$O$2976,"1", 'District I'!$B$7:$B$2976,"4") | M22: =COUNTIFS('District I'!$L$7:$L$2976,"14",'District I'!$O$7:$O$2976,"2", 'District I'!$B$7:$B$2976,"4") | N22: =COUNTIFS('District I'!$L$7:$L$2976,"14",'District I'!$O$7:$O$2976,"1", 'District I'!$B$7:$B$2976,"5") | O22: =COUNTIFS('District I'!$L$7:$L$2976,"14",'District I'!$O$7:$O$2976,"2", 'District I'!$B$7:$B$2976,"5") | P22: =COUNTIFS('District I'!$L$7:$L$2976,"14",'District I'!$O$7:$O$2976,"1", 'District I'!$B$7:$B$2976,"6") | Q22: =COUNTIFS('District I'!$L$7:$L$2976,"14",'District I'!$O$7:$O$2976,"2", 'District I'!$B$7:$B$2976,"6") | R22: =COUNTIFS('District I'!$L$7:$L$2976,"14",'District I'!$O$7:$O$2976,"1", 'District I'!$B$7:$B$2976,"7") | S22: =COUNTIFS('District I'!$L$7:$L$2976,"14",'District I'!$O$7:$O$2976,"2", 'District I'!$B$7:$B$2976,"7") | T22: =COUNTIFS('District I'!$L$7:$L$2976,"14",'District I'!$O$7:$O$2976,"1", 'District I'!$B$7:$B$2976,"8") | U22: =COUNTIFS('District I'!$L$7:$L$2976,"14",'District I'!$O$7:$O$2976,"2", 'District I'!$B$7:$B$2976,"8") | V22: =SUM(F22:U22) | X22: SEX | Y22: No | Z22: Zone I | AA22: Zone II | AB22: Zone III | AC22: Zone IV | AD22: Zone V | AE22: Zone VI | AF22: Zone VII | AG22: Zone VII | AH22: TOTAL
A23: 15 | B23: =COUNTIF('District I'!$L$7:$L$2976,"15") | C23: =COUNTIFS('District I'!$L$7:$L$2976,"15",'District I'!$O$7:$O$2976,"1") | D23: =COUNTIFS('District I'!$L$7:$L$2976,"15",'District I'!$O$7:$O$2976,"2") | E23: =SUM(C23:D23) | F23: =COUNTIFS('District I'!$L$7:$L$2976,"15",'District I'!$O$7:$O$2976,"1", 'District I'!$B$7:$B$2976,"1") | G23: =COUNTIFS('District I'!$L$7:$L$2976,"15",'District I'!$O$7:$O$2976,"2", 'District I'!$B$7:$B$2976,"1") | H23: =COUNTIFS('District I'!$L$7:$L$2976,"15",'District I'!$O$7:$O$2976,"1", 'District I'!$B$7:$B$2976,"2") | I23: =COUNTIFS('District I'!$L$7:$L$2976,"15",'District I'!$O$7:$O$2976,"2", 'District I'!$B$7:$B$2976,"2") | J23: =COUNTIFS('District I'!$L$7:$L$2976,"15",'District I'!$O$7:$O$2976,"1", 'District I'!$B$7:$B$2976,"3") | K23: =COUNTIFS('District I'!$L$7:$L$2976,"15",'District I'!$O$7:$O$2976,"2", 'District I'!$B$7:$B$2976,"3") | L23: =COUNTIFS('District I'!$L$7:$L$2976,"15",'District I'!$O$7:$O$2976,"1", 'District I'!$B$7:$B$2976,"4") | M23: =COUNTIFS('District I'!$L$7:$L$2976,"15",'District I'!$O$7:$O$2976,"2", 'District I'!$B$7:$B$2976,"4") | N23: =COUNTIFS('District I'!$L$7:$L$2976,"15",'District I'!$O$7:$O$2976,"1", 'District I'!$B$7:$B$2976,"5") | O23: =COUNTIFS('District I'!$L$7:$L$2976,"15",'District I'!$O$7:$O$2976,"2", 'District I'!$B$7:$B$2976,"5") | P23: =COUNTIFS('District I'!$L$7:$L$2976,"15",'District I'!$O$7:$O$2976,"1", 'District I'!$B$7:$B$2976,"6") | Q23: =COUNTIFS('District I'!$L$7:$L$2976,"15",'District I'!$O$7:$O$2976,"2", 'District I'!$B$7:$B$2976,"6") | R23: =COUNTIFS('District I'!$L$7:$L$2976,"15",'District I'!$O$7:$O$2976,"1", 'District I'!$B$7:$B$2976,"7") | S23: =COUNTIFS('District I'!$L$7:$L$2976,"15",'District I'!$O$7:$O$2976,"2", 'District I'!$B$7:$B$2976,"7") | T23: =COUNTIFS('District I'!$L$7:$L$2976,"15",'District I'!$O$7:$O$2976,"1", 'District I'!$B$7:$B$2976,"8") | U23: =COUNTIFS('District I'!$L$7:$L$2976,"15",'District I'!$O$7:$O$2976,"2", 'District I'!$B$7:$B$2976,"8") | V23: =SUM(F23:U23) | X23: MALE | Y23: =COUNTIF('District I'!$O$7:$O$2976,"1") | Z23: =COUNTIFS('District I'!$O$7:$O$2976,"1", 'District I'!$B$7:$B$2976,"1") | AA23: =COUNTIFS('District I'!$O$7:$O$2976,"1", 'District I'!$B$7:$B$2976,"2") | AB23: =COUNTIFS('District I'!$O$7:$O$2976,"1", 'District I'!$B$7:$B$2976,"3") | AC23: =COUNTIFS('District I'!$O$7:$O$2976,"1", 'District I'!$B$7:$B$2976,"4") | AD23: =COUNTIFS('District I'!$O$7:$O$2976,"1", 'District I'!$B$7:$B$2976,"5") | AE23: =COUNTIFS('District I'!$O$7:$O$2976,"1", 'District I'!$B$7:$B$2976,"6") | AF23: =COUNTIFS('District I'!$O$7:$O$2976,"1", 'District I'!$B$7:$B$2976,"7") | AG23: =COUNTIFS('District I'!$O$7:$O$2976,"1", 'District I'!$B$7:$B$2976,"8") | AH23: =SUM(Z23:AG23)
A24: 16 | B24: =COUNTIF('District I'!$L$7:$L$2976,"16") | C24: =COUNTIFS('District I'!$L$7:$L$2976,"16",'District I'!$O$7:$O$2976,"1") | D24: =COUNTIFS('District I'!$L$7:$L$2976,"16",'District I'!$O$7:$O$2976,"2") | E24: =SUM(C24:D24) | F24: =COUNTIFS('District I'!$L$7:$L$2976,"16",'District I'!$O$7:$O$2976,"1", 'District I'!$B$7:$B$2976,"1") | G24: =COUNTIFS('District I'!$L$7:$L$2976,"16",'District I'!$O$7:$O$2976,"2", 'District I'!$B$7:$B$2976,"1") | H24: =COUNTIFS('District I'!$L$7:$L$2976,"16",'District I'!$O$7:$O$2976,"1", 'District I'!$B$7:$B$2976,"2") | I24: =COUNTIFS('District I'!$L$7:$L$2976,"16",'District I'!$O$7:$O$2976,"2", 'District I'!$B$7:$B$2976,"2") | J24: =COUNTIFS('District I'!$L$7:$L$2976,"16",'District I'!$O$7:$O$2976,"1", 'District I'!$B$7:$B$2976,"3") | K24: =COUNTIFS('District I'!$L$7:$L$2976,"16",'District I'!$O$7:$O$2976,"2", 'District I'!$B$7:$B$2976,"3") | L24: =COUNTIFS('District I'!$L$7:$L$2976,"16",'District I'!$O$7:$O$2976,"1", 'District I'!$B$7:$B$2976,"4") | M24: =COUNTIFS('District I'!$L$7:$L$2976,"16",'District I'!$O$7:$O$2976,"2", 'District I'!$B$7:$B$2976,"4") | N24: =COUNTIFS('District I'!$L$7:$L$2976,"16",'District I'!$O$7:$O$2976,"1", 'District I'!$B$7:$B$2976,"5") | O24: =COUNTIFS('District I'!$L$7:$L$2976,"16",'District I'!$O$7:$O$2976,"2", 'District I'!$B$7:$B$2976,"5") | P24: =COUNTIFS('District I'!$L$7:$L$2976,"16",'District I'!$O$7:$O$2976,"1", 'District I'!$B$7:$B$2976,"6") | Q24: =COUNTIFS('District I'!$L$7:$L$2976,"16",'District I'!$O$7:$O$2976,"2", 'District I'!$B$7:$B$2976,"6") | R24: =COUNTIFS('District I'!$L$7:$L$2976,"16",'District I'!$O$7:$O$2976,"1", 'District I'!$B$7:$B$2976,"7") | S24: =COUNTIFS('District I'!$L$7:$L$2976,"16",'District I'!$O$7:$O$2976,"2", 'District I'!$B$7:$B$2976,"7") | T24: =COUNTIFS('District I'!$L$7:$L$2976,"16",'District I'!$O$7:$O$2976,"1", 'District I'!$B$7:$B$2976,"8") | U24: =COUNTIFS('District I'!$L$7:$L$2976,"16",'District I'!$O$7:$O$2976,"2", 'District I'!$B$7:$B$2976,"8") | V24: =SUM(F24:U24) | X24: FEMALE | Y24: =COUNTIF('District I'!$O$7:$O$2976,"2") | Z24: =COUNTIFS('District I'!$O$7:$O$2976,"2", 'District I'!$B$7:$B$2976,"1") | AA24: =COUNTIFS('District I'!$O$7:$O$2976,"2", 'District I'!$B$7:$B$2976,"2") | AB24: =COUNTIFS('District I'!$O$7:$O$2976,"2", 'District I'!$B$7:$B$2976,"3") | AC24: =COUNTIFS('District I'!$O$7:$O$2976,"2", 'District I'!$B$7:$B$2976,"4") | AD24: =COUNTIFS('District I'!$O$7:$O$2976,"2", 'District I'!$B$7:$B$2976,"5") | AE24: =COUNTIFS('District I'!$O$7:$O$2976,"2", 'District I'!$B$7:$B$2976,"6") | AF24: =COUNTIFS('District I'!$O$7:$O$2976,"2", 'District I'!$B$7:$B$2976,"7") | AG24: =COUNTIFS('District I'!$O$7:$O$2976,"2", 'District I'!$B$7:$B$2976,"8") | AH24: =SUM(Z24:AG24)
A25: 17 | B25: =COUNTIF('District I'!$L$7:$L$2976,"17") | C25: =COUNTIFS('District I'!$L$7:$L$2976,"17",'District I'!$O$7:$O$2976,"1") | D25: =COUNTIFS('District I'!$L$7:$L$2976,"17",'District I'!$O$7:$O$2976,"2") | E25: =SUM(C25:D25) | F25: =COUNTIFS('District I'!$L$7:$L$2976,"17",'District I'!$O$7:$O$2976,"1", 'District I'!$B$7:$B$2976,"1") | G25: =COUNTIFS('District I'!$L$7:$L$2976,"17",'District I'!$O$7:$O$2976,"2", 'District I'!$B$7:$B$2976,"1") | H25: =COUNTIFS('District I'!$L$7:$L$2976,"17",'District I'!$O$7:$O$2976,"1", 'District I'!$B$7:$B$2976,"2") | I25: =COUNTIFS('District I'!$L$7:$L$2976,"17",'District I'!$O$7:$O$2976,"2", 'District I'!$B$7:$B$2976,"2") | J25: =COUNTIFS('District I'!$L$7:$L$2976,"17",'District I'!$O$7:$O$2976,"1", 'District I'!$B$7:$B$2976,"3") | K25: =COUNTIFS('District I'!$L$7:$L$2976,"17",'District I'!$O$7:$O$2976,"2", 'District I'!$B$7:$B$2976,"3") | L25: =COUNTIFS('District I'!$L$7:$L$2976,"17",'District I'!$O$7:$O$2976,"1", 'District I'!$B$7:$B$2976,"4") | M25: =COUNTIFS('District I'!$L$7:$L$2976,"17",'District I'!$O$7:$O$2976,"2", 'District I'!$B$7:$B$2976,"4") | N25: =COUNTIFS('District I'!$L$7:$L$2976,"17",'District I'!$O$7:$O$2976,"1", 'District I'!$B$7:$B$2976,"5") | O25: =COUNTIFS('District I'!$L$7:$L$2976,"17",'District I'!$O$7:$O$2976,"2", 'District I'!$B$7:$B$2976,"5") | P25: =COUNTIFS('District I'!$L$7:$L$2976,"17",'District I'!$O$7:$O$2976,"1", 'District I'!$B$7:$B$2976,"6") | Q25: =COUNTIFS('District I'!$L$7:$L$2976,"17",'District I'!$O$7:$O$2976,"2", 'District I'!$B$7:$B$2976,"6") | R25: =COUNTIFS('District I'!$L$7:$L$2976,"17",'District I'!$O$7:$O$2976,"1", 'District I'!$B$7:$B$2976,"7") | S25: =COUNTIFS('District I'!$L$7:$L$2976,"17",'District I'!$O$7:$O$2976,"2", 'District I'!$B$7:$B$2976,"7") | T25: =COUNTIFS('District I'!$L$7:$L$2976,"17",'District I'!$O$7:$O$2976,"1", 'District I'!$B$7:$B$2976,"8") | U25: =COUNTIFS('District I'!$L$7:$L$2976,"17",'District I'!$O$7:$O$2976,"2", 'District I'!$B$7:$B$2976,"8") | V25: =SUM(F25:U25) | X25: TOTAL | Y25: =SUM(Y23:Y24) | Z25: =SUM(Z23:Z24) | AA25: =SUM(AA23:AA24) | AB25: =SUM(AB23:AB24) | AC25: =SUM(AC23:AC24) | AD25: =SUM(AD23:AD24) | AE25: =SUM(AE23:AE24) | AF25: =SUM(AF23:AF24) | AG25: =SUM(AG23:AG24) | AH25: =SUM(Z25:AG25)
A26: 18 | B26: =COUNTIF('District I'!$L$7:$L$2976,"18") | C26: =COUNTIFS('District I'!$L$7:$L$2976,"18",'District I'!$O$7:$O$2976,"1") | D26: =COUNTIFS('District I'!$L$7:$L$2976,"18",'District I'!$O$7:$O$2976,"2") | E26: =SUM(C26:D26) | F26: =COUNTIFS('District I'!$L$7:$L$2976,"18",'District I'!$O$7:$O$2976,"1", 'District I'!$B$7:$B$2976,"1") | G26: =COUNTIFS('District I'!$L$7:$L$2976,"18",'District I'!$O$7:$O$2976,"2", 'District I'!$B$7:$B$2976,"1") | H26: =COUNTIFS('District I'!$L$7:$L$2976,"18",'District I'!$O$7:$O$2976,"1", 'District I'!$B$7:$B$2976,"2") | I26: =COUNTIFS('District I'!$L$7:$L$2976,"18",'District I'!$O$7:$O$2976,"2", 'District I'!$B$7:$B$2976,"2") | J26: =COUNTIFS('District I'!$L$7:$L$2976,"18",'District I'!$O$7:$O$2976,"1", 'District I'!$B$7:$B$2976,"3") | K26: =COUNTIFS('District I'!$L$7:$L$2976,"18",'District I'!$O$7:$O$2976,"2", 'District I'!$B$7:$B$2976,"3") | L26: =COUNTIFS('District I'!$L$7:$L$2976,"18",'District I'!$O$7:$O$2976,"1", 'District I'!$B$7:$B$2976,"4") | M26: =COUNTIFS('District I'!$L$7:$L$2976,"18",'District I'!$O$7:$O$2976,"2", 'District I'!$B$7:$B$2976,"4") | N26: =COUNTIFS('District I'!$L$7:$L$2976,"18",'District I'!$O$7:$O$2976,"1", 'District I'!$B$7:$B$2976,"5") | O26: =COUNTIFS('District I'!$L$7:$L$2976,"18",'District I'!$O$7:$O$2976,"2", 'District I'!$B$7:$B$2976,"5") | P26: =COUNTIFS('District I'!$L$7:$L$2976,"18",'District I'!$O$7:$O$2976,"1", 'District I'!$B$7:$B$2976,"6") | Q26: =COUNTIFS('District I'!$L$7:$L$2976,"18",'District I'!$O$7:$O$2976,"2", 'District I'!$B$7:$B$2976,"6") | R26: =COUNTIFS('District I'!$L$7:$L$2976,"18",'District I'!$O$7:$O$2976,"1", 'District I'!$B$7:$B$2976,"7") | S26: =COUNTIFS('District I'!$L$7:$L$2976,"18",'District I'!$O$7:$O$2976,"2", 'District I'!$B$7:$B$2976,"7") | T26: =COUNTIFS('District I'!$L$7:$L$2976,"18",'District I'!$O$7:$O$2976,"1", 'District I'!$B$7:$B$2976,"8") | U26: =COUNTIFS('District I'!$L$7:$L$2976,"18",'District I'!$O$7:$O$2976,"2", 'District I'!$B$7:$B$2976,"8") | V26: =SUM(F26:U26)
A27: 19 | B27: =COUNTIF('District I'!$L$7:$L$2976,"19") | C27: =COUNTIFS('District I'!$L$7:$L$2976,"19",'District I'!$O$7:$O$2976,"1") | D27: =COUNTIFS('District I'!$L$7:$L$2976,"19",'District I'!$O$7:$O$2976,"2") | E27: =SUM(C27:D27) | F27: =COUNTIFS('District I'!$L$7:$L$2976,"19",'District I'!$O$7:$O$2976,"1", 'District I'!$B$7:$B$2976,"1") | G27: =COUNTIFS('District I'!$L$7:$L$2976,"19",'District I'!$O$7:$O$2976,"2", 'District I'!$B$7:$B$2976,"1") | H27: =COUNTIFS('District I'!$L$7:$L$2976,"19",'District I'!$O$7:$O$2976,"1", 'District I'!$B$7:$B$2976,"2") | I27: =COUNTIFS('District I'!$L$7:$L$2976,"19",'District I'!$O$7:$O$2976,"2", 'District I'!$B$7:$B$2976,"2") | J27: =COUNTIFS('District I'!$L$7:$L$2976,"19",'District I'!$O$7:$O$2976,"1", 'District I'!$B$7:$B$2976,"3") | K27: =COUNTIFS('District I'!$L$7:$L$2976,"19",'District I'!$O$7:$O$2976,"2", 'District I'!$B$7:$B$2976,"3") | L27: =COUNTIFS('District I'!$L$7:$L$2976,"19",'District I'!$O$7:$O$2976,"1", 'District I'!$B$7:$B$2976,"4") | M27: =COUNTIFS('District I'!$L$7:$L$2976,"19",'District I'!$O$7:$O$2976,"2", 'District I'!$B$7:$B$2976,"4") | N27: =COUNTIFS('District I'!$L$7:$L$2976,"19",'District I'!$O$7:$O$2976,"1", 'District I'!$B$7:$B$2976,"5") | O27: =COUNTIFS('District I'!$L$7:$L$2976,"19",'District I'!$O$7:$O$2976,"2", 'District I'!$B$7:$B$2976,"5") | P27: =COUNTIFS('District I'!$L$7:$L$2976,"19",'District I'!$O$7:$O$2976,"1", 'District I'!$B$7:$B$2976,"6") | Q27: =COUNTIFS('District I'!$L$7:$L$2976,"19",'District I'!$O$7:$O$2976,"2", 'District I'!$B$7:$B$2976,"6") | R27: =COUNTIFS('District I'!$L$7:$L$2976,"19",'District I'!$O$7:$O$2976,"1", 'District I'!$B$7:$B$2976,"7") | S27: =COUNTIFS('District I'!$L$7:$L$2976,"19",'District I'!$O$7:$O$2976,"2", 'District I'!$B$7:$B$2976,"7") | T27: =COUNTIFS('District I'!$L$7:$L$2976,"19",'District I'!$O$7:$O$2976,"1", 'District I'!$B$7:$B$2976,"8") | U27: =COUNTIFS('District I'!$L$7:$L$2976,"19",'District I'!$O$7:$O$2976,"2", 'District I'!$B$7:$B$2976,"8") | V27: =SUM(F27:U27)
A28: 20 | B28: =COUNTIF('District I'!$L$7:$L$2976,"20") | C28: =COUNTIFS('District I'!$L$7:$L$2976,"20",'District I'!$O$7:$O$2976,"1") | D28: =COUNTIFS('District I'!$L$7:$L$2976,"20",'District I'!$O$7:$O$2976,"2") | E28: =SUM(C28:D28) | F28: =COUNTIFS('District I'!$L$7:$L$2976,"20",'District I'!$O$7:$O$2976,"1", 'District I'!$B$7:$B$2976,"1") | G28: =COUNTIFS('District I'!$L$7:$L$2976,"20",'District I'!$O$7:$O$2976,"2", 'District I'!$B$7:$B$2976,"1") | H28: =COUNTIFS('District I'!$L$7:$L$2976,"20",'District I'!$O$7:$O$2976,"1", 'District I'!$B$7:$B$2976,"2") | I28: =COUNTIFS('District I'!$L$7:$L$2976,"20",'District I'!$O$7:$O$2976,"2", 'District I'!$B$7:$B$2976,"2") | J28: =COUNTIFS('District I'!$L$7:$L$2976,"20",'District I'!$O$7:$O$2976,"1", 'District I'!$B$7:$B$2976,"3") | K28: =COUNTIFS('District I'!$L$7:$L$2976,"20",'District I'!$O$7:$O$2976,"2", 'District I'!$B$7:$B$2976,"3") | L28: =COUNTIFS('District I'!$L$7:$L$2976,"20",'District I'!$O$7:$O$2976,"1", 'District I'!$B$7:$B$2976,"4") | M28: =COUNTIFS('District I'!$L$7:$L$2976,"20",'District I'!$O$7:$O$2976,"2", 'District I'!$B$7:$B$2976,"4") | N28: =COUNTIFS('District I'!$L$7:$L$2976,"20",'District I'!$O$7:$O$2976,"1", 'District I'!$B$7:$B$2976,"5") | O28: =COUNTIFS('District I'!$L$7:$L$2976,"20",'District I'!$O$7:$O$2976,"2", 'District I'!$B$7:$B$2976,"5") | P28: =COUNTIFS('District I'!$L$7:$L$2976,"20",'District I'!$O$7:$O$2976,"1", 'District I'!$B$7:$B$2976,"6") | Q28: =COUNTIFS('District I'!$L$7:$L$2976,"20",'District I'!$O$7:$O$2976,"2", 'District I'!$B$7:$B$2976,"6") | R28: =COUNTIFS('District I'!$L$7:$L$2976,"20",'District I'!$O$7:$O$2976,"1", 'District I'!$B$7:$B$2976,"7") | S28: =COUNTIFS('District I'!$L$7:$L$2976,"20",'District I'!$O$7:$O$2976,"2", 'District I'!$B$7:$B$2976,"7") | T28: =COUNTIFS('District I'!$L$7:$L$2976,"20",'District I'!$O$7:$O$2976,"1", 'District I'!$B$7:$B$2976,"8") | U28: =COUNTIFS('District I'!$L$7:$L$2976,"20",'District I'!$O$7:$O$2976,"2", 'District I'!$B$7:$B$2976,"8") | V28: =SUM(F28:U28) | X28: Access to Information =SUMPRODUCT(--(ISNUMBER(SEARCH(TEXT,RANGE)))) | Y28: No | Z28: Zone I | AA28: Zone II | AB28: Zone III | AC28: Zone IV | AD28: Zone V | AE28: Zone VI | AF28: Zone VII | AG28: Zone VIII | AH28: TOTAL
A29: 21 | B29: =COUNTIF('District I'!$L$7:$L$2976,"21") | C29: =COUNTIFS('District I'!$L$7:$L$2976,"21",'District I'!$O$7:$O$2976,"1") | D29: =COUNTIFS('District I'!$L$7:$L$2976,"21",'District I'!$O$7:$O$2976,"2") | E29: =SUM(C29:D29) | F29: =COUNTIFS('District I'!$L$7:$L$2976,"21",'District I'!$O$7:$O$2976,"1", 'District I'!$B$7:$B$2976,"1") | G29: =COUNTIFS('District I'!$L$7:$L$2976,"21",'District I'!$O$7:$O$2976,"2", 'District I'!$B$7:$B$2976,"1") | H29: =COUNTIFS('District I'!$L$7:$L$2976,"21",'District I'!$O$7:$O$2976,"1", 'District I'!$B$7:$B$2976,"2") | I29: =COUNTIFS('District I'!$L$7:$L$2976,"21",'District I'!$O$7:$O$2976,"2", 'District I'!$B$7:$B$2976,"2") | J29: =COUNTIFS('District I'!$L$7:$L$2976,"21",'District I'!$O$7:$O$2976,"1", 'District I'!$B$7:$B$2976,"3") | K29: =COUNTIFS('District I'!$L$7:$L$2976,"21",'District I'!$O$7:$O$2976,"2", 'District I'!$B$7:$B$2976,"3") | L29: =COUNTIFS('District I'!$L$7:$L$2976,"21",'District I'!$O$7:$O$2976,"1", 'District I'!$B$7:$B$2976,"4") | M29: =COUNTIFS('District I'!$L$7:$L$2976,"21",'District I'!$O$7:$O$2976,"2", 'District I'!$B$7:$B$2976,"4") | N29: =COUNTIFS('District I'!$L$7:$L$2976,"21",'District I'!$O$7:$O$2976,"1", 'District I'!$B$7:$B$2976,"5") | O29: =COUNTIFS('District I'!$L$7:$L$2976,"21",'District I'!$O$7:$O$2976,"2", 'District I'!$B$7:$B$2976,"5") | P29: =COUNTIFS('District I'!$L$7:$L$2976,"21",'District I'!$O$7:$O$2976,"1", 'District I'!$B$7:$B$2976,"6") | Q29: =COUNTIFS('District I'!$L$7:$L$2976,"21",'District I'!$O$7:$O$2976,"2", 'District I'!$B$7:$B$2976,"6") | R29: =COUNTIFS('District I'!$L$7:$L$2976,"21",'District I'!$O$7:$O$2976,"1", 'District I'!$B$7:$B$2976,"7") | S29: =COUNTIFS('District I'!$L$7:$L$2976,"21",'District I'!$O$7:$O$2976,"2", 'District I'!$B$7:$B$2976,"7") | T29: =COUNTIFS('District I'!$L$7:$L$2976,"21",'District I'!$O$7:$O$2976,"1", 'District I'!$B$7:$B$2976,"8") | U29: =COUNTIFS('District I'!$L$7:$L$2976,"21",'District I'!$O$7:$O$2976,"2", 'District I'!$B$7:$B$2976,"8") | V29: =SUM(F29:U29) | X29: Television | Y29: {=SUMPRODUCT(--(ISNUMBER(SEARCH(1,'District I'!$P$7:$P$2976))))}
A30: 22 | B30: =COUNTIF('District I'!$L$7:$L$2976,"22") | C30: =COUNTIFS('District I'!$L$7:$L$2976,"22",'District I'!$O$7:$O$2976,"1") | D30: =COUNTIFS('District I'!$L$7:$L$2976,"22",'District I'!$O$7:$O$2976,"2") | E30: =SUM(C30:D30) | F30: =COUNTIFS('District I'!$L$7:$L$2976,"22",'District I'!$O$7:$O$2976,"1", 'District I'!$B$7:$B$2976,"1") | G30: =COUNTIFS('District I'!$L$7:$L$2976,"22",'District I'!$O$7:$O$2976,"2", 'District I'!$B$7:$B$2976,"1") | H30: =COUNTIFS('District I'!$L$7:$L$2976,"22",'District I'!$O$7:$O$2976,"1", 'District I'!$B$7:$B$2976,"2") | I30: =COUNTIFS('District I'!$L$7:$L$2976,"22",'District I'!$O$7:$O$2976,"2", 'District I'!$B$7:$B$2976,"2") | J30: =COUNTIFS('District I'!$L$7:$L$2976,"22",'District I'!$O$7:$O$2976,"1", 'District I'!$B$7:$B$2976,"3") | K30: =COUNTIFS('District I'!$L$7:$L$2976,"22",'District I'!$O$7:$O$2976,"2", 'District I'!$B$7:$B$2976,"3") | L30: =COUNTIFS('District I'!$L$7:$L$2976,"22",'District I'!$O$7:$O$2976,"1", 'District I'!$B$7:$B$2976,"4") | M30: =COUNTIFS('District I'!$L$7:$L$2976,"22",'District I'!$O$7:$O$2976,"2", 'District I'!$B$7:$B$2976,"4") | N30: =COUNTIFS('District I'!$L$7:$L$2976,"22",'District I'!$O$7:$O$2976,"1", 'District I'!$B$7:$B$2976,"5") | O30: =COUNTIFS('District I'!$L$7:$L$2976,"22",'District I'!$O$7:$O$2976,"2", 'District I'!$B$7:$B$2976,"5") | P30: =COUNTIFS('District I'!$L$7:$L$2976,"22",'District I'!$O$7:$O$2976,"1", 'District I'!$B$7:$B$2976,"6") | Q30: =COUNTIFS('District I'!$L$7:$L$2976,"22",'District I'!$O$7:$O$2976,"2", 'District I'!$B$7:$B$2976,"6") | R30: =COUNTIFS('District I'!$L$7:$L$2976,"22",'District I'!$O$7:$O$2976,"1", 'District I'!$B$7:$B$2976,"7") | S30: =COUNTIFS('District I'!$L$7:$L$2976,"22",'District I'!$O$7:$O$2976,"2", 'District I'!$B$7:$B$2976,"7") | T30: =COUNTIFS('District I'!$L$7:$L$2976,"22",'District I'!$O$7:$O$2976,"1", 'District I'!$B$7:$B$2976,"8") | U30: =COUNTIFS('District I'!$L$7:$L$2976,"22",'District I'!$O$7:$O$2976,"2", 'District I'!$B$7:$B$2976,"8") | V30: =SUM(F30:U30) | X30: Radio | Y30: {=SUMPRODUCT(--(ISNUMBER(SEARCH(2,'District I'!$P$7:$P$2976))))}
A31: 23 | B31: =COUNTIF('District I'!$L$7:$L$2976,"23") | C31: =COUNTIFS('District I'!$L$7:$L$2976,"23",'District I'!$O$7:$O$2976,"1") | D31: =COUNTIFS('District I'!$L$7:$L$2976,"23",'District I'!$O$7:$O$2976,"2") | E31: =SUM(C31:D31) | F31: =COUNTIFS('District I'!$L$7:$L$2976,"23",'District I'!$O$7:$O$2976,"1", 'District I'!$B$7:$B$2976,"1") | G31: =COUNTIFS('District I'!$L$7:$L$2976,"23",'District I'!$O$7:$O$2976,"2", 'District I'!$B$7:$B$2976,"1") | H31: =COUNTIFS('District I'!$L$7:$L$2976,"23",'District I'!$O$7:$O$2976,"1", 'District I'!$B$7:$B$2976,"2") | I31: =COUNTIFS('District I'!$L$7:$L$2976,"23",'District I'!$O$7:$O$2976,"2", 'District I'!$B$7:$B$2976,"2") | J31: =COUNTIFS('District I'!$L$7:$L$2976,"23",'District I'!$O$7:$O$2976,"1", 'District I'!$B$7:$B$2976,"3") | K31: =COUNTIFS('District I'!$L$7:$L$2976,"23",'District I'!$O$7:$O$2976,"2", 'District I'!$B$7:$B$2976,"3") | L31: =COUNTIFS('District I'!$L$7:$L$2976,"23",'District I'!$O$7:$O$2976,"1", 'District I'!$B$7:$B$2976,"4") | M31: =COUNTIFS('District I'!$L$7:$L$2976,"23",'District I'!$O$7:$O$2976,"2", 'District I'!$B$7:$B$2976,"4") | N31: =COUNTIFS('District I'!$L$7:$L$2976,"23",'District I'!$O$7:$O$2976,"1", 'District I'!$B$7:$B$2976,"5") | O31: =COUNTIFS('District I'!$L$7:$L$2976,"23",'District I'!$O$7:$O$2976,"2", 'District I'!$B$7:$B$2976,"5") | P31: =COUNTIFS('District I'!$L$7:$L$2976,"23",'District I'!$O$7:$O$2976,"1", 'District I'!$B$7:$B$2976,"6") | Q31: =COUNTIFS('District I'!$L$7:$L$2976,"23",'District I'!$O$7:$O$2976,"2", 'District I'!$B$7:$B$2976,"6") | R31: =COUNTIFS('District I'!$L$7:$L$2976,"23",'District I'!$O$7:$O$2976,"1", 'District I'!$B$7:$B$2976,"7") | S31: =COUNTIFS('District I'!$L$7:$L$2976,"23",'District I'!$O$7:$O$2976,"2", 'District I'!$B$7:$B$2976,"7") | T31: =COUNTIFS('District I'!$L$7:$L$2976,"23",'District I'!$O$7:$O$2976,"1", 'District I'!$B$7:$B$2976,"8") | U31: =COUNTIFS('District I'!$L$7:$L$2976,"23",'District I'!$O$7:$O$2976,"2", 'District I'!$B$7:$B$2976,"8") | V31: =SUM(F31:U31) | X31: [Person_1]) | Y31: {=SUMPRODUCT(--(ISNUMBER(SEARCH(3,'District I'!$P$7:$P$2976))))}
