Workbook
Name ST: STOCK!$A$1:$L$1000
Name WAO: 'YARN WARP OUT'!$A:$K
Name WD: 'WARP DETAILS'!$A$2:$U$1000
Name WEO: 'YARN WEFT OUT'!$A:$L
Name YI: 'YARN IN'!$A:$M

Sheet STOCK
A1: DATE | B1: CODES | C1: [Person_1]. | D1: PARTY NAME | E1: YARN CODE | F1: YARN TYPE | G1: SKU | H1: SHADE | I1: COLOR | J1: WEFT IN | K1: WARP IN | L1: TYPE
A2: 44496 | B2: STWE01 | C2: =IFERROR(IF(E2="","","ST"&LEFT(E2,2)&COUNTIF(E$2:E2,"<>")),"") | D2: WEFT STOCK | E2: WE10 | F2: =VLOOKUP($E2,'YARN CODES'!$A$2:$E1000,2,0) | G2: =VLOOKUP($E2,'YARN CODES'!$A$2:$E1000,3,0) | H2: =VLOOKUP($E2,'YARN CODES'!$A$2:$E1000,4,0) | I2: =VLOOKUP($E2,'YARN CODES'!$A$2:$E1000,5,0) | J2: 0
A3: 44496 | B3: STWE02 | C3: =IFERROR(IF(E3="","","ST"&LEFT(E3,2)&COUNTIF(E$2:E3,"<>")),"") | D3: WEFT STOCK | E3: WE11 | F3: =VLOOKUP($E3,'YARN CODES'!$A$2:$E1000,2,0) | G3: =VLOOKUP($E3,'YARN CODES'!$A$2:$E1000,3,0) | H3: =VLOOKUP($E3,'YARN CODES'!$A$2:$E1000,4,0) | I3: =VLOOKUP($E3,'YARN CODES'!$A$2:$E1000,5,0) | J3: 0
A4: 44496 | B4: STWE03 | C4: =IFERROR(IF(E4="","","ST"&LEFT(E4,2)&COUNTIF(E$2:E4,"<>")),"") | D4: WEFT STOCK | E4: WE12 | F4: =VLOOKUP($E4,'YARN CODES'!$A$2:$E1000,2,0) | G4: =VLOOKUP($E4,'YARN CODES'!$A$2:$E1000,3,0) | H4: =VLOOKUP($E4,'YARN CODES'!$A$2:$E1000,4,0) | I4: =VLOOKUP($E4,'YARN CODES'!$A$2:$E1000,5,0) | J4: 48.1
A5: 44496 | B5: STWA04 | C5: =IFERROR(IF(E5="","","ST"&LEFT(E5,2)&COUNTIF(E$2:E5,"<>")),"") | D5: WEFT STOCK | E5: WA14 | F5: =VLOOKUP($E5,'YARN CODES'!$A$2:$E1000,2,0) | G5: =VLOOKUP($E5,'YARN CODES'!$A$2:$E1000,3,0) | H5: =VLOOKUP($E5,'YARN CODES'!$A$2:$E1000,4,0) | I5: =VLOOKUP($E5,'YARN CODES'!$A$2:$E1000,5,0) | J5: 93
A6: 44496 | B6: STWA05 | C6: =IFERROR(IF(E6="","","ST"&LEFT(E6,2)&COUNTIF(E$2:E6,"<>")),"") | D6: WEFT STOCK | E6: WA15 | F6: =VLOOKUP($E6,'YARN CODES'!$A$2:$E1000,2,0) | G6: =VLOOKUP($E6,'YARN CODES'!$A$2:$E1000,3,0) | H6: =VLOOKUP($E6,'YARN CODES'!$A$2:$E1000,4,0) | I6: =VLOOKUP($E6,'YARN CODES'!$A$2:$E1000,5,0) | J6: 0
A7: 44496 | C7: =IFERROR(IF(E7="","","ST"&LEFT(E7,2)&COUNTIF(E$2:E7,"<>")),"") | D7: WEFT STOCK | E7: WE15 | F7: =VLOOKUP($E7,'YARN CODES'!$A$2:$E1000,2,0) | G7: =VLOOKUP($E7,'YARN CODES'!$A$2:$E1000,3,0) | H7: =VLOOKUP($E7,'YARN CODES'!$A$2:$E1000,4,0) | I7: =VLOOKUP($E7,'YARN CODES'!$A$2:$E1000,5,0) | J7: 0
A8: 44496 | C8: =IFERROR(IF(E8="","","ST"&LEFT(E8,2)&COUNTIF(E$2:E8,"<>")),"") | D8: WEFT STOCK | E8: WE16 | F8: =VLOOKUP($E8,'YARN CODES'!$A$2:$E1000,2,0) | G8: =VLOOKUP($E8,'YARN CODES'!$A$2:$E1000,3,0) | H8: =VLOOKUP($E8,'YARN CODES'!$A$2:$E1000,4,0) | I8: =VLOOKUP($E8,'YARN CODES'!$A$2:$E1000,5,0) | J8: 21
A9: 44496 | C9: =IFERROR(IF(E9="","","ST"&LEFT(E9,2)&COUNTIF(E$2:E9,"<>")),"") | D9: WEFT STOCK | E9: WE17 | F9: =VLOOKUP($E9,'YARN CODES'!$A$2:$E1000,2,0) | G9: =VLOOKUP($E9,'YARN CODES'!$A$2:$E1000,3,0) | H9: =VLOOKUP($E9,'YARN CODES'!$A$2:$E1000,4,0) | I9: =VLOOKUP($E9,'YARN CODES'!$A$2:$E1000,5,0) | J9: 137.16
A10: 44496 | C10: =IFERROR(IF(E10="","","ST"&LEFT(E10,2)&COUNTIF(E$2:E10,"<>")),"") | D10: WEFT STOCK | E10: WE18 | F10: =VLOOKUP($E10,'YARN CODES'!$A$2:$E1000,2,0) | G10: =VLOOKUP($E10,'YARN CODES'!$A$2:$E1000,3,0) | H10: =VLOOKUP($E10,'YARN CODES'!$A$2:$E1000,4,0) | I10: =VLOOKUP($E10,'YARN CODES'!$A$2:$E1000,5,0) | J10: 6
A11: 44496 | C11: =IFERROR(IF(E11="","","ST"&LEFT(E11,2)&COUNTIF(E$2:E11,"<>")),"") | D11: WEFT STOCK | E11: WE19 | F11: =VLOOKUP($E11,'YARN CODES'!$A$2:$E1000,2,0) | G11: =VLOOKUP($E11,'YARN CODES'!$A$2:$E1000,3,0) | H11: =VLOOKUP($E11,'YARN CODES'!$A$2:$E1000,4,0) | I11: =VLOOKUP($E11,'YARN CODES'!$A$2:$E1000,5,0) | J11: 63.8
A12: 44496 | C12: =IFERROR(IF(E12="","","ST"&LEFT(E12,2)&COUNTIF(E$2:E12,"<>")),"") | D12: WEFT STOCK | E12: WE20 | F12: =VLOOKUP($E12,'YARN CODES'!$A$2:$E1000,2,0) | G12: =VLOOKUP($E12,'YARN CODES'!$A$2:$E1000,3,0) | H12: =VLOOKUP($E12,'YARN CODES'!$A$2:$E1000,4,0) | I12: =VLOOKUP($E12,'YARN CODES'!$A$2:$E1000,5,0) | J12: 0
A13: 44496 | C13: =IFERROR(IF(E13="","","ST"&LEFT(E13,2)&COUNTIF(E$2:E13,"<>")),"") | D13: WEFT STOCK | E13: WE21 | F13: =VLOOKUP($E13,'YARN CODES'!$A$2:$E1000,2,0) | G13: =VLOOKUP($E13,'YARN CODES'!$A$2:$E1000,3,0) | H13: =VLOOKUP($E13,'YARN CODES'!$A$2:$E1000,4,0) | I13: =VLOOKUP($E13,'YARN CODES'!$A$2:$E1000,5,0) | J13: 13.3
A14: 44496 | C14: =IFERROR(IF(E14="","","ST"&LEFT(E14,2)&COUNTIF(E$2:E14,"<>")),"") | D14: WEFT STOCK | E14: WE22 | F14: =VLOOKUP($E14,'YARN CODES'!$A$2:$E1000,2,0) | G14: =VLOOKUP($E14,'YARN CODES'!$A$2:$E1000,3,0) | H14: =VLOOKUP($E14,'YARN CODES'!$A$2:$E1000,4,0) | I14: =VLOOKUP($E14,'YARN CODES'!$A$2:$E1000,5,0) | J14: 15.38
A15: 44496 | C15: =IFERROR(IF(E15="","","ST"&LEFT(E15,2)&COUNTIF(E$2:E15,"<>")),"") | D15: WEFT STOCK | E15: WE23 | F15: =VLOOKUP($E15,'YARN CODES'!$A$2:$E1000,2,0) | G15: =VLOOKUP($E15,'YARN CODES'!$A$2:$E1000,3,0) | H15: =VLOOKUP($E15,'YARN CODES'!$A$2:$E1000,4,0) | I15: =VLOOKUP($E15,'YARN CODES'!$A$2:$E1000,5,0) | J15: 5.5
A16: 44496 | C16: =IFERROR(IF(E16="","","ST"&LEFT(E16,2)&COUNTIF(E$2:E16,"<>")),"") | D16: WEFT STOCK | E16: WE24 | F16: =VLOOKUP($E16,'YARN CODES'!$A$2:$E1000,2,0) | G16: =VLOOKUP($E16,'YARN CODES'!$A$2:$E1000,3,0) | H16: =VLOOKUP($E16,'YARN CODES'!$A$2:$E1000,4,0) | I16: =VLOOKUP($E16,'YARN CODES'!$A$2:$E1000,5,0) | J16: 0
A17: 44496 | C17: =IFERROR(IF(E17="","","ST"&LEFT(E17,2)&COUNTIF(E$2:E17,"<>")),"") | D17: WEFT STOCK | E17: WE25 | F17: =VLOOKUP($E17,'YARN CODES'!$A$2:$E1000,2,0) | G17: =VLOOKUP($E17,'YARN CODES'!$A$2:$E1000,3,0) | H17: =VLOOKUP($E17,'YARN CODES'!$A$2:$E1000,4,0) | I17: =VLOOKUP($E17,'YARN CODES'!$A$2:$E1000,5,0) | J17: 53.7
A18: 44496 | C18: =IFERROR(IF(E18="","","ST"&LEFT(E18,2)&COUNTIF(E$2:E18,"<>")),"") | D18: WEFT STOCK | E18: WE26 | F18: =VLOOKUP($E18,'YARN CODES'!$A$2:$E1000,2,0) | G18: =VLOOKUP($E18,'YARN CODES'!$A$2:$E1000,3,0) | H18: =VLOOKUP($E18,'YARN CODES'!$A$2:$E1000,4,0) | I18: =VLOOKUP($E18,'YARN CODES'!$A$2:$E1000,5,0) | J18: 0
A19: 44496 | C19: =IFERROR(IF(E19="","","ST"&LEFT(E19,2)&COUNTIF(E$2:E19,"<>")),"") | D19: WEFT STOCK | E19: WE27 | F19: =VLOOKUP($E19,'YARN CODES'!$A$2:$E1000,2,0) | G19: =VLOOKUP($E19,'YARN CODES'!$A$2:$E1000,3,0) | H19: =VLOOKUP($E19,'YARN CODES'!$A$2:$E1000,4,0) | I19: =VLOOKUP($E19,'YARN CODES'!$A$2:$E1000,5,0) | J19: 0
A20: 44496 | C20: =IFERROR(IF(E20="","","ST"&LEFT(E20,2)&COUNTIF(E$2:E20,"<>")),"") | D20: WEFT STOCK | E20: WE28 | F20: =VLOOKUP($E20,'YARN CODES'!$A$2:$E1000,2,0) | G20: =VLOOKUP($E20,'YARN CODES'!$A$2:$E1000,3,0) | H20: =VLOOKUP($E20,'YARN CODES'!$A$2:$E1000,4,0) | I20: =VLOOKUP($E20,'YARN CODES'!$A$2:$E1000,5,0) | J20: 0
A21: 44496 | C21: =IFERROR(IF(E21="","","ST"&LEFT(E21,2)&COUNTIF(E$2:E21,"<>")),"") | D21: WEFT STOCK | E21: WE29 | F21: =VLOOKUP($E21,'YARN CODES'!$A$2:$E1000,2,0) | G21: =VLOOKUP($E21,'YARN CODES'!$A$2:$E1000,3,0) | H21: =VLOOKUP($E21,'YARN CODES'!$A$2:$E1000,4,0) | I21: =VLOOKUP($E21,'YARN CODES'!$A$2:$E1000,5,0) | J21: 25.7
A22: 44496 | C22: =IFERROR(IF(E22="","","ST"&LEFT(E22,2)&COUNTIF(E$2:E22,"<>")),"") | D22: WEFT STOCK | E22: WE30 | F22: =VLOOKUP($E22,'YARN CODES'!$A$2:$E1000,2,0) | G22: =VLOOKUP($E22,'YARN CODES'!$A$2:$E1000,3,0) | H22: =VLOOKUP($E22,'YARN CODES'!$A$2:$E1000,4,0) | I22: =VLOOKUP($E22,'YARN CODES'!$A$2:$E1000,5,0) | J22: 11
A23: 44496 | C23: =IFERROR(IF(E23="","","ST"&LEFT(E23,2)&COUNTIF(E$2:E23,"<>")),"") | D23: WEFT STOCK | E23: WE31 | F23: =VLOOKUP($E23,'YARN CODES'!$A$2:$E1000,2,0) | G23: =VLOOKUP($E23,'YARN CODES'!$A$2:$E1000,3,0) | H23: =VLOOKUP($E23,'YARN CODES'!$A$2:$E1000,4,0) | I23: =VLOOKUP($E23,'YARN CODES'!$A$2:$E1000,5,0) | J23: 11.3
A24: 44496 | C24: =IFERROR(IF(E24="","","ST"&LEFT(E24,2)&COUNTIF(E$2:E24,"<>")),"") | D24: WEFT STOCK | E24: WE32 | F24: =VLOOKUP($E24,'YARN CODES'!$A$2:$E1000,2,0) | G24: =VLOOKUP($E24,'YARN CODES'!$A$2:$E1000,3,0) | H24: =VLOOKUP($E24,'YARN CODES'!$A$2:$E1000,4,0) | I24: =VLOOKUP($E24,'YARN CODES'!$A$2:$E1000,5,0) | J24: 0
A25: 44496 | C25: =IFERROR(IF(E25="","","ST"&LEFT(E25,2)&COUNTIF(E$2:E25,"<>")),"") | D25: WEFT STOCK | E25: WE33 | F25: =VLOOKUP($E25,'YARN CODES'!$A$2:$E1000,2,0) | G25: =VLOOKUP($E25,'YARN CODES'!$A$2:$E1000,3,0) | H25: =VLOOKUP($E25,'YARN CODES'!$A$2:$E1000,4,0) | I25: =VLOOKUP($E25,'YARN CODES'!$A$2:$E1000,5,0) | J25: 0
A26: 44496 | C26: =IFERROR(IF(E26="","","ST"&LEFT(E26,2)&COUNTIF(E$2:E26,"<>")),"") | D26: WEFT STOCK | E26: WE34 | F26: =VLOOKUP($E26,'YARN CODES'!$A$2:$E1000,2,0) | G26: =VLOOKUP($E26,'YARN CODES'!$A$2:$E1000,3,0) | H26: =VLOOKUP($E26,'YARN CODES'!$A$2:$E1000,4,0) | I26: =VLOOKUP($E26,'YARN CODES'!$A$2:$E1000,5,0) | J26: 0
A27: 44496 | C27: =IFERROR(IF(E27="","","ST"&LEFT(E27,2)&COUNTIF(E$2:E27,"<>")),"") | D27: WEFT STOCK | E27: WE35 | F27: =VLOOKUP($E27,'YARN CODES'!$A$2:$E1000,2,0) | G27: =VLOOKUP($E27,'YARN CODES'!$A$2:$E1000,3,0) | H27: =VLOOKUP($E27,'YARN CODES'!$A$2:$E1000,4,0) | I27: =VLOOKUP($E27,'YARN CODES'!$A$2:$E1000,5,0) | J27: 49.65
A28: 44496 | C28: =IFERROR(IF(E28="","","ST"&LEFT(E28,2)&COUNTIF(E$2:E28,"<>")),"") | D28: WEFT STOCK | E28: WE36 | F28: =VLOOKUP($E28,'YARN CODES'!$A$2:$E1000,2,0) | G28: =VLOOKUP($E28,'YARN CODES'!$A$2:$E1000,3,0) | H28: =VLOOKUP($E28,'YARN CODES'!$A$2:$E1000,4,0) | I28: =VLOOKUP($E28,'YARN CODES'!$A$2:$E1000,5,0) | J28: 0
A29: 44496 | C29: =IFERROR(IF(E29="","","ST"&LEFT(E29,2)&COUNTIF(E$2:E29,"<>")),"") | D29: WEFT STOCK | E29: WE37 | F29: =VLOOKUP($E29,'YARN CODES'!$A$2:$E1000,2,0) | G29: =VLOOKUP($E29,'YARN CODES'!$A$2:$E1000,3,0) | H29: =VLOOKUP($E29,'YARN CODES'!$A$2:$E1000,4,0) | I29: =VLOOKUP($E29,'YARN CODES'!$A$2:$E1000,5,0) | J29: 0
A30: 44496 | C30: =IFERROR(IF(E30="","","ST"&LEFT(E30,2)&COUNTIF(E$2:E30,"<>")),"") | D30: WEFT STOCK | E30: WE38 | F30: =VLOOKUP($E30,'YARN CODES'!$A$2:$E1000,2,0) | G30: =VLOOKUP($E30,'YARN CODES'!$A$2:$E1000,3,0) | H30: =VLOOKUP($E30,'YARN CODES'!$A$2:$E1000,4,0) | I30: =VLOOKUP($E30,'YARN CODES'!$A$2:$E1000,5,0) | J30: 34.04
A31: 44496 | C31: =IFERROR(IF(E31="","","ST"&LEFT(E31,2)&COUNTIF(E$2:E31,"<>")),"") | D31: WEFT STOCK | E31: WE39 | F31: =VLOOKUP($E31,'YARN CODES'!$A$2:$E1000,2,0) | G31: =VLOOKUP($E31,'YARN CODES'!$A$2:$E1000,3,0) | H31: =VLOOKUP($E31,'YARN CODES'!$A$2:$E1000,4,0) | I31: =VLOOKUP($E31,'YARN CODES'!$A$2:$E1000,5,0) | J31: 0
A32: 44496 | C32: =IFERROR(IF(E32="","","ST"&LEFT(E32,2)&COUNTIF(E$2:E32,"<>")),"") | D32: WEFT STOCK | E32: WE40 | F32: =VLOOKUP($E32,'YARN CODES'!$A$2:$E1000,2,0) | G32: =VLOOKUP($E32,'YARN CODES'!$A$2:$E1000,3,0) | H32: =VLOOKUP($E32,'YARN CODES'!$A$2:$E1000,4,0) | I32: =VLOOKUP($E32,'YARN CODES'!$A$2:$E1000,5,0) | J32: 87.05
A33: 44496 | C33: =IFERROR(IF(E33="","","ST"&LEFT(E33,2)&COUNTIF(E$2:E33,"<>")),"") | D33: WEFT STOCK | E33: WE41 | F33: =VLOOKUP($E33,'YARN CODES'!$A$2:$E1000,2,0) | G33: =VLOOKUP($E33,'YARN CODES'!$A$2:$E1000,3,0) | H33: =VLOOKUP($E33,'YARN CODES'!$A$2:$E1000,4,0) | I33: =VLOOKUP($E33,'YARN CODES'!$A$2:$E1000,5,0) | J33: 0
A34: 44496 | C34: =IFERROR(IF(E34="","","ST"&LEFT(E34,2)&COUNTIF(E$2:E34,"<>")),"") | D34: WEFT STOCK | E34: WE42 | F34: =VLOOKUP($E34,'YARN CODES'!$A$2:$E1000,2,0) | G34: =VLOOKUP($E34,'YARN CODES'!$A$2:$E1000,3,0) | H34: =VLOOKUP($E34,'YARN CODES'!$A$2:$E1000,4,0) | I34: =VLOOKUP($E34,'YARN CODES'!$A$2:$E1000,5,0) | J34: 40
A35: 44496 | C35: =IFERROR(IF(E35="","","ST"&LEFT(E35,2)&COUNTIF(E$2:E35,"<>")),"") | D35: WEFT STOCK | E35: WE43 | F35: =VLOOKUP($E35,'YARN CODES'!$A$2:$E1000,2,0) | G35: =VLOOKUP($E35,'YARN CODES'!$A$2:$E1000,3,0) | H35: =VLOOKUP($E35,'YARN CODES'!$A$2:$E1000,4,0) | I35: =VLOOKUP($E35,'YARN CODES'!$A$2:$E1000,5,0) | J35: 0
A36: 44496 | C36: =IFERROR(IF(E36="","","ST"&LEFT(E36,2)&COUNTIF(E$2:E36,"<>")),"") | D36: WEFT STOCK | E36: WE44 | F36: =VLOOKUP($E36,'YARN CODES'!$A$2:$E1000,2,0) | G36: =VLOOKUP($E36,'YARN CODES'!$A$2:$E1000,3,0) | H36: =VLOOKUP($E36,'YARN CODES'!$A$2:$E1000,4,0) | I36: =VLOOKUP($E36,'YARN CODES'!$A$2:$E1000,5,0) | J36: 0
A37: 44496 | C37: =IFERROR(IF(E37="","","ST"&LEFT(E37,2)&COUNTIF(E$2:E37,"<>")),"") | D37: WEFT STOCK | E37: WE45 | F37: =VLOOKUP($E37,'YARN CODES'!$A$2:$E1000,2,0) | G37: =VLOOKUP($E37,'YARN CODES'!$A$2:$E1000,3,0) | H37: =VLOOKUP($E37,'YARN CODES'!$A$2:$E1000,4,0) | I37: =VLOOKUP($E37,'YARN CODES'!$A$2:$E1000,5,0) | J37: 134
A38: 44496 | C38: =IFERROR(IF(E38="","","ST"&LEFT(E38,2)&COUNTIF(E$2:E38,"<>")),"") | D38: WEFT STOCK | E38: WE46 | F38: =VLOOKUP($E38,'YARN CODES'!$A$2:$E1000,2,0) | G38: =VLOOKUP($E38,'YARN CODES'!$A$2:$E1000,3,0) | H38: =VLOOKUP($E38,'YARN CODES'!$A$2:$E1000,4,0) | I38: =VLOOKUP($E38,'YARN CODES'!$A$2:$E1000,5,0) | J38: 224
A39: 44496 | C39: =IFERROR(IF(E39="","","ST"&LEFT(E39,2)&COUNTIF(E$2:E39,"<>")),"") | D39: WEFT STOCK | E39: WE47 | F39: =VLOOKUP($E39,'YARN CODES'!$A$2:$E1000,2,0) | G39: =VLOOKUP($E39,'YARN CODES'!$A$2:$E1000,3,0) | H39: =VLOOKUP($E39,'YARN CODES'!$A$2:$E1000,4,0) | I39: =VLOOKUP($E39,'YARN CODES'!$A$2:$E1000,5,0) | J39: 108.2
A40: 44496 | C40: =IFERROR(IF(E40="","","ST"&LEFT(E40,2)&COUNTIF(E$2:E40,"<>")),"") | D40: WEFT STOCK | E40: WE48 | F40: =VLOOKUP($E40,'YARN CODES'!$A$2:$E1000,2,0) | G40: =VLOOKUP($E40,'YARN CODES'!$A$2:$E1000,3,0) | H40: =VLOOKUP($E40,'YARN CODES'!$A$2:$E1000,4,0) | I40: =VLOOKUP($E40,'YARN CODES'!$A$2:$E1000,5,0) | J40: 123.8
...

Sheet Sheet7
A2: {=INDEX('YARN CODES'!$A$2:$A$1000,MATCH(D2&E2,'YARN CODES'!$C$2:$C$1000&'YARN CODES'!$D$2:$D$1000,0))} | B2: WEFT STOCK | C2: CHENILLE | D2: 2 NM | E2: NATURAL CHENILLE | F2: NATURAL CHENILLE | G2: 0 | H2: =D2&E2 | I2: =A2
A3: {=INDEX('YARN CODES'!$A$2:$A$1000,MATCH(D3&E3,'YARN CODES'!$C$2:$C$1000&'YARN CODES'!$D$2:$D$1000,0))} | B3: WEFT STOCK | C3: CHENILLE | D3: 4 NM | E3: P. GREEN | F3: P. GREEN | G3: 0 | H3: =D3&E3 | I3: =A3
A4: {=INDEX('YARN CODES'!$A$2:$A$1000,MATCH(D4&E4,'YARN CODES'!$C$2:$C$1000&'YARN CODES'!$D$2:$D$1000,0))} | B4: WEFT STOCK | C4: CHENILLE | D4: 4 NM | E4: SEA GREEN | F4: SEA GREEN | G4: 48.1 | H4: =D4&E4 | I4: =A4
A5: {=INDEX('YARN CODES'!$A$2:$A$1000,MATCH(D5&E5,'YARN CODES'!$C$2:$C$1000&'YARN CODES'!$D$2:$D$1000,0))} | B5: WEFT STOCK | C5: CHENILLE | D5: 4 NM | E5: MAROON | F5: MAROON | G5: 93 | H5: =D5&E5 | I5: =A5
A6: {=INDEX('YARN CODES'!$A$2:$A$1000,MATCH(D6&E6,'YARN CODES'!$C$2:$C$1000&'YARN CODES'!$D$2:$D$1000,0))} | B6: WEFT STOCK | C6: CHENILLE | D6: 4 NM | E6: T BLUE | F6: T BLUE | G6: 0 | H6: =D6&E6 | I6: =A6
A7: {=INDEX('YARN CODES'!$A$2:$A$1000,MATCH(D7&E7,'YARN CODES'!$C$2:$C$1000&'YARN CODES'!$D$2:$D$1000,0))} | B7: WEFT STOCK | C7: CHENILLE | D7: 4 NM | E7: D. PINK | F7: D. PINK | G7: 0 | H7: =D7&E7 | I7: =A7
A8: {=INDEX('YARN CODES'!$A$2:$A$1000,MATCH(D8&E8,'YARN CODES'!$C$2:$C$1000&'YARN CODES'!$D$2:$D$1000,0))} | B8: WEFT STOCK | C8: CHENILLE | D8: 4 NM | E8: BLACK | F8: BLACK | G8: 21 | H8: =D8&E8 | I8: =A8
A9: {=INDEX('YARN CODES'!$A$2:$A$1000,MATCH(D9&E9,'YARN CODES'!$C$2:$C$1000&'YARN CODES'!$D$2:$D$1000,0))} | B9: WEFT STOCK | C9: CHENILLE | D9: 4 NM | E9: COFFEE | F9: COFFEE | G9: 137.16 | H9: =D9&E9 | I9: =A9
A10: {=INDEX('YARN CODES'!$A$2:$A$1000,MATCH(D10&E10,'YARN CODES'!$C$2:$C$1000&'YARN CODES'!$D$2:$D$1000,0))} | B10: WEFT STOCK | C10: CHENILLE | D10: 4 NM | E10: D MAROON | F10: D MAROON | G10: 6 | H10: =D10&E10 | I10: =A10
A11: {=INDEX('YARN CODES'!$A$2:$A$1000,MATCH(D11&E11,'YARN CODES'!$C$2:$C$1000&'YARN CODES'!$D$2:$D$1000,0))} | B11: WEFT STOCK | C11: CHENILLE | D11: 4 NM | E11: DAWN | F11: DAWN | G11: 63.8 | H11: =D11&E11 | I11: =A11
A12: {=INDEX('YARN CODES'!$A$2:$A$1000,MATCH(D12&E12,'YARN CODES'!$C$2:$C$1000&'YARN CODES'!$D$2:$D$1000,0))} | B12: WEFT STOCK | C12: CHENILLE | D12: 4 NM | E12: D. FIROZI | F12: D. FIROZI | G12: 0 | H12: =D12&E12 | I12: =A12
A13: {=INDEX('YARN CODES'!$A$2:$A$1000,MATCH(D13&E13,'YARN CODES'!$C$2:$C$1000&'YARN CODES'!$D$2:$D$1000,0))} | B13: WEFT STOCK | C13: CHENILLE | D13: 4 NM | E13: CARROT | F13: CARROT | G13: 13.3 | H13: =D13&E13 | I13: =A13
... A100: {=INDEX('YARN CODES'!$A$2:$A$1000,MATCH(D100&E100,'YARN CODES'!$C$2:$C$1000&'YARN CODES'!$D$2:$D$1000,0))} | B100: WEFT STOCK | C100: COTTON | D100: 2-24-C | E100: KORA | F100: KORA | G100: 0 | H100: =D100&E100 | I100: =A100
A101: {=INDEX('YARN CODES'!$A$2:$A$1000,MATCH(D101&E101,'YARN CODES'!$C$2:$C$1000&'YARN CODES'!$D$2:$D$1000,0))} | B101: WEFT STOCK | C101: COTTON | D101: 2-20-C | E101: 5069 | F101: MATRIX | G101: 0 | H101: =D101&E101 | I101: =A101
A102: {=INDEX('YARN CODES'!$A$2:$A$1000,MATCH(D102&E102,'YARN CODES'!$C$2:$C$1000&'YARN CODES'!$D$2:$D$1000,0))} | B102: WEFT STOCK | C102: COTTON | D102: 2-20-C | E102: YELLOW | F102: YELLOW | G102: 0 | H102: =D102&E102 | I102: =A102
A103: {=INDEX('YARN CODES'!$A$2:$A$1000,MATCH(D103&E103,'YARN CODES'!$C$2:$C$1000&'YARN CODES'!$D$2:$D$1000,0))} | B103: WEFT STOCK | C103: COTTON | D103: 2-20-C | E103: SELVAGE | F103: SELVAGE | G103: 195 | H103: =D103&E103 | I103: =A103
A104: {=INDEX('YARN CODES'!$A$2:$A$1000,MATCH(D104&E104,'YARN CODES'!$C$2:$C$1000&'YARN CODES'!$D$2:$D$1000,0))} | B104: WEFT STOCK | C104: COTTON | D104: 2-18-C | E104: BLACK | F104: BLACK | G104: 0 | H104: =D104&E104 | I104: =A104
A105: {=INDEX('YARN CODES'!$A$2:$A$1000,MATCH(D105&E105,'YARN CODES'!$C$2:$C$1000&'YARN CODES'!$D$2:$D$1000,0))} | B105: WEFT STOCK | C105: COTTON | D105: 16-SINGLE | E105: KORA | F105: KORA | G105: 1161.7 | H105: =D105&E105 | I105: =A105
A106: {=INDEX('YARN CODES'!$A$2:$A$1000,MATCH(D106&E106,'YARN CODES'!$C$2:$C$1000&'YARN CODES'!$D$2:$D$1000,0))} | B106: WEFT STOCK | C106: COTTON | D106: 20-SINGLE | E106: KORA | F106: KORA | G106: 403.4 | H106: =D106&E106 | I106: =A106
A107: {=INDEX('YARN CODES'!$A$2:$A$1000,MATCH(D107&E107,'YARN CODES'!$C$2:$C$1000&'YARN CODES'!$D$2:$D$1000,0))} | B107: WEFT STOCK | C107: COTTON | D107: 24-SINGLE | E107: KORA | F107: KORA | G107: 90.72 | H107: =D107&E107 | I107: =A107
A108: {=INDEX('YARN CODES'!$A$2:$A$1000,MATCH(D108&E108,'YARN CODES'!$C$2:$C$1000&'YARN CODES'!$D$2:$D$1000,0))} | B108: WEFT STOCK | C108: COTTON | D108: 14-SINGLE | E108: KORA | F108: KORA | G108: 40 | H108: =D108&E108 | I108: =A108
A109: {=INDEX('YARN CODES'!$A$2:$A$1000,MATCH(D109&E109,'YARN CODES'!$C$2:$C$1000&'YARN CODES'!$D$2:$D$1000,0))} | B109: WEFT STOCK | C109: COTTON | D109: 30-SINGLE | E109: KORA | F109: KORA | G109: 130 | H109: =D109&E109 | I109: =A109
A110: {=INDEX('YARN CODES'!$A$2:$A$1000,MATCH(D110&E110,'YARN CODES'!$C$2:$C$1000&'YARN CODES'!$D$2:$D$1000,0))} | B110: WEFT STOCK | C110: COTTON | D110: 6-SINGLE | E110: KORA | F110: KORA | G110: 858 | H110: =D110&E110 | I110: =A110
A111: {=INDEX('YARN CODES'!$A$2:$A$1000,MATCH(D111&E111,'YARN CODES'!$C$2:$C$1000&'YARN CODES'!$D$2:$D$1000,0))} | B111: WEFT STOCK | C111: COTTON | D111: 2-10-C | E111: KORA | F111: KORA | G111: 0 | H111: =D111&E111 | I111: =A111
A112: {=INDEX('YARN CODES'!$A$2:$A$1000,MATCH(D112&E112,'YARN CODES'!$C$2:$C$1000&'YARN CODES'!$D$2:$D$1000,0))} | B112: WEFT STOCK | C112: COTTON | D112: 2-30-C | E112: KORA | F112: KORA | G112: 498.96 | H112: =D112&E112 | I112: =A112
A113: {=INDEX('YARN CODES'!$A$2:$A$1000,MATCH(D113&E113,'YARN CODES'!$C$2:$C$1000&'YARN CODES'!$D$2:$D$1000,0))} | B113: WEFT STOCK | C113: COTTON | D113: 2-30-C | E113: WHITE | F113: WHITE | G113: 0 | H113: =D113&E113 | I113: =A113
... A158: {=INDEX('YARN CODES'!$A$2:$A$1000,MATCH(D158&E158,'YARN CODES'!$C$2:$C$1000&'YARN CODES'!$D$2:$D$1000,0))} | B158: WEFT STOCK | C158: POLYESTER | D158: 2-30-SHIVA | E158: [Person_43] | F158: GREEN | G158: 31 | H158: =D158&E158 | I158: =A158
A159: {=INDEX('YARN CODES'!$A$2:$A$1000,MATCH(D159&E159,'YARN CODES'!$C$2:$C$1000&'YARN CODES'!$D$2:$D$1000,0))} | B159: WEFT STOCK | C159: POLYESTER | D159: 2-30-SHIVA | E159: 5003 | F159: PURPLE | G159: 22.26 | H159: =D159&E159 | I159: =A159
A160: {=INDEX('YARN CODES'!$A$2:$A$1000,MATCH(D160&E160,'YARN CODES'!$C$2:$C$1000&'YARN CODES'!$D$2:$D$1000,0))} | B160: WEFT STOCK | C160: POLYESTER | D160: 2-30-SHIVA | E160: 6617 | F160: CAMEL | G160: 20 | H160: =D160&E160 | I160: =A160
A161: {=INDEX('YARN CODES'!$A$2:$A$1000,MATCH(D161&E161,'YARN CODES'!$C$2:$C$1000&'YARN CODES'!$D$2:$D$1000,0))} | B161: WEFT STOCK | C161: POLYESTER | D161: 2-30-SHIVA | E161: DSS-2906 | F161: LEMON | G161: 27.14 | H161: =D161&E161 | I161: =A161
A162: {=INDEX('YARN CODES'!$A$2:$A$1000,MATCH(D162&E162,'YARN CODES'!$C$2:$C$1000&'YARN CODES'!$D$2:$D$1000,0))} | B162: WEFT STOCK | C162: POLYESTER | D162: 2-30-SHIVA | E162: 6657 | F162: CREAM | G162: 105.63 | H162: =D162&E162 | I162: =A162
A163: {=INDEX('YARN CODES'!$A$2:$A$1000,MATCH(D163&E163,'YARN CODES'!$C$2:$C$1000&'YARN CODES'!$D$2:$D$1000,0))} | B163: WEFT STOCK | C163: POLYESTER | D163: 2-30-SHIVA | E163: 6656 | F163: BABA | G163: 41.34 | H163: =D163&E163 | I163: =A163
A164: {=INDEX('YARN CODES'!$A$2:$A$1000,MATCH(D164&E164,'YARN CODES'!$C$2:$C$1000&'YARN CODES'!$D$2:$D$1000,0))} | B164: WEFT STOCK | C164: POLYESTER | D164: 2-30-SHIVA | E164: 203 | F164: PINK | G164: 49.74 | H164: =D164&E164 | I164: =A164
A165: {=INDEX('YARN CODES'!$A$2:$A$1000,MATCH(D165&E165,'YARN CODES'!$C$2:$C$1000&'YARN CODES'!$D$2:$D$1000,0))} | B165: WEFT STOCK | C165: POLYESTER | D165: 2-30-SHIVA | E165: OW77 | F165: BLACK | G165: 89.11 | H165: =D165&E165 | I165: =A165
A166: {=INDEX('YARN CODES'!$A$2:$A$1000,MATCH(D166&E166,'YARN CODES'!$C$2:$C$1000&'YARN CODES'!$D$2:$D$1000,0))} | B166: WEFT STOCK | C166: POLYESTER | D166: 2-30-SHIVA | E166: 5010 | F166: [Person_44] | G166: 32.97 | H166: =D166&E166 | I166: =A166
A167: {=INDEX('YARN CODES'!$A$2:$A$1000,MATCH(D167&E167,'YARN CODES'!$C$2:$C$1000&'YARN CODES'!$D$2:$D$1000,0))} | B167: WEFT STOCK | C167: POLYESTER | D167: 2-30-SHIVA | E167: 5005 | F167: [Person_45] | G167: 81 | H167: =D167&E167 | I167: =A167
A168: {=INDEX('YARN CODES'!$A$2:$A$1000,MATCH(D168&E168,'YARN CODES'!$C$2:$C$1000&'YARN CODES'!$D$2:$D$1000,0))} | B168: WEFT STOCK | C168: POLYESTER | D168: 2-30-SHIVA | E168: DSS-5981 | F168: ORANGE | G168: 22.49 | H168: =D168&E168 | I168: =A168
A169: {=INDEX('YARN CODES'!$A$2:$A$1000,MATCH(D169&E169,'YARN CODES'!$C$2:$C$1000&'YARN CODES'!$D$2:$D$1000,0))} | B169: WEFT STOCK | C169: POLYESTER | D169: 2-30-SHIVA | E169: 5049 | F169: RED | G169: 87.88 | H169: =D169&E169 | I169: =A169
A170: {=INDEX('YARN CODES'!$A$2:$A$1000,MATCH(D170&E170,'YARN CODES'!$C$2:$C$1000&'YARN CODES'!$D$2:$D$1000,0))} | B170: WEFT STOCK | C170: POLYESTER | D170: 2-30-SHIVA | E170: 4988 | F170: COFFEE | G170: 50.42 | H170: =D170&E170 | I170: =A170
A171: {=INDEX('YARN CODES'!$A$2:$A$1000,MATCH(D171&E171,'YARN CODES'!$C$2:$C$1000&'YARN CODES'!$D$2:$D$1000,0))} | B171: WEFT STOCK | C171: POLYESTER | D171: 450-D-INT | E171: 45116 | F171: RED | G171: 3.36 | H171: =D171&E171 | I171: =A171
...

Sheet WARP DETAILS
A1: WARPING SECTION
A2: DATE | B2: [Person_1]. | C2: PARTY NAME | D2: LOOM NO. | E2: B.NO. | F2: REED SPACE | G2: REED | H2: MTR | I2: ENDS | J2: YARN CODE | K2: YARN | L2: SKU | M2: SHADE NO. | N2: COLOR | O2: ISSUE | P2: QTY USED (KGS) | Q2: QTY GRAM/MTR | R2: RECEIVING BACK | S2: STOCK BEFORE (OS) | T2: STOCK AFTER (CS) | U2: P.O. NO.
A3: 44501 | B3: =IF(C3<>"","CWA01","") | C3: =IF(J3<>"","CWA","") | D3: 8 | E3: 1 | F3: 130 | G3: 84 | H3: 850 | I3: 10960 | J3: WA54 | K3: COTTON | L3: 2-40 COMED | M3: 2-40 COTTON COMED | N3: 2-40 COTTON COMED | O3: 305.44 | P3: 289 | Q3: 0.34 | R3: 16.44 | S3: 591.11 | T3: 302.11
A4: 44502 | B4: CWA02 | C4: =IF(J4<>"","CWA","") | D4: 3 | E4: 2 | F4: 136 | G4: 84 | H4: 1400 | I4: 11450 | J4: WA114 | K4: COTTON | L4: 2-40-COTTON | M4: ELI | N4: ELI | O4: 1391 | P4: 490 | Q4: 0.35 | R4: 901 | S4: 1391 | T4: 901
A5: 44503 | B5: CWA03 | C5: =IF(J5<>"","CWA","") | D5: 15 | E5: 3 | F5: 97 | G5: 84 | H5: 1000 | I5: 8180 | J5: WA114 | K5: COTTON | L5: 2-40-COTTON | M5: ELI | N5: ELI | O5: 901 | P5: 255 | Q5: 0.255 | R5: 646 | S5: 901 | T5: 646
A6: 44506 | C6: =IF(J6<>"","CWA","") | D6: 3 | E6: 4 | F6: 136 | G6: 84 | H6: 350 | I6: 11450 | J6: WA54 | K6: COTTON | L6: 2-40 COMED | M6: 2-40 COTTON COMED | N6: 2-40 COTTON COMED | O6: 260.81 | P6: 125.3 | Q6: 0.358 | R6: 135.51 | S6: 277.25 | T6: 151.95
A7: 44509 | C7: =IF(J7<>"","CWA","") | D7: 10 | E7: 5 | F7: 436 | G7: 84 | H7: 500 | I7: 11620 | J7: WA114 | K7: COTTON | L7: 2-40-COTTON | M7: ELI | N7: ELI | O7: 615 | P7: 175 | Q7: 0.35 | R7: 440 | S7: 628.64 | T7: 453.64
A8: 44510 | C8: =IF(J8<>"","CWA","") | D8: 5 | E8: 6 | F8: 108 | G8: 168 | H8: 1050 | I8: 18000 | J8: WA05 | K8: POLYESTER | L8: 150*350 BRIGHT | M8: KORA-BRIGHT | N8: KORA-BRIGHT | O8: 377.7 | P8: 336 | Q8: 0.32 | R8: 41.7 | S8: 465.4 | T8: 129.4
A9: 44511 | C9: =IF(J9<>"","CWA","") | D9: 8 | E9: 7 | F9: 130 | G9: 84 | H9: 1200 | I9: 10960 | J9: WA54 | K9: COTTON | L9: 2-40 COMED | M9: 2-40 COTTON COMED | N9: 2-40 COTTON COMED | O9: 907.72 | P9: 405.6 | Q9: 0.338 | R9: 502.12 | S9: 1966.35 | T9: 1560.75
A10: 44511 | C10: =IF(J10<>"","CWA","") | D10: 7 | E10: 8 | F10: 136 | G10: 84 | H10: 1100 | I10: 11440 | J10: WA54 | K10: COTTON | L10: 2-40 COMED | M10: 2-40 COTTON COMED | N10: 2-40 COTTON COMED | O10: 502.12 | P10: 391.6 | Q10: 0.356 | R10: 110.52 | S10: 1560.75 | T10: 1169.15
A11: 44512 | C11: =IF(J11<>"","CWA","") | D11: 4 | E11: 9 | F11: 136 | G11: 84 | H11: 1380 | I11: 11520 | J11: WA115 | K11: POLYESTER | L11: 150 POLYESTER | M11: TAUPE | N11: TAUPE | O11: 319.76 | P11: 273.24 | Q11: 0.198 | R11: 46.52 | S11: 632.74 | T11: 359.5
A12: 44513 | C12: =IF(J12<>"","CWA","") | D12: 16 | E12: 10 | F12: 108 | G12: 140 | H12: 700 | I12: 15200 | J12: WA02 | K12: POLYESTER | L12: 150*350 BRIGHT | M12: 9151 BRIGHT | N12: 9151 BRIGHT | O12: 219.12 | P12: 192.5 | Q12: 0.275 | R12: 26.62 | S12: 272.6 | T12: 80.1
A13: 44515 | C13: =IF(J13<>"","CWA","") | D13: 9 | E13: 11 | F13: 136 | G13: 84 | H13: 1200 | I13: 11500 | J13: WA54 | K13: COTTON | L13: 2-40 COMED | M13: 2-40 COTTON COMED | N13: 2-40 COTTON COMED | O13: 907.2 | P13: 427.2 | Q13: 0.356 | R13: 480 | S13: 1169.15 | T13: 741.95
A14: 44515 | C14: =IF(J14<>"","CWA","") | D14: 10 | E14: 12 | F14: 136 | G14: 84 | H14: 1200 | I14: 11620 | J14: WA54 | K14: COTTON | L14: 2-40 COMED | M14: 2-40 COTTON COMED | N14: 2-40 COTTON COMED | O14: 480 | P14: 427.2 | Q14: 0.356 | R14: 52.8 | S14: 741.95 | T14: 314.75
A15: 44516 | C15: =IF(J15<>"","CWA","") | D15: 3 | E15: 13 | F15: 136 | G15: 84 | H15: 1200 | I15: 11450 | J15: WA114 | K15: COTTON | L15: 2-40-COTTON | M15: ELI | N15: ELI | O15: 440 | P15: 420 | Q15: 0.35 | R15: 20 | S15: 453.64 | T15: 33.64
A16: 44517 | C16: =IF(J16<>"","CWA","") | D16: 15 | E16: 14 | F16: 97 | G16: 84 | H16: 100 | I16: 8160 | J16: WA156 | K16: COTTON | L16: 2/60 COTTON | M16: 2/60 COTTON | N16: 2/60 COTTON | O16: 179 | P16: 17 | Q16: 0.17 | R16: 162 | S16: 265.095 | T16: 248.095
A17: 44517 | C17: =IF(J17<>"","CWA","") | D17: 4 | E17: 15 | F17: 136 | G17: 84 | H17: 500 | I17: 11520 | J17: WA95 | K17: POLYESTER | L17: 150 POLYESTER | M17: TWISTED DOPE BLACK | N17: TWISTED DOPE BLACK | O17: 324 | P17: 101 | Q17: 0.202 | R17: 223 | S17: 555.09 | T17: 454.09
... A26: 44526 | C26: =IF(J26<>"","CWA","") | D26: 8 | E26: 23 | F26: 130 | G26: 84 | H26: 1130 | I26: 10960 | J26: WA54 | K26: COTTON | L26: 2-40 COMED | M26: 2-40 COTTON COMED | N26: 2-40 COTTON COMED | O26: 393.12 | P26: 377.42 | Q26: 0.334 | R26: 15.7 | S26: 538.87 | T26: 161.45
A27: 44527 | C27: =IF(J27<>"","CWA","") | D27: 4 | E27: 24 | F27: 136 | G27: 84 | H27: 1000 | I27: 11520 | J27: [Person_58] | K27: =IF(J27<>"",VLOOKUP($J27,'YARN CODES'!$A$2:$E1000,2,0),"") | L27: =IF(K27<>"",VLOOKUP($J27,'YARN CODES'!$A$2:$E1000,3,0),"") | M27: =IF(L27<>"",VLOOKUP($J27,'YARN CODES'!$A$2:$E1000,4,0),"") | N27: =IF(M27<>"",VLOOKUP($J27,'YARN CODES'!$A$2:$E1000,4,0),"") | O27: 226.57 | P27: 197.33 | Q27: 0.19733 | R27: 29.24 | S27: 226.57 | T27: 29.24
A28: 44529 | C28: =IF(J28<>"","CWA","") | D28: 3 | E28: 25 | F28: 186 | G28: 84 | H28: 1400 | I28: 11450 | J28: WA114 | K28: =IF(J28<>"",VLOOKUP($J28,'YARN CODES'!$A$2:$E1000,2,0),"") | L28: =IF(K28<>"",VLOOKUP($J28,'YARN CODES'!$A$2:$E1000,3,0),"") | M28: =IF(L28<>"",VLOOKUP($J28,'YARN CODES'!$A$2:$E1000,4,0),"") | N28: =IF(M28<>"",VLOOKUP($J28,'YARN CODES'!$A$2:$E1000,4,0),"") | O28: 1094 | P28: 490 | Q28: 0.35 | R28: 604 | S28: 1094 | T28: 604
A29: 44529 | C29: =IF(J29<>"","CWA","") | D29: 15 | E29: 26 | F29: 97 | G29: 84 | H29: 1200 | I29: 8160 | J29: WA114 | K29: =IF(J29<>"",VLOOKUP($J29,'YARN CODES'!$A$2:$E1000,2,0),"") | L29: =IF(K29<>"",VLOOKUP($J29,'YARN CODES'!$A$2:$E1000,3,0),"") | M29: =IF(L29<>"",VLOOKUP($J29,'YARN CODES'!$A$2:$E1000,4,0),"") | N29: =IF(M29<>"",VLOOKUP($J29,'YARN CODES'!$A$2:$E1000,4,0),"") | O29: 604 | P29: 307.88 | Q29: 0.256 | R29: 296.12 | S29: 604 | T29: 296.12
A30: 44530 | C30: =IF(J30<>"","CWA","") | D30: 7 | E30: 27 | F30: 136 | G30: 84 | H30: 400 | I30: 11440 | K30: =IF(J30<>"",VLOOKUP($J30,'YARN CODES'!$A$2:$E1000,2,0),"") | L30: =IF(K30<>"",VLOOKUP($J30,'YARN CODES'!$A$2:$E1000,3,0),"") | M30: =IF(L30<>"",VLOOKUP($J30,'YARN CODES'!$A$2:$E1000,4,0),"") | N30: =IF(M30<>"",VLOOKUP($J30,'YARN CODES'!$A$2:$E1000,4,0),"") | O30: 176 | P30: 144 | Q30: 0.36 | R30: 32 | S30: 208 | T30: 77.45
A31: 44532 | C31: =IF(J31<>"","CWA","") | D31: 16 | E31: 1 | F31: 108 | G31: 168 | H31: 20 | I31: 18480 | K31: =IF(J31<>"",VLOOKUP($J31,'YARN CODES'!$A$2:$E1000,2,0),"") | L31: =IF(K31<>"",VLOOKUP($J31,'YARN CODES'!$A$2:$E1000,3,0),"") | M31: =IF(L31<>"",VLOOKUP($J31,'YARN CODES'!$A$2:$E1000,4,0),"") | N31: =IF(M31<>"",VLOOKUP($J31,'YARN CODES'!$A$2:$E1000,4,0),"")
C32: =IF(J32<>"","CWA","") | K32: =IF(J32<>"",VLOOKUP($J32,'YARN CODES'!$A$2:$E1000,2,0),"") | L32: =IF(K32<>"",VLOOKUP($J32,'YARN CODES'!$A$2:$E1000,3,0),"") | M32: =IF(L32<>"",VLOOKUP($J32,'YARN CODES'!$A$2:$E1000,4,0),"") | N32: =IF(M32<>"",VLOOKUP($J32,'YARN CODES'!$A$2:$E1000,4,0),"")
C33: =IF(J33<>"","CWA","") | K33: =IF(J33<>"",VLOOKUP($J33,'YARN CODES'!$A$2:$E1000,2,0),"") | L33: =IF(K33<>"",VLOOKUP($J33,'YARN CODES'!$A$2:$E1000,3,0),"") | M33: =IF(L33<>"",VLOOKUP($J33,'YARN CODES'!$A$2:$E1000,4,0),"") | N33: =IF(M33<>"",VLOOKUP($J33,'YARN CODES'!$A$2:$E1000,4,0),"")
C34: =IF(J34<>"","CWA","") | K34: =IF(J34<>"",VLOOKUP($J34,'YARN CODES'!$A$2:$E1000,2,0),"") | L34: =IF(K34<>"",VLOOKUP($J34,'YARN CODES'!$A$2:$E1000,3,0),"") | M34: =IF(L34<>"",VLOOKUP($J34,'YARN CODES'!$A$2:$E1000,4,0),"") | N34: =IF(M34<>"",VLOOKUP($J34,'YARN CODES'!$A$2:$E1000,4,0),"")
C35: =IF(J35<>"","CWA","") | K35: =IF(J35<>"",VLOOKUP($J35,'YARN CODES'!$A$2:$E1000,2,0),"") | L35: =IF(K35<>"",VLOOKUP($J35,'YARN CODES'!$A$2:$E1000,3,0),"") | M35: =IF(L35<>"",VLOOKUP($J35,'YARN CODES'!$A$2:$E1000,4,0),"") | N35: =IF(M35<>"",VLOOKUP($J35,'YARN CODES'!$A$2:$E1000,4,0),"")
C36: =IF(J36<>"","CWA","") | K36: =IF(J36<>"",VLOOKUP($J36,'YARN CODES'!$A$2:$E1000,2,0),"") | L36: =IF(K36<>"",VLOOKUP($J36,'YARN CODES'!$A$2:$E1000,3,0),"") | M36: =IF(L36<>"",VLOOKUP($J36,'YARN CODES'!$A$2:$E1000,4,0),"") | N36: =IF(M36<>"",VLOOKUP($J36,'YARN CODES'!$A$2:$E1000,4,0),"")
C37: =IF(J37<>"","CWA","") | K37: =IF(J37<>"",VLOOKUP($J37,'YARN CODES'!$A$2:$E1000,2,0),"") | L37: =IF(K37<>"",VLOOKUP($J37,'YARN CODES'!$A$2:$E1000,3,0),"") | M37: =IF(L37<>"",VLOOKUP($J37,'YARN CODES'!$A$2:$E1000,4,0),"") | N37: =IF(M37<>"",VLOOKUP($J37,'YARN CODES'!$A$2:$E1000,4,0),"")
C38: =IF(J38<>"","CWA","") | K38: =IF(J38<>"",VLOOKUP($J38,'YARN CODES'!$A$2:$E1000,2,0),"") | L38: =IF(K38<>"",VLOOKUP($J38,'YARN CODES'!$A$2:$E1000,3,0),"") | M38: =IF(L38<>"",VLOOKUP($J38,'YARN CODES'!$A$2:$E1000,4,0),"") | N38: =IF(M38<>"",VLOOKUP($J38,'YARN CODES'!$A$2:$E1000,4,0),"")
C39: =IF(J39<>"","CWA","") | K39: =IF(J39<>"",VLOOKUP($J39,'YARN CODES'!$A$2:$E1000,2,0),"") | L39: =IF(K39<>"",VLOOKUP($J39,'YARN CODES'!$A$2:$E1000,3,0),"") | M39: =IF(L39<>"",VLOOKUP($J39,'YARN CODES'!$A$2:$E1000,4,0),"") | N39: =IF(M39<>"",VLOOKUP($J39,'YARN CODES'!$A$2:$E1000,4,0),"")
C40: =IF(J40<>"","CWA","") | K40: =IF(J40<>"",VLOOKUP($J40,'YARN CODES'!$A$2:$E1000,2,0),"") | L40: =IF(K40<>"",VLOOKUP($J40,'YARN CODES'!$A$2:$E1000,3,0),"") | M40: =IF(L40<>"",VLOOKUP($J40,'YARN CODES'!$A$2:$E1000,4,0),"") | N40: =IF(M40<>"",VLOOKUP($J40,'YARN CODES'!$A$2:$E1000,4,0),"")
C41: =IF(J41<>"","CWA","") | K41: =IF(J41<>"",VLOOKUP($J41,'YARN CODES'!$A$2:$E1000,2,0),"") | L41: =IF(K41<>"",VLOOKUP($J41,'YARN CODES'!$A$2:$E1000,3,0),"") | M41: =IF(L41<>"",VLOOKUP($J41,'YARN CODES'!$A$2:$E1000,4,0),"") | N41: =IF(M41<>"",VLOOKUP($J41,'YARN CODES'!$A$2:$E1000,4,0),"")
C42: =IF(J42<>"","CWA","") | K42: =IF(J42<>"",VLOOKUP($J42,'YARN CODES'!$A$2:$E1000,2,0),"") | L42: =IF(K42<>"",VLOOKUP($J42,'YARN CODES'!$A$2:$E1000,3,0),"") | M42: =IF(L42<>"",VLOOKUP($J42,'YARN CODES'!$A$2:$E1000,4,0),"") | N42: =IF(M42<>"",VLOOKUP($J42,'YARN CODES'!$A$2:$E1000,4,0),"")
C43: =IF(J43<>"","CWA","") | K43: =IF(J43<>"",VLOOKUP($J43,'YARN CODES'!$A$2:$E1000,2,0),"") | L43: =IF(K43<>"",VLOOKUP($J43,'YARN CODES'!$A$2:$E1000,3,0),"") | M43: =IF(L43<>"",VLOOKUP($J43,'YARN CODES'!$A$2:$E1000,4,0),"") | N43: =IF(M43<>"",VLOOKUP($J43,'YARN CODES'!$A$2:$E1000,4,0),"")
C44: =IF(J44<>"","CWA","") | K44: =IF(J44<>"",VLOOKUP($J44,'YARN CODES'!$A$2:$E1000,2,0),"") | L44: =IF(K44<>"",VLOOKUP($J44,'YARN CODES'!$A$2:$E1000,3,0),"") | M44: =IF(L44<>"",VLOOKUP($J44,'YARN CODES'!$A$2:$E1000,4,0),"") | N44: =IF(M44<>"",VLOOKUP($J44,'YARN CODES'!$A$2:$E1000,4,0),"")
C45: =IF(J45<>"","CWA","") | K45: =IF(J45<>"",VLOOKUP($J45,'YARN CODES'!$A$2:$E1000,2,0),"") | L45: =IF(K45<>"",VLOOKUP($J45,'YARN CODES'!$A$2:$E1000,3,0),"") | M45: =IF(L45<>"",VLOOKUP($J45,'YARN CODES'!$A$2:$E1000,4,0),"") | N45: =IF(M45<>"",VLOOKUP($J45,'YARN CODES'!$A$2:$E1000,4,0),"")
C46: =IF(J46<>"","CWA","") | K46: =IF(J46<>"",VLOOKUP($J46,'YARN CODES'!$A$2:$E1000,2,0),"") | L46: =IF(K46<>"",VLOOKUP($J46,'YARN CODES'!$A$2:$E1000,3,0),"") | M46: =IF(L46<>"",VLOOKUP($J46,'YARN CODES'!$A$2:$E1000,4,0),"") | N46: =IF(M46<>"",VLOOKUP($J46,'YARN CODES'!$A$2:$E1000,4,0),"")
C47: =IF(J47<>"","CWA","") | K47: =IF(J47<>"",VLOOKUP($J47,'YARN CODES'!$A$2:$E1000,2,0),"") | L47: =IF(K47<>"",VLOOKUP($J47,'YARN CODES'!$A$2:$E1000,3,0),"") | M47: =IF(L47<>"",VLOOKUP($J47,'YARN CODES'!$A$2:$E1000,4,0),"") | N47: =IF(M47<>"",VLOOKUP($J47,'YARN CODES'!$A$2:$E1000,4,0),"")
C48: =IF(J48<>"","CWA","") | K48: =IF(J48<>"",VLOOKUP($J48,'YARN CODES'!$A$2:$E1000,2,0),"") | L48: =IF(K48<>"",VLOOKUP($J48,'YARN CODES'!$A$2:$E1000,3,0),"") | M48: =IF(L48<>"",VLOOKUP($J48,'YARN CODES'!$A$2:$E1000,4,0),"") | N48: =IF(M48<>"",VLOOKUP($J48,'YARN CODES'!$A$2:$E1000,4,0),"")
...

Sheet YARN WARP OUT
A1: DATE | B1: [Person_1]. | C1: PARTY NAME | D1: YARN CODE | E1: YARN TYPE | F1: SKU | G1: SHADE | H1: COLOR | I1: NO. OF UNITS | J1: UNIT | K1: P.O. NO.
A2: 44499 | C2: CWA | D2: WA54 | E2: =VLOOKUP($D2,'YARN CODES'!$A$2:$E1000,2,0) | F2: =VLOOKUP($D2,'YARN CODES'!$A$2:$E1000,3,0) | G2: =VLOOKUP($D2,'YARN CODES'!$A$2:$E1000,4,0) | H2: =VLOOKUP($D2,'YARN CODES'!$A$2:$E1000,5,0) | I2: 391.6 | J2: KGS
A3: 44499 | C3: CWA | D3: WA54 | E3: =VLOOKUP($D3,'YARN CODES'!$A$2:$E1000,2,0) | F3: =VLOOKUP($D3,'YARN CODES'!$A$2:$E1000,3,0) | G3: =VLOOKUP($D3,'YARN CODES'!$A$2:$E1000,4,0) | H3: =VLOOKUP($D3,'YARN CODES'!$A$2:$E1000,5,0) | I3: 391.6 | J3: KGS
A4: 44502 | C4: CWA | D4: WA114 | E4: =VLOOKUP($D4,'YARN CODES'!$A$2:$E1000,2,0) | F4: =VLOOKUP($D4,'YARN CODES'!$A$2:$E1000,3,0) | G4: =VLOOKUP($D4,'YARN CODES'!$A$2:$E1000,4,0) | H4: =VLOOKUP($D4,'YARN CODES'!$A$2:$E1000,5,0) | I4: 490 | J4: KGS
A5: 44502 | C5: CWA | D5: WA54 | E5: =VLOOKUP($D5,'YARN CODES'!$A$2:$E1000,2,0) | F5: =VLOOKUP($D5,'YARN CODES'!$A$2:$E1000,3,0) | G5: =VLOOKUP($D5,'YARN CODES'!$A$2:$E1000,4,0) | H5: =VLOOKUP($D5,'YARN CODES'!$A$2:$E1000,5,0) | I5: 289 | J5: KGS
A6: 44503 | C6: CWA | D6: WA114 | E6: =VLOOKUP($D6,'YARN CODES'!$A$2:$E1000,2,0) | F6: =VLOOKUP($D6,'YARN CODES'!$A$2:$E1000,3,0) | G6: =VLOOKUP($D6,'YARN CODES'!$A$2:$E1000,4,0) | H6: =VLOOKUP($D6,'YARN CODES'!$A$2:$E1000,5,0) | I6: 255 | J6: KGS
A7: 44509 | C7: CWA | D7: WA114 | E7: =VLOOKUP($D7,'YARN CODES'!$A$2:$E1000,2,0) | F7: =VLOOKUP($D7,'YARN CODES'!$A$2:$E1000,3,0) | G7: =VLOOKUP($D7,'YARN CODES'!$A$2:$E1000,4,0) | H7: =VLOOKUP($D7,'YARN CODES'!$A$2:$E1000,5,0) | I7: 175 | J7: KGS
A8: 44516 | C8: CWA | D8: WA114 | E8: =VLOOKUP($D8,'YARN CODES'!$A$2:$E1000,2,0) | F8: =VLOOKUP($D8,'YARN CODES'!$A$2:$E1000,3,0) | G8: =VLOOKUP($D8,'YARN CODES'!$A$2:$E1000,4,0) | H8: =VLOOKUP($D8,'YARN CODES'!$A$2:$E1000,5,0) | I8: 420 | J8: KGS
A9: 44519 | C9: CWA | D9: WA114 | E9: =VLOOKUP($D9,'YARN CODES'!$A$2:$E1000,2,0) | F9: =VLOOKUP($D9,'YARN CODES'!$A$2:$E1000,3,0) | G9: =VLOOKUP($D9,'YARN CODES'!$A$2:$E1000,4,0) | H9: =VLOOKUP($D9,'YARN CODES'!$A$2:$E1000,5,0) | I9: 306 | J9: KGS
A10: =IFERROR(__xludf.DUMMYFUNCTION("QUERY(WD,""SELECT A,B,C,J,K,L,M,N,P WHERE A IS NOT NULL "",0)"),44501) | B10: =IFERROR(__xludf.DUMMYFUNCTION("""COMPUTED_VALUE"""),"CWA01") | C10: =IFERROR(__xludf.DUMMYFUNCTION("""COMPUTED_VALUE"""),"CWA") | D10: =IFERROR(__xludf.DUMMYFUNCTION("""COMPUTED_VALUE"""),"WA54") | E10: =IFERROR(__xludf.DUMMYFUNCTION("""COMPUTED_VALUE"""),"COTTON") | F10: =IFERROR(__xludf.DUMMYFUNCTION("""COMPUTED_VALUE"""),"2-40 COMED") | G10: =IFERROR(__xludf.DUMMYFUNCTION("""COMPUTED_VALUE"""),"2-40 COTTON COMED") | H10: =IFERROR(__xludf.DUMMYFUNCTION("""COMPUTED_VALUE"""),"2-40 COTTON COMED") | I10: =IFERROR(__xludf.DUMMYFUNCTION("""COMPUTED_VALUE"""),289) | K10: =IFERROR(__xludf.DUMMYFUNCTION("QUERY(WD,""SELECT U WHERE A IS NOT NULL "",0)"),"")
A11: =IFERROR(__xludf.DUMMYFUNCTION("""COMPUTED_VALUE"""),44502) | C11: =IFERROR(__xludf.DUMMYFUNCTION("""COMPUTED_VALUE"""),"CWA") | D11: =IFERROR(__xludf.DUMMYFUNCTION("""COMPUTED_VALUE"""),"WA114") | E11: =IFERROR(__xludf.DUMMYFUNCTION("""COMPUTED_VALUE"""),"COTTON") | F11: =IFERROR(__xludf.DUMMYFUNCTION("""COMPUTED_VALUE"""),"2-40-COTTON") | G11: =IFERROR(__xludf.DUMMYFUNCTION("""COMPUTED_VALUE"""),"ELI") | H11: =IFERROR(__xludf.DUMMYFUNCTION("""COMPUTED_VALUE"""),"ELI") | I11: =IFERROR(__xludf.DUMMYFUNCTION("""COMPUTED_VALUE"""),490)
A12: =IFERROR(__xludf.DUMMYFUNCTION("""COMPUTED_VALUE"""),44503) | B12: =IFERROR(__xludf.DUMMYFUNCTION("""COMPUTED_VALUE"""),"CWA01") | C12: =IFERROR(__xludf.DUMMYFUNCTION("""COMPUTED_VALUE"""),"CWA") | D12: =IFERROR(__xludf.DUMMYFUNCTION("""COMPUTED_VALUE"""),"WA114") | E12: =IFERROR(__xludf.DUMMYFUNCTION("""COMPUTED_VALUE"""),"COTTON") | F12: =IFERROR(__xludf.DUMMYFUNCTION("""COMPUTED_VALUE"""),"2-40-COTTON") | G12: =IFERROR(__xludf.DUMMYFUNCTION("""COMPUTED_VALUE"""),"ELI") | H12: =IFERROR(__xludf.DUMMYFUNCTION("""COMPUTED_VALUE"""),"ELI") | I12: =IFERROR(__xludf.DUMMYFUNCTION("""COMPUTED_VALUE"""),255)
A13: =IFERROR(__xludf.DUMMYFUNCTION("""COMPUTED_VALUE"""),44506) | B13: =IFERROR(__xludf.DUMMYFUNCTION("""COMPUTED_VALUE"""),"CWA01") | C13: =IFERROR(__xludf.DUMMYFUNCTION("""COMPUTED_VALUE"""),"CWA") | D13: =IFERROR(__xludf.DUMMYFUNCTION("""COMPUTED_VALUE"""),"WA54") | E13: =IFERROR(__xludf.DUMMYFUNCTION("""COMPUTED_VALUE"""),"COTTON") | F13: =IFERROR(__xludf.DUMMYFUNCTION("""COMPUTED_VALUE"""),"2-40 COMED") | G13: =IFERROR(__xludf.DUMMYFUNCTION("""COMPUTED_VALUE"""),"2-40 COTTON COMED") | H13: =IFERROR(__xludf.DUMMYFUNCTION("""COMPUTED_VALUE"""),"2-40 COTTON COMED") | I13: =IFERROR(__xludf.DUMMYFUNCTION("""COMPUTED_VALUE"""),125.3)
A14: =IFERROR(__xludf.DUMMYFUNCTION("""COMPUTED_VALUE"""),44509) | B14: =IFERROR(__xludf.DUMMYFUNCTION("""COMPUTED_VALUE"""),"CWA01") | C14: =IFERROR(__xludf.DUMMYFUNCTION("""COMPUTED_VALUE"""),"CWA") | D14: =IFERROR(__xludf.DUMMYFUNCTION("""COMPUTED_VALUE"""),"WA114") | E14: =IFERROR(__xludf.DUMMYFUNCTION("""COMPUTED_VALUE"""),"COTTON") | F14: =IFERROR(__xludf.DUMMYFUNCTION("""COMPUTED_VALUE"""),"2-40-COTTON") | G14: =IFERROR(__xludf.DUMMYFUNCTION("""COMPUTED_VALUE"""),"ELI") | H14: =IFERROR(__xludf.DUMMYFUNCTION("""COMPUTED_VALUE"""),"ELI") | I14: =IFERROR(__xludf.DUMMYFUNCTION("""COMPUTED_VALUE"""),175)
A15: =IFERROR(__xludf.DUMMYFUNCTION("""COMPUTED_VALUE"""),44510) | C15: =IFERROR(__xludf.DUMMYFUNCTION("""COMPUTED_VALUE"""),"CWA") | D15: =IFERROR(__xludf.DUMMYFUNCTION("""COMPUTED_VALUE"""),"WA05") | E15: =IFERROR(__xludf.DUMMYFUNCTION("""COMPUTED_VALUE"""),"POLYESTER") | F15: =IFERROR(__xludf.DUMMYFUNCTION("""COMPUTED_VALUE"""),"150*350 BRIGHT") | G15: =IFERROR(__xludf.DUMMYFUNCTION("""COMPUTED_VALUE"""),"KORA-BRIGHT") | H15: =IFERROR(__xludf.DUMMYFUNCTION("""COMPUTED_VALUE"""),"KORA-BRIGHT") | I15: =IFERROR(__xludf.DUMMYFUNCTION("""COMPUTED_VALUE"""),336)
A16: =IFERROR(__xludf.DUMMYFUNCTION("""COMPUTED_VALUE"""),44511) | C16: =IFERROR(__xludf.DUMMYFUNCTION("""COMPUTED_VALUE"""),"CWA") | D16: =IFERROR(__xludf.DUMMYFUNCTION("""COMPUTED_VALUE"""),"WA54") | E16: =IFERROR(__xludf.DUMMYFUNCTION("""COMPUTED_VALUE"""),"COTTON") | F16: =IFERROR(__xludf.DUMMYFUNCTION("""COMPUTED_VALUE"""),"2-40 COMED") | G16: =IFERROR(__xludf.DUMMYFUNCTION("""COMPUTED_VALUE"""),"2-40 COTTON COMED") | H16: =IFERROR(__xludf.DUMMYFUNCTION("""COMPUTED_VALUE"""),"2-40 COTTON COMED") | I16: =IFERROR(__xludf.DUMMYFUNCTION("""COMPUTED_VALUE"""),405.6)
A17: =IFERROR(__xludf.DUMMYFUNCTION("""COMPUTED_VALUE"""),44511) | C17: =IFERROR(__xludf.DUMMYFUNCTION("""COMPUTED_VALUE"""),"CWA") | D17: =IFERROR(__xludf.DUMMYFUNCTION("""COMPUTED_VALUE"""),"WA54") | E17: =IFERROR(__xludf.DUMMYFUNCTION("""COMPUTED_VALUE"""),"COTTON") | F17: =IFERROR(__xludf.DUMMYFUNCTION("""COMPUTED_VALUE"""),"2-40 COMED") | G17: =IFERROR(__xludf.DUMMYFUNCTION("""COMPUTED_VALUE"""),"2-40 COTTON COMED") | H17: =IFERROR(__xludf.DUMMYFUNCTION("""COMPUTED_VALUE"""),"2-40 COTTON COMED") | I17: =IFERROR(__xludf.DUMMYFUNCTION("""COMPUTED_VALUE"""),391.6)
A18: =IFERROR(__xludf.DUMMYFUNCTION("""COMPUTED_VALUE"""),44512) | C18: =IFERROR(__xludf.DUMMYFUNCTION("""COMPUTED_VALUE"""),"CWA") | D18: =IFERROR(__xludf.DUMMYFUNCTION("""COMPUTED_VALUE"""),"WA115") | E18: =IFERROR(__xludf.DUMMYFUNCTION("""COMPUTED_VALUE"""),"POLYESTER") | F18: =IFERROR(__xludf.DUMMYFUNCTION("""COMPUTED_VALUE"""),"150 POLYESTER") | G18: =IFERROR(__xludf.DUMMYFUNCTION("""COMPUTED_VALUE"""),"TAUPE") | H18: =IFERROR(__xludf.DUMMYFUNCTION("""COMPUTED_VALUE"""),"TAUPE") | I18: =IFERROR(__xludf.DUMMYFUNCTION("""COMPUTED_VALUE"""),273.24)
A19: =IFERROR(__xludf.DUMMYFUNCTION("""COMPUTED_VALUE"""),44513) | C19: =IFERROR(__xludf.DUMMYFUNCTION("""COMPUTED_VALUE"""),"CWA") | D19: =IFERROR(__xludf.DUMMYFUNCTION("""COMPUTED_VALUE"""),"WA02") | E19: =IFERROR(__xludf.DUMMYFUNCTION("""COMPUTED_VALUE"""),"POLYESTER") | F19: =IFERROR(__xludf.DUMMYFUNCTION("""COMPUTED_VALUE"""),"150*350 BRIGHT") | G19: =IFERROR(__xludf.DUMMYFUNCTION("""COMPUTED_VALUE"""),"9151 BRIGHT") | H19: =IFERROR(__xludf.DUMMYFUNCTION("""COMPUTED_VALUE"""),"9151 BRIGHT") | I19: =IFERROR(__xludf.DUMMYFUNCTION("""COMPUTED_VALUE"""),192.5)
A20: =IFERROR(__xludf.DUMMYFUNCTION("""COMPUTED_VALUE"""),44515) | C20: =IFERROR(__xludf.DUMMYFUNCTION("""COMPUTED_VALUE"""),"CWA") | D20: =IFERROR(__xludf.DUMMYFUNCTION("""COMPUTED_VALUE"""),"WA54") | E20: =IFERROR(__xludf.DUMMYFUNCTION("""COMPUTED_VALUE"""),"COTTON") | F20: =IFERROR(__xludf.DUMMYFUNCTION("""COMPUTED_VALUE"""),"2-40 COMED") | G20: =IFERROR(__xludf.DUMMYFUNCTION("""COMPUTED_VALUE"""),"2-40 COTTON COMED") | H20: =IFERROR(__xludf.DUMMYFUNCTION("""COMPUTED_VALUE"""),"2-40 COTTON COMED") | I20: =IFERROR(__xludf.DUMMYFUNCTION("""COMPUTED_VALUE"""),427.2)
A21: =IFERROR(__xludf.DUMMYFUNCTION("""COMPUTED_VALUE"""),44515) | C21: =IFERROR(__xludf.DUMMYFUNCTION("""COMPUTED_VALUE"""),"CWA") | D21: =IFERROR(__xludf.DUMMYFUNCTION("""COMPUTED_VALUE"""),"WA54") | E21: =IFERROR(__xludf.DUMMYFUNCTION("""COMPUTED_VALUE"""),"COTTON") | F21: =IFERROR(__xludf.DUMMYFUNCTION("""COMPUTED_VALUE"""),"2-40 COMED") | G21: =IFERROR(__xludf.DUMMYFUNCTION("""COMPUTED_VALUE"""),"2-40 COTTON COMED") | H21: =IFERROR(__xludf.DUMMYFUNCTION("""COMPUTED_VALUE"""),"2-40 COTTON COMED") | I21: =IFERROR(__xludf.DUMMYFUNCTION("""COMPUTED_VALUE"""),427.2)
A22: =IFERROR(__xludf.DUMMYFUNCTION("""COMPUTED_VALUE"""),44516) | C22: =IFERROR(__xludf.DUMMYFUNCTION("""COMPUTED_VALUE"""),"CWA") | D22: =IFERROR(__xludf.DUMMYFUNCTION("""COMPUTED_VALUE"""),"WA114") | E22: =IFERROR(__xludf.DUMMYFUNCTION("""COMPUTED_VALUE"""),"COTTON") | F22: =IFERROR(__xludf.DUMMYFUNCTION("""COMPUTED_VALUE"""),"2-40-COTTON") | G22: =IFERROR(__xludf.DUMMYFUNCTION("""COMPUTED_VALUE"""),"ELI") | H22: =IFERROR(__xludf.DUMMYFUNCTION("""COMPUTED_VALUE"""),"ELI") | I22: =IFERROR(__xludf.DUMMYFUNCTION("""COMPUTED_VALUE"""),420)
A23: =IFERROR(__xludf.DUMMYFUNCTION("""COMPUTED_VALUE"""),44517) | C23: =IFERROR(__xludf.DUMMYFUNCTION("""COMPUTED_VALUE"""),"CWA") | D23: =IFERROR(__xludf.DUMMYFUNCTION("""COMPUTED_VALUE"""),"WA156") | E23: =IFERROR(__xludf.DUMMYFUNCTION("""COMPUTED_VALUE"""),"COTTON") | F23: =IFERROR(__xludf.DUMMYFUNCTION("""COMPUTED_VALUE"""),"2/60 COTTON") | G23: =IFERROR(__xludf.DUMMYFUNCTION("""COMPUTED_VALUE"""),"2/60 COTTON") | H23: =IFERROR(__xludf.DUMMYFUNCTION("""COMPUTED_VALUE"""),"2/60 COTTON") | I23: =IFERROR(__xludf.DUMMYFUNCTION("""COMPUTED_VALUE"""),17)
A24: =IFERROR(__xludf.DUMMYFUNCTION("""COMPUTED_VALUE"""),44517) | C24: =IFERROR(__xludf.DUMMYFUNCTION("""COMPUTED_VALUE"""),"CWA") | D24: =IFERROR(__xludf.DUMMYFUNCTION("""COMPUTED_VALUE"""),"WA95") | E24: =IFERROR(__xludf.DUMMYFUNCTION("""COMPUTED_VALUE"""),"POLYESTER") | F24: =IFERROR(__xludf.DUMMYFUNCTION("""COMPUTED_VALUE"""),"150 POLYESTER") | G24: =IFERROR(__xludf.DUMMYFUNCTION("""COMPUTED_VALUE"""),"TWISTED DOPE BLACK") | H24: =IFERROR(__xludf.DUMMYFUNCTION("""COMPUTED_VALUE"""),"TWISTED DOPE BLACK") | I24: =IFERROR(__xludf.DUMMYFUNCTION("""COMPUTED_VALUE"""),101)
A25: =IFERROR(__xludf.DUMMYFUNCTION("""COMPUTED_VALUE"""),44518) | C25: =IFERROR(__xludf.DUMMYFUNCTION("""COMPUTED_VALUE"""),"CWA") | D25: =IFERROR(__xludf.DUMMYFUNCTION("""COMPUTED_VALUE"""),"WA95") | E25: =IFERROR(__xludf.DUMMYFUNCTION("""COMPUTED_VALUE"""),"POLYESTER") | F25: =IFERROR(__xludf.DUMMYFUNCTION("""COMPUTED_VALUE"""),"150 POLYESTER") | G25: =IFERROR(__xludf.DUMMYFUNCTION("""COMPUTED_VALUE"""),"TWISTED DOPE BLACK") | H25: =IFERROR(__xludf.DUMMYFUNCTION("""COMPUTED_VALUE"""),"TWISTED DOPE BLACK") | I25: =IFERROR(__xludf.DUMMYFUNCTION("""COMPUTED_VALUE"""),144.36)
A26: =IFERROR(__xludf.DUMMYFUNCTION("""COMPUTED_VALUE"""),44519) | C26: =IFERROR(__xludf.DUMMYFUNCTION("""COMPUTED_VALUE"""),"CWA") | D26: =IFERROR(__xludf.DUMMYFUNCTION("""COMPUTED_VALUE"""),"WA114") | E26: =IFERROR(__xludf.DUMMYFUNCTION("""COMPUTED_VALUE"""),"COTTON") | F26: =IFERROR(__xludf.DUMMYFUNCTION("""COMPUTED_VALUE"""),"2-40-COTTON") | G26: =IFERROR(__xludf.DUMMYFUNCTION("""COMPUTED_VALUE"""),"ELI") | H26: =IFERROR(__xludf.DUMMYFUNCTION("""COMPUTED_VALUE"""),"ELI") | I26: =IFERROR(__xludf.DUMMYFUNCTION("""COMPUTED_VALUE"""),306)
A27: =IFERROR(__xludf.DUMMYFUNCTION("""COMPUTED_VALUE"""),44520) | C27: =IFERROR(__xludf.DUMMYFUNCTION("""COMPUTED_VALUE"""),"CWA") | D27: =IFERROR(__xludf.DUMMYFUNCTION("""COMPUTED_VALUE"""),"WA114") | E27: =IFERROR(__xludf.DUMMYFUNCTION("""COMPUTED_VALUE"""),"COTTON") | F27: =IFERROR(__xludf.DUMMYFUNCTION("""COMPUTED_VALUE"""),"2-40-COTTON") | G27: =IFERROR(__xludf.DUMMYFUNCTION("""COMPUTED_VALUE"""),"ELI") | H27: =IFERROR(__xludf.DUMMYFUNCTION("""COMPUTED_VALUE"""),"ELI") | I27: =IFERROR(__xludf.DUMMYFUNCTION("""COMPUTED_VALUE"""),490)
A28: =IFERROR(__xludf.DUMMYFUNCTION("""COMPUTED_VALUE"""),44522) | C28: =IFERROR(__xludf.DUMMYFUNCTION("""COMPUTED_VALUE"""),"CWA") | D28: =IFERROR(__xludf.DUMMYFUNCTION("""COMPUTED_VALUE"""),"WA54") | E28: =IFERROR(__xludf.DUMMYFUNCTION("""COMPUTED_VALUE"""),"COTTON") | F28: =IFERROR(__xludf.DUMMYFUNCTION("""COMPUTED_VALUE"""),"2-40 COMED") | G28: =IFERROR(__xludf.DUMMYFUNCTION("""COMPUTED_VALUE"""),"2-40 COTTON COMED") | H28: =IFERROR(__xludf.DUMMYFUNCTION("""COMPUTED_VALUE"""),"2-40 COTTON COMED") | I28: =IFERROR(__xludf.DUMMYFUNCTION("""COMPUTED_VALUE"""),169)
A29: =IFERROR(__xludf.DUMMYFUNCTION("""COMPUTED_VALUE"""),44522) | C29: =IFERROR(__xludf.DUMMYFUNCTION("""COMPUTED_VALUE"""),"CWA") | D29: =IFERROR(__xludf.DUMMYFUNCTION("""COMPUTED_VALUE"""),"WA117") | E29: =IFERROR(__xludf.DUMMYFUNCTION("""COMPUTED_VALUE"""),"POLYESTER") | F29: =IFERROR(__xludf.DUMMYFUNCTION("""COMPUTED_VALUE"""),"150 POLYESTER") | G29: =IFERROR(__xludf.DUMMYFUNCTION("""COMPUTED_VALUE"""),"SEA GREEN") | H29: =IFERROR(__xludf.DUMMYFUNCTION("""COMPUTED_VALUE"""),"SEA GREEN") | I29: =IFERROR(__xludf.DUMMYFUNCTION("""COMPUTED_VALUE"""),202)
A30: =IFERROR(__xludf.DUMMYFUNCTION("""COMPUTED_VALUE"""),44524) | C30: =IFERROR(__xludf.DUMMYFUNCTION("""COMPUTED_VALUE"""),"CWA") | D30: =IFERROR(__xludf.DUMMYFUNCTION("""COMPUTED_VALUE"""),"WA94") | E30: =IFERROR(__xludf.DUMMYFUNCTION("""COMPUTED_VALUE"""),"POLYESTER") | F30: =IFERROR(__xludf.DUMMYFUNCTION("""COMPUTED_VALUE"""),"150 POLYESTER") | G30: =IFERROR(__xludf.DUMMYFUNCTION("""COMPUTED_VALUE"""),"KORA TWISTED") | H30: =IFERROR(__xludf.DUMMYFUNCTION("""COMPUTED_VALUE"""),"KORA TWISTED") | I30: =IFERROR(__xludf.DUMMYFUNCTION("""COMPUTED_VALUE"""),114.4)
A31: =IFERROR(__xludf.DUMMYFUNCTION("""COMPUTED_VALUE"""),44524) | C31: =IFERROR(__xludf.DUMMYFUNCTION("""COMPUTED_VALUE"""),"CWA") | D31: =IFERROR(__xludf.DUMMYFUNCTION("""COMPUTED_VALUE"""),"WA95") | E31: =IFERROR(__xludf.DUMMYFUNCTION("""COMPUTED_VALUE"""),"POLYESTER") | F31: =IFERROR(__xludf.DUMMYFUNCTION("""COMPUTED_VALUE"""),"150 POLYESTER") | G31: =IFERROR(__xludf.DUMMYFUNCTION("""COMPUTED_VALUE"""),"TWISTED DOPE BLACK") | H31: =IFERROR(__xludf.DUMMYFUNCTION("""COMPUTED_VALUE"""),"TWISTED DOPE BLACK") | I31: =IFERROR(__xludf.DUMMYFUNCTION("""COMPUTED_VALUE"""),114.4)
A32: =IFERROR(__xludf.DUMMYFUNCTION("""COMPUTED_VALUE"""),44525) | C32: =IFERROR(__xludf.DUMMYFUNCTION("""COMPUTED_VALUE"""),"CWA") | D32: =IFERROR(__xludf.DUMMYFUNCTION("""COMPUTED_VALUE"""),"WA05") | E32: =IFERROR(__xludf.DUMMYFUNCTION("""COMPUTED_VALUE"""),"POLYESTER") | F32: =IFERROR(__xludf.DUMMYFUNCTION("""COMPUTED_VALUE"""),"150*350 BRIGHT") | G32: =IFERROR(__xludf.DUMMYFUNCTION("""COMPUTED_VALUE"""),"KORA-BRIGHT") | H32: =IFERROR(__xludf.DUMMYFUNCTION("""COMPUTED_VALUE"""),"KORA-BRIGHT") | I32: =IFERROR(__xludf.DUMMYFUNCTION("""COMPUTED_VALUE"""),346.5)
A33: =IFERROR(__xludf.DUMMYFUNCTION("""COMPUTED_VALUE"""),44526) | C33: =IFERROR(__xludf.DUMMYFUNCTION("""COMPUTED_VALUE"""),"CWA") | D33: =IFERROR(__xludf.DUMMYFUNCTION("""COMPUTED_VALUE"""),"WA54") | E33: =IFERROR(__xludf.DUMMYFUNCTION("""COMPUTED_VALUE"""),"COTTON") | F33: =IFERROR(__xludf.DUMMYFUNCTION("""COMPUTED_VALUE"""),"2-40 COMED") | G33: =IFERROR(__xludf.DUMMYFUNCTION("""COMPUTED_VALUE"""),"2-40 COTTON COMED") | H33: =IFERROR(__xludf.DUMMYFUNCTION("""COMPUTED_VALUE"""),"2-40 COTTON COMED") | I33: =IFERROR(__xludf.DUMMYFUNCTION("""COMPUTED_VALUE"""),377.42)
A34: =IFERROR(__xludf.DUMMYFUNCTION("""COMPUTED_VALUE"""),44527) | C34: =IFERROR(__xludf.DUMMYFUNCTION("""COMPUTED_VALUE"""),"CWA") | D34: =IFERROR(__xludf.DUMMYFUNCTION("""COMPUTED_VALUE"""),"WA119") | E34: =IFERROR(__xludf.DUMMYFUNCTION("""COMPUTED_VALUE"""),"POLYESTER") | F34: =IFERROR(__xludf.DUMMYFUNCTION("""COMPUTED_VALUE"""),"150 POLYESTER") | G34: =IFERROR(__xludf.DUMMYFUNCTION("""COMPUTED_VALUE"""),"N BLUE") | H34: =IFERROR(__xludf.DUMMYFUNCTION("""COMPUTED_VALUE"""),"N BLUE") | I34: =IFERROR(__xludf.DUMMYFUNCTION("""COMPUTED_VALUE"""),197.33)
A35: =IFERROR(__xludf.DUMMYFUNCTION("""COMPUTED_VALUE"""),44529) | C35: =IFERROR(__xludf.DUMMYFUNCTION("""COMPUTED_VALUE"""),"CWA") | D35: =IFERROR(__xludf.DUMMYFUNCTION("""COMPUTED_VALUE"""),"WA114") | E35: =IFERROR(__xludf.DUMMYFUNCTION("""COMPUTED_VALUE"""),"COTTON") | F35: =IFERROR(__xludf.DUMMYFUNCTION("""COMPUTED_VALUE"""),"2-40-COTTON") | G35: =IFERROR(__xludf.DUMMYFUNCTION("""COMPUTED_VALUE"""),"ELI") | H35: =IFERROR(__xludf.DUMMYFUNCTION("""COMPUTED_VALUE"""),"ELI") | I35: =IFERROR(__xludf.DUMMYFUNCTION("""COMPUTED_VALUE"""),490)
A36: =IFERROR(__xludf.DUMMYFUNCTION("""COMPUTED_VALUE"""),44529) | C36: =IFERROR(__xludf.DUMMYFUNCTION("""COMPUTED_VALUE"""),"CWA") | D36: =IFERROR(__xludf.DUMMYFUNCTION("""COMPUTED_VALUE"""),"WA114") | E36: =IFERROR(__xludf.DUMMYFUNCTION("""COMPUTED_VALUE"""),"COTTON") | F36: =IFERROR(__xludf.DUMMYFUNCTION("""COMPUTED_VALUE"""),"2-40-COTTON") | G36: =IFERROR(__xludf.DUMMYFUNCTION("""COMPUTED_VALUE"""),"ELI") | H36: =IFERROR(__xludf.DUMMYFUNCTION("""COMPUTED_VALUE"""),"ELI") | I36: =IFERROR(__xludf.DUMMYFUNCTION("""COMPUTED_VALUE"""),307.88)
A37: =IFERROR(__xludf.DUMMYFUNCTION("""COMPUTED_VALUE"""),44530) | I37: =IFERROR(__xludf.DUMMYFUNCTION("""COMPUTED_VALUE"""),144)
A38: =IFERROR(__xludf.DUMMYFUNCTION("""COMPUTED_VALUE"""),44532)

Sheet YARN CODES
A1: S.No. | B1: Yarn | C1: SKU | D1: Shade no | E1: color
A2: WE01 | B2: POLYESTER | C2: 400 D | D2: 9373 FDY | E2: AMBER YELLOW | F2: =C2&D2 | H2: =I2&J2 | I2: 450-D-INT | J2: [Person_46]
A3: WE02 | B3: POLYESTER | C3: 400 D | D3: 9374 FDY | E3: APRICOT | F3: =C3&D3
A4: WE03 | B4: POLYESTER | C4: 400 D | D4: 9641 FDY | E4: WHITE | F4: =C4&D4
A5: WE04 | B5: POLYESTER | C5: 400 D | D5: 9616 FDY | E5: MANGO | F5: =C5&D5
A6: WE05 | B6: POLYESTER | C6: 400 D | D6: 1649 FDY | E6: CAMEL | F6: =C6&D6
A7: WE06 | B7: POLYESTER | C7: 400 D | D7: 9375 FDY | E7: CHAMPAGNE | F7: =C7&D7
A8: WE07 | B8: POLYESTER | C8: 400 D LT | D8: 9373 LT | E8: AMBER YELLOW | F8: =C8&D8
A9: WE08 | B9: POLYESTER | C9: 400 D LT | D9: 9374 LT | E9: APRICOT | F9: =C9&D9
A10: WE09 | B10: POLYESTER | C10: 400 D LT | D10: 9375 LT | E10: CHAMPAGNE | F10: =C10&D10
A11: WE10 | B11: CHENILLE | C11: 2 NM | D11: NATURAL CHENILLE | E11: NATURAL CHENILLE | F11: =C11&D11
A12: WE11 | B12: CHENILLE | C12: 4 NM | D12: P. GREEN | E12: P. GREEN | F12: =C12&D12
A13: WE12 | B13: CHENILLE | C13: 4 NM | D13: SEA GREEN | E13: SEA GREEN | F13: =C13&D13
A14: WE13 | B14: CHENILLE | C14: 4 NM | D14: MAROON | E14: MAROON | F14: =C14&D14
... A100: WE99 | B100: COTTON | C100: 2-24-C | D100: KORA | E100: KORA | F100: =C100&D100
A101: WE100 | B101: COTTON | C101: 2-20-C | D101: 5069 | E101: MATRIX | F101: =C101&D101
A102: WE101 | B102: COTTON | C102: 2-20-C | D102: YELLOW | E102: YELLOW | F102: =C102&D102
A103: WE102 | B103: COTTON | C103: 2-20-C | D103: SELVAGE | E103: SELVAGE | F103: =C103&D103
A104: WE103 | B104: COTTON | C104: 2-18-C | D104: BLACK | E104: BLACK | F104: =C104&D104
A105: WE104 | B105: COTTON | C105: 16-SINGLE | D105: KORA | E105: KORA | F105: =C105&D105
A106: WE105 | B106: COTTON | C106: 20-SINGLE | D106: KORA | E106: KORA | F106: =C106&D106
A107: WE106 | B107: COTTON | C107: 24-SINGLE | D107: KORA | E107: KORA | F107: =C107&D107
A108: [Person_3] | B108: COTTON | C108: 14-SINGLE | D108: KORA | E108: KORA | F108: =C108&D108
A109: [Person_4] | B109: COTTON | C109: 30-SINGLE | D109: KORA | E109: KORA | F109: =C109&D109
A110: WE109 | B110: COTTON | C110: 6-SINGLE | D110: KORA | E110: KORA | F110: =C110&D110
A111: WE110 | B111: COTTON | C111: 2-10-C | D111: KORA | E111: KORA | F111: =C111&D111
A112: WE111 | B112: COTTON | C112: 2-30-C | D112: KORA | E112: KORA | F112: =C112&D112
A113: WE112 | B113: COTTON | C113: 2-30-C | D113: WHITE | E113: WHITE | F113: =C113&D113
... A126: WE125 | B126: POLYESTER | C126: 2-30-SHIVA | D126: [Person_43] | E126: GREEN | F126: =C126&D126
A127: WE126 | B127: POLYESTER | C127: 2-30-SHIVA | D127: 5003 | E127: PURPLE | F127: =C127&D127
A128: [Person_13] | B128: POLYESTER | C128: 2-30-SHIVA | D128: 6617 | E128: CAMEL | F128: =C128&D128
A129: WE128 | B129: POLYESTER | C129: 2-30-SHIVA | D129: DSS-2906 | E129: LEMON | F129: =C129&D129
A130: WE129 | B130: POLYESTER | C130: 2-30-SHIVA | D130: 6657 | E130: CREAM | F130: =C130&D130
A131: WE130 | B131: POLYESTER | C131: 2-30-SHIVA | D131: 6656 | E131: BABA | F131: =C131&D131
A132: [Person_14] | B132: POLYESTER | C132: 2-30-SHIVA | D132: 203 | E132: PINK | F132: =C132&D132
A133: [Person_15] | B133: POLYESTER | C133: 2-30-SHIVA | D133: OW77 | E133: BLACK | F133: =C133&D133
A134: WE133 | B134: POLYESTER | C134: 2-30-SHIVA | D134: 5010 | E134: [Person_44] | F134: =C134&D134
A135: WE134 | B135: POLYESTER | C135: 2-30-SHIVA | D135: 5005 | E135: [Person_45] | F135: =C135&D135
A136: WE135 | B136: POLYESTER | C136: 2-30-SHIVA | D136: DSS-5981 | E136: ORANGE | F136: =C136&D136
A137: WE136 | B137: POLYESTER | C137: 2-30-SHIVA | D137: 5049 | E137: RED | F137: =C137&D137
...
