Workbook
Name ST: STOCK!$A$1:$L$1000
Name WAO: 'YARN WARP OUT'!$A:$K
Name WD: 'WARP DETAILS'!$A$2:$U$1000
Name WEO: 'YARN WEFT OUT'!$A:$L
Name YI: 'YARN IN'!$A:$M

Sheet STOCK
A1: DATE | B1: CODES | C1: [Person_1]. | D1: PARTY NAME | E1: YARN CODE | F1: YARN TYPE | G1: SKU | H1: SHADE | I1: COLOR | J1: WEFT IN | K1: WARP IN | L1: TYPE
A2: 44496 | B2: STWE01 | C2: =IFERROR(IF(E2="","","ST"&LEFT(E2,2)&COUNTIF(E$2:E2,"<>")),"") | D2: WEFT STOCK | E2: WE10 | F2: =VLOOKUP($E2,'YARN CODES'!$A$2:$E1000,2,0) | G2: =VLOOKUP($E2,'YARN CODES'!$A$2:$E1000,3,0) | H2: =VLOOKUP($E2,'YARN CODES'!$A$2:$E1000,4,0) | I2: =VLOOKUP($E2,'YARN CODES'!$A$2:$E1000,5,0) | J2: 0
A3: 44496 | B3: STWE02 | C3: =IFERROR(IF(E3="","","ST"&LEFT(E3,2)&COUNTIF(E$2:E3,"<>")),"") | D3: WEFT STOCK | E3: WE11 | F3: =VLOOKUP($E3,'YARN CODES'!$A$2:$E1000,2,0) | G3: =VLOOKUP($E3,'YARN CODES'!$A$2:$E1000,3,0) | H3: =VLOOKUP($E3,'YARN CODES'!$A$2:$E1000,4,0) | I3: =VLOOKUP($E3,'YARN CODES'!$A$2:$E1000,5,0) | J3: 0
A4: 44496 | B4: STWE03 | C4: =IFERROR(IF(E4="","","ST"&LEFT(E4,2)&COUNTIF(E$2:E4,"<>")),"") | D4: WEFT STOCK | E4: WE12 | F4: =VLOOKUP($E4,'YARN CODES'!$A$2:$E1000,2,0) | G4: =VLOOKUP($E4,'YARN CODES'!$A$2:$E1000,3,0) | H4: =VLOOKUP($E4,'YARN CODES'!$A$2:$E1000,4,0) | I4: =VLOOKUP($E4,'YARN CODES'!$A$2:$E1000,5,0) | J4: 48.1
A5: 44496 | B5: STWA04 | C5: =IFERROR(IF(E5="","","ST"&LEFT(E5,2)&COUNTIF(E$2:E5,"<>")),"") | D5: WEFT STOCK | E5: WA14 | F5: =VLOOKUP($E5,'YARN CODES'!$A$2:$E1000,2,0) | G5: =VLOOKUP($E5,'YARN CODES'!$A$2:$E1000,3,0) | H5: =VLOOKUP($E5,'YARN CODES'!$A$2:$E1000,4,0) | I5: =VLOOKUP($E5,'YARN CODES'!$A$2:$E1000,5,0) | J5: 93
A6: 44496 | B6: STWA05 | C6: =IFERROR(IF(E6="","","ST"&LEFT(E6,2)&COUNTIF(E$2:E6,"<>")),"") | D6: WEFT STOCK | E6: WA15 | F6: =VLOOKUP($E6,'YARN CODES'!$A$2:$E1000,2,0) | G6: =VLOOKUP($E6,'YARN CODES'!$A$2:$E1000,3,0) | H6: =VLOOKUP($E6,'YARN CODES'!$A$2:$E1000,4,0) | I6: =VLOOKUP($E6,'YARN CODES'!$A$2:$E1000,5,0) | J6: 0
A7: 44496 | C7: =IFERROR(IF(E7="","","ST"&LEFT(E7,2)&COUNTIF(E$2:E7,"<>")),"") | D7: WEFT STOCK | E7: WE15 | F7: =VLOOKUP($E7,'YARN CODES'!$A$2:$E1000,2,0) | G7: =VLOOKUP($E7,'YARN CODES'!$A$2:$E1000,3,0) | H7: =VLOOKUP($E7,'YARN CODES'!$A$2:$E1000,4,0) | I7: =VLOOKUP($E7,'YARN CODES'!$A$2:$E1000,5,0) | J7: 0
A8: 44496 | C8: =IFERROR(IF(E8="","","ST"&LEFT(E8,2)&COUNTIF(E$2:E8,"<>")),"") | D8: WEFT STOCK | E8: WE16 | F8: =VLOOKUP($E8,'YARN CODES'!$A$2:$E1000,2,0) | G8: =VLOOKUP($E8,'YARN CODES'!$A$2:$E1000,3,0) | H8: =VLOOKUP($E8,'YARN CODES'!$A$2:$E1000,4,0) | I8: =VLOOKUP($E8,'YARN CODES'!$A$2:$E1000,5,0) | J8: 21
A9: 44496 | C9: =IFERROR(IF(E9="","","ST"&LEFT(E9,2)&COUNTIF(E$2:E9,"<>")),"") | D9: WEFT STOCK | E9: WE17 | F9: =VLOOKUP($E9,'YARN CODES'!$A$2:$E1000,2,0) | G9: =VLOOKUP($E9,'YARN CODES'!$A$2:$E1000,3,0) | H9: =VLOOKUP($E9,'YARN CODES'!$A$2:$E1000,4,0) | I9: =VLOOKUP($E9,'YARN CODES'!$A$2:$E1000,5,0) | J9: 137.16
A10: 44496 | C10: =IFERROR(IF(E10="","","ST"&LEFT(E10,2)&COUNTIF(E$2:E10,"<>")),"") | D10: WEFT STOCK | E10: WE18 | F10: =VLOOKUP($E10,'YARN CODES'!$A$2:$E1000,2,0) | G10: =VLOOKUP($E10,'YARN CODES'!$A$2:$E1000,3,0) | H10: =VLOOKUP($E10,'YARN CODES'!$A$2:$E1000,4,0) | I10: =VLOOKUP($E10,'YARN CODES'!$A$2:$E1000,5,0) | J10: 6
A11: 44496 | C11: =IFERROR(IF(E11="","","ST"&LEFT(E11,2)&COUNTIF(E$2:E11,"<>")),"") | D11: WEFT STOCK | E11: WE19 | F11: =VLOOKUP($E11,'YARN CODES'!$A$2:$E1000,2,0) | G11: =VLOOKUP($E11,'YARN CODES'!$A$2:$E1000,3,0) | H11: =VLOOKUP($E11,'YARN CODES'!$A$2:$E1000,4,0) | I11: =VLOOKUP($E11,'YARN CODES'!$A$2:$E1000,5,0) | J11: 63.8
A12: 44496 | C12: =IFERROR(IF(E12="","","ST"&LEFT(E12,2)&COUNTIF(E$2:E12,"<>")),"") | D12: WEFT STOCK | E12: WE20 | F12: =VLOOKUP($E12,'YARN CODES'!$A$2:$E1000,2,0) | G12: =VLOOKUP($E12,'YARN CODES'!$A$2:$E1000,3,0) | H12: =VLOOKUP($E12,'YARN CODES'!$A$2:$E1000,4,0) | I12: =VLOOKUP($E12,'YARN CODES'!$A$2:$E1000,5,0) | J12: 0
A13: 44496 | C13: =IFERROR(IF(E13="","","ST"&LEFT(E13,2)&COUNTIF(E$2:E13,"<>")),"") | D13: WEFT STOCK | E13: WE21 | F13: =VLOOKUP($E13,'YARN CODES'!$A$2:$E1000,2,0) | G13: =VLOOKUP($E13,'YARN CODES'!$A$2:$E1000,3,0) | H13: =VLOOKUP($E13,'YARN CODES'!$A$2:$E1000,4,0) | I13: =VLOOKUP($E13,'YARN CODES'!$A$2:$E1000,5,0) | J13: 13.3
A14: 44496 | C14: =IFERROR(IF(E14="","","ST"&LEFT(E14,2)&COUNTIF(E$2:E14,"<>")),"") | D14: WEFT STOCK | E14: WE22 | F14: =VLOOKUP($E14,'YARN CODES'!$A$2:$E1000,2,0) | G14: =VLOOKUP($E14,'YARN CODES'!$A$2:$E1000,3,0) | H14: =VLOOKUP($E14,'YARN CODES'!$A$2:$E1000,4,0) | I14: =VLOOKUP($E14,'YARN CODES'!$A$2:$E1000,5,0) | J14: 15.38
A15: 44496 | C15: =IFERROR(IF(E15="","","ST"&LEFT(E15,2)&COUNTIF(E$2:E15,"<>")),"") | D15: WEFT STOCK | E15: WE23 | F15: =VLOOKUP($E15,'YARN CODES'!$A$2:$E1000,2,0) | G15: =VLOOKUP($E15,'YARN CODES'!$A$2:$E1000,3,0) | H15: =VLOOKUP($E15,'YARN CODES'!$A$2:$E1000,4,0) | I15: =VLOOKUP($E15,'YARN CODES'!$A$2:$E1000,5,0) | J15: 5.5
A16: 44496 | C16: =IFERROR(IF(E16="","","ST"&LEFT(E16,2)&COUNTIF(E$2:E16,"<>")),"") | D16: WEFT STOCK | E16: WE24 | F16: =VLOOKUP($E16,'YARN CODES'!$A$2:$E1000,2,0) | G16: =VLOOKUP($E16,'YARN CODES'!$A$2:$E1000,3,0) | H16: =VLOOKUP($E16,'YARN CODES'!$A$2:$E1000,4,0) | I16: =VLOOKUP($E16,'YARN CODES'!$A$2:$E1000,5,0) | J16: 0
A17: 44496 | C17: =IFERROR(IF(E17="","","ST"&LEFT(E17,2)&COUNTIF(E$2:E17,"<>")),"") | D17: WEFT STOCK | E17: WE25 | F17: =VLOOKUP($E17,'YARN CODES'!$A$2:$E1000,2,0) | G17: =VLOOKUP($E17,'YARN CODES'!$A$2:$E1000,3,0) | H17: =VLOOKUP($E17,'YARN CODES'!$A$2:$E1000,4,0) | I17: =VLOOKUP($E17,'YARN CODES'!$A$2:$E1000,5,0) | J17: 53.7
A18: 44496 | C18: =IFERROR(IF(E18="","","ST"&LEFT(E18,2)&COUNTIF(E$2:E18,"<>")),"") | D18: WEFT STOCK | E18: WE26 | F18: =VLOOKUP($E18,'YARN CODES'!$A$2:$E1000,2,0) | G18: =VLOOKUP($E18,'YARN CODES'!$A$2:$E1000,3,0) | H18: =VLOOKUP($E18,'YARN CODES'!$A$2:$E1000,4,0) | I18: =VLOOKUP($E18,'YARN CODES'!$A$2:$E1000,5,0) | J18: 0
A19: 44496 | C19: =IFERROR(IF(E19="","","ST"&LEFT(E19,2)&COUNTIF(E$2:E19,"<>")),"") | D19: WEFT STOCK | E19: WE27 | F19: =VLOOKUP($E19,'YARN CODES'!$A$2:$E1000,2,0) | G19: =VLOOKUP($E19,'YARN CODES'!$A$2:$E1000,3,0) | H19: =VLOOKUP($E19,'YARN CODES'!$A$2:$E1000,4,0) | I19: =VLOOKUP($E19,'YARN CODES'!$A$2:$E1000,5,0) | J19: 0
A20: 44496 | C20: =IFERROR(IF(E20="","","ST"&LEFT(E20,2)&COUNTIF(E$2:E20,"<>")),"") | D20: WEFT STOCK | E20: WE28 | F20: =VLOOKUP($E20,'YARN CODES'!$A$2:$E1000,2,0) | G20: =VLOOKUP($E20,'YARN CODES'!$A$2:$E1000,3,0) | H20: =VLOOKUP($E20,'YARN CODES'!$A$2:$E1000,4,0) | I20: =VLOOKUP($E20,'YARN CODES'!$A$2:$E1000,5,0) | J20: 0
A21: 44496 | C21: =IFERROR(IF(E21="","","ST"&LEFT(E21,2)&COUNTIF(E$2:E21,"<>")),"") | D21: WEFT STOCK | E21: WE29 | F21: =VLOOKUP($E21,'YARN CODES'!$A$2:$E1000,2,0) | G21: =VLOOKUP($E21,'YARN CODES'!$A$2:$E1000,3,0) | H21: =VLOOKUP($E21,'YARN CODES'!$A$2:$E1000,4,0) | I21: =VLOOKUP($E21,'YARN CODES'!$A$2:$E1000,5,0) | J21: 25.7
A22: 44496 | C22: =IFERROR(IF(E22="","","ST"&LEFT(E22,2)&COUNTIF(E$2:E22,"<>")),"") | D22: WEFT STOCK | E22: WE30 | F22: =VLOOKUP($E22,'YARN CODES'!$A$2:$E1000,2,0) | G22: =VLOOKUP($E22,'YARN CODES'!$A$2:$E1000,3,0) | H22: =VLOOKUP($E22,'YARN CODES'!$A$2:$E1000,4,0) | I22: =VLOOKUP($E22,'YARN CODES'!$A$2:$E1000,5,0) | J22: 11
A23: 44496 | C23: =IFERROR(IF(E23="","","ST"&LEFT(E23,2)&COUNTIF(E$2:E23,"<>")),"") | D23: WEFT STOCK | E23: WE31 | F23: =VLOOKUP($E23,'YARN CODES'!$A$2:$E1000,2,0) | G23: =VLOOKUP($E23,'YARN CODES'!$A$2:$E1000,3,0) | H23: =VLOOKUP($E23,'YARN CODES'!$A$2:$E1000,4,0) | I23: =VLOOKUP($E23,'YARN CODES'!$A$2:$E1000,5,0) | J23: 11.3
A24: 44496 | C24: =IFERROR(IF(E24="","","ST"&LEFT(E24,2)&COUNTIF(E$2:E24,"<>")),"") | D24: WEFT STOCK | E24: WE32 | F24: =VLOOKUP($E24,'YARN CODES'!$A$2:$E1000,2,0) | G24: =VLOOKUP($E24,'YARN CODES'!$A$2:$E1000,3,0) | H24: =VLOOKUP($E24,'YARN CODES'!$A$2:$E1000,4,0) | I24: =VLOOKUP($E24,'YARN CODES'!$A$2:$E1000,5,0) | J24: 0
A25: 44496 | C25: =IFERROR(IF(E25="","","ST"&LEFT(E25,2)&COUNTIF(E$2:E25,"<>")),"") | D25: WEFT STOCK | E25: WE33 | F25: =VLOOKUP($E25,'YARN CODES'!$A$2:$E1000,2,0) | G25: =VLOOKUP($E25,'YARN CODES'!$A$2:$E1000,3,0) | H25: =VLOOKUP($E25,'YARN CODES'!$A$2:$E1000,4,0) | I25: =VLOOKUP($E25,'YARN CODES'!$A$2:$E1000,5,0) | J25: 0
A26: 44496 | C26: =IFERROR(IF(E26="","","ST"&LEFT(E26,2)&COUNTIF(E$2:E26,"<>")),"") | D26: WEFT STOCK | E26: WE34 | F26: =VLOOKUP($E26,'YARN CODES'!$A$2:$E1000,2,0) | G26: =VLOOKUP($E26,'YARN CODES'!$A$2:$E1000,3,0) | H26: =VLOOKUP($E26,'YARN CODES'!$A$2:$E1000,4,0) | I26: =VLOOKUP($E26,'YARN CODES'!$A$2:$E1000,5,0) | J26: 0
A27: 44496 | C27: =IFERROR(IF(E27="","","ST"&LEFT(E27,2)&COUNTIF(E$2:E27,"<>")),"") | D27: WEFT STOCK | E27: WE35 | F27: =VLOOKUP($E27,'YARN CODES'!$A$2:$E1000,2,0) | G27: =VLOOKUP($E27,'YARN CODES'!$A$2:$E1000,3,0) | H27: =VLOOKUP($E27,'YARN CODES'!$A$2:$E1000,4,0) | I27: =VLOOKUP($E27,'YARN CODES'!$A$2:$E1000,5,0) | J27: 49.65
A28: 44496 | C28: =IFERROR(IF(E28="","","ST"&LEFT(E28,2)&COUNTIF(E$2:E28,"<>")),"") | D28: WEFT STOCK | E28: WE36 | F28: =VLOOKUP($E28,'YARN CODES'!$A$2:$E1000,2,0) | G28: =VLOOKUP($E28,'YARN CODES'!$A$2:$E1000,3,0) | H28: =VLOOKUP($E28,'YARN CODES'!$A$2:$E1000,4,0) | I28: =VLOOKUP($E28,'YARN CODES'!$A$2:$E1000,5,0) | J28: 0
A29: 44496 | C29: =IFERROR(IF(E29="","","ST"&LEFT(E29,2)&COUNTIF(E$2:E29,"<>")),"") | D29: WEFT STOCK | E29: WE37 | F29: =VLOOKUP($E29,'YARN CODES'!$A$2:$E1000,2,0) | G29: =VLOOKUP($E29,'YARN CODES'!$A$2:$E1000,3,0) | H29: =VLOOKUP($E29,'YARN CODES'!$A$2:$E1000,4,0) | I29: =VLOOKUP($E29,'YARN CODES'!$A$2:$E1000,5,0) | J29: 0
A30: 44496 | C30: =IFERROR(IF(E30="","","ST"&LEFT(E30,2)&COUNTIF(E$2:E30,"<>")),"") | D30: WEFT STOCK | E30: WE38 | F30: =VLOOKUP($E30,'YARN CODES'!$A$2:$E1000,2,0) | G30: =VLOOKUP($E30,'YARN CODES'!$A$2:$E1000,3,0) | H30: =VLOOKUP($E30,'YARN CODES'!$A$2:$E1000,4,0) | I30: =VLOOKUP($E30,'YARN CODES'!$A$2:$E1000,5,0) | J30: 34.04
A31: 44496 | C31: =IFERROR(IF(E31="","","ST"&LEFT(E31,2)&COUNTIF(E$2:E31,"<>")),"") | D31: WEFT STOCK | E31: WE39 | F31: =VLOOKUP($E31,'YARN CODES'!$A$2:$E1000,2,0) | G31: =VLOOKUP($E31,'YARN CODES'!$A$2:$E1000,3,0) | H31: =VLOOKUP($E31,'YARN CODES'!$A$2:$E1000,4,0) | I31: =VLOOKUP($E31,'YARN CODES'!$A$2:$E1000,5,0) | J31: 0
A32: 44496 | C32: =IFERROR(IF(E32="","","ST"&LEFT(E32,2)&COUNTIF(E$2:E32,"<>")),"") | D32: WEFT STOCK | E32: WE40 | F32: =VLOOKUP($E32,'YARN CODES'!$A$2:$E1000,2,0) | G32: =VLOOKUP($E32,'YARN CODES'!$A$2:$E1000,3,0) | H32: =VLOOKUP($E32,'YARN CODES'!$A$2:$E1000,4,0) | I32: =VLOOKUP($E32,'YARN CODES'!$A$2:$E1000,5,0) | J32: 87.05
A33: 44496 | C33: =IFERROR(IF(E33="","","ST"&LEFT(E33,2)&COUNTIF(E$2:E33,"<>")),"") | D33: WEFT STOCK | E33: WE41 | F33: =VLOOKUP($E33,'YARN CODES'!$A$2:$E1000,2,0) | G33: =VLOOKUP($E33,'YARN CODES'!$A$2:$E1000,3,0) | H33: =VLOOKUP($E33,'YARN CODES'!$A$2:$E1000,4,0) | I33: =VLOOKUP($E33,'YARN CODES'!$A$2:$E1000,5,0) | J33: 0
A34: 44496 | C34: =IFERROR(IF(E34="","","ST"&LEFT(E34,2)&COUNTIF(E$2:E34,"<>")),"") | D34: WEFT STOCK | E34: WE42 | F34: =VLOOKUP($E34,'YARN CODES'!$A$2:$E1000,2,0) | G34: =VLOOKUP($E34,'YARN CODES'!$A$2:$E1000,3,0) | H34: =VLOOKUP($E34,'YARN CODES'!$A$2:$E1000,4,0) | I34: =VLOOKUP($E34,'YARN CODES'!$A$2:$E1000,5,0) | J34: 40
A35: 44496 | C35: =IFERROR(IF(E35="","","ST"&LEFT(E35,2)&COUNTIF(E$2:E35,"<>")),"") | D35: WEFT STOCK | E35: WE43 | F35: =VLOOKUP($E35,'YARN CODES'!$A$2:$E1000,2,0) | G35: =VLOOKUP($E35,'YARN CODES'!$A$2:$E1000,3,0) | H35: =VLOOKUP($E35,'YARN CODES'!$A$2:$E1000,4,0) | I35: =VLOOKUP($E35,'YARN CODES'!$A$2:$E1000,5,0) | J35: 0
A36: 44496 | C36: =IFERROR(IF(E36="","","ST"&LEFT(E36,2)&COUNTIF(E$2:E36,"<>")),"") | D36: WEFT STOCK | E36: WE44 | F36: =VLOOKUP($E36,'YARN CODES'!$A$2:$E1000,2,0) | G36: =VLOOKUP($E36,'YARN CODES'!$A$2:$E1000,3,0) | H36: =VLOOKUP($E36,'YARN CODES'!$A$2:$E1000,4,0) | I36: =VLOOKUP($E36,'YARN CODES'!$A$2:$E1000,5,0) | J36: 0
A37: 44496 | C37: =IFERROR(IF(E37="","","ST"&LEFT(E37,2)&COUNTIF(E$2:E37,"<>")),"") | D37: WEFT STOCK | E37: WE45 | F37: =VLOOKUP($E37,'YARN CODES'!$A$2:$E1000,2,0) | G37: =VLOOKUP($E37,'YARN CODES'!$A$2:$E1000,3,0) | H37: =VLOOKUP($E37,'YARN CODES'!$A$2:$E1000,4,0) | I37: =VLOOKUP($E37,'YARN CODES'!$A$2:$E1000,5,0) | J37: 134
A38: 44496 | C38: =IFERROR(IF(E38="","","ST"&LEFT(E38,2)&COUNTIF(E$2:E38,"<>")),"") | D38: WEFT STOCK | E38: WE46 | F38: =VLOOKUP($E38,'YARN CODES'!$A$2:$E1000,2,0) | G38: =VLOOKUP($E38,'YARN CODES'!$A$2:$E1000,3,0) | H38: =VLOOKUP($E38,'YARN CODES'!$A$2:$E1000,4,0) | I38: =VLOOKUP($E38,'YARN CODES'!$A$2:$E1000,5,0) | J38: 224
A39: 44496 | C39: =IFERROR(IF(E39="","","ST"&LEFT(E39,2)&COUNTIF(E$2:E39,"<>")),"") | D39: WEFT STOCK | E39: WE47 | F39: =VLOOKUP($E39,'YARN CODES'!$A$2:$E1000,2,0) | G39: =VLOOKUP($E39,'YARN CODES'!$A$2:$E1000,3,0) | H39: =VLOOKUP($E39,'YARN CODES'!$A$2:$E1000,4,0) | I39: =VLOOKUP($E39,'YARN CODES'!$A$2:$E1000,5,0) | J39: 108.2
A40: 44496 | C40: =IFERROR(IF(E40="","","ST"&LEFT(E40,2)&COUNTIF(E$2:E40,"<>")),"") | D40: WEFT STOCK | E40: WE48 | F40: =VLOOKUP($E40,'YARN CODES'!$A$2:$E1000,2,0) | G40: =VLOOKUP($E40,'YARN CODES'!$A$2:$E1000,3,0) | H40: =VLOOKUP($E40,'YARN CODES'!$A$2:$E1000,4,0) | I40: =VLOOKUP($E40,'YARN CODES'!$A$2:$E1000,5,0) | J40: 123.8
A41: 44496 | C41: =IFERROR(IF(E41="","","ST"&LEFT(E41,2)&COUNTIF(E$2:E41,"<>")),"") | D41: WEFT STOCK | E41: WE49 | F41: =VLOOKUP($E41,'YARN CODES'!$A$2:$E1000,2,0) | G41: =VLOOKUP($E41,'YARN CODES'!$A$2:$E1000,3,0) | H41: =VLOOKUP($E41,'YARN CODES'!$A$2:$E1000,4,0) | I41: =VLOOKUP($E41,'YARN CODES'!$A$2:$E1000,5,0) | J41: 0
A42: 44496 | C42: =IFERROR(IF(E42="","","ST"&LEFT(E42,2)&COUNTIF(E$2:E42,"<>")),"") | D42: WEFT STOCK | E42: WE50 | F42: =VLOOKUP($E42,'YARN CODES'!$A$2:$E1000,2,0) | G42: =VLOOKUP($E42,'YARN CODES'!$A$2:$E1000,3,0) | H42: =VLOOKUP($E42,'YARN CODES'!$A$2:$E1000,4,0) | I42: =VLOOKUP($E42,'YARN CODES'!$A$2:$E1000,5,0) | J42: 142.25
A43: 44496 | C43: =IFERROR(IF(E43="","","ST"&LEFT(E43,2)&COUNTIF(E$2:E43,"<>")),"") | D43: WEFT STOCK | E43: WE51 | F43: =VLOOKUP($E43,'YARN CODES'!$A$2:$E1000,2,0) | G43: =VLOOKUP($E43,'YARN CODES'!$A$2:$E1000,3,0) | H43: =VLOOKUP($E43,'YARN CODES'!$A$2:$E1000,4,0) | I43: =VLOOKUP($E43,'YARN CODES'!$A$2:$E1000,5,0) | J43: 0
A44: 44496 | C44: =IFERROR(IF(E44="","","ST"&LEFT(E44,2)&COUNTIF(E$2:E44,"<>")),"") | D44: WEFT STOCK | E44: WE52 | F44: =VLOOKUP($E44,'YARN CODES'!$A$2:$E1000,2,0) | G44: =VLOOKUP($E44,'YARN CODES'!$A$2:$E1000,3,0) | H44: =VLOOKUP($E44,'YARN CODES'!$A$2:$E1000,4,0) | I44: =VLOOKUP($E44,'YARN CODES'!$A$2:$E1000,5,0) | J44: 247.57
A45: 44496 | C45: =IFERROR(IF(E45="","","ST"&LEFT(E45,2)&COUNTIF(E$2:E45,"<>")),"") | D45: WEFT STOCK | E45: WE53 | F45: =VLOOKUP($E45,'YARN CODES'!$A$2:$E1000,2,0) | G45: =VLOOKUP($E45,'YARN CODES'!$A$2:$E1000,3,0) | H45: =VLOOKUP($E45,'YARN CODES'!$A$2:$E1000,4,0) | I45: =VLOOKUP($E45,'YARN CODES'!$A$2:$E1000,5,0) | J45: 184.85
A46: 44496 | C46: =IFERROR(IF(E46="","","ST"&LEFT(E46,2)&COUNTIF(E$2:E46,"<>")),"") | D46: WEFT STOCK | E46: WE54 | F46: =VLOOKUP($E46,'YARN CODES'!$A$2:$E1000,2,0) | G46: =VLOOKUP($E46,'YARN CODES'!$A$2:$E1000,3,0) | H46: =VLOOKUP($E46,'YARN CODES'!$A$2:$E1000,4,0) | I46: =VLOOKUP($E46,'YARN CODES'!$A$2:$E1000,5,0) | J46: 102
A47: 44496 | C47: =IFERROR(IF(E47="","","ST"&LEFT(E47,2)&COUNTIF(E$2:E47,"<>")),"") | D47: WEFT STOCK | E47: WE55 | F47: =VLOOKUP($E47,'YARN CODES'!$A$2:$E1000,2,0) | G47: =VLOOKUP($E47,'YARN CODES'!$A$2:$E1000,3,0) | H47: =VLOOKUP($E47,'YARN CODES'!$A$2:$E1000,4,0) | I47: =VLOOKUP($E47,'YARN CODES'!$A$2:$E1000,5,0) | J47: 0
A48: 44496 | C48: =IFERROR(IF(E48="","","ST"&LEFT(E48,2)&COUNTIF(E$2:E48,"<>")),"") | D48: WEFT STOCK | E48: WE56 | F48: =VLOOKUP($E48,'YARN CODES'!$A$2:$E1000,2,0) | G48: =VLOOKUP($E48,'YARN CODES'!$A$2:$E1000,3,0) | H48: =VLOOKUP($E48,'YARN CODES'!$A$2:$E1000,4,0) | I48: =VLOOKUP($E48,'YARN CODES'!$A$2:$E1000,5,0) | J48: 23
A49: 44496 | C49: =IFERROR(IF(E49="","","ST"&LEFT(E49,2)&COUNTIF(E$2:E49,"<>")),"") | D49: WEFT STOCK | E49: WE57 | F49: =VLOOKUP($E49,'YARN CODES'!$A$2:$E1000,2,0) | G49: =VLOOKUP($E49,'YARN CODES'!$A$2:$E1000,3,0) | H49: =VLOOKUP($E49,'YARN CODES'!$A$2:$E1000,4,0) | I49: =VLOOKUP($E49,'YARN CODES'!$A$2:$E1000,5,0) | J49: 55
A50: 44496 | C50: =IFERROR(IF(E50="","","ST"&LEFT(E50,2)&COUNTIF(E$2:E50,"<>")),"") | D50: WEFT STOCK | E50: WE58 | F50: =VLOOKUP($E50,'YARN CODES'!$A$2:$E1000,2,0) | G50: =VLOOKUP($E50,'YARN CODES'!$A$2:$E1000,3,0) | H50: =VLOOKUP($E50,'YARN CODES'!$A$2:$E1000,4,0) | I50: =VLOOKUP($E50,'YARN CODES'!$A$2:$E1000,5,0) | J50: 68.15
A51: 44496 | C51: =IFERROR(IF(E51="","","ST"&LEFT(E51,2)&COUNTIF(E$2:E51,"<>")),"") | D51: WEFT STOCK | E51: WE59 | F51: =VLOOKUP($E51,'YARN CODES'!$A$2:$E1000,2,0) | G51: =VLOOKUP($E51,'YARN CODES'!$A$2:$E1000,3,0) | H51: =VLOOKUP($E51,'YARN CODES'!$A$2:$E1000,4,0) | I51: =VLOOKUP($E51,'YARN CODES'!$A$2:$E1000,5,0) | J51: 0
A52: 44496 | C52: =IFERROR(IF(E52="","","ST"&LEFT(E52,2)&COUNTIF(E$2:E52,"<>")),"") | D52: WEFT STOCK | E52: WE60 | F52: =VLOOKUP($E52,'YARN CODES'!$A$2:$E1000,2,0) | G52: =VLOOKUP($E52,'YARN CODES'!$A$2:$E1000,3,0) | H52: =VLOOKUP($E52,'YARN CODES'!$A$2:$E1000,4,0) | I52: =VLOOKUP($E52,'YARN CODES'!$A$2:$E1000,5,0) | J52: 100.1
A53: 44496 | C53: =IFERROR(IF(E53="","","ST"&LEFT(E53,2)&COUNTIF(E$2:E53,"<>")),"") | D53: WEFT STOCK | E53: WE61 | F53: =VLOOKUP($E53,'YARN CODES'!$A$2:$E1000,2,0) | G53: =VLOOKUP($E53,'YARN CODES'!$A$2:$E1000,3,0) | H53: =VLOOKUP($E53,'YARN CODES'!$A$2:$E1000,4,0) | I53: =VLOOKUP($E53,'YARN CODES'!$A$2:$E1000,5,0) | J53: 0
A54: 44496 | C54: =IFERROR(IF(E54="","","ST"&LEFT(E54,2)&COUNTIF(E$2:E54,"<>")),"") | D54: WEFT STOCK | E54: WE62 | F54: =VLOOKUP($E54,'YARN CODES'!$A$2:$E1000,2,0) | G54: =VLOOKUP($E54,'YARN CODES'!$A$2:$E1000,3,0) | H54: =VLOOKUP($E54,'YARN CODES'!$A$2:$E1000,4,0) | I54: =VLOOKUP($E54,'YARN CODES'!$A$2:$E1000,5,0) | J54: 52.55
A55: 44496 | C55: =IFERROR(IF(E55="","","ST"&LEFT(E55,2)&COUNTIF(E$2:E55,"<>")),"") | D55: WEFT STOCK | E55: WE63 | F55: =VLOOKUP($E55,'YARN CODES'!$A$2:$E1000,2,0) | G55: =VLOOKUP($E55,'YARN CODES'!$A$2:$E1000,3,0) | H55: =VLOOKUP($E55,'YARN CODES'!$A$2:$E1000,4,0) | I55: =VLOOKUP($E55,'YARN CODES'!$A$2:$E1000,5,0) | J55: 0
A56: 44496 | C56: =IFERROR(IF(E56="","","ST"&LEFT(E56,2)&COUNTIF(E$2:E56,"<>")),"") | D56: WEFT STOCK | E56: WE64 | F56: =VLOOKUP($E56,'YARN CODES'!$A$2:$E1000,2,0) | G56: =VLOOKUP($E56,'YARN CODES'!$A$2:$E1000,3,0) | H56: =VLOOKUP($E56,'YARN CODES'!$A$2:$E1000,4,0) | I56: =VLOOKUP($E56,'YARN CODES'!$A$2:$E1000,5,0) | J56: 16.9
A57: 44496 | C57: =IFERROR(IF(E57="","","ST"&LEFT(E57,2)&COUNTIF(E$2:E57,"<>")),"") | D57: WEFT STOCK | E57: WE65 | F57: =VLOOKUP($E57,'YARN CODES'!$A$2:$E1000,2,0) | G57: =VLOOKUP($E57,'YARN CODES'!$A$2:$E1000,3,0) | H57: =VLOOKUP($E57,'YARN CODES'!$A$2:$E1000,4,0) | I57: =VLOOKUP($E57,'YARN CODES'!$A$2:$E1000,5,0) | J57: 0
A58: 44496 | C58: =IFERROR(IF(E58="","","ST"&LEFT(E58,2)&COUNTIF(E$2:E58,"<>")),"") | D58: WEFT STOCK | E58: WE66 | F58: =VLOOKUP($E58,'YARN CODES'!$A$2:$E1000,2,0) | G58: =VLOOKUP($E58,'YARN CODES'!$A$2:$E1000,3,0) | H58: =VLOOKUP($E58,'YARN CODES'!$A$2:$E1000,4,0) | I58: =VLOOKUP($E58,'YARN CODES'!$A$2:$E1000,5,0) | J58: 0
A59: 44496 | C59: =IFERROR(IF(E59="","","ST"&LEFT(E59,2)&COUNTIF(E$2:E59,"<>")),"") | D59: WEFT STOCK | E59: WE67 | F59: =VLOOKUP($E59,'YARN CODES'!$A$2:$E1000,2,0) | G59: =VLOOKUP($E59,'YARN CODES'!$A$2:$E1000,3,0) | H59: =VLOOKUP($E59,'YARN CODES'!$A$2:$E1000,4,0) | I59: =VLOOKUP($E59,'YARN CODES'!$A$2:$E1000,5,0) | J59: 0
A60: 44496 | C60: =IFERROR(IF(E60="","","ST"&LEFT(E60,2)&COUNTIF(E$2:E60,"<>")),"") | D60: WEFT STOCK | E60: WE305 | F60: =VLOOKUP($E60,'YARN CODES'!$A$2:$E1000,2,0) | G60: =VLOOKUP($E60,'YARN CODES'!$A$2:$E1000,3,0) | H60: =VLOOKUP($E60,'YARN CODES'!$A$2:$E1000,4,0) | I60: =VLOOKUP($E60,'YARN CODES'!$A$2:$E1000,5,0) | J60: 0
A61: 44496 | C61: =IFERROR(IF(E61="","","ST"&LEFT(E61,2)&COUNTIF(E$2:E61,"<>")),"") | D61: WEFT STOCK | E61: WE307 | F61: =VLOOKUP($E61,'YARN CODES'!$A$2:$E1000,2,0) | G61: =VLOOKUP($E61,'YARN CODES'!$A$2:$E1000,3,0) | H61: =VLOOKUP($E61,'YARN CODES'!$A$2:$E1000,4,0) | I61: =VLOOKUP($E61,'YARN CODES'!$A$2:$E1000,5,0) | J61: 0
A62: 44496 | C62: =IFERROR(IF(E62="","","ST"&LEFT(E62,2)&COUNTIF(E$2:E62,"<>")),"") | D62: WEFT STOCK | E62: WE314 | F62: =VLOOKUP($E62,'YARN CODES'!$A$2:$E1000,2,0) | G62: =VLOOKUP($E62,'YARN CODES'!$A$2:$E1000,3,0) | H62: =VLOOKUP($E62,'YARN CODES'!$A$2:$E1000,4,0) | I62: =VLOOKUP($E62,'YARN CODES'!$A$2:$E1000,5,0) | J62: 0
A63: 44496 | C63: =IFERROR(IF(E63="","","ST"&LEFT(E63,2)&COUNTIF(E$2:E63,"<>")),"") | D63: WEFT STOCK | E63: WE317 | F63: =VLOOKUP($E63,'YARN CODES'!$A$2:$E1000,2,0) | G63: =VLOOKUP($E63,'YARN CODES'!$A$2:$E1000,3,0) | H63: =VLOOKUP($E63,'YARN CODES'!$A$2:$E1000,4,0) | I63: =VLOOKUP($E63,'YARN CODES'!$A$2:$E1000,5,0) | J63: 0
A64: 44496 | C64: =IFERROR(IF(E64="","","ST"&LEFT(E64,2)&COUNTIF(E$2:E64,"<>")),"") | D64: WEFT STOCK | E64: WE327 | F64: =VLOOKUP($E64,'YARN CODES'!$A$2:$E1000,2,0) | G64: =VLOOKUP($E64,'YARN CODES'!$A$2:$E1000,3,0) | H64: =VLOOKUP($E64,'YARN CODES'!$A$2:$E1000,4,0) | I64: =VLOOKUP($E64,'YARN CODES'!$A$2:$E1000,5,0) | J64: 0
A65: 44496 | C65: =IFERROR(IF(E65="","","ST"&LEFT(E65,2)&COUNTIF(E$2:E65,"<>")),"") | D65: WEFT STOCK | E65: WE329 | F65: =VLOOKUP($E65,'YARN CODES'!$A$2:$E1000,2,0) | G65: =VLOOKUP($E65,'YARN CODES'!$A$2:$E1000,3,0) | H65: =VLOOKUP($E65,'YARN CODES'!$A$2:$E1000,4,0) | I65: =VLOOKUP($E65,'YARN CODES'!$A$2:$E1000,5,0) | J65: 0
A66: 44496 | C66: =IFERROR(IF(E66="","","ST"&LEFT(E66,2)&COUNTIF(E$2:E66,"<>")),"") | D66: WEFT STOCK | E66: WE330 | F66: =VLOOKUP($E66,'YARN CODES'!$A$2:$E1000,2,0) | G66: =VLOOKUP($E66,'YARN CODES'!$A$2:$E1000,3,0) | H66: =VLOOKUP($E66,'YARN CODES'!$A$2:$E1000,4,0) | I66: =VLOOKUP($E66,'YARN CODES'!$A$2:$E1000,5,0) | J66: 0
A67: 44496 | C67: =IFERROR(IF(E67="","","ST"&LEFT(E67,2)&COUNTIF(E$2:E67,"<>")),"") | D67: WEFT STOCK | E67: WE331 | F67: =VLOOKUP($E67,'YARN CODES'!$A$2:$E1000,2,0) | G67: =VLOOKUP($E67,'YARN CODES'!$A$2:$E1000,3,0) | H67: =VLOOKUP($E67,'YARN CODES'!$A$2:$E1000,4,0) | I67: =VLOOKUP($E67,'YARN CODES'!$A$2:$E1000,5,0) | J67: 0
A68: 44496 | C68: =IFERROR(IF(E68="","","ST"&LEFT(E68,2)&COUNTIF(E$2:E68,"<>")),"") | D68: WEFT STOCK | E68: [Person_2] | F68: =VLOOKUP($E68,'YARN CODES'!$A$2:$E1000,2,0) | G68: =VLOOKUP($E68,'YARN CODES'!$A$2:$E1000,3,0) | H68: =VLOOKUP($E68,'YARN CODES'!$A$2:$E1000,4,0) | I68: =VLOOKUP($E68,'YARN CODES'!$A$2:$E1000,5,0) | J68: 0
A69: 44496 | C69: =IFERROR(IF(E69="","","ST"&LEFT(E69,2)&COUNTIF(E$2:E69,"<>")),"") | D69: WEFT STOCK | E69: WE68 | F69: =VLOOKUP($E69,'YARN CODES'!$A$2:$E1000,2,0) | G69: =VLOOKUP($E69,'YARN CODES'!$A$2:$E1000,3,0) | H69: =VLOOKUP($E69,'YARN CODES'!$A$2:$E1000,4,0) | I69: =VLOOKUP($E69,'YARN CODES'!$A$2:$E1000,5,0) | J69: 210.9
A70: 44496 | C70: =IFERROR(IF(E70="","","ST"&LEFT(E70,2)&COUNTIF(E$2:E70,"<>")),"") | D70: WEFT STOCK | E70: WE69 | F70: =VLOOKUP($E70,'YARN CODES'!$A$2:$E1000,2,0) | G70: =VLOOKUP($E70,'YARN CODES'!$A$2:$E1000,3,0) | H70: =VLOOKUP($E70,'YARN CODES'!$A$2:$E1000,4,0) | I70: =VLOOKUP($E70,'YARN CODES'!$A$2:$E1000,5,0) | J70: 0
A71: 44496 | C71: =IFERROR(IF(E71="","","ST"&LEFT(E71,2)&COUNTIF(E$2:E71,"<>")),"") | D71: WEFT STOCK | E71: WE70 | F71: =VLOOKUP($E71,'YARN CODES'!$A$2:$E1000,2,0) | G71: =VLOOKUP($E71,'YARN CODES'!$A$2:$E1000,3,0) | H71: =VLOOKUP($E71,'YARN CODES'!$A$2:$E1000,4,0) | I71: =VLOOKUP($E71,'YARN CODES'!$A$2:$E1000,5,0) | J71: 0
A72: 44496 | C72: =IFERROR(IF(E72="","","ST"&LEFT(E72,2)&COUNTIF(E$2:E72,"<>")),"") | D72: WEFT STOCK | E72: WE71 | F72: =VLOOKUP($E72,'YARN CODES'!$A$2:$E1000,2,0) | G72: =VLOOKUP($E72,'YARN CODES'!$A$2:$E1000,3,0) | H72: =VLOOKUP($E72,'YARN CODES'!$A$2:$E1000,4,0) | I72: =VLOOKUP($E72,'YARN CODES'!$A$2:$E1000,5,0) | J72: 25
A73: 44496 | C73: =IFERROR(IF(E73="","","ST"&LEFT(E73,2)&COUNTIF(E$2:E73,"<>")),"") | D73: WEFT STOCK | E73: WE72 | F73: =VLOOKUP($E73,'YARN CODES'!$A$2:$E1000,2,0) | G73: =VLOOKUP($E73,'YARN CODES'!$A$2:$E1000,3,0) | H73: =VLOOKUP($E73,'YARN CODES'!$A$2:$E1000,4,0) | I73: =VLOOKUP($E73,'YARN CODES'!$A$2:$E1000,5,0) | J73: 159.5
A74: 44496 | C74: =IFERROR(IF(E74="","","ST"&LEFT(E74,2)&COUNTIF(E$2:E74,"<>")),"") | D74: WEFT STOCK | E74: WE73 | F74: =VLOOKUP($E74,'YARN CODES'!$A$2:$E1000,2,0) | G74: =VLOOKUP($E74,'YARN CODES'!$A$2:$E1000,3,0) | H74: =VLOOKUP($E74,'YARN CODES'!$A$2:$E1000,4,0) | I74: =VLOOKUP($E74,'YARN CODES'!$A$2:$E1000,5,0) | J74: 0
A75: 44496 | C75: =IFERROR(IF(E75="","","ST"&LEFT(E75,2)&COUNTIF(E$2:E75,"<>")),"") | D75: WEFT STOCK | E75: WE74 | F75: =VLOOKUP($E75,'YARN CODES'!$A$2:$E1000,2,0) | G75: =VLOOKUP($E75,'YARN CODES'!$A$2:$E1000,3,0) | H75: =VLOOKUP($E75,'YARN CODES'!$A$2:$E1000,4,0) | I75: =VLOOKUP($E75,'YARN CODES'!$A$2:$E1000,5,0) | J75: 29.2
A76: 44496 | C76: =IFERROR(IF(E76="","","ST"&LEFT(E76,2)&COUNTIF(E$2:E76,"<>")),"") | D76: WEFT STOCK | E76: WE75 | F76: =VLOOKUP($E76,'YARN CODES'!$A$2:$E1000,2,0) | G76: =VLOOKUP($E76,'YARN CODES'!$A$2:$E1000,3,0) | H76: =VLOOKUP($E76,'YARN CODES'!$A$2:$E1000,4,0) | I76: =VLOOKUP($E76,'YARN CODES'!$A$2:$E1000,5,0) | J76: 29.2
A77: 44496 | C77: =IFERROR(IF(E77="","","ST"&LEFT(E77,2)&COUNTIF(E$2:E77,"<>")),"") | D77: WEFT STOCK | E77: WE76 | F77: =VLOOKUP($E77,'YARN CODES'!$A$2:$E1000,2,0) | G77: =VLOOKUP($E77,'YARN CODES'!$A$2:$E1000,3,0) | H77: =VLOOKUP($E77,'YARN CODES'!$A$2:$E1000,4,0) | I77: =VLOOKUP($E77,'YARN CODES'!$A$2:$E1000,5,0) | J77: 41
A78: 44496 | C78: =IFERROR(IF(E78="","","ST"&LEFT(E78,2)&COUNTIF(E$2:E78,"<>")),"") | D78: WEFT STOCK | E78: WE77 | F78: =VLOOKUP($E78,'YARN CODES'!$A$2:$E1000,2,0) | G78: =VLOOKUP($E78,'YARN CODES'!$A$2:$E1000,3,0) | H78: =VLOOKUP($E78,'YARN CODES'!$A$2:$E1000,4,0) | I78: =VLOOKUP($E78,'YARN CODES'!$A$2:$E1000,5,0) | J78: 18.1
A79: 44496 | C79: =IFERROR(IF(E79="","","ST"&LEFT(E79,2)&COUNTIF(E$2:E79,"<>")),"") | D79: WEFT STOCK | E79: WE78 | F79: =VLOOKUP($E79,'YARN CODES'!$A$2:$E1000,2,0) | G79: =VLOOKUP($E79,'YARN CODES'!$A$2:$E1000,3,0) | H79: =VLOOKUP($E79,'YARN CODES'!$A$2:$E1000,4,0) | I79: =VLOOKUP($E79,'YARN CODES'!$A$2:$E1000,5,0) | J79: 100.4
A80: 44496 | C80: =IFERROR(IF(E80="","","ST"&LEFT(E80,2)&COUNTIF(E$2:E80,"<>")),"") | D80: WEFT STOCK | E80: WE79 | F80: =VLOOKUP($E80,'YARN CODES'!$A$2:$E1000,2,0) | G80: =VLOOKUP($E80,'YARN CODES'!$A$2:$E1000,3,0) | H80: =VLOOKUP($E80,'YARN CODES'!$A$2:$E1000,4,0) | I80: =VLOOKUP($E80,'YARN CODES'!$A$2:$E1000,5,0) | J80: 0
A81: 44496 | C81: =IFERROR(IF(E81="","","ST"&LEFT(E81,2)&COUNTIF(E$2:E81,"<>")),"") | D81: WEFT STOCK | E81: WE80 | F81: =VLOOKUP($E81,'YARN CODES'!$A$2:$E1000,2,0) | G81: =VLOOKUP($E81,'YARN CODES'!$A$2:$E1000,3,0) | H81: =VLOOKUP($E81,'YARN CODES'!$A$2:$E1000,4,0) | I81: =VLOOKUP($E81,'YARN CODES'!$A$2:$E1000,5,0) | J81: 0
A82: 44496 | C82: =IFERROR(IF(E82="","","ST"&LEFT(E82,2)&COUNTIF(E$2:E82,"<>")),"") | D82: WEFT STOCK | E82: WE81 | F82: =VLOOKUP($E82,'YARN CODES'!$A$2:$E1000,2,0) | G82: =VLOOKUP($E82,'YARN CODES'!$A$2:$E1000,3,0) | H82: =VLOOKUP($E82,'YARN CODES'!$A$2:$E1000,4,0) | I82: =VLOOKUP($E82,'YARN CODES'!$A$2:$E1000,5,0) | J82: 76.1
A83: 44496 | C83: =IFERROR(IF(E83="","","ST"&LEFT(E83,2)&COUNTIF(E$2:E83,"<>")),"") | D83: WEFT STOCK | E83: WE82 | F83: =VLOOKUP($E83,'YARN CODES'!$A$2:$E1000,2,0) | G83: =VLOOKUP($E83,'YARN CODES'!$A$2:$E1000,3,0) | H83: =VLOOKUP($E83,'YARN CODES'!$A$2:$E1000,4,0) | I83: =VLOOKUP($E83,'YARN CODES'!$A$2:$E1000,5,0) | J83: 16.2
A84: 44496 | C84: =IFERROR(IF(E84="","","ST"&LEFT(E84,2)&COUNTIF(E$2:E84,"<>")),"") | D84: WEFT STOCK | E84: WE83 | F84: =VLOOKUP($E84,'YARN CODES'!$A$2:$E1000,2,0) | G84: =VLOOKUP($E84,'YARN CODES'!$A$2:$E1000,3,0) | H84: =VLOOKUP($E84,'YARN CODES'!$A$2:$E1000,4,0) | I84: =VLOOKUP($E84,'YARN CODES'!$A$2:$E1000,5,0) | J84: 23
A85: 44496 | C85: =IFERROR(IF(E85="","","ST"&LEFT(E85,2)&COUNTIF(E$2:E85,"<>")),"") | D85: WEFT STOCK | E85: WE84 | F85: =VLOOKUP($E85,'YARN CODES'!$A$2:$E1000,2,0) | G85: =VLOOKUP($E85,'YARN CODES'!$A$2:$E1000,3,0) | H85: =VLOOKUP($E85,'YARN CODES'!$A$2:$E1000,4,0) | I85: =VLOOKUP($E85,'YARN CODES'!$A$2:$E1000,5,0) | J85: 8.3
A86: 44496 | C86: =IFERROR(IF(E86="","","ST"&LEFT(E86,2)&COUNTIF(E$2:E86,"<>")),"") | D86: WEFT STOCK | E86: WE85 | F86: =VLOOKUP($E86,'YARN CODES'!$A$2:$E1000,2,0) | G86: =VLOOKUP($E86,'YARN CODES'!$A$2:$E1000,3,0) | H86: =VLOOKUP($E86,'YARN CODES'!$A$2:$E1000,4,0) | I86: =VLOOKUP($E86,'YARN CODES'!$A$2:$E1000,5,0) | J86: 83.1
A87: 44496 | C87: =IFERROR(IF(E87="","","ST"&LEFT(E87,2)&COUNTIF(E$2:E87,"<>")),"") | D87: WEFT STOCK | E87: WE86 | F87: =VLOOKUP($E87,'YARN CODES'!$A$2:$E1000,2,0) | G87: =VLOOKUP($E87,'YARN CODES'!$A$2:$E1000,3,0) | H87: =VLOOKUP($E87,'YARN CODES'!$A$2:$E1000,4,0) | I87: =VLOOKUP($E87,'YARN CODES'!$A$2:$E1000,5,0) | J87: 0
A88: 44496 | C88: =IFERROR(IF(E88="","","ST"&LEFT(E88,2)&COUNTIF(E$2:E88,"<>")),"") | D88: WEFT STOCK | E88: WE87 | F88: =VLOOKUP($E88,'YARN CODES'!$A$2:$E1000,2,0) | G88: =VLOOKUP($E88,'YARN CODES'!$A$2:$E1000,3,0) | H88: =VLOOKUP($E88,'YARN CODES'!$A$2:$E1000,4,0) | I88: =VLOOKUP($E88,'YARN CODES'!$A$2:$E1000,5,0) | J88: 17.3
A89: 44496 | C89: =IFERROR(IF(E89="","","ST"&LEFT(E89,2)&COUNTIF(E$2:E89,"<>")),"") | D89: WEFT STOCK | E89: WE88 | F89: =VLOOKUP($E89,'YARN CODES'!$A$2:$E1000,2,0) | G89: =VLOOKUP($E89,'YARN CODES'!$A$2:$E1000,3,0) | H89: =VLOOKUP($E89,'YARN CODES'!$A$2:$E1000,4,0) | I89: =VLOOKUP($E89,'YARN CODES'!$A$2:$E1000,5,0) | J89: 42
A90: 44496 | C90: =IFERROR(IF(E90="","","ST"&LEFT(E90,2)&COUNTIF(E$2:E90,"<>")),"") | D90: WEFT STOCK | E90: WE89 | F90: =VLOOKUP($E90,'YARN CODES'!$A$2:$E1000,2,0) | G90: =VLOOKUP($E90,'YARN CODES'!$A$2:$E1000,3,0) | H90: =VLOOKUP($E90,'YARN CODES'!$A$2:$E1000,4,0) | I90: =VLOOKUP($E90,'YARN CODES'!$A$2:$E1000,5,0) | J90: 28.2
A91: 44496 | C91: =IFERROR(IF(E91="","","ST"&LEFT(E91,2)&COUNTIF(E$2:E91,"<>")),"") | D91: WEFT STOCK | E91: WE90 | F91: =VLOOKUP($E91,'YARN CODES'!$A$2:$E1000,2,0) | G91: =VLOOKUP($E91,'YARN CODES'!$A$2:$E1000,3,0) | H91: =VLOOKUP($E91,'YARN CODES'!$A$2:$E1000,4,0) | I91: =VLOOKUP($E91,'YARN CODES'!$A$2:$E1000,5,0) | J91: 13.12
A92: 44496 | C92: =IFERROR(IF(E92="","","ST"&LEFT(E92,2)&COUNTIF(E$2:E92,"<>")),"") | D92: WEFT STOCK | E92: WE91 | F92: =VLOOKUP($E92,'YARN CODES'!$A$2:$E1000,2,0) | G92: =VLOOKUP($E92,'YARN CODES'!$A$2:$E1000,3,0) | H92: =VLOOKUP($E92,'YARN CODES'!$A$2:$E1000,4,0) | I92: =VLOOKUP($E92,'YARN CODES'!$A$2:$E1000,5,0) | J92: 77.7
A93: 44496 | C93: =IFERROR(IF(E93="","","ST"&LEFT(E93,2)&COUNTIF(E$2:E93,"<>")),"") | D93: WEFT STOCK | E93: WE92 | F93: =VLOOKUP($E93,'YARN CODES'!$A$2:$E1000,2,0) | G93: =VLOOKUP($E93,'YARN CODES'!$A$2:$E1000,3,0) | H93: =VLOOKUP($E93,'YARN CODES'!$A$2:$E1000,4,0) | I93: =VLOOKUP($E93,'YARN CODES'!$A$2:$E1000,5,0) | J93: 48
A94: 44496 | C94: =IFERROR(IF(E94="","","ST"&LEFT(E94,2)&COUNTIF(E$2:E94,"<>")),"") | D94: WEFT STOCK | E94: WE93 | F94: =VLOOKUP($E94,'YARN CODES'!$A$2:$E1000,2,0) | G94: =VLOOKUP($E94,'YARN CODES'!$A$2:$E1000,3,0) | H94: =VLOOKUP($E94,'YARN CODES'!$A$2:$E1000,4,0) | I94: =VLOOKUP($E94,'YARN CODES'!$A$2:$E1000,5,0) | J94: 0
A95: 44496 | C95: =IFERROR(IF(E95="","","ST"&LEFT(E95,2)&COUNTIF(E$2:E95,"<>")),"") | D95: WEFT STOCK | E95: WE94 | F95: =VLOOKUP($E95,'YARN CODES'!$A$2:$E1000,2,0) | G95: =VLOOKUP($E95,'YARN CODES'!$A$2:$E1000,3,0) | H95: =VLOOKUP($E95,'YARN CODES'!$A$2:$E1000,4,0) | I95: =VLOOKUP($E95,'YARN CODES'!$A$2:$E1000,5,0) | J95: 136.28
A96: 44496 | C96: =IFERROR(IF(E96="","","ST"&LEFT(E96,2)&COUNTIF(E$2:E96,"<>")),"") | D96: WEFT STOCK | E96: WE95 | F96: =VLOOKUP($E96,'YARN CODES'!$A$2:$E1000,2,0) | G96: =VLOOKUP($E96,'YARN CODES'!$A$2:$E1000,3,0) | H96: =VLOOKUP($E96,'YARN CODES'!$A$2:$E1000,4,0) | I96: =VLOOKUP($E96,'YARN CODES'!$A$2:$E1000,5,0) | J96: 0
A97: 44496 | C97: =IFERROR(IF(E97="","","ST"&LEFT(E97,2)&COUNTIF(E$2:E97,"<>")),"") | D97: WEFT STOCK | E97: WE96 | F97: =VLOOKUP($E97,'YARN CODES'!$A$2:$E1000,2,0) | G97: =VLOOKUP($E97,'YARN CODES'!$A$2:$E1000,3,0) | H97: =VLOOKUP($E97,'YARN CODES'!$A$2:$E1000,4,0) | I97: =VLOOKUP($E97,'YARN CODES'!$A$2:$E1000,5,0) | J97: 247.3
A98: 44496 | C98: =IFERROR(IF(E98="","","ST"&LEFT(E98,2)&COUNTIF(E$2:E98,"<>")),"") | D98: WEFT STOCK | E98: WE97 | F98: =VLOOKUP($E98,'YARN CODES'!$A$2:$E1000,2,0) | G98: =VLOOKUP($E98,'YARN CODES'!$A$2:$E1000,3,0) | H98: =VLOOKUP($E98,'YARN CODES'!$A$2:$E1000,4,0) | I98: =VLOOKUP($E98,'YARN CODES'!$A$2:$E1000,5,0) | J98: 0
A99: 44496 | C99: =IFERROR(IF(E99="","","ST"&LEFT(E99,2)&COUNTIF(E$2:E99,"<>")),"") | D99: WEFT STOCK | E99: WE98 | F99: =VLOOKUP($E99,'YARN CODES'!$A$2:$E1000,2,0) | G99: =VLOOKUP($E99,'YARN CODES'!$A$2:$E1000,3,0) | H99: =VLOOKUP($E99,'YARN CODES'!$A$2:$E1000,4,0) | I99: =VLOOKUP($E99,'YARN CODES'!$A$2:$E1000,5,0) | J99: 54
A100: 44496 | C100: =IFERROR(IF(E100="","","ST"&LEFT(E100,2)&COUNTIF(E$2:E100,"<>")),"") | D100: WEFT STOCK | E100: WE99 | F100: =VLOOKUP($E100,'YARN CODES'!$A$2:$E1000,2,0) | G100: =VLOOKUP($E100,'YARN CODES'!$A$2:$E1000,3,0) | H100: =VLOOKUP($E100,'YARN CODES'!$A$2:$E1000,4,0) | I100: =VLOOKUP($E100,'YARN CODES'!$A$2:$E1000,5,0) | J100: 0
...

Sheet Sheet7
A2: {=INDEX('YARN CODES'!$A$2:$A$1000,MATCH(D2&E2,'YARN CODES'!$C$2:$C$1000&'YARN CODES'!$D$2:$D$1000,0))} | B2: WEFT STOCK | C2: CHENILLE | D2: 2 NM | E2: NATURAL CHENILLE | F2: NATURAL CHENILLE | G2: 0 | H2: =D2&E2 | I2: =A2
A3: {=INDEX('YARN CODES'!$A$2:$A$1000,MATCH(D3&E3,'YARN CODES'!$C$2:$C$1000&'YARN CODES'!$D$2:$D$1000,0))} | B3: WEFT STOCK | C3: CHENILLE | D3: 4 NM | E3: P. GREEN | F3: P. GREEN | G3: 0 | H3: =D3&E3 | I3: =A3
A4: {=INDEX('YARN CODES'!$A$2:$A$1000,MATCH(D4&E4,'YARN CODES'!$C$2:$C$1000&'YARN CODES'!$D$2:$D$1000,0))} | B4: WEFT STOCK | C4: CHENILLE | D4: 4 NM | E4: SEA GREEN | F4: SEA GREEN | G4: 48.1 | H4: =D4&E4 | I4: =A4
A5: {=INDEX('YARN CODES'!$A$2:$A$1000,MATCH(D5&E5,'YARN CODES'!$C$2:$C$1000&'YARN CODES'!$D$2:$D$1000,0))} | B5: WEFT STOCK | C5: CHENILLE | D5: 4 NM | E5: MAROON | F5: MAROON | G5: 93 | H5: =D5&E5 | I5: =A5
A6: {=INDEX('YARN CODES'!$A$2:$A$1000,MATCH(D6&E6,'YARN CODES'!$C$2:$C$1000&'YARN CODES'!$D$2:$D$1000,0))} | B6: WEFT STOCK | C6: CHENILLE | D6: 4 NM | E6: T BLUE | F6: T BLUE | G6: 0 | H6: =D6&E6 | I6: =A6
A7: {=INDEX('YARN CODES'!$A$2:$A$1000,MATCH(D7&E7,'YARN CODES'!$C$2:$C$1000&'YARN CODES'!$D$2:$D$1000,0))} | B7: WEFT STOCK | C7: CHENILLE | D7: 4 NM | E7: D. PINK | F7: D. PINK | G7: 0 | H7: =D7&E7 | I7: =A7
A8: {=INDEX('YARN CODES'!$A$2:$A$1000,MATCH(D8&E8,'YARN CODES'!$C$2:$C$1000&'YARN CODES'!$D$2:$D$1000,0))} | B8: WEFT STOCK | C8: CHENILLE | D8: 4 NM | E8: BLACK | F8: BLACK | G8: 21 | H8: =D8&E8 | I8: =A8
A9: {=INDEX('YARN CODES'!$A$2:$A$1000,MATCH(D9&E9,'YARN CODES'!$C$2:$C$1000&'YARN CODES'!$D$2:$D$1000,0))} | B9: WEFT STOCK | C9: CHENILLE | D9: 4 NM | E9: COFFEE | F9: COFFEE | G9: 137.16 | H9: =D9&E9 | I9: =A9
A10: {=INDEX('YARN CODES'!$A$2:$A$1000,MATCH(D10&E10,'YARN CODES'!$C$2:$C$1000&'YARN CODES'!$D$2:$D$1000,0))} | B10: WEFT STOCK | C10: CHENILLE | D10: 4 NM | E10: D MAROON | F10: D MAROON | G10: 6 | H10: =D10&E10 | I10: =A10
A11: {=INDEX('YARN CODES'!$A$2:$A$1000,MATCH(D11&E11,'YARN CODES'!$C$2:$C$1000&'YARN CODES'!$D$2:$D$1000,0))} | B11: WEFT STOCK | C11: CHENILLE | D11: 4 NM | E11: DAWN | F11: DAWN | G11: 63.8 | H11: =D11&E11 | I11: =A11
A12: {=INDEX('YARN CODES'!$A$2:$A$1000,MATCH(D12&E12,'YARN CODES'!$C$2:$C$1000&'YARN CODES'!$D$2:$D$1000,0))} | B12: WEFT STOCK | C12: CHENILLE | D12: 4 NM | E12: D. FIROZI | F12: D. FIROZI | G12: 0 | H12: =D12&E12 | I12: =A12
A13: {=INDEX('YARN CODES'!$A$2:$A$1000,MATCH(D13&E13,'YARN CODES'!$C$2:$C$1000&'YARN CODES'!$D$2:$D$1000,0))} | B13: WEFT STOCK | C13: CHENILLE | D13: 4 NM | E13: CARROT | F13: CARROT | G13: 13.3 | H13: =D13&E13 | I13: =A13
... A100: {=INDEX('YARN CODES'!$A$2:$A$1000,MATCH(D100&E100,'YARN CODES'!$C$2:$C$1000&'YARN CODES'!$D$2:$D$1000,0))} | B100: WEFT STOCK | C100: COTTON | D100: 2-24-C | E100: KORA | F100: KORA | G100: 0 | H100: =D100&E100 | I100: =A100
A101: {=INDEX('YARN CODES'!$A$2:$A$1000,MATCH(D101&E101,'YARN CODES'!$C$2:$C$1000&'YARN CODES'!$D$2:$D$1000,0))} | B101: WEFT STOCK | C101: COTTON | D101: 2-20-C | E101: 5069 | F101: MATRIX | G101: 0 | H101: =D101&E101 | I101: =A101
A102: {=INDEX('YARN CODES'!$A$2:$A$1000,MATCH(D102&E102,'YARN CODES'!$C$2:$C$1000&'YARN CODES'!$D$2:$D$1000,0))} | B102: WEFT STOCK | C102: COTTON | D102: 2-20-C | E102: YELLOW | F102: YELLOW | G102: 0 | H102: =D102&E102 | I102: =A102
A103: {=INDEX('YARN CODES'!$A$2:$A$1000,MATCH(D103&E103,'YARN CODES'!$C$2:$C$1000&'YARN CODES'!$D$2:$D$1000,0))} | B103: WEFT STOCK | C103: COTTON | D103: 2-20-C | E103: SELVAGE | F103: SELVAGE | G103: 195 | H103: =D103&E103 | I103: =A103
A104: {=INDEX('YARN CODES'!$A$2:$A$1000,MATCH(D104&E104,'YARN CODES'!$C$2:$C$1000&'YARN CODES'!$D$2:$D$1000,0))} | B104: WEFT STOCK | C104: COTTON | D104: 2-18-C | E104: BLACK | F104: BLACK | G104: 0 | H104: =D104&E104 | I104: =A104
A105: {=INDEX('YARN CODES'!$A$2:$A$1000,MATCH(D105&E105,'YARN CODES'!$C$2:$C$1000&'YARN CODES'!$D$2:$D$1000,0))} | B105: WEFT STOCK | C105: COTTON | D105: 16-SINGLE | E105: KORA | F105: KORA | G105: 1161.7 | H105: =D105&E105 | I105: =A105
A106: {=INDEX('YARN CODES'!$A$2:$A$1000,MATCH(D106&E106,'YARN CODES'!$C$2:$C$1000&'YARN CODES'!$D$2:$D$1000,0))} | B106: WEFT STOCK | C106: COTTON | D106: 20-SINGLE | E106: KORA | F106: KORA | G106: 403.4 | H106: =D106&E106 | I106: =A106
A107: {=INDEX('YARN CODES'!$A$2:$A$1000,MATCH(D107&E107,'YARN CODES'!$C$2:$C$1000&'YARN CODES'!$D$2:$D$1000,0))} | B107: WEFT STOCK | C107: COTTON | D107: 24-SINGLE | E107: KORA | F107: KORA | G107: 90.72 | H107: =D107&E107 | I107: =A107
A108: {=INDEX('YARN CODES'!$A$2:$A$1000,MATCH(D108&E108,'YARN CODES'!$C$2:$C$1000&'YARN CODES'!$D$2:$D$1000,0))} | B108: WEFT STOCK | C108: COTTON | D108: 14-SINGLE | E108: KORA | F108: KORA | G108: 40 | H108: =D108&E108 | I108: =A108
A109: {=INDEX('YARN CODES'!$A$2:$A$1000,MATCH(D109&E109,'YARN CODES'!$C$2:$C$1000&'YARN CODES'!$D$2:$D$1000,0))} | B109: WEFT STOCK | C109: COTTON | D109: 30-SINGLE | E109: KORA | F109: KORA | G109: 130 | H109: =D109&E109 | I109: =A109
A110: {=INDEX('YARN CODES'!$A$2:$A$1000,MATCH(D110&E110,'YARN CODES'!$C$2:$C$1000&'YARN CODES'!$D$2:$D$1000,0))} | B110: WEFT STOCK | C110: COTTON | D110: 6-SINGLE | E110: KORA | F110: KORA | G110: 858 | H110: =D110&E110 | I110: =A110
A111: {=INDEX('YARN CODES'!$A$2:$A$1000,MATCH(D111&E111,'YARN CODES'!$C$2:$C$1000&'YARN CODES'!$D$2:$D$1000,0))} | B111: WEFT STOCK | C111: COTTON | D111: 2-10-C | E111: KORA | F111: KORA | G111: 0 | H111: =D111&E111 | I111: =A111
A112: {=INDEX('YARN CODES'!$A$2:$A$1000,MATCH(D112&E112,'YARN CODES'!$C$2:$C$1000&'YARN CODES'!$D$2:$D$1000,0))} | B112: WEFT STOCK | C112: COTTON | D112: 2-30-C | E112: KORA | F112: KORA | G112: 498.96 | H112: =D112&E112 | I112: =A112
A113: {=INDEX('YARN CODES'!$A$2:$A$1000,MATCH(D113&E113,'YARN CODES'!$C$2:$C$1000&'YARN CODES'!$D$2:$D$1000,0))} | B113: WEFT STOCK | C113: COTTON | D113: 2-30-C | E113: WHITE | F113: WHITE | G113: 0 | H113: =D113&E113 | I113: =A113
... A158: {=INDEX('YARN CODES'!$A$2:$A$1000,MATCH(D158&E158,'YARN CODES'!$C$2:$C$1000&'YARN CODES'!$D$2:$D$1000,0))} | B158: WEFT STOCK | C158: POLYESTER | D158: 2-30-SHIVA | E158: [Person_43] | F158: GREEN | G158: 31 | H158: =D158&E158 | I158: =A158
A159: {=INDEX('YARN CODES'!$A$2:$A$1000,MATCH(D159&E159,'YARN CODES'!$C$2:$C$1000&'YARN CODES'!$D$2:$D$1000,0))} | B159: WEFT STOCK | C159: POLYESTER | D159: 2-30-SHIVA | E159: 5003 | F159: PURPLE | G159: 22.26 | H159: =D159&E159 | I159: =A159
A160: {=INDEX('YARN CODES'!$A$2:$A$1000,MATCH(D160&E160,'YARN CODES'!$C$2:$C$1000&'YARN CODES'!$D$2:$D$1000,0))} | B160: WEFT STOCK | C160: POLYESTER | D160: 2-30-SHIVA | E160: 6617 | F160: CAMEL | G160: 20 | H160: =D160&E160 | I160: =A160
A161: {=INDEX('YARN CODES'!$A$2:$A$1000,MATCH(D161&E161,'YARN CODES'!$C$2:$C$1000&'YARN CODES'!$D$2:$D$1000,0))} | B161: WEFT STOCK | C161: POLYESTER | D161: 2-30-SHIVA | E161: DSS-2906 | F161: LEMON | G161: 27.14 | H161: =D161&E161 | I161: =A161
A162: {=INDEX('YARN CODES'!$A$2:$A$1000,MATCH(D162&E162,'YARN CODES'!$C$2:$C$1000&'YARN CODES'!$D$2:$D$1000,0))} | B162: WEFT STOCK | C162: POLYESTER | D162: 2-30-SHIVA | E162: 6657 | F162: CREAM | G162: 105.63 | H162: =D162&E162 | I162: =A162
A163: {=INDEX('YARN CODES'!$A$2:$A$1000,MATCH(D163&E163,'YARN CODES'!$C$2:$C$1000&'YARN CODES'!$D$2:$D$1000,0))} | B163: WEFT STOCK | C163: POLYESTER | D163: 2-30-SHIVA | E163: 6656 | F163: BABA | G163: 41.34 | H163: =D163&E163 | I163: =A163
A164: {=INDEX('YARN CODES'!$A$2:$A$1000,MATCH(D164&E164,'YARN CODES'!$C$2:$C$1000&'YARN CODES'!$D$2:$D$1000,0))} | B164: WEFT STOCK | C164: POLYESTER | D164: 2-30-SHIVA | E164: 203 | F164: PINK | G164: 49.74 | H164: =D164&E164 | I164: =A164
A165: {=INDEX('YARN CODES'!$A$2:$A$1000,MATCH(D165&E165,'YARN CODES'!$C$2:$C$1000&'YARN CODES'!$D$2:$D$1000,0))} | B165: WEFT STOCK | C165: POLYESTER | D165: 2-30-SHIVA | E165: OW77 | F165: BLACK | G165: 89.11 | H165: =D165&E165 | I165: =A165
A166: {=INDEX('YARN CODES'!$A$2:$A$1000,MATCH(D166&E166,'YARN CODES'!$C$2:$C$1000&'YARN CODES'!$D$2:$D$1000,0))} | B166: WEFT STOCK | C166: POLYESTER | D166: 2-30-SHIVA | E166: 5010 | F166: [Person_44] | G166: 32.97 | H166: =D166&E166 | I166: =A166
A167: {=INDEX('YARN CODES'!$A$2:$A$1000,MATCH(D167&E167,'YARN CODES'!$C$2:$C$1000&'YARN CODES'!$D$2:$D$1000,0))} | B167: WEFT STOCK | C167: POLYESTER | D167: 2-30-SHIVA | E167: 5005 | F167: [Person_45] | G167: 81 | H167: =D167&E167 | I167: =A167
A168: {=INDEX('YARN CODES'!$A$2:$A$1000,MATCH(D168&E168,'YARN CODES'!$C$2:$C$1000&'YARN CODES'!$D$2:$D$1000,0))} | B168: WEFT STOCK | C168: POLYESTER | D168: 2-30-SHIVA | E168: DSS-5981 | F168: ORANGE | G168: 22.49 | H168: =D168&E168 | I168: =A168
A169: {=INDEX('YARN CODES'!$A$2:$A$1000,MATCH(D169&E169,'YARN CODES'!$C$2:$C$1000&'YARN CODES'!$D$2:$D$1000,0))} | B169: WEFT STOCK | C169: POLYESTER | D169: 2-30-SHIVA | E169: 5049 | F169: RED | G169: 87.88 | H169: =D169&E169 | I169: =A169
A170: {=INDEX('YARN CODES'!$A$2:$A$1000,MATCH(D170&E170,'YARN CODES'!$C$2:$C$1000&'YARN CODES'!$D$2:$D$1000,0))} | B170: WEFT STOCK | C170: POLYESTER | D170: 2-30-SHIVA | E170: 4988 | F170: COFFEE | G170: 50.42 | H170: =D170&E170 | I170: =A170
A171: {=INDEX('YARN CODES'!$A$2:$A$1000,MATCH(D171&E171,'YARN CODES'!$C$2:$C$1000&'YARN CODES'!$D$2:$D$1000,0))} | B171: WEFT STOCK | C171: POLYESTER | D171: 450-D-INT | E171: 45116 | F171: RED | G171: 3.36 | H171: =D171&E171 | I171: =A171
A172: {=INDEX('YARN CODES'!$A$2:$A$1000,MATCH(D172&E172,'YARN CODES'!$C$2:$C$1000&'YARN CODES'!$D$2:$D$1000,0))} | B172: WEFT STOCK | C172: POLYESTER | D172: 450-D-INT | E172: 2267 | F172: ORANGE | G172: 5.16 | H172: =D172&E172 | I172: =A172
A173: {=INDEX('YARN CODES'!$A$2:$A$1000,MATCH(D173&E173,'YARN CODES'!$C$2:$C$1000&'YARN CODES'!$D$2:$D$1000,0))} | B173: WEFT STOCK | C173: POLYESTER | D173: 450-D-INT | E173: 45302 | F173: COFFEE | G173: 88.07 | H173: =D173&E173 | I173: =A173
A174: {=INDEX('YARN CODES'!$A$2:$A$1000,MATCH(D174&E174,'YARN CODES'!$C$2:$C$1000&'YARN CODES'!$D$2:$D$1000,0))} | B174: WEFT STOCK | C174: POLYESTER | D174: 450-D-INT | E174: 45052 | F174: PLUM RED | G174: 20.02 | H174: =D174&E174 | I174: =A174
A175: {=INDEX('YARN CODES'!$A$2:$A$1000,MATCH(D175&E175,'YARN CODES'!$C$2:$C$1000&'YARN CODES'!$D$2:$D$1000,0))} | B175: WEFT STOCK | C175: POLYESTER | D175: 450-D-INT | E175: 2057 | F175: WINE | G175: 97.05 | H175: =D175&E175 | I175: =A175
A176: {=INDEX('YARN CODES'!$A$2:$A$1000,MATCH(D176&E176,'YARN CODES'!$C$2:$C$1000&'YARN CODES'!$D$2:$D$1000,0))} | B176: WEFT STOCK | C176: POLYESTER | D176: 450-D-INT | E176: 45053 | F176: MAROON | G176: 77.12 | H176: =D176&E176 | I176: =A176
A177: {=INDEX('YARN CODES'!$A$2:$A$1000,MATCH(D177&E177,'YARN CODES'!$C$2:$C$1000&'YARN CODES'!$D$2:$D$1000,0))} | B177: WEFT STOCK | C177: POLYESTER | D177: 450-D-INT | E177: 45339 | F177: MAJENTA | G177: 22.28 | H177: =D177&E177 | I177: =A177
A178: {=INDEX('YARN CODES'!$A$2:$A$1000,MATCH(D178&E178,'YARN CODES'!$C$2:$C$1000&'YARN CODES'!$D$2:$D$1000,0))} | B178: WEFT STOCK | C178: POLYESTER | D178: 450-D-INT | E178: 45047 | F178: BLACK | G178: 2.22 | H178: =D178&E178 | I178: =A178
A179: {=INDEX('YARN CODES'!$A$2:$A$1000,MATCH(D179&E179,'YARN CODES'!$C$2:$C$1000&'YARN CODES'!$D$2:$D$1000,0))} | B179: WEFT STOCK | C179: POLYESTER | D179: 450-D-INT | E179: [Person_46] | F179: PEACH | G179: 58.98 | H179: =D179&E179 | I179: =A179
A180: {=INDEX('YARN CODES'!$A$2:$A$1000,MATCH(D180&E180,'YARN CODES'!$C$2:$C$1000&'YARN CODES'!$D$2:$D$1000,0))} | B180: WEFT STOCK | C180: POLYESTER | D180: 450-D-INT | E180: 45344 | F180: LT PURPLE | G180: 0 | H180: =D180&E180 | I180: =A180
A181: {=INDEX('YARN CODES'!$A$2:$A$1000,MATCH(D181&E181,'YARN CODES'!$C$2:$C$1000&'YARN CODES'!$D$2:$D$1000,0))} | B181: WEFT STOCK | C181: POLYESTER | D181: 450-D-INT | E181: 45342 | F181: LEMON | G181: 0 | H181: =D181&E181 | I181: =A181
A182: {=INDEX('YARN CODES'!$A$2:$A$1000,MATCH(D182&E182,'YARN CODES'!$C$2:$C$1000&'YARN CODES'!$D$2:$D$1000,0))} | B182: WEFT STOCK | C182: POLYESTER | D182: 450-D-INT | E182: 45341 | F182: PINK | G182: 29.04 | H182: =D182&E182 | I182: =A182
A183: {=INDEX('YARN CODES'!$A$2:$A$1000,MATCH(D183&E183,'YARN CODES'!$C$2:$C$1000&'YARN CODES'!$D$2:$D$1000,0))} | B183: WEFT STOCK | C183: POLYESTER | D183: 450-D-INT | E183: 45183 | F183: LT [Person_40] | G183: 62.83 | H183: =D183&E183 | I183: =A183
A184: {=INDEX('YARN CODES'!$A$2:$A$1000,MATCH(D184&E184,'YARN CODES'!$C$2:$C$1000&'YARN CODES'!$D$2:$D$1000,0))} | B184: WEFT STOCK | C184: POLYESTER | D184: 450-D-INT | E184: 45346 | F184: SEA GREEN | G184: 75.26 | H184: =D184&E184 | I184: =A184
A185: {=INDEX('YARN CODES'!$A$2:$A$1000,MATCH(D185&E185,'YARN CODES'!$C$2:$C$1000&'YARN CODES'!$D$2:$D$1000,0))} | B185: WEFT STOCK | C185: POLYESTER | D185: 450-D-INT | E185: 45345 | F185: [Person_44] | G185: 50.46 | H185: =D185&E185 | I185: =A185
A186: {=INDEX('YARN CODES'!$A$2:$A$1000,MATCH(D186&E186,'YARN CODES'!$C$2:$C$1000&'YARN CODES'!$D$2:$D$1000,0))} | B186: WEFT STOCK | C186: POLYESTER | D186: 450-D-INT | E186: 2173 | F186: PURPLE | G186: 48.73 | H186: =D186&E186 | I186: =A186
A187: {=INDEX('YARN CODES'!$A$2:$A$1000,MATCH(D187&E187,'YARN CODES'!$C$2:$C$1000&'YARN CODES'!$D$2:$D$1000,0))} | B187: WEFT STOCK | C187: POLYESTER | D187: 450-D-INT | E187: 45301 | F187: P. GREEN | G187: 66.736 | H187: =D187&E187 | I187: =A187
A188: {=INDEX('YARN CODES'!$A$2:$A$1000,MATCH(D188&E188,'YARN CODES'!$C$2:$C$1000&'YARN CODES'!$D$2:$D$1000,0))} | B188: WEFT STOCK | C188: POLYESTER | D188: 450-D-INT | E188: 45358 | F188: CAMEL | G188: 78.84 | H188: =D188&E188 | I188: =A188
A189: {=INDEX('YARN CODES'!$A$2:$A$1000,MATCH(D189&E189,'YARN CODES'!$C$2:$C$1000&'YARN CODES'!$D$2:$D$1000,0))} | B189: WEFT STOCK | C189: POLYESTER | D189: 450-D-INT | E189: 5229 | F189: [Person_47] | G189: 0 | H189: =D189&E189 | I189: =A189
A190: {=INDEX('YARN CODES'!$A$2:$A$1000,MATCH(D190&E190,'YARN CODES'!$C$2:$C$1000&'YARN CODES'!$D$2:$D$1000,0))} | B190: WEFT STOCK | C190: POLYESTER | D190: 450-D-INT | E190: 45360 | F190: LT GOLD | G190: 0 | H190: =D190&E190 | I190: =A190
A191: {=INDEX('YARN CODES'!$A$2:$A$1000,MATCH(D191&E191,'YARN CODES'!$C$2:$C$1000&'YARN CODES'!$D$2:$D$1000,0))} | B191: WEFT STOCK | C191: POLYESTER | D191: 450-D-INT | E191: 45352 | F191: IVORY | G191: 45.72 | H191: =D191&E191 | I191: =A191
... A199: {=INDEX('YARN CODES'!$A$2:$A$1000,MATCH(D199&E199,'YARN CODES'!$C$2:$C$1000&'YARN CODES'!$D$2:$D$1000,0))} | B199: WEFT STOCK | C199: POLYESTER | D199: 450-D-INT | E199: 4562 | F199: E.GREEN | G199: 8.01 | H199: =D199&E199 | I199: =A199
A200: {=INDEX('YARN CODES'!$A$2:$A$1000,MATCH(D200&E200,'YARN CODES'!$C$2:$C$1000&'YARN CODES'!$D$2:$D$1000,0))} | B200: WEFT STOCK | C200: POLYESTER | D200: 600 ROTTO | E200: OW77 | F200: BLACK | G200: 0 | H200: =D200&E200 | I200: =A200
A201: {=INDEX('YARN CODES'!$A$2:$A$1000,MATCH(D201&E201,'YARN CODES'!$C$2:$C$1000&'YARN CODES'!$D$2:$D$1000,0))} | B201: WEFT STOCK | C201: POLYESTER | D201: 600 ROTTO | E201: T.BLUE | F201: T.BLUE | G201: 0 | H201: =D201&E201 | I201: =A201
A202: {=INDEX('YARN CODES'!$A$2:$A$1000,MATCH(D202&E202,'YARN CODES'!$C$2:$C$1000&'YARN CODES'!$D$2:$D$1000,0))} | B202: WEFT STOCK | C202: POLYESTER | D202: 600 ROTTO | E202: RED | F202: RED | G202: 0 | H202: =D202&E202 | I202: =A202
A203: {=INDEX('YARN CODES'!$A$2:$A$1000,MATCH(D203&E203,'YARN CODES'!$C$2:$C$1000&'YARN CODES'!$D$2:$D$1000,0))} | B203: WEFT STOCK | C203: POLYESTER | D203: 2200 D | E203: FILLER | F203: FILLER | G203: 116.42 | H203: =D203&E203 | I203: =A203
A204: {=INDEX('YARN CODES'!$A$2:$A$1000,MATCH(D204&E204,'YARN CODES'!$C$2:$C$1000&'YARN CODES'!$D$2:$D$1000,0))} | B204: WEFT STOCK | C204: POLYESTER | D204: 1200 D | E204: FILLER | F204: FILLER | G204: 95.46 | H204: =D204&E204 | I204: =A204
A205: {=INDEX('YARN CODES'!$A$2:$A$1000,MATCH(D205&E205,'YARN CODES'!$C$2:$C$1000&'YARN CODES'!$D$2:$D$1000,0))} | B205: WEFT STOCK | C205: POLYESTER | D205: 1500-D | E205: JUTE | F205: JUTE | G205: 0 | H205: =D205&E205 | I205: =A205
A206: {=INDEX('YARN CODES'!$A$2:$A$1000,MATCH(D206&E206,'YARN CODES'!$C$2:$C$1000&'YARN CODES'!$D$2:$D$1000,0))} | B206: WEFT STOCK | C206: POLYESTER | D206: 700-D | E206: VFD-260 | F206: GOLD | G206: 111.72 | H206: =D206&E206 | I206: =A206
A207: {=INDEX('YARN CODES'!$A$2:$A$1000,MATCH(D207&E207,'YARN CODES'!$C$2:$C$1000&'YARN CODES'!$D$2:$D$1000,0))} | B207: WEFT STOCK | C207: POLYESTER | D207: 700-D | E207: VFD-203 | F207: BEIGE | G207: 0 | H207: =D207&E207 | I207: =A207
A208: {=INDEX('YARN CODES'!$A$2:$A$1000,MATCH(D208&E208,'YARN CODES'!$C$2:$C$1000&'YARN CODES'!$D$2:$D$1000,0))} | B208: WEFT STOCK | C208: POLYESTER | D208: 700-D | E208: VFD-221 | F208: BLUE | G208: 126 | H208: =D208&E208 | I208: =A208
A209: {=INDEX('YARN CODES'!$A$2:$A$1000,MATCH(D209&E209,'YARN CODES'!$C$2:$C$1000&'YARN CODES'!$D$2:$D$1000,0))} | B209: WEFT STOCK | C209: POLYESTER | D209: 700-D | E209: VFD-258 | F209: COFFEE | G209: 56.36 | H209: =D209&E209 | I209: =A209
A210: {=INDEX('YARN CODES'!$A$2:$A$1000,MATCH(D210&E210,'YARN CODES'!$C$2:$C$1000&'YARN CODES'!$D$2:$D$1000,0))} | B210: WEFT STOCK | C210: POLYESTER | D210: 700-D | E210: VFD-34 | F210: BLACK | G210: 120.63 | H210: =D210&E210 | I210: =A210
A211: {=INDEX('YARN CODES'!$A$2:$A$1000,MATCH(D211&E211,'YARN CODES'!$C$2:$C$1000&'YARN CODES'!$D$2:$D$1000,0))} | B211: WEFT STOCK | C211: POLYESTER | D211: 700-D | E211: VFD-275 | F211: RED | G211: 23.67 | H211: =D211&E211 | I211: =A211
... A225: {=INDEX('YARN CODES'!$A$2:$A$1000,MATCH(D225&E225,'YARN CODES'!$C$2:$C$1000&'YARN CODES'!$D$2:$D$1000,0))} | B225: WEFT STOCK | C225: POLYESTER | D225: 700-D | E225: VFD-709 | F225: CREAM | G225: 109.215 | H225: =D225&E225 | I225: =A225
A226: {=INDEX('YARN CODES'!$A$2:$A$1000,MATCH(D226&E226,'YARN CODES'!$C$2:$C$1000&'YARN CODES'!$D$2:$D$1000,0))} | B226: WEFT STOCK | C226: POLYESTER | D226: 700-D | E226: 1180 | F226: P. GREEN | G226: 109.1 | H226: =D226&E226 | I226: =A226
A227: {=INDEX('YARN CODES'!$A$2:$A$1000,MATCH(D227&E227,'YARN CODES'!$C$2:$C$1000&'YARN CODES'!$D$2:$D$1000,0))} | B227: WEFT STOCK | C227: POLYESTER | D227: 700-D | E227: WHITE | F227: WHITE | G227: 0 | H227: =D227&E227 | I227: =A227
A228: {=INDEX('YARN CODES'!$A$2:$A$1000,MATCH(D228&E228,'YARN CODES'!$C$2:$C$1000&'YARN CODES'!$D$2:$D$1000,0))} | B228: WEFT STOCK | C228: POLYESTER | D228: 600-D | E228: SKY BLUE | F228: SKY BLUE | G228: 0 | H228: =D228&E228 | I228: =A228
A229: {=INDEX('YARN CODES'!$A$2:$A$1000,MATCH(D229&E229,'YARN CODES'!$C$2:$C$1000&'YARN CODES'!$D$2:$D$1000,0))} | B229: WEFT STOCK | C229: POLYESTER | D229: 600-D | E229: 253 | F229: OLIVE | G229: 0 | H229: =D229&E229 | I229: =A229
A230: {=INDEX('YARN CODES'!$A$2:$A$1000,MATCH(D230&E230,'YARN CODES'!$C$2:$C$1000&'YARN CODES'!$D$2:$D$1000,0))} | B230: WEFT STOCK | C230: POLYESTER | D230: 600-D | E230: 251 | F230: ORANGE | G230: 0 | H230: =D230&E230 | I230: =A230
A231: {=INDEX('YARN CODES'!$A$2:$A$1000,MATCH(D231&E231,'YARN CODES'!$C$2:$C$1000&'YARN CODES'!$D$2:$D$1000,0))} | B231: WEFT STOCK | C231: POLYESTER | D231: 330-D | E231: VFD-253 | F231: OLIVE | G231: 124 | H231: =D231&E231 | I231: =A231
A232: {=INDEX('YARN CODES'!$A$2:$A$1000,MATCH(D232&E232,'YARN CODES'!$C$2:$C$1000&'YARN CODES'!$D$2:$D$1000,0))} | B232: WEFT STOCK | C232: POLYESTER | D232: 330-D | E232: VFD-275 | F232: RED | G232: 111.35 | H232: =D232&E232 | I232: =A232
A233: {=INDEX('YARN CODES'!$A$2:$A$1000,MATCH(D233&E233,'YARN CODES'!$C$2:$C$1000&'YARN CODES'!$D$2:$D$1000,0))} | B233: WEFT STOCK | C233: POLYESTER | D233: 330-D | E233: VFD-208 | F233: CAMEL | G233: 0 | H233: =D233&E233 | I233: =A233
A234: {=INDEX('YARN CODES'!$A$2:$A$1000,MATCH(D234&E234,'YARN CODES'!$C$2:$C$1000&'YARN CODES'!$D$2:$D$1000,0))} | B234: WEFT STOCK | C234: POLYESTER | D234: 330-D | E234: VFD-199 | F234: PINK | G234: 113.54 | H234: =D234&E234 | I234: =A234
A235: {=INDEX('YARN CODES'!$A$2:$A$1000,MATCH(D235&E235,'YARN CODES'!$C$2:$C$1000&'YARN CODES'!$D$2:$D$1000,0))} | B235: WEFT STOCK | C235: POLYESTER | D235: 330-D | E235: VFD-257 | F235: COFFEE | G235: 100 | H235: =D235&E235 | I235: =A235
A236: {=INDEX('YARN CODES'!$A$2:$A$1000,MATCH(D236&E236,'YARN CODES'!$C$2:$C$1000&'YARN CODES'!$D$2:$D$1000,0))} | B236: WEFT STOCK | C236: POLYESTER | D236: 330-D | E236: [Person_51] | F236: RANI | G236: 78.7 | H236: =D236&E236 | I236: =A236
A237: {=INDEX('YARN CODES'!$A$2:$A$1000,MATCH(D237&E237,'YARN CODES'!$C$2:$C$1000&'YARN CODES'!$D$2:$D$1000,0))} | B237: WEFT STOCK | C237: POLYESTER | D237: 330-D | E237: [Person_50] | F237: [Person_44] | G237: 6 | H237: =D237&E237 | I237: =A237
A238: {=INDEX('YARN CODES'!$A$2:$A$1000,MATCH(D238&E238,'YARN CODES'!$C$2:$C$1000&'YARN CODES'!$D$2:$D$1000,0))} | B238: WEFT STOCK | C238: POLYESTER | D238: 330-D | E238: VFD-1012 | F238: WINE | G238: 50.7 | H238: =D238&E238 | I238: =A238
A239: {=INDEX('YARN CODES'!$A$2:$A$1000,MATCH(D239&E239,'YARN CODES'!$C$2:$C$1000&'YARN CODES'!$D$2:$D$1000,0))} | B239: WEFT STOCK | C239: POLYESTER | D239: 330-D | E239: VFD-268 | F239: PURPLE | G239: 34.88 | H239: =D239&E239 | I239: =A239
A240: {=INDEX('YARN CODES'!$A$2:$A$1000,MATCH(D240&E240,'YARN CODES'!$C$2:$C$1000&'YARN CODES'!$D$2:$D$1000,0))} | B240: WEFT STOCK | C240: POLYESTER | D240: 330-D | E240: [Person_53] | F240: LT PURPLE | G240: 10 | H240: =D240&E240 | I240: =A240
A241: {=INDEX('YARN CODES'!$A$2:$A$1000,MATCH(D241&E241,'YARN CODES'!$C$2:$C$1000&'YARN CODES'!$D$2:$D$1000,0))} | B241: WEFT STOCK | C241: POLYESTER | D241: 330-D | E241: VFD-251 | F241: ORANGE | G241: 120.54 | H241: =D241&E241 | I241: =A241
A242: {=INDEX('YARN CODES'!$A$2:$A$1000,MATCH(D242&E242,'YARN CODES'!$C$2:$C$1000&'YARN CODES'!$D$2:$D$1000,0))} | B242: WEFT STOCK | C242: POLYESTER | D242: 330-D | E242: VFD-252 | F242: YELLOW | G242: 127.69 | H242: =D242&E242 | I242: =A242
... A251: {=INDEX('YARN CODES'!$A$2:$A$1000,MATCH(D251&E251,'YARN CODES'!$C$2:$C$1000&'YARN CODES'!$D$2:$D$1000,0))} | B251: WEFT STOCK | C251: POLYESTER | D251: 300 Catonic | E251: KORA | F251: KORA | G251: 234.34 | H251: =D251&E251 | I251: =A251
A252: {=INDEX('YARN CODES'!$A$2:$A$1000,MATCH(D252&E252,'YARN CODES'!$C$2:$C$1000&'YARN CODES'!$D$2:$D$1000,0))} | B252: WEFT STOCK | C252: POLYESTER | D252: 300-BMT | E252: 2713 | F252: GREY NUT | G252: 0 | H252: =D252&E252 | I252: =A252
A253: {=INDEX('YARN CODES'!$A$2:$A$1000,MATCH(D253&E253,'YARN CODES'!$C$2:$C$1000&'YARN CODES'!$D$2:$D$1000,0))} | B253: WEFT STOCK | C253: POLYESTER | D253: 300-BMT | E253: 2717 | F253: GREEN | G253: 0 | H253: =D253&E253 | I253: =A253
A254: {=INDEX('YARN CODES'!$A$2:$A$1000,MATCH(D254&E254,'YARN CODES'!$C$2:$C$1000&'YARN CODES'!$D$2:$D$1000,0))} | B254: WEFT STOCK | C254: POLYESTER | D254: 300-BMT | E254: 2675 | F254: KHAKI | G254: 101 | H254: =D254&E254 | I254: =A254
A255: {=INDEX('YARN CODES'!$A$2:$A$1000,MATCH(D255&E255,'YARN CODES'!$C$2:$C$1000&'YARN CODES'!$D$2:$D$1000,0))} | B255: WEFT STOCK | C255: POLYESTER | D255: 300-BMT | E255: 2676 | F255: RED | G255: 0 | H255: =D255&E255 | I255: =A255
A256: {=INDEX('YARN CODES'!$A$2:$A$1000,MATCH(D256&E256,'YARN CODES'!$C$2:$C$1000&'YARN CODES'!$D$2:$D$1000,0))} | B256: WEFT STOCK | C256: POLYESTER | D256: 300-BMT | E256: 2677 | F256: [Person_44] | G256: 0 | H256: =D256&E256 | I256: =A256
A257: {=INDEX('YARN CODES'!$A$2:$A$1000,MATCH(D257&E257,'YARN CODES'!$C$2:$C$1000&'YARN CODES'!$D$2:$D$1000,0))} | B257: WEFT STOCK | C257: POLYESTER | D257: 300-BMT | E257: 2684 | F257: COFFEE | G257: 0 | H257: =D257&E257 | I257: =A257
A258: {=INDEX('YARN CODES'!$A$2:$A$1000,MATCH(D258&E258,'YARN CODES'!$C$2:$C$1000&'YARN CODES'!$D$2:$D$1000,0))} | B258: WEFT STOCK | C258: POLYESTER | D258: 300-BMT | E258: 2681 | F258: LT GREY | G258: 0 | H258: =D258&E258 | I258: =A258
A259: {=INDEX('YARN CODES'!$A$2:$A$1000,MATCH(D259&E259,'YARN CODES'!$C$2:$C$1000&'YARN CODES'!$D$2:$D$1000,0))} | B259: WEFT STOCK | C259: POLYESTER | D259: 300-BMT | E259: 2678 | F259: GREY | G259: 0 | H259: =D259&E259 | I259: =A259
...

Sheet WARP DETAILS
A1: WARPING SECTION
A2: DATE | B2: [Person_1]. | C2: PARTY NAME | D2: LOOM NO. | E2: B.NO. | F2: REED SPACE | G2: REED | H2: MTR | I2: ENDS | J2: YARN CODE | K2: YARN | L2: SKU | M2: SHADE NO. | N2: COLOR | O2: ISSUE | P2: QTY USED (KGS) | Q2: QTY GRAM/MTR | R2: RECEIVING BACK | S2: STOCK BEFORE (OS) | T2: STOCK AFTER (CS) | U2: P.O. NO.
A3: 44501 | B3: =IF(C3<>"","CWA01","") | C3: =IF(J3<>"","CWA","") | D3: 8 | E3: 1 | F3: 130 | G3: 84 | H3: 850 | I3: 10960 | J3: WA54 | K3: COTTON | L3: 2-40 COMED | M3: 2-40 COTTON COMED | N3: 2-40 COTTON COMED | O3: 305.44 | P3: 289 | Q3: 0.34 | R3: 16.44 | S3: 591.11 | T3: 302.11
A4: 44502 | B4: CWA02 | C4: =IF(J4<>"","CWA","") | D4: 3 | E4: 2 | F4: 136 | G4: 84 | H4: 1400 | I4: 11450 | J4: WA114 | K4: COTTON | L4: 2-40-COTTON | M4: ELI | N4: ELI | O4: 1391 | P4: 490 | Q4: 0.35 | R4: 901 | S4: 1391 | T4: 901
A5: 44503 | B5: CWA03 | C5: =IF(J5<>"","CWA","") | D5: 15 | E5: 3 | F5: 97 | G5: 84 | H5: 1000 | I5: 8180 | J5: WA114 | K5: COTTON | L5: 2-40-COTTON | M5: ELI | N5: ELI | O5: 901 | P5: 255 | Q5: 0.255 | R5: 646 | S5: 901 | T5: 646
A6: 44506 | C6: =IF(J6<>"","CWA","") | D6: 3 | E6: 4 | F6: 136 | G6: 84 | H6: 350 | I6: 11450 | J6: WA54 | K6: COTTON | L6: 2-40 COMED | M6: 2-40 COTTON COMED | N6: 2-40 COTTON COMED | O6: 260.81 | P6: 125.3 | Q6: 0.358 | R6: 135.51 | S6: 277.25 | T6: 151.95
A7: 44509 | C7: =IF(J7<>"","CWA","") | D7: 10 | E7: 5 | F7: 436 | G7: 84 | H7: 500 | I7: 11620 | J7: WA114 | K7: COTTON | L7: 2-40-COTTON | M7: ELI | N7: ELI | O7: 615 | P7: 175 | Q7: 0.35 | R7: 440 | S7: 628.64 | T7: 453.64
A8: 44510 | C8: =IF(J8<>"","CWA","") | D8: 5 | E8: 6 | F8: 108 | G8: 168 | H8: 1050 | I8: 18000 | J8: WA05 | K8: POLYESTER | L8: 150*350 BRIGHT | M8: KORA-BRIGHT | N8: KORA-BRIGHT | O8: 377.7 | P8: 336 | Q8: 0.32 | R8: 41.7 | S8: 465.4 | T8: 129.4
A9: 44511 | C9: =IF(J9<>"","CWA","") | D9: 8 | E9: 7 | F9: 130 | G9: 84 | H9: 1200 | I9: 10960 | J9: WA54 | K9: COTTON | L9: 2-40 COMED | M9: 2-40 COTTON COMED | N9: 2-40 COTTON COMED | O9: 907.72 | P9: 405.6 | Q9: 0.338 | R9: 502.12 | S9: 1966.35 | T9: 1560.75
A10: 44511 | C10: =IF(J10<>"","CWA","") | D10: 7 | E10: 8 | F10: 136 | G10: 84 | H10: 1100 | I10: 11440 | J10: WA54 | K10: COTTON | L10: 2-40 COMED | M10: 2-40 COTTON COMED | N10: 2-40 COTTON COMED | O10: 502.12 | P10: 391.6 | Q10: 0.356 | R10: 110.52 | S10: 1560.75 | T10: 1169.15
A11: 44512 | C11: =IF(J11<>"","CWA","") | D11: 4 | E11: 9 | F11: 136 | G11: 84 | H11: 1380 | I11: 11520 | J11: WA115 | K11: POLYESTER | L11: 150 POLYESTER | M11: TAUPE | N11: TAUPE | O11: 319.76 | P11: 273.24 | Q11: 0.198 | R11: 46.52 | S11: 632.74 | T11: 359.5
A12: 44513 | C12: =IF(J12<>"","CWA","") | D12: 16 | E12: 10 | F12: 108 | G12: 140 | H12: 700 | I12: 15200 | J12: WA02 | K12: POLYESTER | L12: 150*350 BRIGHT | M12: 9151 BRIGHT | N12: 9151 BRIGHT | O12: 219.12 | P12: 192.5 | Q12: 0.275 | R12: 26.62 | S12: 272.6 | T12: 80.1
A13: 44515 | C13: =IF(J13<>"","CWA","") | D13: 9 | E13: 11 | F13: 136 | G13: 84 | H13: 1200 | I13: 11500 | J13: WA54 | K13: COTTON | L13: 2-40 COMED | M13: 2-40 COTTON COMED | N13: 2-40 COTTON COMED | O13: 907.2 | P13: 427.2 | Q13: 0.356 | R13: 480 | S13: 1169.15 | T13: 741.95
A14: 44515 | C14: =IF(J14<>"","CWA","") | D14: 10 | E14: 12 | F14: 136 | G14: 84 | H14: 1200 | I14: 11620 | J14: WA54 | K14: COTTON | L14: 2-40 COMED | M14: 2-40 COTTON COMED | N14: 2-40 COTTON COMED | O14: 480 | P14: 427.2 | Q14: 0.356 | R14: 52.8 | S14: 741.95 | T14: 314.75
A15: 44516 | C15: =IF(J15<>"","CWA","") | D15: 3 | E15: 13 | F15: 136 | G15: 84 | H15: 1200 | I15: 11450 | J15: WA114 | K15: COTTON | L15: 2-40-COTTON | M15: ELI | N15: ELI | O15: 440 | P15: 420 | Q15: 0.35 | R15: 20 | S15: 453.64 | T15: 33.64
A16: 44517 | C16: =IF(J16<>"","CWA","") | D16: 15 | E16: 14 | F16: 97 | G16: 84 | H16: 100 | I16: 8160 | J16: WA156 | K16: COTTON | L16: 2/60 COTTON | M16: 2/60 COTTON | N16: 2/60 COTTON | O16: 179 | P16: 17 | Q16: 0.17 | R16: 162 | S16: 265.095 | T16: 248.095
A17: 44517 | C17: =IF(J17<>"","CWA","") | D17: 4 | E17: 15 | F17: 136 | G17: 84 | H17: 500 | I17: 11520 | J17: WA95 | K17: POLYESTER | L17: 150 POLYESTER | M17: TWISTED DOPE BLACK | N17: TWISTED DOPE BLACK | O17: 324 | P17: 101 | Q17: 0.202 | R17: 223 | S17: 555.09 | T17: 454.09
... A26: 44526 | C26: =IF(J26<>"","CWA","") | D26: 8 | E26: 23 | F26: 130 | G26: 84 | H26: 1130 | I26: 10960 | J26: WA54 | K26: COTTON | L26: 2-40 COMED | M26: 2-40 COTTON COMED | N26: 2-40 COTTON COMED | O26: 393.12 | P26: 377.42 | Q26: 0.334 | R26: 15.7 | S26: 538.87 | T26: 161.45
A27: 44527 | C27: =IF(J27<>"","CWA","") | D27: 4 | E27: 24 | F27: 136 | G27: 84 | H27: 1000 | I27: 11520 | J27: [Person_58] | K27: =IF(J27<>"",VLOOKUP($J27,'YARN CODES'!$A$2:$E1000,2,0),"") | L27: =IF(K27<>"",VLOOKUP($J27,'YARN CODES'!$A$2:$E1000,3,0),"") | M27: =IF(L27<>"",VLOOKUP($J27,'YARN CODES'!$A$2:$E1000,4,0),"") | N27: =IF(M27<>"",VLOOKUP($J27,'YARN CODES'!$A$2:$E1000,4,0),"") | O27: 226.57 | P27: 197.33 | Q27: 0.19733 | R27: 29.24 | S27: 226.57 | T27: 29.24
A28: 44529 | C28: =IF(J28<>"","CWA","") | D28: 3 | E28: 25 | F28: 186 | G28: 84 | H28: 1400 | I28: 11450 | J28: WA114 | K28: =IF(J28<>"",VLOOKUP($J28,'YARN CODES'!$A$2:$E1000,2,0),"") | L28: =IF(K28<>"",VLOOKUP($J28,'YARN CODES'!$A$2:$E1000,3,0),"") | M28: =IF(L28<>"",VLOOKUP($J28,'YARN CODES'!$A$2:$E1000,4,0),"") | N28: =IF(M28<>"",VLOOKUP($J28,'YARN CODES'!$A$2:$E1000,4,0),"") | O28: 1094 | P28: 490 | Q28: 0.35 | R28: 604 | S28: 1094 | T28: 604
A29: 44529 | C29: =IF(J29<>"","CWA","") | D29: 15 | E29: 26 | F29: 97 | G29: 84 | H29: 1200 | I29: 8160 | J29: WA114 | K29: =IF(J29<>"",VLOOKUP($J29,'YARN CODES'!$A$2:$E1000,2,0),"") | L29: =IF(K29<>"",VLOOKUP($J29,'YARN CODES'!$A$2:$E1000,3,0),"") | M29: =IF(L29<>"",VLOOKUP($J29,'YARN CODES'!$A$2:$E1000,4,0),"") | N29: =IF(M29<>"",VLOOKUP($J29,'YARN CODES'!$A$2:$E1000,4,0),"") | O29: 604 | P29: 307.88 | Q29: 0.256 | R29: 296.12 | S29: 604 | T29: 296.12
A30: 44530 | C30: =IF(J30<>"","CWA","") | D30: 7 | E30: 27 | F30: 136 | G30: 84 | H30: 400 | I30: 11440 | K30: =IF(J30<>"",VLOOKUP($J30,'YARN CODES'!$A$2:$E1000,2,0),"") | L30: =IF(K30<>"",VLOOKUP($J30,'YARN CODES'!$A$2:$E1000,3,0),"") | M30: =IF(L30<>"",VLOOKUP($J30,'YARN CODES'!$A$2:$E1000,4,0),"") | N30: =IF(M30<>"",VLOOKUP($J30,'YARN CODES'!$A$2:$E1000,4,0),"") | O30: 176 | P30: 144 | Q30: 0.36 | R30: 32 | S30: 208 | T30: 77.45
A31: 44532 | C31: =IF(J31<>"","CWA","") | D31: 16 | E31: 1 | F31: 108 | G31: 168 | H31: 20 | I31: 18480 | K31: =IF(J31<>"",VLOOKUP($J31,'YARN CODES'!$A$2:$E1000,2,0),"") | L31: =IF(K31<>"",VLOOKUP($J31,'YARN CODES'!$A$2:$E1000,3,0),"") | M31: =IF(L31<>"",VLOOKUP($J31,'YARN CODES'!$A$2:$E1000,4,0),"") | N31: =IF(M31<>"",VLOOKUP($J31,'YARN CODES'!$A$2:$E1000,4,0),"")
C32: =IF(J32<>"","CWA","") | K32: =IF(J32<>"",VLOOKUP($J32,'YARN CODES'!$A$2:$E1000,2,0),"") | L32: =IF(K32<>"",VLOOKUP($J32,'YARN CODES'!$A$2:$E1000,3,0),"") | M32: =IF(L32<>"",VLOOKUP($J32,'YARN CODES'!$A$2:$E1000,4,0),"") | N32: =IF(M32<>"",VLOOKUP($J32,'YARN CODES'!$A$2:$E1000,4,0),"")
C33: =IF(J33<>"","CWA","") | K33: =IF(J33<>"",VLOOKUP($J33,'YARN CODES'!$A$2:$E1000,2,0),"") | L33: =IF(K33<>"",VLOOKUP($J33,'YARN CODES'!$A$2:$E1000,3,0),"") | M33: =IF(L33<>"",VLOOKUP($J33,'YARN CODES'!$A$2:$E1000,4,0),"") | N33: =IF(M33<>"",VLOOKUP($J33,'YARN CODES'!$A$2:$E1000,4,0),"")
C34: =IF(J34<>"","CWA","") | K34: =IF(J34<>"",VLOOKUP($J34,'YARN CODES'!$A$2:$E1000,2,0),"") | L34: =IF(K34<>"",VLOOKUP($J34,'YARN CODES'!$A$2:$E1000,3,0),"") | M34: =IF(L34<>"",VLOOKUP($J34,'YARN CODES'!$A$2:$E1000,4,0),"") | N34: =IF(M34<>"",VLOOKUP($J34,'YARN CODES'!$A$2:$E1000,4,0),"")
C35: =IF(J35<>"","CWA","") | K35: =IF(J35<>"",VLOOKUP($J35,'YARN CODES'!$A$2:$E1000,2,0),"") | L35: =IF(K35<>"",VLOOKUP($J35,'YARN CODES'!$A$2:$E1000,3,0),"") | M35: =IF(L35<>"",VLOOKUP($J35,'YARN CODES'!$A$2:$E1000,4,0),"") | N35: =IF(M35<>"",VLOOKUP($J35,'YARN CODES'!$A$2:$E1000,4,0),"")
C36: =IF(J36<>"","CWA","") | K36: =IF(J36<>"",VLOOKUP($J36,'YARN CODES'!$A$2:$E1000,2,0),"") | L36: =IF(K36<>"",VLOOKUP($J36,'YARN CODES'!$A$2:$E1000,3,0),"") | M36: =IF(L36<>"",VLOOKUP($J36,'YARN CODES'!$A$2:$E1000,4,0),"") | N36: =IF(M36<>"",VLOOKUP($J36,'YARN CODES'!$A$2:$E1000,4,0),"")
C37: =IF(J37<>"","CWA","") | K37: =IF(J37<>"",VLOOKUP($J37,'YARN CODES'!$A$2:$E1000,2,0),"") | L37: =IF(K37<>"",VLOOKUP($J37,'YARN CODES'!$A$2:$E1000,3,0),"") | M37: =IF(L37<>"",VLOOKUP($J37,'YARN CODES'!$A$2:$E1000,4,0),"") | N37: =IF(M37<>"",VLOOKUP($J37,'YARN CODES'!$A$2:$E1000,4,0),"")
C38: =IF(J38<>"","CWA","") | K38: =IF(J38<>"",VLOOKUP($J38,'YARN CODES'!$A$2:$E1000,2,0),"") | L38: =IF(K38<>"",VLOOKUP($J38,'YARN CODES'!$A$2:$E1000,3,0),"") | M38: =IF(L38<>"",VLOOKUP($J38,'YARN CODES'!$A$2:$E1000,4,0),"") | N38: =IF(M38<>"",VLOOKUP($J38,'YARN CODES'!$A$2:$E1000,4,0),"")
C39: =IF(J39<>"","CWA","") | K39: =IF(J39<>"",VLOOKUP($J39,'YARN CODES'!$A$2:$E1000,2,0),"") | L39: =IF(K39<>"",VLOOKUP($J39,'YARN CODES'!$A$2:$E1000,3,0),"") | M39: =IF(L39<>"",VLOOKUP($J39,'YARN CODES'!$A$2:$E1000,4,0),"") | N39: =IF(M39<>"",VLOOKUP($J39,'YARN CODES'!$A$2:$E1000,4,0),"")
C40: =IF(J40<>"","CWA","") | K40: =IF(J40<>"",VLOOKUP($J40,'YARN CODES'!$A$2:$E1000,2,0),"") | L40: =IF(K40<>"",VLOOKUP($J40,'YARN CODES'!$A$2:$E1000,3,0),"") | M40: =IF(L40<>"",VLOOKUP($J40,'YARN CODES'!$A$2:$E1000,4,0),"") | N40: =IF(M40<>"",VLOOKUP($J40,'YARN CODES'!$A$2:$E1000,4,0),"")
C41: =IF(J41<>"","CWA","") | K41: =IF(J41<>"",VLOOKUP($J41,'YARN CODES'!$A$2:$E1000,2,0),"") | L41: =IF(K41<>"",VLOOKUP($J41,'YARN CODES'!$A$2:$E1000,3,0),"") | M41: =IF(L41<>"",VLOOKUP($J41,'YARN CODES'!$A$2:$E1000,4,0),"") | N41: =IF(M41<>"",VLOOKUP($J41,'YARN CODES'!$A$2:$E1000,4,0),"")
C42: =IF(J42<>"","CWA","") | K42: =IF(J42<>"",VLOOKUP($J42,'YARN CODES'!$A$2:$E1000,2,0),"") | L42: =IF(K42<>"",VLOOKUP($J42,'YARN CODES'!$A$2:$E1000,3,0),"") | M42: =IF(L42<>"",VLOOKUP($J42,'YARN CODES'!$A$2:$E1000,4,0),"") | N42: =IF(M42<>"",VLOOKUP($J42,'YARN CODES'!$A$2:$E1000,4,0),"")
C43: =IF(J43<>"","CWA","") | K43: =IF(J43<>"",VLOOKUP($J43,'YARN CODES'!$A$2:$E1000,2,0),"") | L43: =IF(K43<>"",VLOOKUP($J43,'YARN CODES'!$A$2:$E1000,3,0),"") | M43: =IF(L43<>"",VLOOKUP($J43,'YARN CODES'!$A$2:$E1000,4,0),"") | N43: =IF(M43<>"",VLOOKUP($J43,'YARN CODES'!$A$2:$E1000,4,0),"")
C44: =IF(J44<>"","CWA","") | K44: =IF(J44<>"",VLOOKUP($J44,'YARN CODES'!$A$2:$E1000,2,0),"") | L44: =IF(K44<>"",VLOOKUP($J44,'YARN CODES'!$A$2:$E1000,3,0),"") | M44: =IF(L44<>"",VLOOKUP($J44,'YARN CODES'!$A$2:$E1000,4,0),"") | N44: =IF(M44<>"",VLOOKUP($J44,'YARN CODES'!$A$2:$E1000,4,0),"")
C45: =IF(J45<>"","CWA","") | K45: =IF(J45<>"",VLOOKUP($J45,'YARN CODES'!$A$2:$E1000,2,0),"") | L45: =IF(K45<>"",VLOOKUP($J45,'YARN CODES'!$A$2:$E1000,3,0),"") | M45: =IF(L45<>"",VLOOKUP($J45,'YARN CODES'!$A$2:$E1000,4,0),"") | N45: =IF(M45<>"",VLOOKUP($J45,'YARN CODES'!$A$2:$E1000,4,0),"")
C46: =IF(J46<>"","CWA","") | K46: =IF(J46<>"",VLOOKUP($J46,'YARN CODES'!$A$2:$E1000,2,0),"") | L46: =IF(K46<>"",VLOOKUP($J46,'YARN CODES'!$A$2:$E1000,3,0),"") | M46: =IF(L46<>"",VLOOKUP($J46,'YARN CODES'!$A$2:$E1000,4,0),"") | N46: =IF(M46<>"",VLOOKUP($J46,'YARN CODES'!$A$2:$E1000,4,0),"")
C47: =IF(J47<>"","CWA","") | K47: =IF(J47<>"",VLOOKUP($J47,'YARN CODES'!$A$2:$E1000,2,0),"") | L47: =IF(K47<>"",VLOOKUP($J47,'YARN CODES'!$A$2:$E1000,3,0),"") | M47: =IF(L47<>"",VLOOKUP($J47,'YARN CODES'!$A$2:$E1000,4,0),"") | N47: =IF(M47<>"",VLOOKUP($J47,'YARN CODES'!$A$2:$E1000,4,0),"")
C48: =IF(J48<>"","CWA","") | K48: =IF(J48<>"",VLOOKUP($J48,'YARN CODES'!$A$2:$E1000,2,0),"") | L48: =IF(K48<>"",VLOOKUP($J48,'YARN CODES'!$A$2:$E1000,3,0),"") | M48: =IF(L48<>"",VLOOKUP($J48,'YARN CODES'!$A$2:$E1000,4,0),"") | N48: =IF(M48<>"",VLOOKUP($J48,'YARN CODES'!$A$2:$E1000,4,0),"")
C49: =IF(J49<>"","CWA","") | K49: =IF(J49<>"",VLOOKUP($J49,'YARN CODES'!$A$2:$E1000,2,0),"") | L49: =IF(K49<>"",VLOOKUP($J49,'YARN CODES'!$A$2:$E1000,3,0),"") | M49: =IF(L49<>"",VLOOKUP($J49,'YARN CODES'!$A$2:$E1000,4,0),"") | N49: =IF(M49<>"",VLOOKUP($J49,'YARN CODES'!$A$2:$E1000,4,0),"")
C50: =IF(J50<>"","CWA","") | K50: =IF(J50<>"",VLOOKUP($J50,'YARN CODES'!$A$2:$E1000,2,0),"") | L50: =IF(K50<>"",VLOOKUP($J50,'YARN CODES'!$A$2:$E1000,3,0),"") | M50: =IF(L50<>"",VLOOKUP($J50,'YARN CODES'!$A$2:$E1000,4,0),"") | N50: =IF(M50<>"",VLOOKUP($J50,'YARN CODES'!$A$2:$E1000,4,0),"")
C51: =IF(J51<>"","CWA","") | K51: =IF(J51<>"",VLOOKUP($J51,'YARN CODES'!$A$2:$E1000,2,0),"") | L51: =IF(K51<>"",VLOOKUP($J51,'YARN CODES'!$A$2:$E1000,3,0),"") | M51: =IF(L51<>"",VLOOKUP($J51,'YARN CODES'!$A$2:$E1000,4,0),"") | N51: =IF(M51<>"",VLOOKUP($J51,'YARN CODES'!$A$2:$E1000,4,0),"")
C52: =IF(J52<>"","CWA","") | K52: =IF(J52<>"",VLOOKUP($J52,'YARN CODES'!$A$2:$E1000,2,0),"") | L52: =IF(K52<>"",VLOOKUP($J52,'YARN CODES'!$A$2:$E1000,3,0),"") | M52: =IF(L52<>"",VLOOKUP($J52,'YARN CODES'!$A$2:$E1000,4,0),"") | N52: =IF(M52<>"",VLOOKUP($J52,'YARN CODES'!$A$2:$E1000,4,0),"")
C53: =IF(J53<>"","CWA","") | K53: =IF(J53<>"",VLOOKUP($J53,'YARN CODES'!$A$2:$E1000,2,0),"") | L53: =IF(K53<>"",VLOOKUP($J53,'YARN CODES'!$A$2:$E1000,3,0),"") | M53: =IF(L53<>"",VLOOKUP($J53,'YARN CODES'!$A$2:$E1000,4,0),"") | N53: =IF(M53<>"",VLOOKUP($J53,'YARN CODES'!$A$2:$E1000,4,0),"")
C54: =IF(J54<>"","CWA","") | K54: =IF(J54<>"",VLOOKUP($J54,'YARN CODES'!$A$2:$E1000,2,0),"") | L54: =IF(K54<>"",VLOOKUP($J54,'YARN CODES'!$A$2:$E1000,3,0),"") | M54: =IF(L54<>"",VLOOKUP($J54,'YARN CODES'!$A$2:$E1000,4,0),"") | N54: =IF(M54<>"",VLOOKUP($J54,'YARN CODES'!$A$2:$E1000,4,0),"")
C55: =IF(J55<>"","CWA","") | K55: =IF(J55<>"",VLOOKUP($J55,'YARN CODES'!$A$2:$E1000,2,0),"") | L55: =IF(K55<>"",VLOOKUP($J55,'YARN CODES'!$A$2:$E1000,3,0),"") | M55: =IF(L55<>"",VLOOKUP($J55,'YARN CODES'!$A$2:$E1000,4,0),"") | N55: =IF(M55<>"",VLOOKUP($J55,'YARN CODES'!$A$2:$E1000,4,0),"")
C56: =IF(J56<>"","CWA","") | K56: =IF(J56<>"",VLOOKUP($J56,'YARN CODES'!$A$2:$E1000,2,0),"") | L56: =IF(K56<>"",VLOOKUP($J56,'YARN CODES'!$A$2:$E1000,3,0),"") | M56: =IF(L56<>"",VLOOKUP($J56,'YARN CODES'!$A$2:$E1000,4,0),"") | N56: =IF(M56<>"",VLOOKUP($J56,'YARN CODES'!$A$2:$E1000,4,0),"")
C57: =IF(J57<>"","CWA","") | K57: =IF(J57<>"",VLOOKUP($J57,'YARN CODES'!$A$2:$E1000,2,0),"") | L57: =IF(K57<>"",VLOOKUP($J57,'YARN CODES'!$A$2:$E1000,3,0),"") | M57: =IF(L57<>"",VLOOKUP($J57,'YARN CODES'!$A$2:$E1000,4,0),"") | N57: =IF(M57<>"",VLOOKUP($J57,'YARN CODES'!$A$2:$E1000,4,0),"")
C58: =IF(J58<>"","CWA","") | K58: =IF(J58<>"",VLOOKUP($J58,'YARN CODES'!$A$2:$E1000,2,0),"") | L58: =IF(K58<>"",VLOOKUP($J58,'YARN CODES'!$A$2:$E1000,3,0),"") | M58: =IF(L58<>"",VLOOKUP($J58,'YARN CODES'!$A$2:$E1000,4,0),"") | N58: =IF(M58<>"",VLOOKUP($J58,'YARN CODES'!$A$2:$E1000,4,0),"")
C59: =IF(J59<>"","CWA","") | K59: =IF(J59<>"",VLOOKUP($J59,'YARN CODES'!$A$2:$E1000,2,0),"") | L59: =IF(K59<>"",VLOOKUP($J59,'YARN CODES'!$A$2:$E1000,3,0),"") | M59: =IF(L59<>"",VLOOKUP($J59,'YARN CODES'!$A$2:$E1000,4,0),"") | N59: =IF(M59<>"",VLOOKUP($J59,'YARN CODES'!$A$2:$E1000,4,0),"")
C60: =IF(J60<>"","CWA","") | K60: =IF(J60<>"",VLOOKUP($J60,'YARN CODES'!$A$2:$E1000,2,0),"") | L60: =IF(K60<>"",VLOOKUP($J60,'YARN CODES'!$A$2:$E1000,3,0),"") | M60: =IF(L60<>"",VLOOKUP($J60,'YARN CODES'!$A$2:$E1000,4,0),"") | N60: =IF(M60<>"",VLOOKUP($J60,'YARN CODES'!$A$2:$E1000,4,0),"")
C61: =IF(J61<>"","CWA","") | K61: =IF(J61<>"",VLOOKUP($J61,'YARN CODES'!$A$2:$E1000,2,0),"") | L61: =IF(K61<>"",VLOOKUP($J61,'YARN CODES'!$A$2:$E1000,3,0),"") | M61: =IF(L61<>"",VLOOKUP($J61,'YARN CODES'!$A$2:$E1000,4,0),"") | N61: =IF(M61<>"",VLOOKUP($J61,'YARN CODES'!$A$2:$E1000,4,0),"")
C62: =IF(J62<>"","CWA","") | K62: =IF(J62<>"",VLOOKUP($J62,'YARN CODES'!$A$2:$E1000,2,0),"") | L62: =IF(K62<>"",VLOOKUP($J62,'YARN CODES'!$A$2:$E1000,3,0),"") | M62: =IF(L62<>"",VLOOKUP($J62,'YARN CODES'!$A$2:$E1000,4,0),"") | N62: =IF(M62<>"",VLOOKUP($J62,'YARN CODES'!$A$2:$E1000,4,0),"")
C63: =IF(J63<>"","CWA","") | K63: =IF(J63<>"",VLOOKUP($J63,'YARN CODES'!$A$2:$E1000,2,0),"") | L63: =IF(K63<>"",VLOOKUP($J63,'YARN CODES'!$A$2:$E1000,3,0),"") | M63: =IF(L63<>"",VLOOKUP($J63,'YARN CODES'!$A$2:$E1000,4,0),"") | N63: =IF(M63<>"",VLOOKUP($J63,'YARN CODES'!$A$2:$E1000,4,0),"")
C64: =IF(J64<>"","CWA","") | K64: =IF(J64<>"",VLOOKUP($J64,'YARN CODES'!$A$2:$E1000,2,0),"") | L64: =IF(K64<>"",VLOOKUP($J64,'YARN CODES'!$A$2:$E1000,3,0),"") | M64: =IF(L64<>"",VLOOKUP($J64,'YARN CODES'!$A$2:$E1000,4,0),"") | N64: =IF(M64<>"",VLOOKUP($J64,'YARN CODES'!$A$2:$E1000,4,0),"")
C65: =IF(J65<>"","CWA","") | K65: =IF(J65<>"",VLOOKUP($J65,'YARN CODES'!$A$2:$E1000,2,0),"") | L65: =IF(K65<>"",VLOOKUP($J65,'YARN CODES'!$A$2:$E1000,3,0),"") | M65: =IF(L65<>"",VLOOKUP($J65,'YARN CODES'!$A$2:$E1000,4,0),"") | N65: =IF(M65<>"",VLOOKUP($J65,'YARN CODES'!$A$2:$E1000,4,0),"")
C66: =IF(J66<>"","CWA","") | K66: =IF(J66<>"",VLOOKUP($J66,'YARN CODES'!$A$2:$E1000,2,0),"") | L66: =IF(K66<>"",VLOOKUP($J66,'YARN CODES'!$A$2:$E1000,3,0),"") | M66: =IF(L66<>"",VLOOKUP($J66,'YARN CODES'!$A$2:$E1000,4,0),"") | N66: =IF(M66<>"",VLOOKUP($J66,'YARN CODES'!$A$2:$E1000,4,0),"")
C67: =IF(J67<>"","CWA","") | K67: =IF(J67<>"",VLOOKUP($J67,'YARN CODES'!$A$2:$E1000,2,0),"") | L67: =IF(K67<>"",VLOOKUP($J67,'YARN CODES'!$A$2:$E1000,3,0),"") | M67: =IF(L67<>"",VLOOKUP($J67,'YARN CODES'!$A$2:$E1000,4,0),"") | N67: =IF(M67<>"",VLOOKUP($J67,'YARN CODES'!$A$2:$E1000,4,0),"")
C68: =IF(J68<>"","CWA","") | K68: =IF(J68<>"",VLOOKUP($J68,'YARN CODES'!$A$2:$E1000,2,0),"") | L68: =IF(K68<>"",VLOOKUP($J68,'YARN CODES'!$A$2:$E1000,3,0),"") | M68: =IF(L68<>"",VLOOKUP($J68,'YARN CODES'!$A$2:$E1000,4,0),"") | N68: =IF(M68<>"",VLOOKUP($J68,'YARN CODES'!$A$2:$E1000,4,0),"")
C69: =IF(J69<>"","CWA","") | K69: =IF(J69<>"",VLOOKUP($J69,'YARN CODES'!$A$2:$E1000,2,0),"") | L69: =IF(K69<>"",VLOOKUP($J69,'YARN CODES'!$A$2:$E1000,3,0),"") | M69: =IF(L69<>"",VLOOKUP($J69,'YARN CODES'!$A$2:$E1000,4,0),"") | N69: =IF(M69<>"",VLOOKUP($J69,'YARN CODES'!$A$2:$E1000,4,0),"")
C70: =IF(J70<>"","CWA","") | K70: =IF(J70<>"",VLOOKUP($J70,'YARN CODES'!$A$2:$E1000,2,0),"") | L70: =IF(K70<>"",VLOOKUP($J70,'YARN CODES'!$A$2:$E1000,3,0),"") | M70: =IF(L70<>"",VLOOKUP($J70,'YARN CODES'!$A$2:$E1000,4,0),"") | N70: =IF(M70<>"",VLOOKUP($J70,'YARN CODES'!$A$2:$E1000,4,0),"")
C71: =IF(J71<>"","CWA","") | K71: =IF(J71<>"",VLOOKUP($J71,'YARN CODES'!$A$2:$E1000,2,0),"") | L71: =IF(K71<>"",VLOOKUP($J71,'YARN CODES'!$A$2:$E1000,3,0),"") | M71: =IF(L71<>"",VLOOKUP($J71,'YARN CODES'!$A$2:$E1000,4,0),"") | N71: =IF(M71<>"",VLOOKUP($J71,'YARN CODES'!$A$2:$E1000,4,0),"")
C72: =IF(J72<>"","CWA","") | K72: =IF(J72<>"",VLOOKUP($J72,'YARN CODES'!$A$2:$E1000,2,0),"") | L72: =IF(K72<>"",VLOOKUP($J72,'YARN CODES'!$A$2:$E1000,3,0),"") | M72: =IF(L72<>"",VLOOKUP($J72,'YARN CODES'!$A$2:$E1000,4,0),"") | N72: =IF(M72<>"",VLOOKUP($J72,'YARN CODES'!$A$2:$E1000,4,0),"")
C73: =IF(J73<>"","CWA","") | K73: =IF(J73<>"",VLOOKUP($J73,'YARN CODES'!$A$2:$E1000,2,0),"") | L73: =IF(K73<>"",VLOOKUP($J73,'YARN CODES'!$A$2:$E1000,3,0),"") | M73: =IF(L73<>"",VLOOKUP($J73,'YARN CODES'!$A$2:$E1000,4,0),"") | N73: =IF(M73<>"",VLOOKUP($J73,'YARN CODES'!$A$2:$E1000,4,0),"")
C74: =IF(J74<>"","CWA","") | K74: =IF(J74<>"",VLOOKUP($J74,'YARN CODES'!$A$2:$E1000,2,0),"") | L74: =IF(K74<>"",VLOOKUP($J74,'YARN CODES'!$A$2:$E1000,3,0),"") | M74: =IF(L74<>"",VLOOKUP($J74,'YARN CODES'!$A$2:$E1000,4,0),"") | N74: =IF(M74<>"",VLOOKUP($J74,'YARN CODES'!$A$2:$E1000,4,0),"")
C75: =IF(J75<>"","CWA","") | K75: =IF(J75<>"",VLOOKUP($J75,'YARN CODES'!$A$2:$E1000,2,0),"") | L75: =IF(K75<>"",VLOOKUP($J75,'YARN CODES'!$A$2:$E1000,3,0),"") | M75: =IF(L75<>"",VLOOKUP($J75,'YARN CODES'!$A$2:$E1000,4,0),"") | N75: =IF(M75<>"",VLOOKUP($J75,'YARN CODES'!$A$2:$E1000,4,0),"")
C76: =IF(J76<>"","CWA","") | K76: =IF(J76<>"",VLOOKUP($J76,'YARN CODES'!$A$2:$E1000,2,0),"") | L76: =IF(K76<>"",VLOOKUP($J76,'YARN CODES'!$A$2:$E1000,3,0),"") | M76: =IF(L76<>"",VLOOKUP($J76,'YARN CODES'!$A$2:$E1000,4,0),"") | N76: =IF(M76<>"",VLOOKUP($J76,'YARN CODES'!$A$2:$E1000,4,0),"")
C77: =IF(J77<>"","CWA","") | K77: =IF(J77<>"",VLOOKUP($J77,'YARN CODES'!$A$2:$E1000,2,0),"") | L77: =IF(K77<>"",VLOOKUP($J77,'YARN CODES'!$A$2:$E1000,3,0),"") | M77: =IF(L77<>"",VLOOKUP($J77,'YARN CODES'!$A$2:$E1000,4,0),"") | N77: =IF(M77<>"",VLOOKUP($J77,'YARN CODES'!$A$2:$E1000,4,0),"")
C78: =IF(J78<>"","CWA","") | K78: =IF(J78<>"",VLOOKUP($J78,'YARN CODES'!$A$2:$E1000,2,0),"") | L78: =IF(K78<>"",VLOOKUP($J78,'YARN CODES'!$A$2:$E1000,3,0),"") | M78: =IF(L78<>"",VLOOKUP($J78,'YARN CODES'!$A$2:$E1000,4,0),"") | N78: =IF(M78<>"",VLOOKUP($J78,'YARN CODES'!$A$2:$E1000,4,0),"")
C79: =IF(J79<>"","CWA","") | K79: =IF(J79<>"",VLOOKUP($J79,'YARN CODES'!$A$2:$E1000,2,0),"") | L79: =IF(K79<>"",VLOOKUP($J79,'YARN CODES'!$A$2:$E1000,3,0),"") | M79: =IF(L79<>"",VLOOKUP($J79,'YARN CODES'!$A$2:$E1000,4,0),"") | N79: =IF(M79<>"",VLOOKUP($J79,'YARN CODES'!$A$2:$E1000,4,0),"")
C80: =IF(J80<>"","CWA","") | K80: =IF(J80<>"",VLOOKUP($J80,'YARN CODES'!$A$2:$E1000,2,0),"") | L80: =IF(K80<>"",VLOOKUP($J80,'YARN CODES'!$A$2:$E1000,3,0),"") | M80: =IF(L80<>"",VLOOKUP($J80,'YARN CODES'!$A$2:$E1000,4,0),"") | N80: =IF(M80<>"",VLOOKUP($J80,'YARN CODES'!$A$2:$E1000,4,0),"")
C81: =IF(J81<>"","CWA","") | K81: =IF(J81<>"",VLOOKUP($J81,'YARN CODES'!$A$2:$E1000,2,0),"") | L81: =IF(K81<>"",VLOOKUP($J81,'YARN CODES'!$A$2:$E1000,3,0),"") | M81: =IF(L81<>"",VLOOKUP($J81,'YARN CODES'!$A$2:$E1000,4,0),"") | N81: =IF(M81<>"",VLOOKUP($J81,'YARN CODES'!$A$2:$E1000,4,0),"")
C82: =IF(J82<>"","CWA","") | K82: =IF(J82<>"",VLOOKUP($J82,'YARN CODES'!$A$2:$E1000,2,0),"") | L82: =IF(K82<>"",VLOOKUP($J82,'YARN CODES'!$A$2:$E1000,3,0),"") | M82: =IF(L82<>"",VLOOKUP($J82,'YARN CODES'!$A$2:$E1000,4,0),"") | N82: =IF(M82<>"",VLOOKUP($J82,'YARN CODES'!$A$2:$E1000,4,0),"")
C83: =IF(J83<>"","CWA","") | K83: =IF(J83<>"",VLOOKUP($J83,'YARN CODES'!$A$2:$E1000,2,0),"") | L83: =IF(K83<>"",VLOOKUP($J83,'YARN CODES'!$A$2:$E1000,3,0),"") | M83: =IF(L83<>"",VLOOKUP($J83,'YARN CODES'!$A$2:$E1000,4,0),"") | N83: =IF(M83<>"",VLOOKUP($J83,'YARN CODES'!$A$2:$E1000,4,0),"")
C84: =IF(J84<>"","CWA","") | K84: =IF(J84<>"",VLOOKUP($J84,'YARN CODES'!$A$2:$E1000,2,0),"") | L84: =IF(K84<>"",VLOOKUP($J84,'YARN CODES'!$A$2:$E1000,3,0),"") | M84: =IF(L84<>"",VLOOKUP($J84,'YARN CODES'!$A$2:$E1000,4,0),"") | N84: =IF(M84<>"",VLOOKUP($J84,'YARN CODES'!$A$2:$E1000,4,0),"")
C85: =IF(J85<>"","CWA","") | K85: =IF(J85<>"",VLOOKUP($J85,'YARN CODES'!$A$2:$E1000,2,0),"") | L85: =IF(K85<>"",VLOOKUP($J85,'YARN CODES'!$A$2:$E1000,3,0),"") | M85: =IF(L85<>"",VLOOKUP($J85,'YARN CODES'!$A$2:$E1000,4,0),"") | N85: =IF(M85<>"",VLOOKUP($J85,'YARN CODES'!$A$2:$E1000,4,0),"")
C86: =IF(J86<>"","CWA","") | K86: =IF(J86<>"",VLOOKUP($J86,'YARN CODES'!$A$2:$E1000,2,0),"") | L86: =IF(K86<>"",VLOOKUP($J86,'YARN CODES'!$A$2:$E1000,3,0),"") | M86: =IF(L86<>"",VLOOKUP($J86,'YARN CODES'!$A$2:$E1000,4,0),"") | N86: =IF(M86<>"",VLOOKUP($J86,'YARN CODES'!$A$2:$E1000,4,0),"")
C87: =IF(J87<>"","CWA","") | K87: =IF(J87<>"",VLOOKUP($J87,'YARN CODES'!$A$2:$E1000,2,0),"") | L87: =IF(K87<>"",VLOOKUP($J87,'YARN CODES'!$A$2:$E1000,3,0),"") | M87: =IF(L87<>"",VLOOKUP($J87,'YARN CODES'!$A$2:$E1000,4,0),"") | N87: =IF(M87<>"",VLOOKUP($J87,'YARN CODES'!$A$2:$E1000,4,0),"")
C88: =IF(J88<>"","CWA","") | K88: =IF(J88<>"",VLOOKUP($J88,'YARN CODES'!$A$2:$E1000,2,0),"") | L88: =IF(K88<>"",VLOOKUP($J88,'YARN CODES'!$A$2:$E1000,3,0),"") | M88: =IF(L88<>"",VLOOKUP($J88,'YARN CODES'!$A$2:$E1000,4,0),"") | N88: =IF(M88<>"",VLOOKUP($J88,'YARN CODES'!$A$2:$E1000,4,0),"")
C89: =IF(J89<>"","CWA","") | K89: =IF(J89<>"",VLOOKUP($J89,'YARN CODES'!$A$2:$E1000,2,0),"") | L89: =IF(K89<>"",VLOOKUP($J89,'YARN CODES'!$A$2:$E1000,3,0),"") | M89: =IF(L89<>"",VLOOKUP($J89,'YARN CODES'!$A$2:$E1000,4,0),"") | N89: =IF(M89<>"",VLOOKUP($J89,'YARN CODES'!$A$2:$E1000,4,0),"")
C90: =IF(J90<>"","CWA","") | K90: =IF(J90<>"",VLOOKUP($J90,'YARN CODES'!$A$2:$E1000,2,0),"") | L90: =IF(K90<>"",VLOOKUP($J90,'YARN CODES'!$A$2:$E1000,3,0),"") | M90: =IF(L90<>"",VLOOKUP($J90,'YARN CODES'!$A$2:$E1000,4,0),"") | N90: =IF(M90<>"",VLOOKUP($J90,'YARN CODES'!$A$2:$E1000,4,0),"")
C91: =IF(J91<>"","CWA","") | K91: =IF(J91<>"",VLOOKUP($J91,'YARN CODES'!$A$2:$E1000,2,0),"") | L91: =IF(K91<>"",VLOOKUP($J91,'YARN CODES'!$A$2:$E1000,3,0),"") | M91: =IF(L91<>"",VLOOKUP($J91,'YARN CODES'!$A$2:$E1000,4,0),"") | N91: =IF(M91<>"",VLOOKUP($J91,'YARN CODES'!$A$2:$E1000,4,0),"")
C92: =IF(J92<>"","CWA","") | K92: =IF(J92<>"",VLOOKUP($J92,'YARN CODES'!$A$2:$E1000,2,0),"") | L92: =IF(K92<>"",VLOOKUP($J92,'YARN CODES'!$A$2:$E1000,3,0),"") | M92: =IF(L92<>"",VLOOKUP($J92,'YARN CODES'!$A$2:$E1000,4,0),"") | N92: =IF(M92<>"",VLOOKUP($J92,'YARN CODES'!$A$2:$E1000,4,0),"")
C93: =IF(J93<>"","CWA","") | K93: =IF(J93<>"",VLOOKUP($J93,'YARN CODES'!$A$2:$E1000,2,0),"") | L93: =IF(K93<>"",VLOOKUP($J93,'YARN CODES'!$A$2:$E1000,3,0),"") | M93: =IF(L93<>"",VLOOKUP($J93,'YARN CODES'!$A$2:$E1000,4,0),"") | N93: =IF(M93<>"",VLOOKUP($J93,'YARN CODES'!$A$2:$E1000,4,0),"")
C94: =IF(J94<>"","CWA","") | K94: =IF(J94<>"",VLOOKUP($J94,'YARN CODES'!$A$2:$E1000,2,0),"") | L94: =IF(K94<>"",VLOOKUP($J94,'YARN CODES'!$A$2:$E1000,3,0),"") | M94: =IF(L94<>"",VLOOKUP($J94,'YARN CODES'!$A$2:$E1000,4,0),"") | N94: =IF(M94<>"",VLOOKUP($J94,'YARN CODES'!$A$2:$E1000,4,0),"")
C95: =IF(J95<>"","CWA","") | K95: =IF(J95<>"",VLOOKUP($J95,'YARN CODES'!$A$2:$E1000,2,0),"") | L95: =IF(K95<>"",VLOOKUP($J95,'YARN CODES'!$A$2:$E1000,3,0),"") | M95: =IF(L95<>"",VLOOKUP($J95,'YARN CODES'!$A$2:$E1000,4,0),"") | N95: =IF(M95<>"",VLOOKUP($J95,'YARN CODES'!$A$2:$E1000,4,0),"")
C96: =IF(J96<>"","CWA","") | K96: =IF(J96<>"",VLOOKUP($J96,'YARN CODES'!$A$2:$E1000,2,0),"") | L96: =IF(K96<>"",VLOOKUP($J96,'YARN CODES'!$A$2:$E1000,3,0),"") | M96: =IF(L96<>"",VLOOKUP($J96,'YARN CODES'!$A$2:$E1000,4,0),"") | N96: =IF(M96<>"",VLOOKUP($J96,'YARN CODES'!$A$2:$E1000,4,0),"")
C97: =IF(J97<>"","CWA","") | K97: =IF(J97<>"",VLOOKUP($J97,'YARN CODES'!$A$2:$E1000,2,0),"") | L97: =IF(K97<>"",VLOOKUP($J97,'YARN CODES'!$A$2:$E1000,3,0),"") | M97: =IF(L97<>"",VLOOKUP($J97,'YARN CODES'!$A$2:$E1000,4,0),"") | N97: =IF(M97<>"",VLOOKUP($J97,'YARN CODES'!$A$2:$E1000,4,0),"")
C98: =IF(J98<>"","CWA","") | K98: =IF(J98<>"",VLOOKUP($J98,'YARN CODES'!$A$2:$E1000,2,0),"") | L98: =IF(K98<>"",VLOOKUP($J98,'YARN CODES'!$A$2:$E1000,3,0),"") | M98: =IF(L98<>"",VLOOKUP($J98,'YARN CODES'!$A$2:$E1000,4,0),"") | N98: =IF(M98<>"",VLOOKUP($J98,'YARN CODES'!$A$2:$E1000,4,0),"")
C99: =IF(J99<>"","CWA","") | K99: =IF(J99<>"",VLOOKUP($J99,'YARN CODES'!$A$2:$E1000,2,0),"") | L99: =IF(K99<>"",VLOOKUP($J99,'YARN CODES'!$A$2:$E1000,3,0),"") | M99: =IF(L99<>"",VLOOKUP($J99,'YARN CODES'!$A$2:$E1000,4,0),"") | N99: =IF(M99<>"",VLOOKUP($J99,'YARN CODES'!$A$2:$E1000,4,0),"")
C100: =IF(J100<>"","CWA","") | K100: =IF(J100<>"",VLOOKUP($J100,'YARN CODES'!$A$2:$E1000,2,0),"") | L100: =IF(K100<>"",VLOOKUP($J100,'YARN CODES'!$A$2:$E1000,3,0),"") | M100: =IF(L100<>"",VLOOKUP($J100,'YARN CODES'!$A$2:$E1000,4,0),"") | N100: =IF(M100<>"",VLOOKUP($J100,'YARN CODES'!$A$2:$E1000,4,0),"")
C101: =IF(J101<>"","CWA","") | K101: =IF(J101<>"",VLOOKUP($J101,'YARN CODES'!$A$2:$E1000,2,0),"") | L101: =IF(K101<>"",VLOOKUP($J101,'YARN CODES'!$A$2:$E1000,3,0),"") | M101: =IF(L101<>"",VLOOKUP($J101,'YARN CODES'!$A$2:$E1000,4,0),"") | N101: =IF(M101<>"",VLOOKUP($J101,'YARN CODES'!$A$2:$E1000,4,0),"")
C102: =IF(J102<>"","CWA","") | K102: =IF(J102<>"",VLOOKUP($J102,'YARN CODES'!$A$2:$E1000,2,0),"") | L102: =IF(K102<>"",VLOOKUP($J102,'YARN CODES'!$A$2:$E1000,3,0),"") | M102: =IF(L102<>"",VLOOKUP($J102,'YARN CODES'!$A$2:$E1000,4,0),"") | N102: =IF(M102<>"",VLOOKUP($J102,'YARN CODES'!$A$2:$E1000,4,0),"")
C103: =IF(J103<>"","CWA","") | K103: =IF(J103<>"",VLOOKUP($J103,'YARN CODES'!$A$2:$E1000,2,0),"") | L103: =IF(K103<>"",VLOOKUP($J103,'YARN CODES'!$A$2:$E1000,3,0),"") | M103: =IF(L103<>"",VLOOKUP($J103,'YARN CODES'!$A$2:$E1000,4,0),"") | N103: =IF(M103<>"",VLOOKUP($J103,'YARN CODES'!$A$2:$E1000,4,0),"")
C104: =IF(J104<>"","CWA","") | K104: =IF(J104<>"",VLOOKUP($J104,'YARN CODES'!$A$2:$E1000,2,0),"") | L104: =IF(K104<>"",VLOOKUP($J104,'YARN CODES'!$A$2:$E1000,3,0),"") | M104: =IF(L104<>"",VLOOKUP($J104,'YARN CODES'!$A$2:$E1000,4,0),"") | N104: =IF(M104<>"",VLOOKUP($J104,'YARN CODES'!$A$2:$E1000,4,0),"")
C105: =IF(J105<>"","CWA","") | K105: =IF(J105<>"",VLOOKUP($J105,'YARN CODES'!$A$2:$E1000,2,0),"") | L105: =IF(K105<>"",VLOOKUP($J105,'YARN CODES'!$A$2:$E1000,3,0),"") | M105: =IF(L105<>"",VLOOKUP($J105,'YARN CODES'!$A$2:$E1000,4,0),"") | N105: =IF(M105<>"",VLOOKUP($J105,'YARN CODES'!$A$2:$E1000,4,0),"")
C106: =IF(J106<>"","CWA","") | K106: =IF(J106<>"",VLOOKUP($J106,'YARN CODES'!$A$2:$E1000,2,0),"") | L106: =IF(K106<>"",VLOOKUP($J106,'YARN CODES'!$A$2:$E1000,3,0),"") | M106: =IF(L106<>"",VLOOKUP($J106,'YARN CODES'!$A$2:$E1000,4,0),"") | N106: =IF(M106<>"",VLOOKUP($J106,'YARN CODES'!$A$2:$E1000,4,0),"")
C107: =IF(J107<>"","CWA","") | K107: =IF(J107<>"",VLOOKUP($J107,'YARN CODES'!$A$2:$E1000,2,0),"") | L107: =IF(K107<>"",VLOOKUP($J107,'YARN CODES'!$A$2:$E1000,3,0),"") | M107: =IF(L107<>"",VLOOKUP($J107,'YARN CODES'!$A$2:$E1000,4,0),"") | N107: =IF(M107<>"",VLOOKUP($J107,'YARN CODES'!$A$2:$E1000,4,0),"")
C108: =IF(J108<>"","CWA","") | K108: =IF(J108<>"",VLOOKUP($J108,'YARN CODES'!$A$2:$E1000,2,0),"") | L108: =IF(K108<>"",VLOOKUP($J108,'YARN CODES'!$A$2:$E1000,3,0),"") | M108: =IF(L108<>"",VLOOKUP($J108,'YARN CODES'!$A$2:$E1000,4,0),"") | N108: =IF(M108<>"",VLOOKUP($J108,'YARN CODES'!$A$2:$E1000,4,0),"")
...

Sheet YARN WARP OUT
A1: DATE | B1: [Person_1]. | C1: PARTY NAME | D1: YARN CODE | E1: YARN TYPE | F1: SKU | G1: SHADE | H1: COLOR | I1: NO. OF UNITS | J1: UNIT | K1: P.O. NO.
A2: 44499 | C2: CWA | D2: WA54 | E2: =VLOOKUP($D2,'YARN CODES'!$A$2:$E1000,2,0) | F2: =VLOOKUP($D2,'YARN CODES'!$A$2:$E1000,3,0) | G2: =VLOOKUP($D2,'YARN CODES'!$A$2:$E1000,4,0) | H2: =VLOOKUP($D2,'YARN CODES'!$A$2:$E1000,5,0) | I2: 391.6 | J2: KGS
A3: 44499 | C3: CWA | D3: WA54 | E3: =VLOOKUP($D3,'YARN CODES'!$A$2:$E1000,2,0) | F3: =VLOOKUP($D3,'YARN CODES'!$A$2:$E1000,3,0) | G3: =VLOOKUP($D3,'YARN CODES'!$A$2:$E1000,4,0) | H3: =VLOOKUP($D3,'YARN CODES'!$A$2:$E1000,5,0) | I3: 391.6 | J3: KGS
A4: 44502 | C4: CWA | D4: WA114 | E4: =VLOOKUP($D4,'YARN CODES'!$A$2:$E1000,2,0) | F4: =VLOOKUP($D4,'YARN CODES'!$A$2:$E1000,3,0) | G4: =VLOOKUP($D4,'YARN CODES'!$A$2:$E1000,4,0) | H4: =VLOOKUP($D4,'YARN CODES'!$A$2:$E1000,5,0) | I4: 490 | J4: KGS
A5: 44502 | C5: CWA | D5: WA54 | E5: =VLOOKUP($D5,'YARN CODES'!$A$2:$E1000,2,0) | F5: =VLOOKUP($D5,'YARN CODES'!$A$2:$E1000,3,0) | G5: =VLOOKUP($D5,'YARN CODES'!$A$2:$E1000,4,0) | H5: =VLOOKUP($D5,'YARN CODES'!$A$2:$E1000,5,0) | I5: 289 | J5: KGS
A6: 44503 | C6: CWA | D6: WA114 | E6: =VLOOKUP($D6,'YARN CODES'!$A$2:$E1000,2,0) | F6: =VLOOKUP($D6,'YARN CODES'!$A$2:$E1000,3,0) | G6: =VLOOKUP($D6,'YARN CODES'!$A$2:$E1000,4,0) | H6: =VLOOKUP($D6,'YARN CODES'!$A$2:$E1000,5,0) | I6: 255 | J6: KGS
A7: 44509 | C7: CWA | D7: WA114 | E7: =VLOOKUP($D7,'YARN CODES'!$A$2:$E1000,2,0) | F7: =VLOOKUP($D7,'YARN CODES'!$A$2:$E1000,3,0) | G7: =VLOOKUP($D7,'YARN CODES'!$A$2:$E1000,4,0) | H7: =VLOOKUP($D7,'YARN CODES'!$A$2:$E1000,5,0) | I7: 175 | J7: KGS
A8: 44516 | C8: CWA | D8: WA114 | E8: =VLOOKUP($D8,'YARN CODES'!$A$2:$E1000,2,0) | F8: =VLOOKUP($D8,'YARN CODES'!$A$2:$E1000,3,0) | G8: =VLOOKUP($D8,'YARN CODES'!$A$2:$E1000,4,0) | H8: =VLOOKUP($D8,'YARN CODES'!$A$2:$E1000,5,0) | I8: 420 | J8: KGS
A9: 44519 | C9: CWA | D9: WA114 | E9: =VLOOKUP($D9,'YARN CODES'!$A$2:$E1000,2,0) | F9: =VLOOKUP($D9,'YARN CODES'!$A$2:$E1000,3,0) | G9: =VLOOKUP($D9,'YARN CODES'!$A$2:$E1000,4,0) | H9: =VLOOKUP($D9,'YARN CODES'!$A$2:$E1000,5,0) | I9: 306 | J9: KGS
A10: =IFERROR(__xludf.DUMMYFUNCTION("QUERY(WD,""SELECT A,B,C,J,K,L,M,N,P WHERE A IS NOT NULL "",0)"),44501) | B10: =IFERROR(__xludf.DUMMYFUNCTION("""COMPUTED_VALUE"""),"CWA01") | C10: =IFERROR(__xludf.DUMMYFUNCTION("""COMPUTED_VALUE"""),"CWA") | D10: =IFERROR(__xludf.DUMMYFUNCTION("""COMPUTED_VALUE"""),"WA54") | E10: =IFERROR(__xludf.DUMMYFUNCTION("""COMPUTED_VALUE"""),"COTTON") | F10: =IFERROR(__xludf.DUMMYFUNCTION("""COMPUTED_VALUE"""),"2-40 COMED") | G10: =IFERROR(__xludf.DUMMYFUNCTION("""COMPUTED_VALUE"""),"2-40 COTTON COMED") | H10: =IFERROR(__xludf.DUMMYFUNCTION("""COMPUTED_VALUE"""),"2-40 COTTON COMED") | I10: =IFERROR(__xludf.DUMMYFUNCTION("""COMPUTED_VALUE"""),289) | K10: =IFERROR(__xludf.DUMMYFUNCTION("QUERY(WD,""SELECT U WHERE A IS NOT NULL "",0)"),"")
A11: =IFERROR(__xludf.DUMMYFUNCTION("""COMPUTED_VALUE"""),44502) | C11: =IFERROR(__xludf.DUMMYFUNCTION("""COMPUTED_VALUE"""),"CWA") | D11: =IFERROR(__xludf.DUMMYFUNCTION("""COMPUTED_VALUE"""),"WA114") | E11: =IFERROR(__xludf.DUMMYFUNCTION("""COMPUTED_VALUE"""),"COTTON") | F11: =IFERROR(__xludf.DUMMYFUNCTION("""COMPUTED_VALUE"""),"2-40-COTTON") | G11: =IFERROR(__xludf.DUMMYFUNCTION("""COMPUTED_VALUE"""),"ELI") | H11: =IFERROR(__xludf.DUMMYFUNCTION("""COMPUTED_VALUE"""),"ELI") | I11: =IFERROR(__xludf.DUMMYFUNCTION("""COMPUTED_VALUE"""),490)
A12: =IFERROR(__xludf.DUMMYFUNCTION("""COMPUTED_VALUE"""),44503) | B12: =IFERROR(__xludf.DUMMYFUNCTION("""COMPUTED_VALUE"""),"CWA01") | C12: =IFERROR(__xludf.DUMMYFUNCTION("""COMPUTED_VALUE"""),"CWA") | D12: =IFERROR(__xludf.DUMMYFUNCTION("""COMPUTED_VALUE"""),"WA114") | E12: =IFERROR(__xludf.DUMMYFUNCTION("""COMPUTED_VALUE"""),"COTTON") | F12: =IFERROR(__xludf.DUMMYFUNCTION("""COMPUTED_VALUE"""),"2-40-COTTON") | G12: =IFERROR(__xludf.DUMMYFUNCTION("""COMPUTED_VALUE"""),"ELI") | H12: =IFERROR(__xludf.DUMMYFUNCTION("""COMPUTED_VALUE"""),"ELI") | I12: =IFERROR(__xludf.DUMMYFUNCTION("""COMPUTED_VALUE"""),255)
A13: =IFERROR(__xludf.DUMMYFUNCTION("""COMPUTED_VALUE"""),44506) | B13: =IFERROR(__xludf.DUMMYFUNCTION("""COMPUTED_VALUE"""),"CWA01") | C13: =IFERROR(__xludf.DUMMYFUNCTION("""COMPUTED_VALUE"""),"CWA") | D13: =IFERROR(__xludf.DUMMYFUNCTION("""COMPUTED_VALUE"""),"WA54") | E13: =IFERROR(__xludf.DUMMYFUNCTION("""COMPUTED_VALUE"""),"COTTON") | F13: =IFERROR(__xludf.DUMMYFUNCTION("""COMPUTED_VALUE"""),"2-40 COMED") | G13: =IFERROR(__xludf.DUMMYFUNCTION("""COMPUTED_VALUE"""),"2-40 COTTON COMED") | H13: =IFERROR(__xludf.DUMMYFUNCTION("""COMPUTED_VALUE"""),"2-40 COTTON COMED") | I13: =IFERROR(__xludf.DUMMYFUNCTION("""COMPUTED_VALUE"""),125.3)
A14: =IFERROR(__xludf.DUMMYFUNCTION("""COMPUTED_VALUE"""),44509) | B14: =IFERROR(__xludf.DUMMYFUNCTION("""COMPUTED_VALUE"""),"CWA01") | C14: =IFERROR(__xludf.DUMMYFUNCTION("""COMPUTED_VALUE"""),"CWA") | D14: =IFERROR(__xludf.DUMMYFUNCTION("""COMPUTED_VALUE"""),"WA114") | E14: =IFERROR(__xludf.DUMMYFUNCTION("""COMPUTED_VALUE"""),"COTTON") | F14: =IFERROR(__xludf.DUMMYFUNCTION("""COMPUTED_VALUE"""),"2-40-COTTON") | G14: =IFERROR(__xludf.DUMMYFUNCTION("""COMPUTED_VALUE"""),"ELI") | H14: =IFERROR(__xludf.DUMMYFUNCTION("""COMPUTED_VALUE"""),"ELI") | I14: =IFERROR(__xludf.DUMMYFUNCTION("""COMPUTED_VALUE"""),175)
A15: =IFERROR(__xludf.DUMMYFUNCTION("""COMPUTED_VALUE"""),44510) | C15: =IFERROR(__xludf.DUMMYFUNCTION("""COMPUTED_VALUE"""),"CWA") | D15: =IFERROR(__xludf.DUMMYFUNCTION("""COMPUTED_VALUE"""),"WA05") | E15: =IFERROR(__xludf.DUMMYFUNCTION("""COMPUTED_VALUE"""),"POLYESTER") | F15: =IFERROR(__xludf.DUMMYFUNCTION("""COMPUTED_VALUE"""),"150*350 BRIGHT") | G15: =IFERROR(__xludf.DUMMYFUNCTION("""COMPUTED_VALUE"""),"KORA-BRIGHT") | H15: =IFERROR(__xludf.DUMMYFUNCTION("""COMPUTED_VALUE"""),"KORA-BRIGHT") | I15: =IFERROR(__xludf.DUMMYFUNCTION("""COMPUTED_VALUE"""),336)
A16: =IFERROR(__xludf.DUMMYFUNCTION("""COMPUTED_VALUE"""),44511) | C16: =IFERROR(__xludf.DUMMYFUNCTION("""COMPUTED_VALUE"""),"CWA") | D16: =IFERROR(__xludf.DUMMYFUNCTION("""COMPUTED_VALUE"""),"WA54") | E16: =IFERROR(__xludf.DUMMYFUNCTION("""COMPUTED_VALUE"""),"COTTON") | F16: =IFERROR(__xludf.DUMMYFUNCTION("""COMPUTED_VALUE"""),"2-40 COMED") | G16: =IFERROR(__xludf.DUMMYFUNCTION("""COMPUTED_VALUE"""),"2-40 COTTON COMED") | H16: =IFERROR(__xludf.DUMMYFUNCTION("""COMPUTED_VALUE"""),"2-40 COTTON COMED") | I16: =IFERROR(__xludf.DUMMYFUNCTION("""COMPUTED_VALUE"""),405.6)
A17: =IFERROR(__xludf.DUMMYFUNCTION("""COMPUTED_VALUE"""),44511) | C17: =IFERROR(__xludf.DUMMYFUNCTION("""COMPUTED_VALUE"""),"CWA") | D17: =IFERROR(__xludf.DUMMYFUNCTION("""COMPUTED_VALUE"""),"WA54") | E17: =IFERROR(__xludf.DUMMYFUNCTION("""COMPUTED_VALUE"""),"COTTON") | F17: =IFERROR(__xludf.DUMMYFUNCTION("""COMPUTED_VALUE"""),"2-40 COMED") | G17: =IFERROR(__xludf.DUMMYFUNCTION("""COMPUTED_VALUE"""),"2-40 COTTON COMED") | H17: =IFERROR(__xludf.DUMMYFUNCTION("""COMPUTED_VALUE"""),"2-40 COTTON COMED") | I17: =IFERROR(__xludf.DUMMYFUNCTION("""COMPUTED_VALUE"""),391.6)
A18: =IFERROR(__xludf.DUMMYFUNCTION("""COMPUTED_VALUE"""),44512) | C18: =IFERROR(__xludf.DUMMYFUNCTION("""COMPUTED_VALUE"""),"CWA") | D18: =IFERROR(__xludf.DUMMYFUNCTION("""COMPUTED_VALUE"""),"WA115") | E18: =IFERROR(__xludf.DUMMYFUNCTION("""COMPUTED_VALUE"""),"POLYESTER") | F18: =IFERROR(__xludf.DUMMYFUNCTION("""COMPUTED_VALUE"""),"150 POLYESTER") | G18: =IFERROR(__xludf.DUMMYFUNCTION("""COMPUTED_VALUE"""),"TAUPE") | H18: =IFERROR(__xludf.DUMMYFUNCTION("""COMPUTED_VALUE"""),"TAUPE") | I18: =IFERROR(__xludf.DUMMYFUNCTION("""COMPUTED_VALUE"""),273.24)
A19: =IFERROR(__xludf.DUMMYFUNCTION("""COMPUTED_VALUE"""),44513) | C19: =IFERROR(__xludf.DUMMYFUNCTION("""COMPUTED_VALUE"""),"CWA") | D19: =IFERROR(__xludf.DUMMYFUNCTION("""COMPUTED_VALUE"""),"WA02") | E19: =IFERROR(__xludf.DUMMYFUNCTION("""COMPUTED_VALUE"""),"POLYESTER") | F19: =IFERROR(__xludf.DUMMYFUNCTION("""COMPUTED_VALUE"""),"150*350 BRIGHT") | G19: =IFERROR(__xludf.DUMMYFUNCTION("""COMPUTED_VALUE"""),"9151 BRIGHT") | H19: =IFERROR(__xludf.DUMMYFUNCTION("""COMPUTED_VALUE"""),"9151 BRIGHT") | I19: =IFERROR(__xludf.DUMMYFUNCTION("""COMPUTED_VALUE"""),192.5)
A20: =IFERROR(__xludf.DUMMYFUNCTION("""COMPUTED_VALUE"""),44515) | C20: =IFERROR(__xludf.DUMMYFUNCTION("""COMPUTED_VALUE"""),"CWA") | D20: =IFERROR(__xludf.DUMMYFUNCTION("""COMPUTED_VALUE"""),"WA54") | E20: =IFERROR(__xludf.DUMMYFUNCTION("""COMPUTED_VALUE"""),"COTTON") | F20: =IFERROR(__xludf.DUMMYFUNCTION("""COMPUTED_VALUE"""),"2-40 COMED") | G20: =IFERROR(__xludf.DUMMYFUNCTION("""COMPUTED_VALUE"""),"2-40 COTTON COMED") | H20: =IFERROR(__xludf.DUMMYFUNCTION("""COMPUTED_VALUE"""),"2-40 COTTON COMED") | I20: =IFERROR(__xludf.DUMMYFUNCTION("""COMPUTED_VALUE"""),427.2)
A21: =IFERROR(__xludf.DUMMYFUNCTION("""COMPUTED_VALUE"""),44515) | C21: =IFERROR(__xludf.DUMMYFUNCTION("""COMPUTED_VALUE"""),"CWA") | D21: =IFERROR(__xludf.DUMMYFUNCTION("""COMPUTED_VALUE"""),"WA54") | E21: =IFERROR(__xludf.DUMMYFUNCTION("""COMPUTED_VALUE"""),"COTTON") | F21: =IFERROR(__xludf.DUMMYFUNCTION("""COMPUTED_VALUE"""),"2-40 COMED") | G21: =IFERROR(__xludf.DUMMYFUNCTION("""COMPUTED_VALUE"""),"2-40 COTTON COMED") | H21: =IFERROR(__xludf.DUMMYFUNCTION("""COMPUTED_VALUE"""),"2-40 COTTON COMED") | I21: =IFERROR(__xludf.DUMMYFUNCTION("""COMPUTED_VALUE"""),427.2)
A22: =IFERROR(__xludf.DUMMYFUNCTION("""COMPUTED_VALUE"""),44516) | C22: =IFERROR(__xludf.DUMMYFUNCTION("""COMPUTED_VALUE"""),"CWA") | D22: =IFERROR(__xludf.DUMMYFUNCTION("""COMPUTED_VALUE"""),"WA114") | E22: =IFERROR(__xludf.DUMMYFUNCTION("""COMPUTED_VALUE"""),"COTTON") | F22: =IFERROR(__xludf.DUMMYFUNCTION("""COMPUTED_VALUE"""),"2-40-COTTON") | G22: =IFERROR(__xludf.DUMMYFUNCTION("""COMPUTED_VALUE"""),"ELI") | H22: =IFERROR(__xludf.DUMMYFUNCTION("""COMPUTED_VALUE"""),"ELI") | I22: =IFERROR(__xludf.DUMMYFUNCTION("""COMPUTED_VALUE"""),420)
A23: =IFERROR(__xludf.DUMMYFUNCTION("""COMPUTED_VALUE"""),44517) | C23: =IFERROR(__xludf.DUMMYFUNCTION("""COMPUTED_VALUE"""),"CWA") | D23: =IFERROR(__xludf.DUMMYFUNCTION("""COMPUTED_VALUE"""),"WA156") | E23: =IFERROR(__xludf.DUMMYFUNCTION("""COMPUTED_VALUE"""),"COTTON") | F23: =IFERROR(__xludf.DUMMYFUNCTION("""COMPUTED_VALUE"""),"2/60 COTTON") | G23: =IFERROR(__xludf.DUMMYFUNCTION("""COMPUTED_VALUE"""),"2/60 COTTON") | H23: =IFERROR(__xludf.DUMMYFUNCTION("""COMPUTED_VALUE"""),"2/60 COTTON") | I23: =IFERROR(__xludf.DUMMYFUNCTION("""COMPUTED_VALUE"""),17)
A24: =IFERROR(__xludf.DUMMYFUNCTION("""COMPUTED_VALUE"""),44517) | C24: =IFERROR(__xludf.DUMMYFUNCTION("""COMPUTED_VALUE"""),"CWA") | D24: =IFERROR(__xludf.DUMMYFUNCTION("""COMPUTED_VALUE"""),"WA95") | E24: =IFERROR(__xludf.DUMMYFUNCTION("""COMPUTED_VALUE"""),"POLYESTER") | F24: =IFERROR(__xludf.DUMMYFUNCTION("""COMPUTED_VALUE"""),"150 POLYESTER") | G24: =IFERROR(__xludf.DUMMYFUNCTION("""COMPUTED_VALUE"""),"TWISTED DOPE BLACK") | H24: =IFERROR(__xludf.DUMMYFUNCTION("""COMPUTED_VALUE"""),"TWISTED DOPE BLACK") | I24: =IFERROR(__xludf.DUMMYFUNCTION("""COMPUTED_VALUE"""),101)
A25: =IFERROR(__xludf.DUMMYFUNCTION("""COMPUTED_VALUE"""),44518) | C25: =IFERROR(__xludf.DUMMYFUNCTION("""COMPUTED_VALUE"""),"CWA") | D25: =IFERROR(__xludf.DUMMYFUNCTION("""COMPUTED_VALUE"""),"WA95") | E25: =IFERROR(__xludf.DUMMYFUNCTION("""COMPUTED_VALUE"""),"POLYESTER") | F25: =IFERROR(__xludf.DUMMYFUNCTION("""COMPUTED_VALUE"""),"150 POLYESTER") | G25: =IFERROR(__xludf.DUMMYFUNCTION("""COMPUTED_VALUE"""),"TWISTED DOPE BLACK") | H25: =IFERROR(__xludf.DUMMYFUNCTION("""COMPUTED_VALUE"""),"TWISTED DOPE BLACK") | I25: =IFERROR(__xludf.DUMMYFUNCTION("""COMPUTED_VALUE"""),144.36)
A26: =IFERROR(__xludf.DUMMYFUNCTION("""COMPUTED_VALUE"""),44519) | C26: =IFERROR(__xludf.DUMMYFUNCTION("""COMPUTED_VALUE"""),"CWA") | D26: =IFERROR(__xludf.DUMMYFUNCTION("""COMPUTED_VALUE"""),"WA114") | E26: =IFERROR(__xludf.DUMMYFUNCTION("""COMPUTED_VALUE"""),"COTTON") | F26: =IFERROR(__xludf.DUMMYFUNCTION("""COMPUTED_VALUE"""),"2-40-COTTON") | G26: =IFERROR(__xludf.DUMMYFUNCTION("""COMPUTED_VALUE"""),"ELI") | H26: =IFERROR(__xludf.DUMMYFUNCTION("""COMPUTED_VALUE"""),"ELI") | I26: =IFERROR(__xludf.DUMMYFUNCTION("""COMPUTED_VALUE"""),306)
A27: =IFERROR(__xludf.DUMMYFUNCTION("""COMPUTED_VALUE"""),44520) | C27: =IFERROR(__xludf.DUMMYFUNCTION("""COMPUTED_VALUE"""),"CWA") | D27: =IFERROR(__xludf.DUMMYFUNCTION("""COMPUTED_VALUE"""),"WA114") | E27: =IFERROR(__xludf.DUMMYFUNCTION("""COMPUTED_VALUE"""),"COTTON") | F27: =IFERROR(__xludf.DUMMYFUNCTION("""COMPUTED_VALUE"""),"2-40-COTTON") | G27: =IFERROR(__xludf.DUMMYFUNCTION("""COMPUTED_VALUE"""),"ELI") | H27: =IFERROR(__xludf.DUMMYFUNCTION("""COMPUTED_VALUE"""),"ELI") | I27: =IFERROR(__xludf.DUMMYFUNCTION("""COMPUTED_VALUE"""),490)
A28: =IFERROR(__xludf.DUMMYFUNCTION("""COMPUTED_VALUE"""),44522) | C28: =IFERROR(__xludf.DUMMYFUNCTION("""COMPUTED_VALUE"""),"CWA") | D28: =IFERROR(__xludf.DUMMYFUNCTION("""COMPUTED_VALUE"""),"WA54") | E28: =IFERROR(__xludf.DUMMYFUNCTION("""COMPUTED_VALUE"""),"COTTON") | F28: =IFERROR(__xludf.DUMMYFUNCTION("""COMPUTED_VALUE"""),"2-40 COMED") | G28: =IFERROR(__xludf.DUMMYFUNCTION("""COMPUTED_VALUE"""),"2-40 COTTON COMED") | H28: =IFERROR(__xludf.DUMMYFUNCTION("""COMPUTED_VALUE"""),"2-40 COTTON COMED") | I28: =IFERROR(__xludf.DUMMYFUNCTION("""COMPUTED_VALUE"""),169)
A29: =IFERROR(__xludf.DUMMYFUNCTION("""COMPUTED_VALUE"""),44522) | C29: =IFERROR(__xludf.DUMMYFUNCTION("""COMPUTED_VALUE"""),"CWA") | D29: =IFERROR(__xludf.DUMMYFUNCTION("""COMPUTED_VALUE"""),"WA117") | E29: =IFERROR(__xludf.DUMMYFUNCTION("""COMPUTED_VALUE"""),"POLYESTER") | F29: =IFERROR(__xludf.DUMMYFUNCTION("""COMPUTED_VALUE"""),"150 POLYESTER") | G29: =IFERROR(__xludf.DUMMYFUNCTION("""COMPUTED_VALUE"""),"SEA GREEN") | H29: =IFERROR(__xludf.DUMMYFUNCTION("""COMPUTED_VALUE"""),"SEA GREEN") | I29: =IFERROR(__xludf.DUMMYFUNCTION("""COMPUTED_VALUE"""),202)
A30: =IFERROR(__xludf.DUMMYFUNCTION("""COMPUTED_VALUE"""),44524) | C30: =IFERROR(__xludf.DUMMYFUNCTION("""COMPUTED_VALUE"""),"CWA") | D30: =IFERROR(__xludf.DUMMYFUNCTION("""COMPUTED_VALUE"""),"WA94") | E30: =IFERROR(__xludf.DUMMYFUNCTION("""COMPUTED_VALUE"""),"POLYESTER") | F30: =IFERROR(__xludf.DUMMYFUNCTION("""COMPUTED_VALUE"""),"150 POLYESTER") | G30: =IFERROR(__xludf.DUMMYFUNCTION("""COMPUTED_VALUE"""),"KORA TWISTED") | H30: =IFERROR(__xludf.DUMMYFUNCTION("""COMPUTED_VALUE"""),"KORA TWISTED") | I30: =IFERROR(__xludf.DUMMYFUNCTION("""COMPUTED_VALUE"""),114.4)
A31: =IFERROR(__xludf.DUMMYFUNCTION("""COMPUTED_VALUE"""),44524) | C31: =IFERROR(__xludf.DUMMYFUNCTION("""COMPUTED_VALUE"""),"CWA") | D31: =IFERROR(__xludf.DUMMYFUNCTION("""COMPUTED_VALUE"""),"WA95") | E31: =IFERROR(__xludf.DUMMYFUNCTION("""COMPUTED_VALUE"""),"POLYESTER") | F31: =IFERROR(__xludf.DUMMYFUNCTION("""COMPUTED_VALUE"""),"150 POLYESTER") | G31: =IFERROR(__xludf.DUMMYFUNCTION("""COMPUTED_VALUE"""),"TWISTED DOPE BLACK") | H31: =IFERROR(__xludf.DUMMYFUNCTION("""COMPUTED_VALUE"""),"TWISTED DOPE BLACK") | I31: =IFERROR(__xludf.DUMMYFUNCTION("""COMPUTED_VALUE"""),114.4)
A32: =IFERROR(__xludf.DUMMYFUNCTION("""COMPUTED_VALUE"""),44525) | C32: =IFERROR(__xludf.DUMMYFUNCTION("""COMPUTED_VALUE"""),"CWA") | D32: =IFERROR(__xludf.DUMMYFUNCTION("""COMPUTED_VALUE"""),"WA05") | E32: =IFERROR(__xludf.DUMMYFUNCTION("""COMPUTED_VALUE"""),"POLYESTER") | F32: =IFERROR(__xludf.DUMMYFUNCTION("""COMPUTED_VALUE"""),"150*350 BRIGHT") | G32: =IFERROR(__xludf.DUMMYFUNCTION("""COMPUTED_VALUE"""),"KORA-BRIGHT") | H32: =IFERROR(__xludf.DUMMYFUNCTION("""COMPUTED_VALUE"""),"KORA-BRIGHT") | I32: =IFERROR(__xludf.DUMMYFUNCTION("""COMPUTED_VALUE"""),346.5)
A33: =IFERROR(__xludf.DUMMYFUNCTION("""COMPUTED_VALUE"""),44526) | C33: =IFERROR(__xludf.DUMMYFUNCTION("""COMPUTED_VALUE"""),"CWA") | D33: =IFERROR(__xludf.DUMMYFUNCTION("""COMPUTED_VALUE"""),"WA54") | E33: =IFERROR(__xludf.DUMMYFUNCTION("""COMPUTED_VALUE"""),"COTTON") | F33: =IFERROR(__xludf.DUMMYFUNCTION("""COMPUTED_VALUE"""),"2-40 COMED") | G33: =IFERROR(__xludf.DUMMYFUNCTION("""COMPUTED_VALUE"""),"2-40 COTTON COMED") | H33: =IFERROR(__xludf.DUMMYFUNCTION("""COMPUTED_VALUE"""),"2-40 COTTON COMED") | I33: =IFERROR(__xludf.DUMMYFUNCTION("""COMPUTED_VALUE"""),377.42)
A34: =IFERROR(__xludf.DUMMYFUNCTION("""COMPUTED_VALUE"""),44527) | C34: =IFERROR(__xludf.DUMMYFUNCTION("""COMPUTED_VALUE"""),"CWA") | D34: =IFERROR(__xludf.DUMMYFUNCTION("""COMPUTED_VALUE"""),"WA119") | E34: =IFERROR(__xludf.DUMMYFUNCTION("""COMPUTED_VALUE"""),"POLYESTER") | F34: =IFERROR(__xludf.DUMMYFUNCTION("""COMPUTED_VALUE"""),"150 POLYESTER") | G34: =IFERROR(__xludf.DUMMYFUNCTION("""COMPUTED_VALUE"""),"N BLUE") | H34: =IFERROR(__xludf.DUMMYFUNCTION("""COMPUTED_VALUE"""),"N BLUE") | I34: =IFERROR(__xludf.DUMMYFUNCTION("""COMPUTED_VALUE"""),197.33)
A35: =IFERROR(__xludf.DUMMYFUNCTION("""COMPUTED_VALUE"""),44529) | C35: =IFERROR(__xludf.DUMMYFUNCTION("""COMPUTED_VALUE"""),"CWA") | D35: =IFERROR(__xludf.DUMMYFUNCTION("""COMPUTED_VALUE"""),"WA114") | E35: =IFERROR(__xludf.DUMMYFUNCTION("""COMPUTED_VALUE"""),"COTTON") | F35: =IFERROR(__xludf.DUMMYFUNCTION("""COMPUTED_VALUE"""),"2-40-COTTON") | G35: =IFERROR(__xludf.DUMMYFUNCTION("""COMPUTED_VALUE"""),"ELI") | H35: =IFERROR(__xludf.DUMMYFUNCTION("""COMPUTED_VALUE"""),"ELI") | I35: =IFERROR(__xludf.DUMMYFUNCTION("""COMPUTED_VALUE"""),490)
A36: =IFERROR(__xludf.DUMMYFUNCTION("""COMPUTED_VALUE"""),44529) | C36: =IFERROR(__xludf.DUMMYFUNCTION("""COMPUTED_VALUE"""),"CWA") | D36: =IFERROR(__xludf.DUMMYFUNCTION("""COMPUTED_VALUE"""),"WA114") | E36: =IFERROR(__xludf.DUMMYFUNCTION("""COMPUTED_VALUE"""),"COTTON") | F36: =IFERROR(__xludf.DUMMYFUNCTION("""COMPUTED_VALUE"""),"2-40-COTTON") | G36: =IFERROR(__xludf.DUMMYFUNCTION("""COMPUTED_VALUE"""),"ELI") | H36: =IFERROR(__xludf.DUMMYFUNCTION("""COMPUTED_VALUE"""),"ELI") | I36: =IFERROR(__xludf.DUMMYFUNCTION("""COMPUTED_VALUE"""),307.88)
A37: =IFERROR(__xludf.DUMMYFUNCTION("""COMPUTED_VALUE"""),44530) | I37: =IFERROR(__xludf.DUMMYFUNCTION("""COMPUTED_VALUE"""),144)
A38: =IFERROR(__xludf.DUMMYFUNCTION("""COMPUTED_VALUE"""),44532)

Sheet YARN CODES
A1: S.No. | B1: Yarn | C1: SKU | D1: Shade no | E1: color
A2: WE01 | B2: POLYESTER | C2: 400 D | D2: 9373 FDY | E2: AMBER YELLOW | F2: =C2&D2 | H2: =I2&J2 | I2: 450-D-INT | J2: [Person_46]
A3: WE02 | B3: POLYESTER | C3: 400 D | D3: 9374 FDY | E3: APRICOT | F3: =C3&D3
A4: WE03 | B4: POLYESTER | C4: 400 D | D4: 9641 FDY | E4: WHITE | F4: =C4&D4
A5: WE04 | B5: POLYESTER | C5: 400 D | D5: 9616 FDY | E5: MANGO | F5: =C5&D5
A6: WE05 | B6: POLYESTER | C6: 400 D | D6: 1649 FDY | E6: CAMEL | F6: =C6&D6
A7: WE06 | B7: POLYESTER | C7: 400 D | D7: 9375 FDY | E7: CHAMPAGNE | F7: =C7&D7
A8: WE07 | B8: POLYESTER | C8: 400 D LT | D8: 9373 LT | E8: AMBER YELLOW | F8: =C8&D8
A9: WE08 | B9: POLYESTER | C9: 400 D LT | D9: 9374 LT | E9: APRICOT | F9: =C9&D9
A10: WE09 | B10: POLYESTER | C10: 400 D LT | D10: 9375 LT | E10: CHAMPAGNE | F10: =C10&D10
A11: WE10 | B11: CHENILLE | C11: 2 NM | D11: NATURAL CHENILLE | E11: NATURAL CHENILLE | F11: =C11&D11
A12: WE11 | B12: CHENILLE | C12: 4 NM | D12: P. GREEN | E12: P. GREEN | F12: =C12&D12
A13: WE12 | B13: CHENILLE | C13: 4 NM | D13: SEA GREEN | E13: SEA GREEN | F13: =C13&D13
A14: WE13 | B14: CHENILLE | C14: 4 NM | D14: MAROON | E14: MAROON | F14: =C14&D14
... A100: WE99 | B100: COTTON | C100: 2-24-C | D100: KORA | E100: KORA | F100: =C100&D100
A101: WE100 | B101: COTTON | C101: 2-20-C | D101: 5069 | E101: MATRIX | F101: =C101&D101
A102: WE101 | B102: COTTON | C102: 2-20-C | D102: YELLOW | E102: YELLOW | F102: =C102&D102
A103: WE102 | B103: COTTON | C103: 2-20-C | D103: SELVAGE | E103: SELVAGE | F103: =C103&D103
A104: WE103 | B104: COTTON | C104: 2-18-C | D104: BLACK | E104: BLACK | F104: =C104&D104
A105: WE104 | B105: COTTON | C105: 16-SINGLE | D105: KORA | E105: KORA | F105: =C105&D105
A106: WE105 | B106: COTTON | C106: 20-SINGLE | D106: KORA | E106: KORA | F106: =C106&D106
A107: WE106 | B107: COTTON | C107: 24-SINGLE | D107: KORA | E107: KORA | F107: =C107&D107
A108: [Person_3] | B108: COTTON | C108: 14-SINGLE | D108: KORA | E108: KORA | F108: =C108&D108
A109: [Person_4] | B109: COTTON | C109: 30-SINGLE | D109: KORA | E109: KORA | F109: =C109&D109
A110: WE109 | B110: COTTON | C110: 6-SINGLE | D110: KORA | E110: KORA | F110: =C110&D110
A111: WE110 | B111: COTTON | C111: 2-10-C | D111: KORA | E111: KORA | F111: =C111&D111
A112: WE111 | B112: COTTON | C112: 2-30-C | D112: KORA | E112: KORA | F112: =C112&D112
A113: WE112 | B113: COTTON | C113: 2-30-C | D113: WHITE | E113: WHITE | F113: =C113&D113
... A126: WE125 | B126: POLYESTER | C126: 2-30-SHIVA | D126: [Person_43] | E126: GREEN | F126: =C126&D126
A127: WE126 | B127: POLYESTER | C127: 2-30-SHIVA | D127: 5003 | E127: PURPLE | F127: =C127&D127
A128: [Person_13] | B128: POLYESTER | C128: 2-30-SHIVA | D128: 6617 | E128: CAMEL | F128: =C128&D128
A129: WE128 | B129: POLYESTER | C129: 2-30-SHIVA | D129: DSS-2906 | E129: LEMON | F129: =C129&D129
A130: WE129 | B130: POLYESTER | C130: 2-30-SHIVA | D130: 6657 | E130: CREAM | F130: =C130&D130
A131: WE130 | B131: POLYESTER | C131: 2-30-SHIVA | D131: 6656 | E131: BABA | F131: =C131&D131
A132: [Person_14] | B132: POLYESTER | C132: 2-30-SHIVA | D132: 203 | E132: PINK | F132: =C132&D132
A133: [Person_15] | B133: POLYESTER | C133: 2-30-SHIVA | D133: OW77 | E133: BLACK | F133: =C133&D133
A134: WE133 | B134: POLYESTER | C134: 2-30-SHIVA | D134: 5010 | E134: [Person_44] | F134: =C134&D134
A135: WE134 | B135: POLYESTER | C135: 2-30-SHIVA | D135: 5005 | E135: [Person_45] | F135: =C135&D135
A136: WE135 | B136: POLYESTER | C136: 2-30-SHIVA | D136: DSS-5981 | E136: ORANGE | F136: =C136&D136
A137: WE136 | B137: POLYESTER | C137: 2-30-SHIVA | D137: 5049 | E137: RED | F137: =C137&D137
A138: WE137 | B138: POLYESTER | C138: 2-30-SHIVA | D138: 4988 | E138: COFFEE | F138: =C138&D138
A139: WE138 | B139: POLYESTER | C139: 450-D-INT | D139: 45116 | E139: RED | F139: =C139&D139
A140: WE139 | B140: POLYESTER | C140: 450-D-INT | D140: 2267 | E140: ORANGE | F140: =C140&D140
A141: WE140 | B141: POLYESTER | C141: 450-D-INT | D141: 45302 | E141: COFFEE | F141: =C141&D141
A142: WE141 | B142: POLYESTER | C142: 450-D-INT | D142: 45052 | E142: PLUM RED | F142: =C142&D142
A143: WE142 | B143: POLYESTER | C143: 450-D-INT | D143: 2057 | E143: WINE | F143: =C143&D143
A144: [Person_16] | B144: POLYESTER | C144: 450-D-INT | D144: 45053 | E144: MAROON | F144: =C144&D144
A145: [Person_17] | B145: POLYESTER | C145: 450-D-INT | D145: 45339 | E145: MAJENTA | F145: =C145&D145
A146: WE145 | B146: POLYESTER | C146: 450-D-INT | D146: 45047 | E146: BLACK | F146: =C146&D146
A147: [Person_18] | B147: POLYESTER | C147: 450-D-INT | D147: [Person_46] | E147: PEACH | F147: =C147&D147
A148: WE147 | B148: POLYESTER | C148: 450-D-INT | D148: 45344 | E148: LT PURPLE | F148: =C148&D148
A149: WE148 | B149: POLYESTER | C149: 450-D-INT | D149: 45342 | E149: LEMON | F149: =C149&D149
A150: WE149 | B150: POLYESTER | C150: 450-D-INT | D150: 45341 | E150: PINK | F150: =C150&D150
A151: WE150 | B151: POLYESTER | C151: 450-D-INT | D151: 45183 | E151: LT [Person_40] | F151: =C151&D151
A152: [Person_19] | B152: POLYESTER | C152: 450-D-INT | D152: 45346 | E152: C. GREEN | F152: =C152&D152
A153: WE152 | B153: POLYESTER | C153: 450-D-INT | D153: 45345 | E153: [Person_44] | F153: =C153&D153
A154: WE153 | B154: POLYESTER | C154: 450-D-INT | D154: 2173 | E154: PURPLE | F154: =C154&D154
A155: WE154 | B155: POLYESTER | C155: 450-D-INT | D155: 45301 | E155: P. GREEN | F155: =C155&D155
A156: WE155 | B156: POLYESTER | C156: 450-D-INT | D156: 45358 | E156: CAMEL | F156: =C156&D156
A157: WE156 | B157: POLYESTER | C157: 450-D-INT | D157: 5229 | E157: [Person_47] | F157: =C157&D157
A158: [Person_20] | B158: POLYESTER | C158: 450-D-INT | D158: 45360 | E158: LT GOLD | F158: =C158&D158
A159: WE158 | B159: POLYESTER | C159: 450-D-INT | D159: 45352 | E159: IVORY | F159: =C159&D159
... A167: WE166 | B167: POLYESTER | C167: 450-D-INT | D167: 4562 | E167: E.GREEN | F167: =C167&D167
A168: WE167 | B168: POLYESTER | C168: 600 ROTTO | D168: OW77 | E168: BLACK | F168: =C168&D168
A169: WE168 | B169: POLYESTER | C169: 600 ROTTO | D169: T.BLUE | E169: T.BLUE | F169: =C169&D169
A170: WE169 | B170: POLYESTER | C170: 600 ROTTO | D170: RED | E170: RED | F170: =C170&D170
A171: WE170 | B171: POLYESTER | C171: 2200 D | D171: FILLER | E171: FILLER | F171: =C171&D171
A172: WE171 | B172: POLYESTER | C172: 1200 D | D172: FILLER | E172: FILLER | F172: =C172&D172
A173: WE172 | B173: POLYESTER | C173: 1500-D | D173: JUTE | E173: JUTE | F173: =C173&D173
A174: WE173 | B174: POLYESTER | C174: 700-D | D174: VFD-260 | E174: GOLD | F174: =C174&D174
A175: WE174 | B175: POLYESTER | C175: 700-D | D175: VFD-203 | E175: BEIGE | F175: =C175&D175
A176: WE175 | B176: POLYESTER | C176: 700-D | D176: VFD-221 | E176: BLUE | F176: =C176&D176
A177: WE176 | B177: POLYESTER | C177: 700-D | D177: VFD-258 | E177: COFFEE | F177: =C177&D177
A178: WE177 | B178: POLYESTER | C178: 700-D | D178: VFD-34 | E178: BLACK | F178: =C178&D178
A179: [Person_21] | B179: POLYESTER | C179: 700-D | D179: VFD-275 | E179: RED | F179: =C179&D179
... A193: WE192 | B193: POLYESTER | C193: 700-D | D193: VFD-709 | E193: CREAM | F193: =C193&D193
A194: WE193 | B194: POLYESTER | C194: 700-D | D194: 1180 | E194: P. GREEN | F194: =C194&D194
A195: WE194 | B195: POLYESTER | C195: 700-D | D195: WHITE | E195: WHITE | F195: =C195&D195
A196: WE195 | B196: POLYESTER | C196: 600-D | D196: SKY BLUE | E196: SKY BLUE | F196: =C196&D196
A197: [Person_23] | B197: POLYESTER | C197: 600-D | D197: 253 | E197: OLIVE | F197: =C197&D197
A198: WE197 | B198: POLYESTER | C198: 600-D | D198: 251 | E198: ORANGE | F198: =C198&D198
A199: [Person_24] | B199: POLYESTER | C199: 330-D | D199: VFD-253 | E199: OLIVE | F199: =C199&D199
A200: WE199 | B200: POLYESTER | C200: 330-D | D200: VFD-275 | E200: RED | F200: =C200&D200
A201: WE200 | B201: POLYESTER | C201: 330-D | D201: VFD-208 | E201: CAMEL | F201: =C201&D201
A202: WE201 | B202: POLYESTER | C202: 330-D | D202: VFD-199 | E202: PINK | F202: =C202&D202
A203: WE202 | B203: POLYESTER | C203: 330-D | D203: VFD-257 | E203: COFFEE | F203: =C203&D203
A204: WE203 | B204: POLYESTER | C204: 330-D | D204: [Person_51] | E204: RANI | F204: =C204&D204
A205: [Person_25] | B205: POLYESTER | C205: 330-D | D205: [Person_50] | E205: [Person_44] | F205: =C205&D205
A206: WE205 | B206: POLYESTER | C206: 330-D | D206: VFD-1012 | E206: WINE | F206: =C206&D206
A207: WE206 | B207: POLYESTER | C207: 330-D | D207: VFD-268 | E207: PURPLE | F207: =C207&D207
A208: WE207 | B208: POLYESTER | C208: 330-D | D208: [Person_53] | E208: LT PURPLE | F208: =C208&D208
A209: WE208 | B209: POLYESTER | C209: 330-D | D209: VFD-251 | E209: ORANGE | F209: =C209&D209
A210: WE209 | B210: POLYESTER | C210: 330-D | D210: VFD-252 | E210: YELLOW | F210: =C210&D210
... A219: WE218 | B219: POLYESTER | C219: 300 Catonic | D219: KORA | E219: KORA | F219: =C219&D219
A220: WE219 | B220: POLYESTER | C220: 300-BMT | D220: 2713 | E220: GREY NUT | F220: =C220&D220
A221: WE220 | B221: POLYESTER | C221: 300-BMT | D221: 2717 | E221: GREEN | F221: =C221&D221
A222: WE221 | B222: POLYESTER | C222: 300-BMT | D222: 2675 | E222: KHAKI | F222: =C222&D222
A223: WE222 | B223: POLYESTER | C223: 300-BMT | D223: 2676 | E223: RED | F223: =C223&D223
A224: WE223 | B224: POLYESTER | C224: 300-BMT | D224: 2677 | E224: [Person_44] | F224: =C224&D224
A225: WE224 | B225: POLYESTER | C225: 300-BMT | D225: 2684 | E225: COFFEE | F225: =C225&D225
...
