Workbook

Sheet Sheet2
A1: DAILY SALES QUARTER 3, 2020
A3: PER 7 | C3: PER 8 | E3: PER 9 | J3: SALES | K3: ACTUAL PURCHASES $ | L3: ACTUAL PURCHASE % | M3: PURCHASE % TARGET | N3: [Person_1]
A4: 44013 | C4: 44044 | E4: 44075 | H4: P7 | I4: WEEK 1 | J4: =SUM(B4:B8) | K4: {=SUMIFS(Sheet1!I:I,Sheet1!A:A,">="&DATEVALUE(LEFT(INDEX(Sheet3!$B$3:$G$14,RIGHT($H4,1),MATCH($I4,TRIM(Sheet3!$B$2:$G$2),0)),SEARCH("-",INDEX(Sheet3!$B$3:$G$14,RIGHT($H4,1),MATCH($I4,TRIM(Sheet3!$B$2:$G$2),0)))-1)),Sheet1!A:A,"<="&DATEVALUE(RIGHT(INDEX(Sheet3!$B$3:$G$14,RIGHT($H4,1),MATCH($I4,TRIM(Sheet3!$B$2:$G$2),0)),LEN(INDEX(Sheet3!$B$3:$G$14,RIGHT($H4,1),MATCH($I4,TRIM(Sheet3!$B$2:$G$2),0)))-SEARCH("-",INDEX(Sheet3!$B$3:$G$14,RIGHT($H4,1),MATCH($I4,TRIM(Sheet3!$B$2:$G$2),0))))))} | L4: =IF(J4,K4/J4,"") | M4: =B36 | N4: =L4-M4
A5: 44014 | C5: 44045 | E5: 44076 | H5: P7 | I5: WEEK 2 | J5: =SUM(B9:B15) | K5: {=SUMIFS(Sheet1!I:I,Sheet1!A:A,">="&DATEVALUE(LEFT(INDEX(Sheet3!$B$3:$G$14,RIGHT($H5,1),MATCH($I5,TRIM(Sheet3!$B$2:$G$2),0)),SEARCH("-",INDEX(Sheet3!$B$3:$G$14,RIGHT($H5,1),MATCH($I5,TRIM(Sheet3!$B$2:$G$2),0)))-1)),Sheet1!A:A,"<="&DATEVALUE(RIGHT(INDEX(Sheet3!$B$3:$G$14,RIGHT($H5,1),MATCH($I5,TRIM(Sheet3!$B$2:$G$2),0)),LEN(INDEX(Sheet3!$B$3:$G$14,RIGHT($H5,1),MATCH($I5,TRIM(Sheet3!$B$2:$G$2),0)))-SEARCH("-",INDEX(Sheet3!$B$3:$G$14,RIGHT($H5,1),MATCH($I5,TRIM(Sheet3!$B$2:$G$2),0))))))} | L5: =IF(J5,K5/J5,"") | M5: =B36 | N5: =L5-M5
A6: 44015 | C6: 44046 | E6: 44077 | H6: P7 | I6: WEEK 3 | J6: =SUM(B16:B22) | K6: {=SUMIFS(Sheet1!I:I,Sheet1!A:A,">="&DATEVALUE(LEFT(INDEX(Sheet3!$B$3:$G$14,RIGHT($H6,1),MATCH($I6,TRIM(Sheet3!$B$2:$G$2),0)),SEARCH("-",INDEX(Sheet3!$B$3:$G$14,RIGHT($H6,1),MATCH($I6,TRIM(Sheet3!$B$2:$G$2),0)))-1)),Sheet1!A:A,"<="&DATEVALUE(RIGHT(INDEX(Sheet3!$B$3:$G$14,RIGHT($H6,1),MATCH($I6,TRIM(Sheet3!$B$2:$G$2),0)),LEN(INDEX(Sheet3!$B$3:$G$14,RIGHT($H6,1),MATCH($I6,TRIM(Sheet3!$B$2:$G$2),0)))-SEARCH("-",INDEX(Sheet3!$B$3:$G$14,RIGHT($H6,1),MATCH($I6,TRIM(Sheet3!$B$2:$G$2),0))))))} | L6: =IF(J6,K6/J6,"") | M6: =B36 | N6: =L6-M6
A7: 44016 | C7: 44047 | E7: 44078 | H7: P7 | I7: WEEK 4 | J7: =SUM(B23:B29) | K7: {=SUMIFS(Sheet1!I:I,Sheet1!A:A,">="&DATEVALUE(LEFT(INDEX(Sheet3!$B$3:$G$14,RIGHT($H7,1),MATCH($I7,TRIM(Sheet3!$B$2:$G$2),0)),SEARCH("-",INDEX(Sheet3!$B$3:$G$14,RIGHT($H7,1),MATCH($I7,TRIM(Sheet3!$B$2:$G$2),0)))-1)),Sheet1!A:A,"<="&DATEVALUE(RIGHT(INDEX(Sheet3!$B$3:$G$14,RIGHT($H7,1),MATCH($I7,TRIM(Sheet3!$B$2:$G$2),0)),LEN(INDEX(Sheet3!$B$3:$G$14,RIGHT($H7,1),MATCH($I7,TRIM(Sheet3!$B$2:$G$2),0)))-SEARCH("-",INDEX(Sheet3!$B$3:$G$14,RIGHT($H7,1),MATCH($I7,TRIM(Sheet3!$B$2:$G$2),0))))))} | L7: =IF(J7,K7/J7,"") | M7: =B36 | N7: =L7-M7
A8: 44017 | C8: 44048 | E8: 44079 | H8: P7 | I8: WEEK 5 | J8: =SUM(B30:B34) | K8: {=SUMIFS(Sheet1!I:I,Sheet1!A:A,">="&DATEVALUE(LEFT(INDEX(Sheet3!$B$3:$G$14,RIGHT($H8,1),MATCH($I8,TRIM(Sheet3!$B$2:$G$2),0)),SEARCH("-",INDEX(Sheet3!$B$3:$G$14,RIGHT($H8,1),MATCH($I8,TRIM(Sheet3!$B$2:$G$2),0)))-1)),Sheet1!A:A,"<="&DATEVALUE(RIGHT(INDEX(Sheet3!$B$3:$G$14,RIGHT($H8,1),MATCH($I8,TRIM(Sheet3!$B$2:$G$2),0)),LEN(INDEX(Sheet3!$B$3:$G$14,RIGHT($H8,1),MATCH($I8,TRIM(Sheet3!$B$2:$G$2),0)))-SEARCH("-",INDEX(Sheet3!$B$3:$G$14,RIGHT($H8,1),MATCH($I8,TRIM(Sheet3!$B$2:$G$2),0))))))} | L8: =IF(J8,K8/J8,"") | M8: =B36 | N8: =L8-M8
A9: 44018 | C9: 44049 | E9: 44080 | H9: P8 | I9: WEEK 1 | J9: =SUM(D4:D5) | K9: {=SUMIFS(Sheet1!I:I,Sheet1!A:A,">="&DATEVALUE(LEFT(INDEX(Sheet3!$B$3:$G$14,RIGHT($H9,1),MATCH($I9,TRIM(Sheet3!$B$2:$G$2),0)),SEARCH("-",INDEX(Sheet3!$B$3:$G$14,RIGHT($H9,1),MATCH($I9,TRIM(Sheet3!$B$2:$G$2),0)))-1)),Sheet1!A:A,"<="&DATEVALUE(RIGHT(INDEX(Sheet3!$B$3:$G$14,RIGHT($H9,1),MATCH($I9,TRIM(Sheet3!$B$2:$G$2),0)),LEN(INDEX(Sheet3!$B$3:$G$14,RIGHT($H9,1),MATCH($I9,TRIM(Sheet3!$B$2:$G$2),0)))-SEARCH("-",INDEX(Sheet3!$B$3:$G$14,RIGHT($H9,1),MATCH($I9,TRIM(Sheet3!$B$2:$G$2),0))))))} | L9: =IF(J9,K9/J9,"") | M9: =D36 | N9: =L9-M9
A10: 44019 | C10: 44050 | E10: 44081 | H10: P8 | I10: WEEK 2 | J10: =SUM(D6:D12) | K10: {=SUMIFS(Sheet1!I:I,Sheet1!A:A,">="&DATEVALUE(LEFT(INDEX(Sheet3!$B$3:$G$14,RIGHT($H10,1),MATCH($I10,TRIM(Sheet3!$B$2:$G$2),0)),SEARCH("-",INDEX(Sheet3!$B$3:$G$14,RIGHT($H10,1),MATCH($I10,TRIM(Sheet3!$B$2:$G$2),0)))-1)),Sheet1!A:A,"<="&DATEVALUE(RIGHT(INDEX(Sheet3!$B$3:$G$14,RIGHT($H10,1),MATCH($I10,TRIM(Sheet3!$B$2:$G$2),0)),LEN(INDEX(Sheet3!$B$3:$G$14,RIGHT($H10,1),MATCH($I10,TRIM(Sheet3!$B$2:$G$2),0)))-SEARCH("-",INDEX(Sheet3!$B$3:$G$14,RIGHT($H10,1),MATCH($I10,TRIM(Sheet3!$B$2:$G$2),0))))))} | L10: =IF(J10,K10/J10,"") | M10: =D36 | N10: =L10-M10
A11: 44020 | C11: 44051 | E11: 44082 | H11: P8 | I11: WEEK 3 | J11: =SUM(D13:D19) | K11: {=SUMIFS(Sheet1!I:I,Sheet1!A:A,">="&DATEVALUE(LEFT(INDEX(Sheet3!$B$3:$G$14,RIGHT($H11,1),MATCH($I11,TRIM(Sheet3!$B$2:$G$2),0)),SEARCH("-",INDEX(Sheet3!$B$3:$G$14,RIGHT($H11,1),MATCH($I11,TRIM(Sheet3!$B$2:$G$2),0)))-1)),Sheet1!A:A,"<="&DATEVALUE(RIGHT(INDEX(Sheet3!$B$3:$G$14,RIGHT($H11,1),MATCH($I11,TRIM(Sheet3!$B$2:$G$2),0)),LEN(INDEX(Sheet3!$B$3:$G$14,RIGHT($H11,1),MATCH($I11,TRIM(Sheet3!$B$2:$G$2),0)))-SEARCH("-",INDEX(Sheet3!$B$3:$G$14,RIGHT($H11,1),MATCH($I11,TRIM(Sheet3!$B$2:$G$2),0))))))} | L11: =IF(J11,K11/J11,"") | M11: =D36 | N11: =L11-M11
A12: 44021 | C12: 44052 | E12: 44083 | H12: P8 | I12: WEEK 4 | J12: =SUM(D20:D26) | K12: {=SUMIFS(Sheet1!I:I,Sheet1!A:A,">="&DATEVALUE(LEFT(INDEX(Sheet3!$B$3:$G$14,RIGHT($H12,1),MATCH($I12,TRIM(Sheet3!$B$2:$G$2),0)),SEARCH("-",INDEX(Sheet3!$B$3:$G$14,RIGHT($H12,1),MATCH($I12,TRIM(Sheet3!$B$2:$G$2),0)))-1)),Sheet1!A:A,"<="&DATEVALUE(RIGHT(INDEX(Sheet3!$B$3:$G$14,RIGHT($H12,1),MATCH($I12,TRIM(Sheet3!$B$2:$G$2),0)),LEN(INDEX(Sheet3!$B$3:$G$14,RIGHT($H12,1),MATCH($I12,TRIM(Sheet3!$B$2:$G$2),0)))-SEARCH("-",INDEX(Sheet3!$B$3:$G$14,RIGHT($H12,1),MATCH($I12,TRIM(Sheet3!$B$2:$G$2),0))))))} | L12: =IF(J12,K12/J12,"") | M12: =D36 | N12: =L12-M12
A13: 44022 | C13: 44053 | E13: 44084 | H13: P8 | I13: WEEK 5 | J13: =SUM(D27:D33) | K13: {=SUMIFS(Sheet1!I:I,Sheet1!A:A,">="&DATEVALUE(LEFT(INDEX(Sheet3!$B$3:$G$14,RIGHT($H13,1),MATCH($I13,TRIM(Sheet3!$B$2:$G$2),0)),SEARCH("-",INDEX(Sheet3!$B$3:$G$14,RIGHT($H13,1),MATCH($I13,TRIM(Sheet3!$B$2:$G$2),0)))-1)),Sheet1!A:A,"<="&DATEVALUE(RIGHT(INDEX(Sheet3!$B$3:$G$14,RIGHT($H13,1),MATCH($I13,TRIM(Sheet3!$B$2:$G$2),0)),LEN(INDEX(Sheet3!$B$3:$G$14,RIGHT($H13,1),MATCH($I13,TRIM(Sheet3!$B$2:$G$2),0)))-SEARCH("-",INDEX(Sheet3!$B$3:$G$14,RIGHT($H13,1),MATCH($I13,TRIM(Sheet3!$B$2:$G$2),0))))))} | L13: =IF(J13,K13/J13,"") | M13: =D36 | N13: =L13-M13
A14: 44023 | C14: 44054 | E14: 44085 | H14: P8 | I14: WEEK 6 | J14: =D34 | K14: {=SUMIFS(Sheet1!I:I,Sheet1!A:A,">="&DATEVALUE(LEFT(INDEX(Sheet3!$B$3:$G$14,RIGHT($H14,1),MATCH($I14,TRIM(Sheet3!$B$2:$G$2),0)),SEARCH("-",INDEX(Sheet3!$B$3:$G$14,RIGHT($H14,1),MATCH($I14,TRIM(Sheet3!$B$2:$G$2),0)))-1)),Sheet1!A:A,"<="&DATEVALUE(RIGHT(INDEX(Sheet3!$B$3:$G$14,RIGHT($H14,1),MATCH($I14,TRIM(Sheet3!$B$2:$G$2),0)),LEN(INDEX(Sheet3!$B$3:$G$14,RIGHT($H14,1),MATCH($I14,TRIM(Sheet3!$B$2:$G$2),0)))-SEARCH("-",INDEX(Sheet3!$B$3:$G$14,RIGHT($H14,1),MATCH($I14,TRIM(Sheet3!$B$2:$G$2),0))))))} | L14: =IF(J14,K14/J14,"") | M14: =D36 | N14: =L14-M14
A15: 44024 | C15: 44055 | E15: 44086 | H15: P9 | I15: WEEK 1 | J15: =SUM(F4:F9) | K15: {=SUMIFS(Sheet1!I:I,Sheet1!A:A,">="&DATEVALUE(LEFT(INDEX(Sheet3!$B$3:$G$14,RIGHT($H15,1),MATCH($I15,TRIM(Sheet3!$B$2:$G$2),0)),SEARCH("-",INDEX(Sheet3!$B$3:$G$14,RIGHT($H15,1),MATCH($I15,TRIM(Sheet3!$B$2:$G$2),0)))-1)),Sheet1!A:A,"<="&DATEVALUE(RIGHT(INDEX(Sheet3!$B$3:$G$14,RIGHT($H15,1),MATCH($I15,TRIM(Sheet3!$B$2:$G$2),0)),LEN(INDEX(Sheet3!$B$3:$G$14,RIGHT($H15,1),MATCH($I15,TRIM(Sheet3!$B$2:$G$2),0)))-SEARCH("-",INDEX(Sheet3!$B$3:$G$14,RIGHT($H15,1),MATCH($I15,TRIM(Sheet3!$B$2:$G$2),0))))))} | L15: =IF(J15,K15/J15,"") | M15: =F36 | N15: =L15-M15
A16: 44025 | C16: 44056 | E16: 44087 | H16: P9 | I16: WEEK 2 | J16: =SUM(F10:F16) | K16: {=SUMIFS(Sheet1!I:I,Sheet1!A:A,">="&DATEVALUE(LEFT(INDEX(Sheet3!$B$3:$G$14,RIGHT($H16,1),MATCH($I16,TRIM(Sheet3!$B$2:$G$2),0)),SEARCH("-",INDEX(Sheet3!$B$3:$G$14,RIGHT($H16,1),MATCH($I16,TRIM(Sheet3!$B$2:$G$2),0)))-1)),Sheet1!A:A,"<="&DATEVALUE(RIGHT(INDEX(Sheet3!$B$3:$G$14,RIGHT($H16,1),MATCH($I16,TRIM(Sheet3!$B$2:$G$2),0)),LEN(INDEX(Sheet3!$B$3:$G$14,RIGHT($H16,1),MATCH($I16,TRIM(Sheet3!$B$2:$G$2),0)))-SEARCH("-",INDEX(Sheet3!$B$3:$G$14,RIGHT($H16,1),MATCH($I16,TRIM(Sheet3!$B$2:$G$2),0))))))} | L16: =IF(J16,K16/J16,"") | M16: =F36 | N16: =L16-M16
A17: 44026 | C17: 44057 | E17: 44088 | H17: P9 | I17: WEEK 3 | J17: =SUM(F17:F23) | K17: {=SUMIFS(Sheet1!I:I,Sheet1!A:A,">="&DATEVALUE(LEFT(INDEX(Sheet3!$B$3:$G$14,RIGHT($H17,1),MATCH($I17,TRIM(Sheet3!$B$2:$G$2),0)),SEARCH("-",INDEX(Sheet3!$B$3:$G$14,RIGHT($H17,1),MATCH($I17,TRIM(Sheet3!$B$2:$G$2),0)))-1)),Sheet1!A:A,"<="&DATEVALUE(RIGHT(INDEX(Sheet3!$B$3:$G$14,RIGHT($H17,1),MATCH($I17,TRIM(Sheet3!$B$2:$G$2),0)),LEN(INDEX(Sheet3!$B$3:$G$14,RIGHT($H17,1),MATCH($I17,TRIM(Sheet3!$B$2:$G$2),0)))-SEARCH("-",INDEX(Sheet3!$B$3:$G$14,RIGHT($H17,1),MATCH($I17,TRIM(Sheet3!$B$2:$G$2),0))))))} | L17: =IF(J17,K17/J17,"") | M17: =F36 | N17: =L17-M17
A18: 44027 | C18: 44058 | E18: 44089 | H18: P9 | I18: WEEK 4 | J18: =SUM(F24:F30) | K18: {=SUMIFS(Sheet1!I:I,Sheet1!A:A,">="&DATEVALUE(LEFT(INDEX(Sheet3!$B$3:$G$14,RIGHT($H18,1),MATCH($I18,TRIM(Sheet3!$B$2:$G$2),0)),SEARCH("-",INDEX(Sheet3!$B$3:$G$14,RIGHT($H18,1),MATCH($I18,TRIM(Sheet3!$B$2:$G$2),0)))-1)),Sheet1!A:A,"<="&DATEVALUE(RIGHT(INDEX(Sheet3!$B$3:$G$14,RIGHT($H18,1),MATCH($I18,TRIM(Sheet3!$B$2:$G$2),0)),LEN(INDEX(Sheet3!$B$3:$G$14,RIGHT($H18,1),MATCH($I18,TRIM(Sheet3!$B$2:$G$2),0)))-SEARCH("-",INDEX(Sheet3!$B$3:$G$14,RIGHT($H18,1),MATCH($I18,TRIM(Sheet3!$B$2:$G$2),0))))))} | L18: =IF(J18,K18/J18,"") | M18: =F36 | N18: =L18-M18
A19: 44028 | C19: 44059 | E19: 44090 | H19: P9 | I19: WEEK 5 | J19: =SUM(F31:F33) | K19: {=SUMIFS(Sheet1!I:I,Sheet1!A:A,">="&DATEVALUE(LEFT(INDEX(Sheet3!$B$3:$G$14,RIGHT($H19,1),MATCH($I19,TRIM(Sheet3!$B$2:$G$2),0)),SEARCH("-",INDEX(Sheet3!$B$3:$G$14,RIGHT($H19,1),MATCH($I19,TRIM(Sheet3!$B$2:$G$2),0)))-1)),Sheet1!A:A,"<="&DATEVALUE(RIGHT(INDEX(Sheet3!$B$3:$G$14,RIGHT($H19,1),MATCH($I19,TRIM(Sheet3!$B$2:$G$2),0)),LEN(INDEX(Sheet3!$B$3:$G$14,RIGHT($H19,1),MATCH($I19,TRIM(Sheet3!$B$2:$G$2),0)))-SEARCH("-",INDEX(Sheet3!$B$3:$G$14,RIGHT($H19,1),MATCH($I19,TRIM(Sheet3!$B$2:$G$2),0))))))} | L19: =IF(J19,K19/J19,"") | M19: =F36 | N19: =L19-M19
A20: 44029 | C20: 44060 | E20: 44091
A21: 44030 | C21: 44061 | E21: 44092
A22: 44031 | C22: 44062 | E22: 44093
A23: 44032 | C23: 44063 | E23: 44094
A24: 44033 | C24: 44064 | E24: 44095
A25: 44034 | C25: 44065 | E25: 44096
A26: 44035 | C26: 44066 | E26: 44097
A27: 44036 | C27: 44067 | E27: 44098
A28: 44037 | C28: 44068 | E28: 44099
A29: 44038 | C29: 44069 | E29: 44100
A30: 44039 | C30: 44070 | E30: 44101
A31: 44040 | C31: 44071 | E31: 44102
... A33: 44042 | C33: 44073 | E33: 44104
A34: 44043 | C34: 44074
A36: PURCHASE TARGET | B36: 0.55 | D36: 0.55 | F36: 0.55
