Workbook

Sheet instruction-districts
B1: Local Education Agencies | C1: INSTRUCTION | K1: SUPPORT
C2: CLASSROOM TEACHERS | I2: Instructional Aides | J2: Instructional Coordinators and Supervisors | K2: Elementary Guidance Counselors | L2: Secondary Guidance Counselors | M2: Librarians and Media Specialists | N2: Library and Media Support Staff
C3: Prekindergarten | E3: Kindergarten | F3: Elementary | G3: Secondary | H3: Special Education
C4: Regular | D4: Special
C5: CACTUS Database | D5: CACTUS Database | E5: CACTUS Database | F5: CACTUS Database | G5: CACTUS Database | H5: CACTUS Database | I5: Classified Personnel Report | J5: CACTUS Database | K5: CACTUS Database | L5: CACTUS Database | M5: CACTUS Database | N5: Classified Personnel Report
B6: DISTRICT
A7: 1 | B7: Alpine | C7: 8 | D7: 14.136 | E7: 118.327 | F7: 1141.812 | G7: 831.465 | H7: 225.59 | I7: 700.64 | J7: 89.142 | K7: 0 | L7: 63.906 | M7: 18.54 | N7: 57.12
A8: 2 | B8: Beaver | C8: 0.5 | D8: 0 | E8: 2.5 | F8: 35.5 | G8: 29.57 | H8: 5.28 | I8: 33.15 | J8: 1.63 | K8: 0 | L8: 1.84 | M8: 0.26 | N8: 2.9
A9: 3 | B9: [Person_1] | C9: 1 | D9: 7.5 | E9: 25.03 | F9: 218.548 | G9: 191.638 | H9: 53.278 | I9: 134 | J9: 5 | K9: 0.5 | L9: 15 | M9: 4.8 | N9: 12
A10: 4 | B10: Cache | C10: 0 | D10: 11.87 | E10: 28.5 | F10: 265.785 | G10: 256.959 | H10: 56.606 | I10: 299.87 | J10: 16.603 | K10: 0 | L10: 18.775 | M10: 20.269 | N10: 0
A11: 5 | B11: Carbon | C11: 1 | D11: 2 | E11: 13 | F11: 75.455 | G11: 74.744 | H11: 21.332 | I11: 81.37 | J11: 11.5 | K11: 1 | L11: 5.77 | M11: 1.83 | N11: 4.41
A12: 6 | B12: Daggett | C12: 0 | D12: 0 | E12: 1 | F12: 5.07 | G12: 6.01 | H12: 0.75 | I12: 4.75 | J12: 1.528 | K12: 0 | L12: 0 | M12: 0.25 | N12: 0
A13: 7 | B13: [Person_2] | C13: 0.84 | D13: 21.022 | E13: 129.883 | F13: 1252.635 | G13: 1208.081 | H13: 285.123 | I13: 970.47 | J13: 92.237 | K13: 34 | L13: 73.44 | M13: 19.5 | N13: 60.5
A14: 8 | B14: Duchesne | C14: 0 | D14: 1 | E14: 12.059 | F14: 94.64 | G14: 88.232 | H14: 24.544 | I14: 86.22 | J14: 0.5 | K14: 0 | L14: 4.85 | M14: 6 | N14: 4.93
A15: 9 | B15: Emery | C15: 0 | D15: 1 | E15: 5 | F15: 51.85 | G15: 57.114 | H15: 11.32 | I15: 37.81 | J15: 3.5 | K15: 0 | L15: 0 | M15: 1 | N15: 5.88
A16: 10 | B16: [Person_3] | C16: 0 | D16: 0 | E16: 2.694 | F16: 24.57 | G16: 30.779 | H16: 6.35 | I16: 26 | J16: 4.51 | K16: 0.75 | L16: 1.475 | M16: 0 | N16: 4.45
A17: 11 | B17: Grand | C17: 0 | D17: 1 | E17: 5 | F17: 33 | G17: 38.124 | H17: 9.706 | I17: 45 | J17: 1.17 | K17: 0 | L17: 2 | M17: 2 | N17: 0
A18: 12 | B18: Granite | C18: 15.256 | D18: 27.75 | E18: 142.716 | F18: 1352.767 | G18: 1354.765 | H18: 298.339 | I18: 786.15 | J18: 93.551 | K18: 3 | L18: 95.347 | M18: 24 | N18: 0
... A46: 40 | B46: [Person_8] | C46: 0 | D46: 1.5 | E46: 12.441 | F46: 128 | G46: 123.68 | H46: 26.529 | I46: 101.33 | J46: 9.926 | K46: 1.8 | L46: 9 | M46: 3 | N46: 8.64
B47: DISTRICT TOTAL | C47: =SUM(C7:C46) | D47: =SUM(D7:D46) | E47: =SUM(E7:E46) | F47: =SUM(F7:F46) | G47: =SUM(G7:G46) | H47: =SUM(H7:H46) | I47: =SUM(I7:I46) | J47: =SUM(J7:J46) | ... N47: =SUM(N7:N46)
B48: CHARTER TOTAL | C48: 2 | D48: 0 | E48: 55.168 | F48: 535.439 | G48: 401.192 | H48: 74.27 | I48: 423.81 | J48: 19.6 | K48: 1.67 | L48: 18.37 | M48: 13.865 | N48: 19.01
B49: GRAND TOTAL | C49: =C47+C48 | D49: =D47+D48 | E49: =E47+E48 | F49: =F47+F48 | G49: =G47+G48 | H49: =H47+H48 | I49: =I47+I48 | J49: =J47+J48 | ... N49: =N47+N48

Sheet instruction-charters
B1: Local Education Agencies | C1: INSTRUCTION | K1: SUPPORT
C2: CLASSROOM TEACHERS | I2: Instructional Aides | J2: Instructional Coordinators and Supervisors | K2: Elementary Guidance Counselors | L2: Secondary Guidance Counselors | M2: Librarians and Media Specialists | N2: Library and Media Support Staff
C3: Prekindergarten | E3: Kindergarten | F3: Elementary | G3: Secondary | H3: Special Education
C4: Regular | D4: Special
C5: CACTUS Database | D5: CACTUS Database | E5: CACTUS Database | F5: CACTUS Database | G5: CACTUS Database | H5: CACTUS Database | I5: Classified Personnel Report | J5: CACTUS Database | K5: CACTUS Database | L5: CACTUS Database | M5: CACTUS Database | N5: Classified Personnel Report
B6: CHARTER SCHOOL
A7: 8B | B7: American Leadership Academy | C7: 1 | D7: 0 | E7: 1 | F7: 22 | G7: 37.086 | H7: 7 | I7: 20 | J7: 1.5 | K7: 0 | L7: 1 | M7: 1 | N7: 0.5
A8: 74 | B8: American Preparatory Academy | C8: 0 | D8: 0 | E8: 1 | F8: 12.157 | G8: 9.1 | H8: 0.761 | I8: 16.75 | J8: 0 | K8: 0 | L8: 0 | M8: 0 | N8: 0
A9: 83 | B9: AMES | C9: 0 | D9: 0 | E9: 0 | F9: 0 | G9: 17.418 | H9: 0.5 | I9: 1.84 | J9: 1 | K9: 0 | L9: 1.67 | M9: 0 | N9: 0.56
A10: 3B | B10: BSTA | C10: 0 | D10: 0 | E10: 0 | F10: 0 | G10: 9.767 | H10: 0.7 | I10: 0 | J10: 1 | K10: 0 | L10: 0 | M10: 0 | N10: 0
A11: 9D | B11: Canyon Rim Academy | C11: 0 | D11: 0 | E11: 1.5 | F11: 16 | G11: 1 | H11: 1 | I11: 8.41 | J11: 0 | K11: 0 | L11: 0 | M11: 0 | N11: 0.54
A12: 84 | B12: CBA Center | C12: 0 | D12: 0 | E12: 0 | F12: 0 | G12: 2.33 | H12: 0.17 | I12: 2.22 | J12: 0 | K12: 0 | L12: 0 | M12: 0 | N12: 0
A13: 2D | B13: [Person_9] | C13: 0 | D13: 0 | E13: 2 | F13: 19.2 | G13: 10.04 | H13: 1.54 | I13: 10.1 | J13: 1.112 | K13: 0 | L13: 0 | M13: 0 | N13: 1.63
A14: 87 | B14: City Academy | C14: 0 | D14: 0 | E14: 0 | F14: 0 | G14: 12.208 | H14: 0 | I14: 2.88 | J14: 1.831 | K14: 0 | L14: 1 | M14: 0 | N14: 0.55
A15: 3E | B15: CS Lewis Academy | C15: 0 | D15: 0 | E15: 3 | F15: 8.75 | G15: 0 | H15: 1 | I15: 2 | J15: 0.25 | K15: 0 | L15: 0 | M15: 0 | N15: 0
A16: A3 | B16: DaVinci Academy | C16: 0 | D16: 0 | E16: 0 | F16: 0 | G16: 12.83 | H16: 2 | I16: 1 | J16: 0 | K16: 0 | L16: 1 | M16: 0 | N16: 0
A17: 4E | B17: Dual Immersion Academy | C17: 0 | D17: 0 | E17: 4 | F17: 10 | G17: 0 | H17: 1 | I17: 3.75 | J17: 0 | K17: 0 | L17: 0 | M17: 0 | N17: 0
A18: A8 | B18: East Hollywood High | C18: 0 | D18: 0 | E18: 0 | F18: 0 | G18: 18.106 | H18: 0 | I18: 1 | J18: 0 | K18: 0 | L18: 1 | M18: 0.73 | N18: 0
A19: 5E | B19: [Person_10] | C19: 0 | D19: 0 | E19: 1.079 | F19: 13.498 | G19: 1.072 | H19: 1 | I19: 6.8 | J19: 0 | K19: 0 | L19: 0 | M19: 2.6 | N19: 0
A20: 3C | B20: Entheos Academy | C20: 0 | D20: 0 | E20: 2 | F20: 11.878 | G20: 7 | H20: 2 | I20: 8.8 | J20: 1 | K20: 0 | L20: 0 | M20: 0 | N20: 0
A21: 98 | B21: Fast Forward High | C21: 0 | D21: 0 | E21: 0 | F21: 0 | G21: 11.877 | H21: 1.33 | I21: 0.75 | J21: 0.67 | K21: 0 | L21: 1.1 | M21: 0.435 | N21: 0
A22: 82 | B22: Freedom Academy | C22: 0 | D22: 0 | E22: 2.5 | F22: 24.36 | G22: 4.64 | H22: 2 | I22: 0.8 | J22: 0.25 | K22: 0 | L22: 0 | M22: 1 | N22: 0.4
A23: 5D | B23: [Person_11] | C23: 0 | D23: 0 | E23: 2 | F23: 13.75 | G23: 3 | H23: 1.5 | I23: 4.46 | J23: 0 | K23: 0 | L23: 0 | M23: 0 | N23: 0
A24: 1E | B24: Guadalupe School | C24: 0 | D24: 0 | E24: 1 | F24: 2.772 | G24: 0 | H24: 0 | I24: 4.35 | J24: 0.5 | K24: 0 | L24: 0 | M24: 0 | N24: 0
A25: 2C | B25: Intech Collegiate High | C25: 0 | D25: 0 | E25: 0 | F25: 0 | G25: 5.723 | H25: 0 | I25: 3 | J25: 0 | K25: 0 | L25: 0.75 | M25: 0 | N25: 0
A26: A5 | B26: Itineris Early College High | C26: 0 | D26: 0 | E26: 0 | F26: 0 | G26: 8.876 | H26: 0 | I26: 0 | J26: 0 | K26: 0 | L26: 2 | M26: 0 | N26: 0
A27: 93 | B27: [Person_12] | C27: 0 | D27: 0 | E27: 0.731 | F27: 6.956 | G27: 3.164 | H27: 1 | I27: 3.92 | J27: 0 | K27: 0 | L27: 0 | M27: 0 | N27: 0
A28: 2E | B28: [Person_13] | C28: 0 | D28: 0 | E28: 0 | F28: 0 | G28: 6.84 | H28: 0.326 | I28: 3.78 | J28: 0.5 | K28: 0 | L28: 0 | M28: 0 | N28: 0
A29: 4C | B29: Lakeview Academy | C29: 0 | D29: 0 | E29: 1.5 | F29: 21 | G29: 11 | H29: 2.722 | I29: 19 | J29: 1 | K29: 0 | L29: 0 | M29: 1 | N29: 0
A30: 5C | B30: Legacy Prep Academy | C30: 0 | D30: 0 | E30: 0.5 | F30: 13 | G30: 9.001 | H30: 1.168 | I30: 19.45 | J30: 0 | K30: 0 | L30: 0 | M30: 0 | N30: 0
A31: 6C | B31: Liberty Academy | C31: 0 | D31: 0 | E31: 2 | F31: 8 | G31: 4.013 | H31: 0.625 | I31: 1 | J31: 1.125 | K31: 0 | L31: 0 | M31: 0 | N31: 0
A32: 2B | B32: Lincoln Academy | C32: 0 | D32: 0 | E32: 1.5 | F32: 11.01 | G32: 9.422 | H32: 2.54 | I32: 22.5 | J32: 0 | K32: 0 | L32: 0.5 | M32: 0 | N32: 1
A33: A7 | B33: Moab Community School | C33: 0 | D33: 0 | E33: 0.308 | F33: 1.409 | G33: 0 | H33: 0 | I33: 1.81 | J33: 0 | K33: 0 | L33: 0 | M33: 0 | N33: 0
A34: 7C | B34: Monticello Academy | C34: 0 | D34: 0 | E34: 1.515 | F34: 18.476 | G34: 15.3 | H34: 1.01 | I34: 4.21 | J34: 0.758 | K34: 0 | L34: 0 | M34: 0 | N34: 1.2
A35: 8C | B35: Mountainville Academy | C35: 0 | D35: 0 | E35: 1.5 | F35: 20.249 | G35: 7.329 | H35: 1 | I35: 23.5 | J35: 0 | K35: 0 | L35: 0 | M35: 1 | N35: 0.25
A36: 9B | B36: Navigator Pointe Academy | C36: 0 | D36: 0 | E36: 1.535 | F36: 12.085 | G36: 11.896 | H36: 1.5 | I36: 11.22 | J36: 0 | K36: 0 | L36: 0 | M36: 0 | N36: 0
A37: 6D | B37: Noah Webster Academy | C37: 0 | D37: 0 | E37: 2 | F37: 19.8 | G37: 0 | H37: 1.63 | I37: 8 | J37: 0 | K37: 0 | L37: 0 | M37: 0 | N37: 2.05
A38: A6 | B38: [Person_14] | C38: 0 | D38: 0 | E38: 1 | F38: 18 | G38: 0 | H38: 1.5 | I38: 7.6 | J38: 0 | K38: 0 | L38: 0 | M38: 0 | N38: 0.47
A39: 5B | B39: North Star Academy | C39: 0 | D39: 0 | E39: 1 | F39: 12.75 | G39: 7.5 | H39: 1 | I39: 13.66 | J39: 1.25 | K39: 0.67 | L39: 0.33 | M39: 1 | N39: 0
... A41: 1C | B41: Odyssey | C41: 0 | D41: 0 | E41: 1 | F41: 14.78 | G41: 4.72 | H41: 1 | I41: 13.17 | J41: 0 | K41: 0 | L41: 0 | M41: 0 | N41: 0.5
...

Sheet support-districts
B1: Local Education Agencies | C1: SUPPORT | O1: TOTAL FTEs
C2: LEA Administrators | E2: [Person_19] Staff | F2: School Administrators | G2: School Administrative Support Staff | H2: Student Support Services Staff | N2: Other Support Staff
H4: Audiologists / Speech Language Pathologists | I4: Psychologists | J4: Social Workers | K4: Student Transportation Supervisors | L4: School Food Services Supervisors | M4: School Nurses
C5: CACTUS Database | D5: Classified Personnel Report | E5: Classified Personnel Report | F5: CACTUS Database | G5: Classified Personnel Report | H5: CACTUS Database | I5: CACTUS Database | J5: CACTUS Database | K5: Classified Personnel Report | L5: Classified Personnel Report | M5: Classified Personnel Report | N5: Classified Personnel Report
B6: DISTRICT
A7: 1 | B7: Alpine | C7: 20 | D7: ='Classified FTEs'!H7+'Classified FTEs'!K7 | E7: ='Classified FTEs'!I7+'Classified FTEs'!L7+'Classified FTEs'!M7+'Classified FTEs'!N7+'Classified FTEs'!O7 | F7: 105 | G7: ='Classified FTEs'!E7+'Classified FTEs'!F7+'Classified FTEs'!J7 | H7: 45.821 | I7: 22.35 | J7: 0 | K7: 4 | L7: 5 | M7: 0 | N7: ='Classified FTEs'!T7+'Classified FTEs'!U7+'Classified FTEs'!W7+'Classified FTEs'!X7+'Classified FTEs'!AB7+'Classified FTEs'!AD7+'Classified FTEs'!AE7 | O7: =SUM('instruction-districts'!C7:N7)+SUM('support-districts'!C7:N7)
A8: 2 | B8: Beaver | C8: 1.5 | D8: ='Classified FTEs'!H8+'Classified FTEs'!K8 | E8: ='Classified FTEs'!I8+'Classified FTEs'!L8+'Classified FTEs'!M8+'Classified FTEs'!N8+'Classified FTEs'!O8 | F8: 3.75 | G8: ='Classified FTEs'!E8+'Classified FTEs'!F8+'Classified FTEs'!J8 | H8: 0.75 | I8: 0 | J8: 0 | K8: 0 | L8: 0.25 | M8: 0.2 | N8: ='Classified FTEs'!T8+'Classified FTEs'!U8+'Classified FTEs'!W8+'Classified FTEs'!X8+'Classified FTEs'!AB8+'Classified FTEs'!AD8+'Classified FTEs'!AE8 | O8: =SUM('instruction-districts'!C8:N8)+SUM('support-districts'!C8:N8)
A9: 3 | B9: [Person_1] | C9: 3.5 | D9: ='Classified FTEs'!H9+'Classified FTEs'!K9 | E9: ='Classified FTEs'!I9+'Classified FTEs'!L9+'Classified FTEs'!M9+'Classified FTEs'!N9+'Classified FTEs'!O9 | F9: 25.3 | G9: ='Classified FTEs'!E9+'Classified FTEs'!F9+'Classified FTEs'!J9 | H9: 13 | I9: 2.533 | J9: 0 | K9: 1 | L9: 1 | M9: 3 | N9: ='Classified FTEs'!T9+'Classified FTEs'!U9+'Classified FTEs'!W9+'Classified FTEs'!X9+'Classified FTEs'!AB9+'Classified FTEs'!AD9+'Classified FTEs'!AE9 | O9: =SUM('instruction-districts'!C9:N9)+SUM('support-districts'!C9:N9)
A10: 4 | B10: Cache | C10: 3 | D10: ='Classified FTEs'!H10+'Classified FTEs'!K10 | E10: ='Classified FTEs'!I10+'Classified FTEs'!L10+'Classified FTEs'!M10+'Classified FTEs'!N10+'Classified FTEs'!O10 | F10: 28 | G10: ='Classified FTEs'!E10+'Classified FTEs'!F10+'Classified FTEs'!J10 | H10: 16.253 | I10: 4.3 | J10: 0 | K10: 3.66 | L10: 22 | M10: 2 | N10: ='Classified FTEs'!T10+'Classified FTEs'!U10+'Classified FTEs'!W10+'Classified FTEs'!X10+'Classified FTEs'!AB10+'Classified FTEs'!AD10+'Classified FTEs'!AE10 | O10: =SUM('instruction-districts'!C10:N10)+SUM('support-districts'!C10:N10)
A11: 5 | B11: Carbon | C11: 6 | D11: ='Classified FTEs'!H11+'Classified FTEs'!K11 | E11: ='Classified FTEs'!I11+'Classified FTEs'!L11+'Classified FTEs'!M11+'Classified FTEs'!N11+'Classified FTEs'!O11 | F11: 11 | G11: ='Classified FTEs'!E11+'Classified FTEs'!F11+'Classified FTEs'!J11 | H11: 3.5 | I11: 0 | J11: 2 | K11: 1 | L11: 1 | M11: 0 | N11: ='Classified FTEs'!T11+'Classified FTEs'!U11+'Classified FTEs'!W11+'Classified FTEs'!X11+'Classified FTEs'!AB11+'Classified FTEs'!AD11+'Classified FTEs'!AE11 | O11: =SUM('instruction-districts'!C11:N11)+SUM('support-districts'!C11:N11)
A12: 6 | B12: Daggett | C12: 0.75 | D12: ='Classified FTEs'!H12+'Classified FTEs'!K12 | E12: ='Classified FTEs'!I12+'Classified FTEs'!L12+'Classified FTEs'!M12+'Classified FTEs'!N12+'Classified FTEs'!O12 | F12: 0.35 | G12: ='Classified FTEs'!E12+'Classified FTEs'!F12+'Classified FTEs'!J12 | H12: 0 | I12: 0 | J12: 0 | K12: 0 | L12: 0 | M12: 0.17 | N12: ='Classified FTEs'!T12+'Classified FTEs'!U12+'Classified FTEs'!W12+'Classified FTEs'!X12+'Classified FTEs'!AB12+'Classified FTEs'!AD12+'Classified FTEs'!AE12 | O12: =SUM('instruction-districts'!C12:N12)+SUM('support-districts'!C12:N12)
A13: 7 | B13: [Person_2] | C13: 29.916 | D13: ='Classified FTEs'!H13+'Classified FTEs'!K13 | E13: ='Classified FTEs'!I13+'Classified FTEs'!L13+'Classified FTEs'!M13+'Classified FTEs'!N13+'Classified FTEs'!O13 | F13: 125 | G13: ='Classified FTEs'!E13+'Classified FTEs'!F13+'Classified FTEs'!J13 | H13: 63.607 | I13: 34.08 | J13: 4.75 | K13: 1.4 | L13: 6.45 | M13: 0 | N13: ='Classified FTEs'!T13+'Classified FTEs'!U13+'Classified FTEs'!W13+'Classified FTEs'!X13+'Classified FTEs'!AB13+'Classified FTEs'!AD13+'Classified FTEs'!AE13 | O13: =SUM('instruction-districts'!C13:N13)+SUM('support-districts'!C13:N13)
A14: 8 | B14: Duchesne | C14: 3.5 | D14: ='Classified FTEs'!H14+'Classified FTEs'!K14 | E14: ='Classified FTEs'!I14+'Classified FTEs'!L14+'Classified FTEs'!M14+'Classified FTEs'!N14+'Classified FTEs'!O14 | F14: 13.15 | G14: ='Classified FTEs'!E14+'Classified FTEs'!F14+'Classified FTEs'!J14 | H14: 1 | I14: 1 | J14: 1 | K14: 2 | L14: 1 | M14: 0 | N14: ='Classified FTEs'!T14+'Classified FTEs'!U14+'Classified FTEs'!W14+'Classified FTEs'!X14+'Classified FTEs'!AB14+'Classified FTEs'!AD14+'Classified FTEs'!AE14 | O14: =SUM('instruction-districts'!C14:N14)+SUM('support-districts'!C14:N14)
A15: 9 | B15: Emery | C15: 4 | D15: ='Classified FTEs'!H15+'Classified FTEs'!K15 | E15: ='Classified FTEs'!I15+'Classified FTEs'!L15+'Classified FTEs'!M15+'Classified FTEs'!N15+'Classified FTEs'!O15 | F15: 9.49 | G15: ='Classified FTEs'!E15+'Classified FTEs'!F15+'Classified FTEs'!J15 | H15: 1 | I15: 0 | J15: 0 | K15: 1 | L15: 1 | M15: 0 | N15: ='Classified FTEs'!T15+'Classified FTEs'!U15+'Classified FTEs'!W15+'Classified FTEs'!X15+'Classified FTEs'!AB15+'Classified FTEs'!AD15+'Classified FTEs'!AE15 | O15: =SUM('instruction-districts'!C15:N15)+SUM('support-districts'!C15:N15)
A16: 10 | B16: [Person_3] | C16: 1.631 | D16: ='Classified FTEs'!H16+'Classified FTEs'!K16 | E16: ='Classified FTEs'!I16+'Classified FTEs'!L16+'Classified FTEs'!M16+'Classified FTEs'!N16+'Classified FTEs'!O16 | F16: 5.536 | G16: ='Classified FTEs'!E16+'Classified FTEs'!F16+'Classified FTEs'!J16 | H16: 1 | I16: 0 | J16: 0 | K16: 1 | L16: 1 | M16: 0.5 | N16: ='Classified FTEs'!T16+'Classified FTEs'!U16+'Classified FTEs'!W16+'Classified FTEs'!X16+'Classified FTEs'!AB16+'Classified FTEs'!AD16+'Classified FTEs'!AE16 | O16: =SUM('instruction-districts'!C16:N16)+SUM('support-districts'!C16:N16)
A17: 11 | B17: Grand | C17: 1 | D17: ='Classified FTEs'!H17+'Classified FTEs'!K17 | E17: ='Classified FTEs'!I17+'Classified FTEs'!L17+'Classified FTEs'!M17+'Classified FTEs'!N17+'Classified FTEs'!O17 | F17: 6 | G17: ='Classified FTEs'!E17+'Classified FTEs'!F17+'Classified FTEs'!J17 | H17: 2 | I17: 0 | J17: 0 | K17: 1 | L17: 1 | M17: 0 | N17: ='Classified FTEs'!T17+'Classified FTEs'!U17+'Classified FTEs'!W17+'Classified FTEs'!X17+'Classified FTEs'!AB17+'Classified FTEs'!AD17+'Classified FTEs'!AE17 | O17: =SUM('instruction-districts'!C17:N17)+SUM('support-districts'!C17:N17)
A18: 12 | B18: Granite | C18: 39 | D18: ='Classified FTEs'!H18+'Classified FTEs'!K18 | E18: ='Classified FTEs'!I18+'Classified FTEs'!L18+'Classified FTEs'!M18+'Classified FTEs'!N18+'Classified FTEs'!O18 | F18: 139 | G18: ='Classified FTEs'!E18+'Classified FTEs'!F18+'Classified FTEs'!J18 | H18: 71.83 | I18: 28.5 | J18: 44.814 | K18: 2 | L18: 41.43 | M18: 18.21 | N18: ='Classified FTEs'!T18+'Classified FTEs'!U18+'Classified FTEs'!W18+'Classified FTEs'!X18+'Classified FTEs'!AB18+'Classified FTEs'!AD18+'Classified FTEs'!AE18 | O18: =SUM('instruction-districts'!C18:N18)+SUM('support-districts'!C18:N18)
... A22: 16 | B22: [Person_5] | C22: 1 | D22: ='Classified FTEs'!H22+'Classified FTEs'!K22 | E22: ='Classified FTEs'!I22+'Classified FTEs'!L22+'Classified FTEs'!M22+'Classified FTEs'!N22+'Classified FTEs'!O22 | F22: 2.8 | G22: ='Classified FTEs'!E22+'Classified FTEs'!F22+'Classified FTEs'!J22 | H22: 1 | I22: 0 | J22: 0 | K22: 0.5 | L22: 0.5 | M22: 0 | N22: ='Classified FTEs'!T22+'Classified FTEs'!U22+'Classified FTEs'!W22+'Classified FTEs'!X22+'Classified FTEs'!AB22+'Classified FTEs'!AD22+'Classified FTEs'!AE22 | O22: =SUM('instruction-districts'!C22:N22)+SUM('support-districts'!C22:N22)
A23: 17 | B23: Millard | C23: 2 | D23: ='Classified FTEs'!H24+'Classified FTEs'!K24 | E23: ='Classified FTEs'!I24+'Classified FTEs'!L24+'Classified FTEs'!M24+'Classified FTEs'!N24+'Classified FTEs'!O24 | F23: 8.74 | G23: ='Classified FTEs'!E24+'Classified FTEs'!F24+'Classified FTEs'!J24 | H23: 2 | I23: 2 | J23: 0 | K23: 1 | L23: 1 | M23: 0 | N23: ='Classified FTEs'!T24+'Classified FTEs'!U24+'Classified FTEs'!W24+'Classified FTEs'!X24+'Classified FTEs'!AB24+'Classified FTEs'!AD24+'Classified FTEs'!AE24 | O23: =SUM('instruction-districts'!C23:N23)+SUM('support-districts'!C23:N23)
A24: 18 | B24: Morgan | C24: 1 | D24: ='Classified FTEs'!H25+'Classified FTEs'!K25 | E24: ='Classified FTEs'!I25+'Classified FTEs'!L25+'Classified FTEs'!M25+'Classified FTEs'!N25+'Classified FTEs'!O25 | F24: 4.46 | G24: ='Classified FTEs'!E25+'Classified FTEs'!F25+'Classified FTEs'!J25 | H24: 0 | I24: 0 | J24: 0 | K24: 0.5 | L24: 1 | M24: 0 | N24: ='Classified FTEs'!T25+'Classified FTEs'!U25+'Classified FTEs'!W25+'Classified FTEs'!X25+'Classified FTEs'!AB25+'Classified FTEs'!AD25+'Classified FTEs'!AE25 | O24: =SUM('instruction-districts'!C24:N24)+SUM('support-districts'!C24:N24)
A25: 19 | B25: Nebo | C25: 11 | D25: ='Classified FTEs'!H27+'Classified FTEs'!K27 | E25: ='Classified FTEs'!I27+'Classified FTEs'!L27+'Classified FTEs'!M27+'Classified FTEs'!N27+'Classified FTEs'!O27 | F25: 52.5 | G25: ='Classified FTEs'!E27+'Classified FTEs'!F27+'Classified FTEs'!J27 | H25: 41.578 | I25: 12.6 | J25: 0 | K25: 2 | L25: 1.6 | M25: 0 | N25: ='Classified FTEs'!T27+'Classified FTEs'!U27+'Classified FTEs'!W27+'Classified FTEs'!X27+'Classified FTEs'!AB27+'Classified FTEs'!AD27+'Classified FTEs'!AE27 | O25: =SUM('instruction-districts'!C25:N25)+SUM('support-districts'!C25:N25)
A26: 20 | B26: [Person_6] | C26: 3 | D26: ='Classified FTEs'!H28+'Classified FTEs'!K28 | E26: ='Classified FTEs'!I28+'Classified FTEs'!L28+'Classified FTEs'!M28+'Classified FTEs'!N28+'Classified FTEs'!O28 | F26: 7 | G26: ='Classified FTEs'!E28+'Classified FTEs'!F28+'Classified FTEs'!J28 | H26: 1 | I26: 0 | J26: 0 | K26: 0 | L26: 1 | M26: 0 | N26: ='Classified FTEs'!T28+'Classified FTEs'!U28+'Classified FTEs'!W28+'Classified FTEs'!X28+'Classified FTEs'!AB28+'Classified FTEs'!AD28+'Classified FTEs'!AE28 | O26: =SUM('instruction-districts'!C26:N26)+SUM('support-districts'!C26:N26)
A27: 21 | B27: North Summit | C27: 1 | D27: ='Classified FTEs'!H29+'Classified FTEs'!K29 | E27: ='Classified FTEs'!I29+'Classified FTEs'!L29+'Classified FTEs'!M29+'Classified FTEs'!N29+'Classified FTEs'!O29 | F27: 3.5 | G27: ='Classified FTEs'!E29+'Classified FTEs'!F29+'Classified FTEs'!J29 | H27: 0 | I27: 0 | J27: 0 | K27: 0.5 | L27: 0.5 | M27: 0.5 | N27: ='Classified FTEs'!T29+'Classified FTEs'!U29+'Classified FTEs'!W29+'Classified FTEs'!X29+'Classified FTEs'!AB29+'Classified FTEs'!AD29+'Classified FTEs'!AE29 | O27: =SUM('instruction-districts'!C27:N27)+SUM('support-districts'!C27:N27)
A28: 22 | B28: Park City | C28: 2 | D28: ='Classified FTEs'!H31+'Classified FTEs'!K31 | E28: ='Classified FTEs'!I31+'Classified FTEs'!L31+'Classified FTEs'!M31+'Classified FTEs'!N31+'Classified FTEs'!O31 | F28: 10.5 | G28: ='Classified FTEs'!E31+'Classified FTEs'!F31+'Classified FTEs'!J31 | H28: 2.3 | I28: 0 | J28: 2 | K28: 1 | L28: 1 | M28: 2.08 | N28: ='Classified FTEs'!T31+'Classified FTEs'!U31+'Classified FTEs'!W31+'Classified FTEs'!X31+'Classified FTEs'!AB31+'Classified FTEs'!AD31+'Classified FTEs'!AE31 | O28: =SUM('instruction-districts'!C28:N28)+SUM('support-districts'!C28:N28)
A29: 23 | B29: Piute | C29: 1 | D29: ='Classified FTEs'!H32+'Classified FTEs'!K32 | E29: ='Classified FTEs'!I32+'Classified FTEs'!L32+'Classified FTEs'!M32+'Classified FTEs'!N32+'Classified FTEs'!O32 | F29: 1.12 | G29: ='Classified FTEs'!E32+'Classified FTEs'!F32+'Classified FTEs'!J32 | H29: 0 | I29: 0 | J29: 0 | K29: 0 | L29: 1.12 | M29: 0 | N29: ='Classified FTEs'!T32+'Classified FTEs'!U32+'Classified FTEs'!W32+'Classified FTEs'!X32+'Classified FTEs'!AB32+'Classified FTEs'!AD32+'Classified FTEs'!AE32 | O29: =SUM('instruction-districts'!C29:N29)+SUM('support-districts'!C29:N29)
A30: 24 | B30: Rich | C30: 0.8 | D30: ='Classified FTEs'!H34+'Classified FTEs'!K34 | E30: ='Classified FTEs'!I34+'Classified FTEs'!L34+'Classified FTEs'!M34+'Classified FTEs'!N34+'Classified FTEs'!O34 | F30: 1.97 | G30: ='Classified FTEs'!E34+'Classified FTEs'!F34+'Classified FTEs'!J34 | H30: 0.68 | I30: 0 | J30: 0 | K30: 0.5 | L30: 0.5 | M30: 0 | N30: ='Classified FTEs'!T34+'Classified FTEs'!U34+'Classified FTEs'!W34+'Classified FTEs'!X34+'Classified FTEs'!AB34+'Classified FTEs'!AD34+'Classified FTEs'!AE34 | O30: =SUM('instruction-districts'!C30:N30)+SUM('support-districts'!C30:N30)
A31: 25 | B31: San Juan | C31: 5 | D31: ='Classified FTEs'!H36+'Classified FTEs'!K36 | E31: ='Classified FTEs'!I36+'Classified FTEs'!L36+'Classified FTEs'!M36+'Classified FTEs'!N36+'Classified FTEs'!O36 | F31: 15.47 | G31: ='Classified FTEs'!E36+'Classified FTEs'!F36+'Classified FTEs'!J36 | H31: 2 | I31: 3 | J31: 1 | K31: 1 | L31: 0 | M31: 2 | N31: ='Classified FTEs'!T36+'Classified FTEs'!U36+'Classified FTEs'!W36+'Classified FTEs'!X36+'Classified FTEs'!AB36+'Classified FTEs'!AD36+'Classified FTEs'!AE36 | O31: =SUM('instruction-districts'!C31:N31)+SUM('support-districts'!C31:N31)
A32: 26 | B32: Sevier | C32: 2 | D32: ='Classified FTEs'!H37+'Classified FTEs'!K37 | E32: ='Classified FTEs'!I37+'Classified FTEs'!L37+'Classified FTEs'!M37+'Classified FTEs'!N37+'Classified FTEs'!O37 | F32: 12.647 | G32: ='Classified FTEs'!E37+'Classified FTEs'!F37+'Classified FTEs'!J37 | H32: 2 | I32: 0 | J32: 0 | K32: 1 | L32: 1 | M32: 1 | N32: ='Classified FTEs'!T37+'Classified FTEs'!U37+'Classified FTEs'!W37+'Classified FTEs'!X37+'Classified FTEs'!AB37+'Classified FTEs'!AD37+'Classified FTEs'!AE37 | O32: =SUM('instruction-districts'!C32:N32)+SUM('support-districts'!C32:N32)
A33: 27 | B33: South Sanpete | C33: 4 | D33: ='Classified FTEs'!H38+'Classified FTEs'!K38 | E33: ='Classified FTEs'!I38+'Classified FTEs'!L38+'Classified FTEs'!M38+'Classified FTEs'!N38+'Classified FTEs'!O38 | F33: 12.142 | G33: ='Classified FTEs'!E38+'Classified FTEs'!F38+'Classified FTEs'!J38 | H33: 2.35 | I33: 0 | J33: 0 | K33: 0.5 | L33: 0.75 | M33: 1.1 | N33: ='Classified FTEs'!T38+'Classified FTEs'!U38+'Classified FTEs'!W38+'Classified FTEs'!X38+'Classified FTEs'!AB38+'Classified FTEs'!AD38+'Classified FTEs'!AE38 | O33: =SUM('instruction-districts'!C33:N33)+SUM('support-districts'!C33:N33)
A34: 28 | B34: South Summit | C34: 1 | D34: ='Classified FTEs'!H39+'Classified FTEs'!K39 | E34: ='Classified FTEs'!I39+'Classified FTEs'!L39+'Classified FTEs'!M39+'Classified FTEs'!N39+'Classified FTEs'!O39 | F34: 4 | G34: ='Classified FTEs'!E39+'Classified FTEs'!F39+'Classified FTEs'!J39 | H34: 1.6 | I34: 0 | J34: 0 | K34: 0 | L34: 1 | M34: 1.5 | N34: ='Classified FTEs'!T39+'Classified FTEs'!U39+'Classified FTEs'!W39+'Classified FTEs'!X39+'Classified FTEs'!AB39+'Classified FTEs'!AD39+'Classified FTEs'!AE39 | O34: =SUM('instruction-districts'!C34:N34)+SUM('support-districts'!C34:N34)
A35: 29 | B35: Tintic | C35: 1 | D35: ='Classified FTEs'!H40+'Classified FTEs'!K40 | E35: ='Classified FTEs'!I40+'Classified FTEs'!L40+'Classified FTEs'!M40+'Classified FTEs'!N40+'Classified FTEs'!O40 | F35: 1.2 | G35: ='Classified FTEs'!E40+'Classified FTEs'!F40+'Classified FTEs'!J40 | H35: 0 | I35: 0 | J35: 0 | K35: 0.12 | L35: 0.94 | M35: 0 | N35: ='Classified FTEs'!T40+'Classified FTEs'!U40+'Classified FTEs'!W40+'Classified FTEs'!X40+'Classified FTEs'!AB40+'Classified FTEs'!AD40+'Classified FTEs'!AE40 | O35: =SUM('instruction-districts'!C35:N35)+SUM('support-districts'!C35:N35)
A36: 30 | B36: Tooele | C36: 4.8 | D36: ='Classified FTEs'!H41+'Classified FTEs'!K41 | E36: ='Classified FTEs'!I41+'Classified FTEs'!L41+'Classified FTEs'!M41+'Classified FTEs'!N41+'Classified FTEs'!O41 | F36: 24.864 | G36: ='Classified FTEs'!E41+'Classified FTEs'!F41+'Classified FTEs'!J41 | H36: 10.016 | I36: 2 | J36: 2 | K36: 1 | L36: 1 | M36: 5 | N36: ='Classified FTEs'!T41+'Classified FTEs'!U41+'Classified FTEs'!W41+'Classified FTEs'!X41+'Classified FTEs'!AB41+'Classified FTEs'!AD41+'Classified FTEs'!AE41 | O36: =SUM('instruction-districts'!C36:N36)+SUM('support-districts'!C36:N36)
A37: 31 | B37: Uintah | C37: 3 | D37: ='Classified FTEs'!H42+'Classified FTEs'!K42 | E37: ='Classified FTEs'!I42+'Classified FTEs'!L42+'Classified FTEs'!M42+'Classified FTEs'!N42+'Classified FTEs'!O42 | F37: 14.5 | G37: ='Classified FTEs'!E42+'Classified FTEs'!F42+'Classified FTEs'!J42 | H37: 0.81 | I37: 1 | J37: 0 | K37: 1 | L37: 1 | M37: 3.75 | N37: ='Classified FTEs'!T42+'Classified FTEs'!U42+'Classified FTEs'!W42+'Classified FTEs'!X42+'Classified FTEs'!AB42+'Classified FTEs'!AD42+'Classified FTEs'!AE42 | O37: =SUM('instruction-districts'!C37:N37)+SUM('support-districts'!C37:N37)
A38: 32 | B38: Wasatch | C38: 2 | D38: ='Classified FTEs'!H43+'Classified FTEs'!K43 | E38: ='Classified FTEs'!I43+'Classified FTEs'!L43+'Classified FTEs'!M43+'Classified FTEs'!N43+'Classified FTEs'!O43 | F38: 11 | G38: ='Classified FTEs'!E43+'Classified FTEs'!F43+'Classified FTEs'!J43 | H38: 5.85 | I38: 0 | J38: 1 | K38: 1 | L38: 1 | M38: 0.75 | N38: ='Classified FTEs'!T43+'Classified FTEs'!U43+'Classified FTEs'!W43+'Classified FTEs'!X43+'Classified FTEs'!AB43+'Classified FTEs'!AD43+'Classified FTEs'!AE43 | O38: =SUM('instruction-districts'!C38:N38)+SUM('support-districts'!C38:N38)
A39: 33 | B39: Washington | C39: 11 | D39: ='Classified FTEs'!H44+'Classified FTEs'!K44 | E39: ='Classified FTEs'!I44+'Classified FTEs'!L44+'Classified FTEs'!M44+'Classified FTEs'!N44+'Classified FTEs'!O44 | F39: 57.072 | G39: ='Classified FTEs'!E44+'Classified FTEs'!F44+'Classified FTEs'!J44 | H39: 12.6 | I39: 6 | J39: 0 | K39: 2 | L39: 1 | M39: 11 | N39: ='Classified FTEs'!T44+'Classified FTEs'!U44+'Classified FTEs'!W44+'Classified FTEs'!X44+'Classified FTEs'!AB44+'Classified FTEs'!AD44+'Classified FTEs'!AE44 | O39: =SUM('instruction-districts'!C39:N39)+SUM('support-districts'!C39:N39)
A40: 34 | B40: Wayne | C40: 0.75 | D40: ='Classified FTEs'!H45+'Classified FTEs'!K45 | E40: ='Classified FTEs'!I45+'Classified FTEs'!L45+'Classified FTEs'!M45+'Classified FTEs'!N45+'Classified FTEs'!O45 | F40: 2.19 | G40: ='Classified FTEs'!E45+'Classified FTEs'!F45+'Classified FTEs'!J45 | H40: 0 | I40: 0 | J40: 0 | K40: 0.34 | L40: 0.33 | M40: 0 | N40: ='Classified FTEs'!T45+'Classified FTEs'!U45+'Classified FTEs'!W45+'Classified FTEs'!X45+'Classified FTEs'!AB45+'Classified FTEs'!AD45+'Classified FTEs'!AE45 | O40: =SUM('instruction-districts'!C40:N40)+SUM('support-districts'!C40:N40)
A41: 35 | B41: Weber | C41: 17 | D41: ='Classified FTEs'!H46+'Classified FTEs'!K46 | E41: ='Classified FTEs'!I46+'Classified FTEs'!L46+'Classified FTEs'!M46+'Classified FTEs'!N46+'Classified FTEs'!O46 | F41: 58.67 | G41: ='Classified FTEs'!E46+'Classified FTEs'!F46+'Classified FTEs'!J46 | H41: 33.31 | I41: 2.75 | J41: 6.55 | K41: 2 | L41: 3 | M41: 14 | N41: ='Classified FTEs'!T46+'Classified FTEs'!U46+'Classified FTEs'!W46+'Classified FTEs'!X46+'Classified FTEs'!AB46+'Classified FTEs'!AD46+'Classified FTEs'!AE46 | O41: =SUM('instruction-districts'!C41:N41)+SUM('support-districts'!C41:N41)
A42: 36 | B42: [Person_7] | C42: 18 | D42: ='Classified FTEs'!H35+'Classified FTEs'!K35 | E42: ='Classified FTEs'!I35+'Classified FTEs'!L35+'Classified FTEs'!M35+'Classified FTEs'!N35+'Classified FTEs'!O35 | F42: 53 | G42: ='Classified FTEs'!E35+'Classified FTEs'!F35+'Classified FTEs'!J35 | H42: 22 | I42: 8 | J42: 12 | K42: 1 | L42: 4 | M42: 5.6 | N42: ='Classified FTEs'!T35+'Classified FTEs'!U35+'Classified FTEs'!W35+'Classified FTEs'!X35+'Classified FTEs'!AB35+'Classified FTEs'!AD35+'Classified FTEs'!AE35 | O42: =SUM('instruction-districts'!C42:N42)+SUM('support-districts'!C42:N42)
A43: 37 | B43: Ogden | C43: 10 | D43: ='Classified FTEs'!H30+'Classified FTEs'!K30 | E43: ='Classified FTEs'!I30+'Classified FTEs'!L30+'Classified FTEs'!M30+'Classified FTEs'!N30+'Classified FTEs'!O30 | F43: 27 | G43: ='Classified FTEs'!E30+'Classified FTEs'!F30+'Classified FTEs'!J30 | H43: 10 | I43: 2.95 | J43: 1 | K43: 0 | L43: 0 | M43: 0 | N43: ='Classified FTEs'!T30+'Classified FTEs'!U30+'Classified FTEs'!W30+'Classified FTEs'!X30+'Classified FTEs'!AB30+'Classified FTEs'!AD30+'Classified FTEs'!AE30 | O43: =SUM('instruction-districts'!C43:N43)+SUM('support-districts'!C43:N43)
A44: 38 | B44: Provo | C44: 6 | D44: ='Classified FTEs'!H33+'Classified FTEs'!K33 | E44: ='Classified FTEs'!I33+'Classified FTEs'!L33+'Classified FTEs'!M33+'Classified FTEs'!N33+'Classified FTEs'!O33 | F44: 28.16 | G44: ='Classified FTEs'!E33+'Classified FTEs'!F33+'Classified FTEs'!J33 | H44: 13.5 | I44: 6.2 | J44: 3 | K44: 0.94 | L44: 1 | M44: 0.33 | N44: ='Classified FTEs'!T33+'Classified FTEs'!U33+'Classified FTEs'!W33+'Classified FTEs'!X33+'Classified FTEs'!AB33+'Classified FTEs'!AD33+'Classified FTEs'!AE33 | O44: =SUM('instruction-districts'!C44:N44)+SUM('support-districts'!C44:N44)
...

Sheet support-charters
B1: Local Education Agencies | C1: SUPPORT | O1: TOTAL FTEs
C2: LEA Administrators | E2: [Person_19] Staff | F2: School Administrators | G2: School Administrative Support Staff | H2: Student Support Services Staff | N2: Other Support Staff
H4: Audiologists / Speech Language Pathologists | I4: Psychologists | J4: Social Workers | K4: Student Transportation Supervisors | L4: School Food Services Supervisors | M4: School Nurses
C5: CACTUS Database | D5: Classified Personnel Report | E5: Classified Personnel Report | F5: CACTUS Database | G5: Classified Personnel Report | H5: CACTUS Database | I5: CACTUS Database | J5: CACTUS Database | K5: Classified Personnel Report | L5: Classified Personnel Report | M5: Classified Personnel Report | N5: Classified Personnel Report
B6: CHARTER SCHOOL
A7: 8B | B7: American Leadership Academy | C7: 0 | D7: ='Classified FTEs'!H49+'Classified FTEs'!K49 | E7: ='Classified FTEs'!I49+'Classified FTEs'!L49+'Classified FTEs'!M49+'Classified FTEs'!N49+'Classified FTEs'!O49 | F7: 2.25 | G7: ='Classified FTEs'!E49+'Classified FTEs'!F49+'Classified FTEs'!J49 | H7: 0 | I7: 0 | J7: 0 | K7: 0 | L7: 1 | M7: 0.1 | N7: ='Classified FTEs'!T49+'Classified FTEs'!U49+'Classified FTEs'!W49+'Classified FTEs'!X49+'Classified FTEs'!AB49+'Classified FTEs'!AD49+'Classified FTEs'!AE49 | O7: =SUM('instruction-charters'!C7:N7)+SUM('support-charters'!C7:N7)
A8: 74 | B8: American Preparatory Academy | C8: 0.3 | D8: ='Classified FTEs'!H50+'Classified FTEs'!K50 | E8: ='Classified FTEs'!I50+'Classified FTEs'!L50+'Classified FTEs'!M50+'Classified FTEs'!N50+'Classified FTEs'!O50 | F8: 1.3 | G8: ='Classified FTEs'!E50+'Classified FTEs'!F50+'Classified FTEs'!J50 | H8: 0 | I8: 0 | J8: 0 | K8: 0 | L8: 0 | M8: 0.25 | N8: ='Classified FTEs'!T50+'Classified FTEs'!U50+'Classified FTEs'!W50+'Classified FTEs'!X50+'Classified FTEs'!AB50+'Classified FTEs'!AD50+'Classified FTEs'!AE50 | O8: =SUM('instruction-charters'!C8:N8)+SUM('support-charters'!C8:N8)
A9: 83 | B9: AMES | C9: 0 | D9: ='Classified FTEs'!H51+'Classified FTEs'!K51 | E9: ='Classified FTEs'!I51+'Classified FTEs'!L51+'Classified FTEs'!M51+'Classified FTEs'!N51+'Classified FTEs'!O51 | F9: 2 | G9: ='Classified FTEs'!E51+'Classified FTEs'!F51+'Classified FTEs'!J51 | H9: 0 | I9: 0 | J9: 0 | K9: 0 | L9: 0 | M9: 0 | N9: ='Classified FTEs'!T51+'Classified FTEs'!U51+'Classified FTEs'!W51+'Classified FTEs'!X51+'Classified FTEs'!AB51+'Classified FTEs'!AD51+'Classified FTEs'!AE51 | O9: =SUM('instruction-charters'!C9:N9)+SUM('support-charters'!C9:N9)
A10: 3B | B10: BSTA | C10: 1 | D10: ='Classified FTEs'!H52+'Classified FTEs'!K52 | E10: ='Classified FTEs'!I52+'Classified FTEs'!L52+'Classified FTEs'!M52+'Classified FTEs'!N52+'Classified FTEs'!O52 | F10: 0 | G10: ='Classified FTEs'!E52+'Classified FTEs'!F52+'Classified FTEs'!J52 | H10: 0 | I10: 0 | J10: 0 | K10: 0 | L10: 0 | M10: 0 | N10: ='Classified FTEs'!T52+'Classified FTEs'!U52+'Classified FTEs'!W52+'Classified FTEs'!X52+'Classified FTEs'!AB52+'Classified FTEs'!AD52+'Classified FTEs'!AE52 | O10: =SUM('instruction-charters'!C10:N10)+SUM('support-charters'!C10:N10)
A11: 9D | B11: Canyon Rim Academy | C11: 0 | D11: ='Classified FTEs'!H53+'Classified FTEs'!K53 | E11: ='Classified FTEs'!I53+'Classified FTEs'!L53+'Classified FTEs'!M53+'Classified FTEs'!N53+'Classified FTEs'!O53 | F11: 1 | G11: ='Classified FTEs'!E53+'Classified FTEs'!F53+'Classified FTEs'!J53 | H11: 0 | I11: 0 | J11: 0 | K11: 0 | L11: 0.72 | M11: 0 | N11: ='Classified FTEs'!T53+'Classified FTEs'!U53+'Classified FTEs'!W53+'Classified FTEs'!X53+'Classified FTEs'!AB53+'Classified FTEs'!AD53+'Classified FTEs'!AE53 | O11: =SUM('instruction-charters'!C11:N11)+SUM('support-charters'!C11:N11)
A12: 84 | B12: CBA Center | C12: 0 | D12: ='Classified FTEs'!H54+'Classified FTEs'!K54 | E12: ='Classified FTEs'!I54+'Classified FTEs'!L54+'Classified FTEs'!M54+'Classified FTEs'!N54+'Classified FTEs'!O54 | F12: 0.5 | G12: ='Classified FTEs'!E54+'Classified FTEs'!F54+'Classified FTEs'!J54 | H12: 0 | I12: 0 | J12: 0 | K12: 0 | L12: 0 | M12: 0 | N12: ='Classified FTEs'!T54+'Classified FTEs'!U54+'Classified FTEs'!W54+'Classified FTEs'!X54+'Classified FTEs'!AB54+'Classified FTEs'!AD54+'Classified FTEs'!AE54 | O12: =SUM('instruction-charters'!C12:N12)+SUM('support-charters'!C12:N12)
A13: 2D | B13: [Person_9] | C13: 0 | D13: ='Classified FTEs'!H55+'Classified FTEs'!K55 | E13: ='Classified FTEs'!I55+'Classified FTEs'!L55+'Classified FTEs'!M55+'Classified FTEs'!N55+'Classified FTEs'!O55 | F13: 1.111 | G13: ='Classified FTEs'!E55+'Classified FTEs'!F55+'Classified FTEs'!J55 | H13: 0 | I13: 0 | J13: 0 | K13: 0 | L13: 1 | M13: 0 | N13: ='Classified FTEs'!T55+'Classified FTEs'!U55+'Classified FTEs'!W55+'Classified FTEs'!X55+'Classified FTEs'!AB55+'Classified FTEs'!AD55+'Classified FTEs'!AE55 | O13: =SUM('instruction-charters'!C13:N13)+SUM('support-charters'!C13:N13)
A14: 87 | B14: City Academy | C14: 0 | D14: ='Classified FTEs'!H56+'Classified FTEs'!K56 | E14: ='Classified FTEs'!I56+'Classified FTEs'!L56+'Classified FTEs'!M56+'Classified FTEs'!N56+'Classified FTEs'!O56 | F14: 0.81 | G14: ='Classified FTEs'!E56+'Classified FTEs'!F56+'Classified FTEs'!J56 | H14: 0 | I14: 0 | J14: 0 | K14: 0 | L14: 0 | M14: 0 | N14: ='Classified FTEs'!T56+'Classified FTEs'!U56+'Classified FTEs'!W56+'Classified FTEs'!X56+'Classified FTEs'!AB56+'Classified FTEs'!AD56+'Classified FTEs'!AE56 | O14: =SUM('instruction-charters'!C14:N14)+SUM('support-charters'!C14:N14)
A15: 3E | B15: CS Lewis Academy | C15: 0 | D15: ='Classified FTEs'!H57+'Classified FTEs'!K57 | E15: ='Classified FTEs'!I57+'Classified FTEs'!L57+'Classified FTEs'!M57+'Classified FTEs'!N57+'Classified FTEs'!O57 | F15: 1 | G15: ='Classified FTEs'!E57+'Classified FTEs'!F57+'Classified FTEs'!J57 | H15: 0 | I15: 0 | J15: 0 | K15: 0 | L15: 0 | M15: 0 | N15: ='Classified FTEs'!T57+'Classified FTEs'!U57+'Classified FTEs'!W57+'Classified FTEs'!X57+'Classified FTEs'!AB57+'Classified FTEs'!AD57+'Classified FTEs'!AE57 | O15: =SUM('instruction-charters'!C15:N15)+SUM('support-charters'!C15:N15)
A16: A3 | B16: DaVinci Academy | C16: 0 | D16: ='Classified FTEs'!H58+'Classified FTEs'!K58 | E16: ='Classified FTEs'!I58+'Classified FTEs'!L58+'Classified FTEs'!M58+'Classified FTEs'!N58+'Classified FTEs'!O58 | F16: 0.83 | G16: ='Classified FTEs'!E58+'Classified FTEs'!F58+'Classified FTEs'!J58 | H16: 0 | I16: 0 | J16: 0 | K16: 0 | L16: 0 | M16: 0 | N16: ='Classified FTEs'!T58+'Classified FTEs'!U58+'Classified FTEs'!W58+'Classified FTEs'!X58+'Classified FTEs'!AB58+'Classified FTEs'!AD58+'Classified FTEs'!AE58 | O16: =SUM('instruction-charters'!C16:N16)+SUM('support-charters'!C16:N16)
A17: 4E | B17: Dual Immersion Academy | C17: 0 | D17: ='Classified FTEs'!H59+'Classified FTEs'!K59 | E17: ='Classified FTEs'!I59+'Classified FTEs'!L59+'Classified FTEs'!M59+'Classified FTEs'!N59+'Classified FTEs'!O59 | F17: 0 | G17: ='Classified FTEs'!E59+'Classified FTEs'!F59+'Classified FTEs'!J59 | H17: 0 | I17: 0 | J17: 0 | K17: 0 | L17: 1 | M17: 0 | N17: ='Classified FTEs'!T59+'Classified FTEs'!U59+'Classified FTEs'!W59+'Classified FTEs'!X59+'Classified FTEs'!AB59+'Classified FTEs'!AD59+'Classified FTEs'!AE59 | O17: =SUM('instruction-charters'!C17:N17)+SUM('support-charters'!C17:N17)
A18: A8 | B18: East Hollywood High | C18: 0 | D18: ='Classified FTEs'!H60+'Classified FTEs'!K60 | E18: ='Classified FTEs'!I60+'Classified FTEs'!L60+'Classified FTEs'!M60+'Classified FTEs'!N60+'Classified FTEs'!O60 | F18: 1.136 | G18: ='Classified FTEs'!E60+'Classified FTEs'!F60+'Classified FTEs'!J60 | H18: 0 | I18: 0 | J18: 0 | K18: 0 | L18: 0 | M18: 0 | N18: ='Classified FTEs'!T60+'Classified FTEs'!U60+'Classified FTEs'!W60+'Classified FTEs'!X60+'Classified FTEs'!AB60+'Classified FTEs'!AD60+'Classified FTEs'!AE60 | O18: =SUM('instruction-charters'!C18:N18)+SUM('support-charters'!C18:N18)
A19: 5E | B19: [Person_10] | C19: 0 | D19: ='Classified FTEs'!H61+'Classified FTEs'!K61 | E19: ='Classified FTEs'!I61+'Classified FTEs'!L61+'Classified FTEs'!M61+'Classified FTEs'!N61+'Classified FTEs'!O61 | F19: 1 | G19: ='Classified FTEs'!E61+'Classified FTEs'!F61+'Classified FTEs'!J61 | H19: 0.536 | I19: 0 | J19: 0 | K19: 0 | L19: 1 | M19: 0 | N19: ='Classified FTEs'!T61+'Classified FTEs'!U61+'Classified FTEs'!W61+'Classified FTEs'!X61+'Classified FTEs'!AB61+'Classified FTEs'!AD61+'Classified FTEs'!AE61 | O19: =SUM('instruction-charters'!C19:N19)+SUM('support-charters'!C19:N19)
A20: 3C | B20: Entheos Academy | C20: 0 | D20: ='Classified FTEs'!H62+'Classified FTEs'!K62 | E20: ='Classified FTEs'!I62+'Classified FTEs'!L62+'Classified FTEs'!M62+'Classified FTEs'!N62+'Classified FTEs'!O62 | F20: 1 | G20: ='Classified FTEs'!E62+'Classified FTEs'!F62+'Classified FTEs'!J62 | H20: 0 | I20: 0 | J20: 0 | K20: 0 | L20: 0 | M20: 0 | N20: ='Classified FTEs'!T62+'Classified FTEs'!U62+'Classified FTEs'!W62+'Classified FTEs'!X62+'Classified FTEs'!AB62+'Classified FTEs'!AD62+'Classified FTEs'!AE62 | O20: =SUM('instruction-charters'!C20:N20)+SUM('support-charters'!C20:N20)
A21: 98 | B21: Fast Forward High | C21: 0 | D21: ='Classified FTEs'!H63+'Classified FTEs'!K63 | E21: ='Classified FTEs'!I63+'Classified FTEs'!L63+'Classified FTEs'!M63+'Classified FTEs'!N63+'Classified FTEs'!O63 | F21: 0.84 | G21: ='Classified FTEs'!E63+'Classified FTEs'!F63+'Classified FTEs'!J63 | H21: 0 | I21: 0 | J21: 0 | K21: 0 | L21: 0 | M21: 0 | N21: ='Classified FTEs'!T63+'Classified FTEs'!U63+'Classified FTEs'!W63+'Classified FTEs'!X63+'Classified FTEs'!AB63+'Classified FTEs'!AD63+'Classified FTEs'!AE63 | O21: =SUM('instruction-charters'!C21:N21)+SUM('support-charters'!C21:N21)
A22: 82 | B22: Freedom Academy | C22: 1 | D22: ='Classified FTEs'!H64+'Classified FTEs'!K64 | E22: ='Classified FTEs'!I64+'Classified FTEs'!L64+'Classified FTEs'!M64+'Classified FTEs'!N64+'Classified FTEs'!O64 | F22: 1.5 | G22: ='Classified FTEs'!E64+'Classified FTEs'!F64+'Classified FTEs'!J64 | H22: 0 | I22: 0 | J22: 0 | K22: 0 | L22: 0.8 | M22: 0.8 | N22: ='Classified FTEs'!T64+'Classified FTEs'!U64+'Classified FTEs'!W64+'Classified FTEs'!X64+'Classified FTEs'!AB64+'Classified FTEs'!AD64+'Classified FTEs'!AE64 | O22: =SUM('instruction-charters'!C22:N22)+SUM('support-charters'!C22:N22)
A23: 5D | B23: [Person_11] | C23: 0 | D23: ='Classified FTEs'!H65+'Classified FTEs'!K65 | E23: ='Classified FTEs'!I65+'Classified FTEs'!L65+'Classified FTEs'!M65+'Classified FTEs'!N65+'Classified FTEs'!O65 | F23: 1.3 | G23: ='Classified FTEs'!E65+'Classified FTEs'!F65+'Classified FTEs'!J65 | H23: 0 | I23: 0 | J23: 0 | K23: 0 | L23: 0 | M23: 0 | N23: ='Classified FTEs'!T65+'Classified FTEs'!U65+'Classified FTEs'!W65+'Classified FTEs'!X65+'Classified FTEs'!AB65+'Classified FTEs'!AD65+'Classified FTEs'!AE65 | O23: =SUM('instruction-charters'!C23:N23)+SUM('support-charters'!C23:N23)
A24: 1E | B24: Guadalupe School | C24: 0 | D24: ='Classified FTEs'!H66+'Classified FTEs'!K66 | E24: ='Classified FTEs'!I66+'Classified FTEs'!L66+'Classified FTEs'!M66+'Classified FTEs'!N66+'Classified FTEs'!O66 | F24: 0 | G24: ='Classified FTEs'!E66+'Classified FTEs'!F66+'Classified FTEs'!J66 | H24: 0 | I24: 0 | J24: 0 | K24: 0 | L24: 0 | M24: 0 | N24: ='Classified FTEs'!T66+'Classified FTEs'!U66+'Classified FTEs'!W66+'Classified FTEs'!X66+'Classified FTEs'!AB66+'Classified FTEs'!AD66+'Classified FTEs'!AE66 | O24: =SUM('instruction-charters'!C24:N24)+SUM('support-charters'!C24:N24)
A25: 2C | B25: Intech Collegiate High | C25: 0 | D25: ='Classified FTEs'!H67+'Classified FTEs'!K67 | E25: ='Classified FTEs'!I67+'Classified FTEs'!L67+'Classified FTEs'!M67+'Classified FTEs'!N67+'Classified FTEs'!O67 | F25: 0.822 | G25: ='Classified FTEs'!E67+'Classified FTEs'!F67+'Classified FTEs'!J67 | H25: 0 | I25: 0 | J25: 0 | K25: 0 | L25: 0 | M25: 0 | N25: ='Classified FTEs'!T67+'Classified FTEs'!U67+'Classified FTEs'!W67+'Classified FTEs'!X67+'Classified FTEs'!AB67+'Classified FTEs'!AD67+'Classified FTEs'!AE67 | O25: =SUM('instruction-charters'!C25:N25)+SUM('support-charters'!C25:N25)
A26: A5 | B26: Itineris Early College High | C26: 0 | D26: ='Classified FTEs'!H68+'Classified FTEs'!K68 | E26: ='Classified FTEs'!I68+'Classified FTEs'!L68+'Classified FTEs'!M68+'Classified FTEs'!N68+'Classified FTEs'!O68 | F26: 1 | G26: ='Classified FTEs'!E68+'Classified FTEs'!F68+'Classified FTEs'!J68 | H26: 0 | I26: 0 | J26: 0 | K26: 0 | L26: 0 | M26: 0 | N26: ='Classified FTEs'!T68+'Classified FTEs'!U68+'Classified FTEs'!W68+'Classified FTEs'!X68+'Classified FTEs'!AB68+'Classified FTEs'!AD68+'Classified FTEs'!AE68 | O26: =SUM('instruction-charters'!C26:N26)+SUM('support-charters'!C26:N26)
A27: 93 | B27: [Person_12] | C27: 0 | D27: ='Classified FTEs'!H69+'Classified FTEs'!K69 | E27: ='Classified FTEs'!I69+'Classified FTEs'!L69+'Classified FTEs'!M69+'Classified FTEs'!N69+'Classified FTEs'!O69 | F27: 1 | G27: ='Classified FTEs'!E69+'Classified FTEs'!F69+'Classified FTEs'!J69 | H27: 0 | I27: 0 | J27: 0 | K27: 0 | L27: 0 | M27: 0 | N27: ='Classified FTEs'!T69+'Classified FTEs'!U69+'Classified FTEs'!W69+'Classified FTEs'!X69+'Classified FTEs'!AB69+'Classified FTEs'!AD69+'Classified FTEs'!AE69 | O27: =SUM('instruction-charters'!C27:N27)+SUM('support-charters'!C27:N27)
A28: 2E | B28: [Person_13] | C28: 0 | D28: ='Classified FTEs'!H74+'Classified FTEs'!K74 | E28: ='Classified FTEs'!I74+'Classified FTEs'!L74+'Classified FTEs'!M74+'Classified FTEs'!N74+'Classified FTEs'!O74 | F28: 0.652 | G28: ='Classified FTEs'!E74+'Classified FTEs'!F74+'Classified FTEs'!J74 | H28: 0 | I28: 0 | J28: 0 | K28: 0 | L28: 0 | M28: 0 | N28: ='Classified FTEs'!T74+'Classified FTEs'!U74+'Classified FTEs'!W74+'Classified FTEs'!X74+'Classified FTEs'!AB74+'Classified FTEs'!AD74+'Classified FTEs'!AE74 | O28: =SUM('instruction-charters'!C32:N32)+SUM('support-charters'!C32:N32)
A29: 4C | B29: Lakeview Academy | C29: 0 | D29: ='Classified FTEs'!H70+'Classified FTEs'!K70 | E29: ='Classified FTEs'!I70+'Classified FTEs'!L70+'Classified FTEs'!M70+'Classified FTEs'!N70+'Classified FTEs'!O70 | F29: 2 | G29: ='Classified FTEs'!E70+'Classified FTEs'!F70+'Classified FTEs'!J70 | H29: 0 | I29: 0 | J29: 0 | K29: 0 | L29: 1 | M29: 0 | N29: ='Classified FTEs'!T70+'Classified FTEs'!U70+'Classified FTEs'!W70+'Classified FTEs'!X70+'Classified FTEs'!AB70+'Classified FTEs'!AD70+'Classified FTEs'!AE70 | O29: =SUM('instruction-charters'!C28:N28)+SUM('support-charters'!C28:N28)
A30: 5C | B30: Legacy Prep Academy | C30: 0 | D30: ='Classified FTEs'!H71+'Classified FTEs'!K71 | E30: ='Classified FTEs'!I71+'Classified FTEs'!L71+'Classified FTEs'!M71+'Classified FTEs'!N71+'Classified FTEs'!O71 | F30: 3.22 | G30: ='Classified FTEs'!E71+'Classified FTEs'!F71+'Classified FTEs'!J71 | H30: 0 | I30: 0 | J30: 0 | K30: 0 | L30: 0 | M30: 0 | N30: ='Classified FTEs'!T71+'Classified FTEs'!U71+'Classified FTEs'!W71+'Classified FTEs'!X71+'Classified FTEs'!AB71+'Classified FTEs'!AD71+'Classified FTEs'!AE71 | O30: =SUM('instruction-charters'!C29:N29)+SUM('support-charters'!C29:N29)
A31: 6C | B31: Liberty Academy | C31: 0 | D31: ='Classified FTEs'!H72+'Classified FTEs'!K72 | E31: ='Classified FTEs'!I72+'Classified FTEs'!L72+'Classified FTEs'!M72+'Classified FTEs'!N72+'Classified FTEs'!O72 | F31: 0.5 | G31: ='Classified FTEs'!E72+'Classified FTEs'!F72+'Classified FTEs'!J72 | H31: 0 | I31: 0 | J31: 0 | K31: 0 | L31: 0 | M31: 0 | N31: ='Classified FTEs'!T72+'Classified FTEs'!U72+'Classified FTEs'!W72+'Classified FTEs'!X72+'Classified FTEs'!AB72+'Classified FTEs'!AD72+'Classified FTEs'!AE72 | O31: =SUM('instruction-charters'!C30:N30)+SUM('support-charters'!C30:N30)
A32: 2B | B32: Lincoln Academy | C32: 1.5 | D32: ='Classified FTEs'!H73+'Classified FTEs'!K73 | E32: ='Classified FTEs'!I73+'Classified FTEs'!L73+'Classified FTEs'!M73+'Classified FTEs'!N73+'Classified FTEs'!O73 | F32: 0 | G32: ='Classified FTEs'!E73+'Classified FTEs'!F73+'Classified FTEs'!J73 | H32: 1 | I32: 0 | J32: 0 | K32: 0 | L32: 0 | M32: 0 | N32: ='Classified FTEs'!T73+'Classified FTEs'!U73+'Classified FTEs'!W73+'Classified FTEs'!X73+'Classified FTEs'!AB73+'Classified FTEs'!AD73+'Classified FTEs'!AE73 | O32: =SUM('instruction-charters'!C31:N31)+SUM('support-charters'!C31:N31)
A33: A7 | B33: Moab Community School | C33: 0 | D33: ='Classified FTEs'!H75+'Classified FTEs'!K75 | E33: ='Classified FTEs'!I75+'Classified FTEs'!L75+'Classified FTEs'!M75+'Classified FTEs'!N75+'Classified FTEs'!O75 | F33: 0.672 | G33: ='Classified FTEs'!E75+'Classified FTEs'!F75+'Classified FTEs'!J75 | H33: 0 | I33: 0 | J33: 0 | K33: 0 | L33: 0 | M33: 0 | N33: ='Classified FTEs'!T75+'Classified FTEs'!U75+'Classified FTEs'!W75+'Classified FTEs'!X75+'Classified FTEs'!AB75+'Classified FTEs'!AD75+'Classified FTEs'!AE75 | O33: =SUM('instruction-charters'!C33:N33)+SUM('support-charters'!C33:N33)
A34: 7C | B34: Monticello Academy | C34: 0.803 | D34: ='Classified FTEs'!H76+'Classified FTEs'!K76 | E34: ='Classified FTEs'!I76+'Classified FTEs'!L76+'Classified FTEs'!M76+'Classified FTEs'!N76+'Classified FTEs'!O76 | F34: 1.216 | G34: ='Classified FTEs'!E76+'Classified FTEs'!F76+'Classified FTEs'!J76 | H34: 0 | I34: 0 | J34: 0 | K34: 0 | L34: 1.25 | M34: 0 | N34: ='Classified FTEs'!T76+'Classified FTEs'!U76+'Classified FTEs'!W76+'Classified FTEs'!X76+'Classified FTEs'!AB76+'Classified FTEs'!AD76+'Classified FTEs'!AE76 | O34: =SUM('instruction-charters'!C34:N34)+SUM('support-charters'!C34:N34)
A35: 8C | B35: Mountainville Academy | C35: 0.2 | D35: ='Classified FTEs'!H77+'Classified FTEs'!K77 | E35: ='Classified FTEs'!I77+'Classified FTEs'!L77+'Classified FTEs'!M77+'Classified FTEs'!N77+'Classified FTEs'!O77 | F35: 1 | G35: ='Classified FTEs'!E77+'Classified FTEs'!F77+'Classified FTEs'!J77 | H35: 0 | I35: 0 | J35: 0 | K35: 0 | L35: 0 | M35: 1 | N35: ='Classified FTEs'!T77+'Classified FTEs'!U77+'Classified FTEs'!W77+'Classified FTEs'!X77+'Classified FTEs'!AB77+'Classified FTEs'!AD77+'Classified FTEs'!AE77 | O35: =SUM('instruction-charters'!C35:N35)+SUM('support-charters'!C35:N35)
A36: 9B | B36: Navigator Pointe Academy | C36: 0.944 | D36: ='Classified FTEs'!H78+'Classified FTEs'!K78 | E36: ='Classified FTEs'!I78+'Classified FTEs'!L78+'Classified FTEs'!M78+'Classified FTEs'!N78+'Classified FTEs'!O78 | F36: 1 | G36: ='Classified FTEs'!E78+'Classified FTEs'!F78+'Classified FTEs'!J78 | H36: 0 | I36: 0 | J36: 0 | K36: 0 | L36: 0 | M36: 2.85 | N36: ='Classified FTEs'!T78+'Classified FTEs'!U78+'Classified FTEs'!W78+'Classified FTEs'!X78+'Classified FTEs'!AB78+'Classified FTEs'!AD78+'Classified FTEs'!AE78 | O36: =SUM('instruction-charters'!C36:N36)+SUM('support-charters'!C36:N36)
A37: 6D | B37: Noah Webster Academy | C37: 0 | D37: ='Classified FTEs'!H79+'Classified FTEs'!K79 | E37: ='Classified FTEs'!I79+'Classified FTEs'!L79+'Classified FTEs'!M79+'Classified FTEs'!N79+'Classified FTEs'!O79 | F37: 2 | G37: ='Classified FTEs'!E79+'Classified FTEs'!F79+'Classified FTEs'!J79 | H37: 0 | I37: 0 | J37: 0 | K37: 0 | L37: 0 | M37: 0 | N37: ='Classified FTEs'!T79+'Classified FTEs'!U79+'Classified FTEs'!W79+'Classified FTEs'!X79+'Classified FTEs'!AB79+'Classified FTEs'!AD79+'Classified FTEs'!AE79 | O37: =SUM('instruction-charters'!C37:N37)+SUM('support-charters'!C37:N37)
A38: A6 | B38: [Person_14] | C38: 0 | D38: ='Classified FTEs'!H80+'Classified FTEs'!K80 | E38: ='Classified FTEs'!I80+'Classified FTEs'!L80+'Classified FTEs'!M80+'Classified FTEs'!N80+'Classified FTEs'!O80 | F38: 1 | G38: ='Classified FTEs'!E80+'Classified FTEs'!F80+'Classified FTEs'!J80 | H38: 0 | I38: 0 | J38: 0 | K38: 0 | L38: 1 | M38: 0 | N38: ='Classified FTEs'!T80+'Classified FTEs'!U80+'Classified FTEs'!W80+'Classified FTEs'!X80+'Classified FTEs'!AB80+'Classified FTEs'!AD80+'Classified FTEs'!AE80 | O38: =SUM('instruction-charters'!C38:N38)+SUM('support-charters'!C38:N38)
A39: 5B | B39: North Star Academy | C39: 0 | D39: ='Classified FTEs'!H81+'Classified FTEs'!K81 | E39: ='Classified FTEs'!I81+'Classified FTEs'!L81+'Classified FTEs'!M81+'Classified FTEs'!N81+'Classified FTEs'!O81 | F39: 0 | G39: ='Classified FTEs'!E81+'Classified FTEs'!F81+'Classified FTEs'!J81 | H39: 0 | I39: 0 | J39: 0 | K39: 0 | L39: 0.83 | M39: 0 | N39: ='Classified FTEs'!T81+'Classified FTEs'!U81+'Classified FTEs'!W81+'Classified FTEs'!X81+'Classified FTEs'!AB81+'Classified FTEs'!AD81+'Classified FTEs'!AE81 | O39: =SUM('instruction-charters'!C39:N39)+SUM('support-charters'!C39:N39)
A40: A1 | B40: NUAMES | C40: 0 | D40: ='Classified FTEs'!H82+'Classified FTEs'!K82 | E40: ='Classified FTEs'!I82+'Classified FTEs'!L82+'Classified FTEs'!M82+'Classified FTEs'!N82+'Classified FTEs'!O82 | F40: 1 | G40: ='Classified FTEs'!E82+'Classified FTEs'!F82+'Classified FTEs'!J82 | H40: 0 | I40: 0 | J40: 0 | K40: 0 | L40: 0 | M40: 0 | N40: ='Classified FTEs'!T82+'Classified FTEs'!U82+'Classified FTEs'!W82+'Classified FTEs'!X82+'Classified FTEs'!AB82+'Classified FTEs'!AD82+'Classified FTEs'!AE82 | O40: =SUM('instruction-charters'!C40:N40)+SUM('support-charters'!C40:N40)
A41: 1C | B41: Odyssey | C41: 0 | D41: ='Classified FTEs'!H83+'Classified FTEs'!K83 | E41: ='Classified FTEs'!I83+'Classified FTEs'!L83+'Classified FTEs'!M83+'Classified FTEs'!N83+'Classified FTEs'!O83 | F41: 1 | G41: ='Classified FTEs'!E83+'Classified FTEs'!F83+'Classified FTEs'!J83 | H41: 0 | I41: 0 | J41: 0 | K41: 0 | L41: 0 | M41: 0.48 | N41: ='Classified FTEs'!T83+'Classified FTEs'!U83+'Classified FTEs'!W83+'Classified FTEs'!X83+'Classified FTEs'!AB83+'Classified FTEs'!AD83+'Classified FTEs'!AE83 | O41: =SUM('instruction-charters'!C41:N41)+SUM('support-charters'!C41:N41)
...

Sheet Licensed FTEs
B1: Licensed Educator FTEs
B2: FY2008
C4: INSTRUCTION | X4: SUPPORT | AM4: STUDENT SUPPORT SERVICES STAFF | AV4: TOTAL FTEs
C5: Regular Pre-K | F5: Special Pre-K | I5: Kindergarten | L5: Elementary | O5: Secondary | R5: Special Education | U5: Coordinators & Supervisors | X5: Elem. Guidance Counselors | AA5: Sec. Guidance Counselors | AD5: Librarians & Media Specialists | AG5: LEA Administrators | AJ5: School Administrators | AM5: Audio/Speech Lang. Pathologists | AP5: Psychologists | AS5: Social Workers
B6: District | C6: Total | D6: Female | E6: Male | F6: Total | G6: Female | H6: Male | I6: Total | J6: Female | K6: Male | L6: Total | M6: Female | N6: Male | O6: Total | P6: Female | Q6: Male | R6: Total | S6: Female | T6: Male | U6: Total | V6: Female | W6: Male | X6: Total | Y6: Female | Z6: Male | AA6: Total | AB6: Female | AC6: Male | AD6: Total | AE6: Female | AF6: Male | AG6: Total | AH6: Female | AI6: Male | AJ6: Total | AK6: Female | AL6: Male | AM6: Total | AN6: Female | AO6: Male | AP6: Total | AQ6: Female | AR6: Male | AS6: Total | AT6: Female | AU6: Male
A7: 1 | B7: Alpine | C7: =D7+E7 | D7: 8 | E7: 0 | F7: =G7+H7 | G7: 13.136 | H7: 1 | I7: =J7+K7 | J7: 117.327 | K7: 1 | L7: =M7+N7 | M7: 986.86 | N7: 154.952 | O7: =P7+Q7 | P7: 437.321 | Q7: 394.144 | R7: =S7+T7 | S7: 184.19 | T7: 41.4 | U7: =V7+W7 | V7: 68.142 | W7: 21 | X7: =Y7+Z7 | Y7: 0 | Z7: 0 | AA7: =AB7+AC7 | AB7: 35 | AC7: 28.906 | AD7: =AE7+AF7 | AE7: 14 | AF7: 4.54 | AG7: =AH7+AI7 | AH7: 6 | AI7: 14 | AJ7: =AK7+AL7 | AK7: 32 | AL7: 73 | AM7: =AN7+AO7 | AN7: 40.821 | AO7: 5 | AP7: =AQ7+AR7 | AQ7: 12.35 | AR7: 10 | AS7: =AT7+AU7 | AT7: 0 | AU7: 0 | AV7: =C7+F7+I7+L7+O7+R7+U7+X7+AA7+AD7+AG7+AJ7+AM7+AP7+AS7
A8: 2 | B8: Beaver | C8: =D8+E8 | D8: 0.5 | E8: 0 | F8: =G8+H8 | G8: 0 | H8: 0 | I8: =J8+K8 | J8: 2.5 | K8: 0 | L8: =M8+N8 | M8: 26.5 | N8: 9 | O8: =P8+Q8 | P8: 11.57 | Q8: 18 | R8: =S8+T8 | S8: 2.5 | T8: 2.78 | U8: =V8+W8 | V8: 0 | W8: 1.63 | X8: =Y8+Z8 | Y8: 0 | Z8: 0 | AA8: =AB8+AC8 | AB8: 0 | AC8: 1.84 | AD8: =AE8+AF8 | AE8: 0.26 | AF8: 0 | AG8: =AH8+AI8 | AH8: 0 | AI8: 1.5 | AJ8: =AK8+AL8 | AK8: 0 | AL8: 3.75 | AM8: =AN8+AO8 | AN8: 0.75 | AO8: 0 | AP8: =AQ8+AR8 | AQ8: 0 | AR8: 0 | AS8: =AT8+AU8 | AT8: 0 | AU8: 0 | AV8: =C8+F8+I8+L8+O8+R8+U8+X8+AA8+AD8+AG8+AJ8+AM8+AP8+AS8
A9: 3 | B9: [Person_1] | C9: =D9+E9 | D9: 1 | E9: 0 | F9: =G9+H9 | G9: 7.5 | H9: 0 | I9: =J9+K9 | J9: 24.7 | K9: 0.33 | L9: =M9+N9 | M9: 194.518 | N9: 24.03 | O9: =P9+Q9 | P9: 96.842 | Q9: 94.796 | R9: =S9+T9 | S9: 47.278 | T9: 6 | U9: =V9+W9 | V9: 4.5 | W9: 0.5 | X9: =Y9+Z9 | Y9: 0.5 | Z9: 0 | AA9: =AB9+AC9 | AB9: 10 | AC9: 5 | AD9: =AE9+AF9 | AE9: 3.8 | AF9: 1 | AG9: =AH9+AI9 | AH9: 1 | AI9: 2.5 | AJ9: =AK9+AL9 | AK9: 9 | AL9: 16.3 | AM9: =AN9+AO9 | AN9: 10.8 | AO9: 2.2 | AP9: =AQ9+AR9 | AQ9: 1.533 | AR9: 1 | AS9: =AT9+AU9 | AT9: 0 | AU9: 0 | AV9: =C9+F9+I9+L9+O9+R9+U9+X9+AA9+AD9+AG9+AJ9+AM9+AP9+AS9
A10: 4 | B10: Cache | C10: =D10+E10 | D10: 0 | E10: 0 | F10: =G10+H10 | G10: 10.87 | H10: 1 | I10: =J10+K10 | J10: 28.5 | K10: 0 | L10: =M10+N10 | M10: 227.889 | N10: 37.896 | O10: =P10+Q10 | P10: 141.881 | Q10: 115.078 | R10: =S10+T10 | S10: 51.256 | T10: 5.35 | U10: =V10+W10 | V10: 12.778 | W10: 3.825 | X10: =Y10+Z10 | Y10: 0 | Z10: 0 | AA10: =AB10+AC10 | AB10: 7.942 | AC10: 10.833 | AD10: =AE10+AF10 | AE10: 17 | AF10: 3.269 | AG10: =AH10+AI10 | AH10: 0 | AI10: 3 | AJ10: =AK10+AL10 | AK10: 8 | AL10: 20 | AM10: =AN10+AO10 | AN10: 15.253 | AO10: 1 | AP10: =AQ10+AR10 | AQ10: 1 | AR10: 3.3 | AS10: =AT10+AU10 | AT10: 0 | AU10: 0 | AV10: =C10+F10+I10+L10+O10+R10+U10+X10+AA10+AD10+AG10+AJ10+AM10+AP10+AS10
A11: 5 | B11: Carbon | C11: =D11+E11 | D11: 1 | E11: 0 | F11: =G11+H11 | G11: 2 | H11: 0 | I11: =J11+K11 | J11: 13 | K11: 0 | L11: =M11+N11 | M11: 70.285 | N11: 5.17 | O11: =P11+Q11 | P11: 36.81 | Q11: 37.934 | R11: =S11+T11 | S11: 19.71 | T11: 1.622 | U11: =V11+W11 | V11: 11.5 | W11: 0 | X11: =Y11+Z11 | Y11: 1 | Z11: 0 | AA11: =AB11+AC11 | AB11: 3.6 | AC11: 2.17 | AD11: =AE11+AF11 | AE11: 0.83 | AF11: 1 | AG11: =AH11+AI11 | AH11: 5 | AI11: 1 | AJ11: =AK11+AL11 | AK11: 5 | AL11: 6 | AM11: =AN11+AO11 | AN11: 3.5 | AO11: 0 | AP11: =AQ11+AR11 | AQ11: 0 | AR11: 0 | AS11: =AT11+AU11 | AT11: 2 | AU11: 0 | AV11: =C11+F11+I11+L11+O11+R11+U11+X11+AA11+AD11+AG11+AJ11+AM11+AP11+AS11
A12: 6 | B12: Daggett | C12: =D12+E12 | D12: 0 | E12: 0 | F12: =G12+H12 | G12: 0 | H12: 0 | I12: =J12+K12 | J12: 1 | K12: 0 | L12: =M12+N12 | M12: 4 | N12: 1.07 | O12: =P12+Q12 | P12: 4.17 | Q12: 1.84 | R12: =S12+T12 | S12: 0.75 | T12: 0 | U12: =V12+W12 | V12: 1 | W12: 0.528 | X12: =Y12+Z12 | Y12: 0 | Z12: 0 | AA12: =AB12+AC12 | AB12: 0 | AC12: 0 | AD12: =AE12+AF12 | AE12: 0.25 | AF12: 0 | AG12: =AH12+AI12 | AH12: 0 | AI12: 0.75 | AJ12: =AK12+AL12 | AK12: 0 | AL12: 0.35 | AM12: =AN12+AO12 | AN12: 0 | AO12: 0 | AP12: =AQ12+AR12 | AQ12: 0 | AR12: 0 | AS12: =AT12+AU12 | AT12: 0 | AU12: 0 | AV12: =C12+F12+I12+L12+O12+R12+U12+X12+AA12+AD12+AG12+AJ12+AM12+AP12+AS12
A13: 7 | B13: [Person_2] | C13: =D13+E13 | D13: 0.84 | E13: 0 | F13: =G13+H13 | G13: 20.022 | H13: 1 | I13: =J13+K13 | J13: 128.883 | K13: 1 | L13: =M13+N13 | M13: 1173.025 | N13: 79.61 | O13: =P13+Q13 | P13: 686.821 | Q13: 521.26 | R13: =S13+T13 | S13: 236.452 | T13: 48.671 | U13: =V13+W13 | V13: 70.017 | W13: 22.22 | X13: =Y13+Z13 | Y13: 32 | Z13: 2 | AA13: =AB13+AC13 | AB13: 50.94 | AC13: 22.5 | AD13: =AE13+AF13 | AE13: 12.5 | AF13: 7 | AG13: =AH13+AI13 | AH13: 18.916 | AI13: 11 | AJ13: =AK13+AL13 | AK13: 48 | AL13: 77 | AM13: =AN13+AO13 | AN13: 55.607 | AO13: 8 | AP13: =AQ13+AR13 | AQ13: 21.58 | AR13: 12.5 | AS13: =AT13+AU13 | AT13: 4.75 | AU13: 0 | AV13: =C13+F13+I13+L13+O13+R13+U13+X13+AA13+AD13+AG13+AJ13+AM13+AP13+AS13
A14: 8 | B14: Duchesne | C14: =D14+E14 | D14: 0 | E14: 0 | F14: =G14+H14 | G14: 1 | H14: 0 | I14: =J14+K14 | J14: 12.059 | K14: 0 | L14: =M14+N14 | M14: 81.64 | N14: 13 | O14: =P14+Q14 | P14: 37.318 | Q14: 50.914 | R14: =S14+T14 | S14: 21.744 | T14: 2.8 | U14: =V14+W14 | V14: 0 | W14: 0.5 | X14: =Y14+Z14 | Y14: 0 | Z14: 0 | AA14: =AB14+AC14 | AB14: 3 | AC14: 1.85 | AD14: =AE14+AF14 | AE14: 4 | AF14: 2 | AG14: =AH14+AI14 | AH14: 0 | AI14: 3.5 | AJ14: =AK14+AL14 | AK14: 1 | AL14: 12.15 | AM14: =AN14+AO14 | AN14: 1 | AO14: 0 | AP14: =AQ14+AR14 | AQ14: 0 | AR14: 1 | AS14: =AT14+AU14 | AT14: 0 | AU14: 1 | AV14: =C14+F14+I14+L14+O14+R14+U14+X14+AA14+AD14+AG14+AJ14+AM14+AP14+AS14
A15: 9 | B15: Emery | C15: =D15+E15 | D15: 0 | E15: 0 | F15: =G15+H15 | G15: 1 | H15: 0 | I15: =J15+K15 | J15: 5 | K15: 0 | L15: =M15+N15 | M15: 40.7 | N15: 11.15 | O15: =P15+Q15 | P15: 20.002 | Q15: 37.112 | R15: =S15+T15 | S15: 8 | T15: 3.32 | U15: =V15+W15 | V15: 3 | W15: 0.5 | X15: =Y15+Z15 | Y15: 0 | Z15: 0 | AA15: =AB15+AC15 | AB15: 0 | AC15: 0 | AD15: =AE15+AF15 | AE15: 1 | AF15: 0 | AG15: =AH15+AI15 | AH15: 0 | AI15: 4 | AJ15: =AK15+AL15 | AK15: 1 | AL15: 8.49 | AM15: =AN15+AO15 | AN15: 1 | AO15: 0 | AP15: =AQ15+AR15 | AQ15: 0 | AR15: 0 | AS15: =AT15+AU15 | AT15: 0 | AU15: 0 | AV15: =C15+F15+I15+L15+O15+R15+U15+X15+AA15+AD15+AG15+AJ15+AM15+AP15+AS15
A16: 10 | B16: [Person_3] | C16: =D16+E16 | D16: 0 | E16: 0 | F16: =G16+H16 | G16: 0 | H16: 0 | I16: =J16+K16 | J16: 2.694 | K16: 0 | L16: =M16+N16 | M16: 21.57 | N16: 3 | O16: =P16+Q16 | P16: 15.475 | Q16: 15.304 | R16: =S16+T16 | S16: 5.5 | T16: 0.85 | U16: =V16+W16 | V16: 2.21 | W16: 2.3 | X16: =Y16+Z16 | Y16: 0.6 | Z16: 0.15 | AA16: =AB16+AC16 | AB16: 0.675 | AC16: 0.8 | AD16: =AE16+AF16 | AE16: 0 | AF16: 0 | AG16: =AH16+AI16 | AH16: 0.39 | AI16: 1.241 | AJ16: =AK16+AL16 | AK16: 1.556 | AL16: 3.98 | AM16: =AN16+AO16 | AN16: 1 | AO16: 0 | AP16: =AQ16+AR16 | AQ16: 0 | AR16: 0 | AS16: =AT16+AU16 | AT16: 0 | AU16: 0 | AV16: =C16+F16+I16+L16+O16+R16+U16+X16+AA16+AD16+AG16+AJ16+AM16+AP16+AS16
