Workbook

Sheet instruction-districts
B1: Local Education Agencies | C1: INSTRUCTION | K1: SUPPORT
C2: CLASSROOM TEACHERS | I2: Instructional Aides | J2: Instructional Coordinators and Supervisors | K2: Elementary Guidance Counselors | L2: Secondary Guidance Counselors | M2: Librarians and Media Specialists | N2: Library and Media Support Staff
C3: Prekindergarten | E3: Kindergarten | F3: Elementary | G3: Secondary | H3: Special Education
C4: Regular | D4: Special
C5: CACTUS Database | D5: CACTUS Database | E5: CACTUS Database | F5: CACTUS Database | G5: CACTUS Database | H5: CACTUS Database | I5: Classified Personnel Report | J5: CACTUS Database | K5: CACTUS Database | L5: CACTUS Database | M5: CACTUS Database | N5: Classified Personnel Report
B6: DISTRICT
A7: 1 | B7: Alpine | C7: 8 | D7: 14.136 | E7: 118.327 | F7: 1141.812 | G7: 831.465 | H7: 225.59 | I7: 700.64 | J7: 89.142 | K7: 0 | L7: 63.906 | M7: 18.54 | N7: 57.12
A8: 2 | B8: Beaver | C8: 0.5 | D8: 0 | E8: 2.5 | F8: 35.5 | G8: 29.57 | H8: 5.28 | I8: 33.15 | J8: 1.63 | K8: 0 | L8: 1.84 | M8: 0.26 | N8: 2.9
A9: 3 | B9: [Person_1] | C9: 1 | D9: 7.5 | E9: 25.03 | F9: 218.548 | G9: 191.638 | H9: 53.278 | I9: 134 | J9: 5 | K9: 0.5 | L9: 15 | M9: 4.8 | N9: 12
A10: 4 | B10: Cache | C10: 0 | D10: 11.87 | E10: 28.5 | F10: 265.785 | G10: 256.959 | H10: 56.606 | I10: 299.87 | J10: 16.603 | K10: 0 | L10: 18.775 | M10: 20.269 | N10: 0
A11: 5 | B11: Carbon | C11: 1 | D11: 2 | E11: 13 | F11: 75.455 | G11: 74.744 | H11: 21.332 | I11: 81.37 | J11: 11.5 | K11: 1 | L11: 5.77 | M11: 1.83 | N11: 4.41
A12: 6 | B12: Daggett | C12: 0 | D12: 0 | E12: 1 | F12: 5.07 | G12: 6.01 | H12: 0.75 | I12: 4.75 | J12: 1.528 | K12: 0 | L12: 0 | M12: 0.25 | N12: 0
A13: 7 | B13: [Person_2] | C13: 0.84 | D13: 21.022 | E13: 129.883 | F13: 1252.635 | G13: 1208.081 | H13: 285.123 | I13: 970.47 | J13: 92.237 | K13: 34 | L13: 73.44 | M13: 19.5 | N13: 60.5
A14: 8 | B14: Duchesne | C14: 0 | D14: 1 | E14: 12.059 | F14: 94.64 | G14: 88.232 | H14: 24.544 | I14: 86.22 | J14: 0.5 | K14: 0 | L14: 4.85 | M14: 6 | N14: 4.93
A15: 9 | B15: Emery | C15: 0 | D15: 1 | E15: 5 | F15: 51.85 | G15: 57.114 | H15: 11.32 | I15: 37.81 | J15: 3.5 | K15: 0 | L15: 0 | M15: 1 | N15: 5.88
A16: 10 | B16: [Person_3] | C16: 0 | D16: 0 | E16: 2.694 | F16: 24.57 | G16: 30.779 | H16: 6.35 | I16: 26 | J16: 4.51 | K16: 0.75 | L16: 1.475 | M16: 0 | N16: 4.45
A17: 11 | B17: Grand | C17: 0 | D17: 1 | E17: 5 | F17: 33 | G17: 38.124 | H17: 9.706 | I17: 45 | J17: 1.17 | K17: 0 | L17: 2 | M17: 2 | N17: 0
A18: 12 | B18: Granite | C18: 15.256 | D18: 27.75 | E18: 142.716 | F18: 1352.767 | G18: 1354.765 | H18: 298.339 | I18: 786.15 | J18: 93.551 | K18: 3 | L18: 95.347 | M18: 24 | N18: 0
... A46: 40 | B46: [Person_8] | C46: 0 | D46: 1.5 | E46: 12.441 | F46: 128 | G46: 123.68 | H46: 26.529 | I46: 101.33 | J46: 9.926 | K46: 1.8 | L46: 9 | M46: 3 | N46: 8.64
B47: DISTRICT TOTAL | C47: =SUM(C7:C46) | D47: =SUM(D7:D46) | E47: =SUM(E7:E46) | F47: =SUM(F7:F46) | G47: =SUM(G7:G46) | H47: =SUM(H7:H46) | I47: =SUM(I7:I46) | J47: =SUM(J7:J46) | ... N47: =SUM(N7:N46)
B48: CHARTER TOTAL | C48: 2 | D48: 0 | E48: 55.168 | F48: 535.439 | G48: 401.192 | H48: 74.27 | I48: 423.81 | J48: 19.6 | K48: 1.67 | L48: 18.37 | M48: 13.865 | N48: 19.01
B49: GRAND TOTAL | C49: =C47+C48 | D49: =D47+D48 | E49: =E47+E48 | F49: =F47+F48 | G49: =G47+G48 | H49: =H47+H48 | I49: =I47+I48 | J49: =J47+J48 | ... N49: =N47+N48

Sheet instruction-charters
B1: Local Education Agencies | C1: INSTRUCTION | K1: SUPPORT
C2: CLASSROOM TEACHERS | I2: Instructional Aides | J2: Instructional Coordinators and Supervisors | K2: Elementary Guidance Counselors | L2: Secondary Guidance Counselors | M2: Librarians and Media Specialists | N2: Library and Media Support Staff
C3: Prekindergarten | E3: Kindergarten | F3: Elementary | G3: Secondary | H3: Special Education
C4: Regular | D4: Special
C5: CACTUS Database | D5: CACTUS Database | E5: CACTUS Database | F5: CACTUS Database | G5: CACTUS Database | H5: CACTUS Database | I5: Classified Personnel Report | J5: CACTUS Database | K5: CACTUS Database | L5: CACTUS Database | M5: CACTUS Database | N5: Classified Personnel Report
B6: CHARTER SCHOOL
A7: 8B | B7: American Leadership Academy | C7: 1 | D7: 0 | E7: 1 | F7: 22 | G7: 37.086 | H7: 7 | I7: 20 | J7: 1.5 | K7: 0 | L7: 1 | M7: 1 | N7: 0.5
A8: 74 | B8: American Preparatory Academy | C8: 0 | D8: 0 | E8: 1 | F8: 12.157 | G8: 9.1 | H8: 0.761 | I8: 16.75 | J8: 0 | K8: 0 | L8: 0 | M8: 0 | N8: 0
A9: 83 | B9: AMES | C9: 0 | D9: 0 | E9: 0 | F9: 0 | G9: 17.418 | H9: 0.5 | I9: 1.84 | J9: 1 | K9: 0 | L9: 1.67 | M9: 0 | N9: 0.56
A10: 3B | B10: BSTA | C10: 0 | D10: 0 | E10: 0 | F10: 0 | G10: 9.767 | H10: 0.7 | I10: 0 | J10: 1 | K10: 0 | L10: 0 | M10: 0 | N10: 0
A11: 9D | B11: Canyon Rim Academy | C11: 0 | D11: 0 | E11: 1.5 | F11: 16 | G11: 1 | H11: 1 | I11: 8.41 | J11: 0 | K11: 0 | L11: 0 | M11: 0 | N11: 0.54
A12: 84 | B12: CBA Center | C12: 0 | D12: 0 | E12: 0 | F12: 0 | G12: 2.33 | H12: 0.17 | I12: 2.22 | J12: 0 | K12: 0 | L12: 0 | M12: 0 | N12: 0
A13: 2D | B13: [Person_9] | C13: 0 | D13: 0 | E13: 2 | F13: 19.2 | G13: 10.04 | H13: 1.54 | I13: 10.1 | J13: 1.112 | K13: 0 | L13: 0 | M13: 0 | N13: 1.63
A14: 87 | B14: City Academy | C14: 0 | D14: 0 | E14: 0 | F14: 0 | G14: 12.208 | H14: 0 | I14: 2.88 | J14: 1.831 | K14: 0 | L14: 1 | M14: 0 | N14: 0.55
A15: 3E | B15: CS Lewis Academy | C15: 0 | D15: 0 | E15: 3 | F15: 8.75 | G15: 0 | H15: 1 | I15: 2 | J15: 0.25 | K15: 0 | L15: 0 | M15: 0 | N15: 0
A16: A3 | B16: DaVinci Academy | C16: 0 | D16: 0 | E16: 0 | F16: 0 | G16: 12.83 | H16: 2 | I16: 1 | J16: 0 | K16: 0 | L16: 1 | M16: 0 | N16: 0
A17: 4E | B17: Dual Immersion Academy | C17: 0 | D17: 0 | E17: 4 | F17: 10 | G17: 0 | H17: 1 | I17: 3.75 | J17: 0 | K17: 0 | L17: 0 | M17: 0 | N17: 0
A18: A8 | B18: East Hollywood High | C18: 0 | D18: 0 | E18: 0 | F18: 0 | G18: 18.106 | H18: 0 | I18: 1 | J18: 0 | K18: 0 | L18: 1 | M18: 0.73 | N18: 0
A19: 5E | B19: [Person_10] | C19: 0 | D19: 0 | E19: 1.079 | F19: 13.498 | G19: 1.072 | H19: 1 | I19: 6.8 | J19: 0 | K19: 0 | L19: 0 | M19: 2.6 | N19: 0
A20: 3C | B20: Entheos Academy | C20: 0 | D20: 0 | E20: 2 | F20: 11.878 | G20: 7 | H20: 2 | I20: 8.8 | J20: 1 | K20: 0 | L20: 0 | M20: 0 | N20: 0
A21: 98 | B21: Fast Forward High | C21: 0 | D21: 0 | E21: 0 | F21: 0 | G21: 11.877 | H21: 1.33 | I21: 0.75 | J21: 0.67 | K21: 0 | L21: 1.1 | M21: 0.435 | N21: 0
A22: 82 | B22: Freedom Academy | C22: 0 | D22: 0 | E22: 2.5 | F22: 24.36 | G22: 4.64 | H22: 2 | I22: 0.8 | J22: 0.25 | K22: 0 | L22: 0 | M22: 1 | N22: 0.4
A23: 5D | B23: [Person_11] | C23: 0 | D23: 0 | E23: 2 | F23: 13.75 | G23: 3 | H23: 1.5 | I23: 4.46 | J23: 0 | K23: 0 | L23: 0 | M23: 0 | N23: 0
A24: 1E | B24: Guadalupe School | C24: 0 | D24: 0 | E24: 1 | F24: 2.772 | G24: 0 | H24: 0 | I24: 4.35 | J24: 0.5 | K24: 0 | L24: 0 | M24: 0 | N24: 0
A25: 2C | B25: Intech Collegiate High | C25: 0 | D25: 0 | E25: 0 | F25: 0 | G25: 5.723 | H25: 0 | I25: 3 | J25: 0 | K25: 0 | L25: 0.75 | M25: 0 | N25: 0
A26: A5 | B26: Itineris Early College High | C26: 0 | D26: 0 | E26: 0 | F26: 0 | G26: 8.876 | H26: 0 | I26: 0 | J26: 0 | K26: 0 | L26: 2 | M26: 0 | N26: 0
A27: 93 | B27: [Person_12] | C27: 0 | D27: 0 | E27: 0.731 | F27: 6.956 | G27: 3.164 | H27: 1 | I27: 3.92 | J27: 0 | K27: 0 | L27: 0 | M27: 0 | N27: 0
A28: 2E | B28: [Person_13] | C28: 0 | D28: 0 | E28: 0 | F28: 0 | G28: 6.84 | H28: 0.326 | I28: 3.78 | J28: 0.5 | K28: 0 | L28: 0 | M28: 0 | N28: 0
A29: 4C | B29: Lakeview Academy | C29: 0 | D29: 0 | E29: 1.5 | F29: 21 | G29: 11 | H29: 2.722 | I29: 19 | J29: 1 | K29: 0 | L29: 0 | M29: 1 | N29: 0
A30: 5C | B30: Legacy Prep Academy | C30: 0 | D30: 0 | E30: 0.5 | F30: 13 | G30: 9.001 | H30: 1.168 | I30: 19.45 | J30: 0 | K30: 0 | L30: 0 | M30: 0 | N30: 0
A31: 6C | B31: Liberty Academy | C31: 0 | D31: 0 | E31: 2 | F31: 8 | G31: 4.013 | H31: 0.625 | I31: 1 | J31: 1.125 | K31: 0 | L31: 0 | M31: 0 | N31: 0
A32: 2B | B32: Lincoln Academy | C32: 0 | D32: 0 | E32: 1.5 | F32: 11.01 | G32: 9.422 | H32: 2.54 | I32: 22.5 | J32: 0 | K32: 0 | L32: 0.5 | M32: 0 | N32: 1
A33: A7 | B33: Moab Community School | C33: 0 | D33: 0 | E33: 0.308 | F33: 1.409 | G33: 0 | H33: 0 | I33: 1.81 | J33: 0 | K33: 0 | L33: 0 | M33: 0 | N33: 0
A34: 7C | B34: Monticello Academy | C34: 0 | D34: 0 | E34: 1.515 | F34: 18.476 | G34: 15.3 | H34: 1.01 | I34: 4.21 | J34: 0.758 | K34: 0 | L34: 0 | M34: 0 | N34: 1.2
A35: 8C | B35: Mountainville Academy | C35: 0 | D35: 0 | E35: 1.5 | F35: 20.249 | G35: 7.329 | H35: 1 | I35: 23.5 | J35: 0 | K35: 0 | L35: 0 | M35: 1 | N35: 0.25
A36: 9B | B36: Navigator Pointe Academy | C36: 0 | D36: 0 | E36: 1.535 | F36: 12.085 | G36: 11.896 | H36: 1.5 | I36: 11.22 | J36: 0 | K36: 0 | L36: 0 | M36: 0 | N36: 0
A37: 6D | B37: Noah Webster Academy | C37: 0 | D37: 0 | E37: 2 | F37: 19.8 | G37: 0 | H37: 1.63 | I37: 8 | J37: 0 | K37: 0 | L37: 0 | M37: 0 | N37: 2.05
A38: A6 | B38: [Person_14] | C38: 0 | D38: 0 | E38: 1 | F38: 18 | G38: 0 | H38: 1.5 | I38: 7.6 | J38: 0 | K38: 0 | L38: 0 | M38: 0 | N38: 0.47
A39: 5B | B39: North Star Academy | C39: 0 | D39: 0 | E39: 1 | F39: 12.75 | G39: 7.5 | H39: 1 | I39: 13.66 | J39: 1.25 | K39: 0.67 | L39: 0.33 | M39: 1 | N39: 0
... A41: 1C | B41: Odyssey | C41: 0 | D41: 0 | E41: 1 | F41: 14.78 | G41: 4.72 | H41: 1 | I41: 13.17 | J41: 0 | K41: 0 | L41: 0 | M41: 0 | N41: 0.5
A42: 68 | B42: Ogden Prep Academy | C42: 0 | D42: 0 | E42: 1 | F42: 13.33 | G42: 7.67 | H42: 2.5 | I42: 9.37 | J42: 0 | K42: 0 | L42: 0 | M42: 1 | N42: 1.08
A43: 8D | B43: Open Classroom | C43: 0 | D43: 0 | E43: 1.5 | F43: 12 | G43: 2 | H43: 1 | I43: 0.82 | J43: 1 | K43: 0.5 | L43: 0 | M43: 1 | N43: 0
A44: 9C | B44: Paradigm High School | C44: 0 | D44: 0 | E44: 0 | F44: 0 | G44: 13.051 | H44: 0.5 | I44: 2 | J44: 0 | K44: 0 | L44: 0 | M44: 0 | N44: 0
A45: 86 | B45: Pinnacle Canyon Academy | C45: 0 | D45: 0 | E45: 1 | F45: 8.752 | G45: 7.34 | H45: 1.552 | I45: 26.61 | J45: 0.814 | K45: 0 | L45: 0 | M45: 0 | N45: 0.81
A46: A2 | B46: Ranches Academy | C46: 0 | D46: 0 | E46: 1 | F46: 12.55 | G46: 2.5 | H46: 1 | I46: 14.63 | J46: 0 | K46: 0 | L46: 0 | M46: 0 | N46: 1.88
A47: 7B | B47: [Person_15] Academy | C47: 0 | D47: 0 | E47: 2 | F47: 19.875 | G47: 8.097 | H47: 2 | I47: 18 | J47: 1.5 | K47: 0 | L47: 0 | M47: 1 | N47: 1.25
A48: 1D | B48: Renaissance Academy | C48: 0 | D48: 0 | E48: 2 | F48: 20.43 | G48: 7.391 | H48: 1 | I48: 11.83 | J48: 1.2 | K48: 0 | L48: 0 | M48: 0.35 | N48: 0
A49: 97 | B49: Salt Lake Arts Academy | C49: 0 | D49: 0 | E49: 0 | F49: 3.5 | G49: 8.16 | H49: 1 | I49: 3.25 | J49: 0 | K49: 0 | L49: 0 | M49: 0 | N49: 0
A50: 7D | B50: Salt Lake School for Perf. Arts | C50: 0 | D50: 0 | E50: 0 | F50: 0 | G50: 1.813 | H50: 0 | I50: 0 | J50: 0 | K50: 0 | L50: 1 | M50: 0 | N50: 0
A51: 89 | B51: [Person_16] | C51: 1 | D51: 0 | E51: 0 | F51: 8 | G51: 0.4 | H51: 0.8 | I51: 0 | J51: 0 | K51: 0 | L51: 0 | M51: 0 | N51: 0
A52: 3D | B52: Spectrum Academy | C52: 0 | D52: 0 | E52: 0 | F52: 0.5 | G52: 0 | H52: 13.167 | I52: 12.62 | J52: 0 | K52: 0 | L52: 0 | M52: 0 | N52: 0.69
A53: A9 | B53: SUCCESS Academy | C53: 0 | D53: 0 | E53: 0 | F53: 0 | G53: 5 | H53: 0 | I53: 0.68 | J53: 0 | K53: 0 | L53: 1 | M53: 0 | N53: 0
A54: 88 | B54: Success School | C54: 0 | D54: 0 | E54: 0 | F54: 0 | G54: 2 | H54: 0 | I54: 1 | J54: 0 | K54: 0 | L54: 0 | M54: 0 | N54: 0
A55: A4 | B55: Summit Academy | C55: 0 | D55: 0 | E55: 2 | F55: 24.553 | G55: 10.243 | H55: 1.285 | I55: 16.5 | J55: 0 | K55: 0 | L55: 0 | M55: 0 | N55: 1
A56: 4D | B56: Syracuse Arts Academy | C56: 0 | D56: 0 | E56: 2 | F56: 19 | G56: 0 | H56: 1 | I56: 5.57 | J56: 0 | K56: 0 | L56: 0 | M56: 0 | N56: 0
A57: 94 | B57: [Person_17] | C57: 0 | D57: 0 | E57: 1 | F57: 13.7 | G57: 4.8 | H57: 2 | I57: 12.8 | J57: 0 | K57: 0 | L57: 0 | M57: 0 | N57: 0.6
A58: 6B | B58: [Person_18] | C58: 0 | D58: 0 | E58: 2 | F58: 14.4 | G58: 3.6 | H58: 1.944 | I58: 12.8 | J58: 1 | K58: 0 | L58: 0 | M58: 0 | N58: 0.6
A59: 95 | B59: Timpanogos Academy | C59: 0 | D59: 0 | E59: 1 | F59: 15.38 | G59: 6.87 | H59: 1 | I59: 7.5 | J59: 0 | K59: 0 | L59: 0 | M59: 0.75 | N59: 0
A60: 90 | B60: Tuacahn High | C60: 0 | D60: 0 | E60: 0 | F60: 0 | G60: 12.336 | H60: 0 | I60: 1 | J60: 0.34 | K60: 0 | L60: 1 | M60: 1 | N60: 0
A61: 1B | B61: UCAS | C61: 0 | D61: 0 | E61: 0 | F61: 0 | G61: 9.6 | H61: 0 | I61: 0 | J61: 0 | K61: 0 | L61: 2.52 | M61: 0 | N61: 0
A62: 92 | B62: Uintah River High | C62: 0 | D62: 0 | E62: 0 | F62: 0 | G62: 1.793 | H62: 1 | I62: 0 | J62: 0 | K62: 0 | L62: 1 | M62: 0 | N62: 1
A63: 81 | B63: Walden School of Liberal Arts | C63: 0 | D63: 0 | E63: 0.5 | F63: 5.2 | G63: 10.4 | H63: 0 | I63: 5.91 | J63: 0 | K63: 0.5 | L63: 0.5 | M63: 0 | N63: 0
A64: 4B | B64: Wasatch Peak Academy | C64: 0 | D64: 0 | E64: 1 | F64: 12.389 | G64: 0 | H64: 1 | I64: 8.19 | J64: 0 | K64: 0 | L64: 0 | M64: 0 | N64: 0.45
B65: CHARTER SCHOOL TOTAL | C65: =SUM(C7:C64) | D65: =SUM(D7:D64) | E65: =SUM(E7:E64) | F65: =SUM(F7:F64) | G65: =SUM(G7:G64) | H65: =SUM(H7:H64) | I65: =SUM(I7:I64) | J65: =SUM(J7:J64) | ... N65: =SUM(N7:N64)

Sheet support-districts
B1: Local Education Agencies | C1: SUPPORT | O1: TOTAL FTEs
C2: LEA Administrators | E2: [Person_19] Staff | F2: School Administrators | G2: School Administrative Support Staff | H2: Student Support Services Staff | N2: Other Support Staff
H4: Audiologists / Speech Language Pathologists | I4: Psychologists | J4: Social Workers | K4: Student Transportation Supervisors | L4: School Food Services Supervisors | M4: School Nurses
C5: CACTUS Database | D5: Classified Personnel Report | E5: Classified Personnel Report | F5: CACTUS Database | G5: Classified Personnel Report | H5: CACTUS Database | I5: CACTUS Database | J5: CACTUS Database | K5: Classified Personnel Report | L5: Classified Personnel Report | M5: Classified Personnel Report | N5: Classified Personnel Report
B6: DISTRICT
A7: 1 | B7: Alpine | C7: 20 | D7: ='Classified FTEs'!H7+'Classified FTEs'!K7 | E7: ='Classified FTEs'!I7+'Classified FTEs'!L7+'Classified FTEs'!M7+'Classified FTEs'!N7+'Classified FTEs'!O7 | F7: 105 | G7: ='Classified FTEs'!E7+'Classified FTEs'!F7+'Classified FTEs'!J7 | H7: 45.821 | I7: 22.35 | J7: 0 | K7: 4 | L7: 5 | M7: 0 | N7: ='Classified FTEs'!T7+'Classified FTEs'!U7+'Classified FTEs'!W7+'Classified FTEs'!X7+'Classified FTEs'!AB7+'Classified FTEs'!AD7+'Classified FTEs'!AE7 | O7: =SUM('instruction-districts'!C7:N7)+SUM('support-districts'!C7:N7)
A8: 2 | B8: Beaver | C8: 1.5 | D8: ='Classified FTEs'!H8+'Classified FTEs'!K8 | E8: ='Classified FTEs'!I8+'Classified FTEs'!L8+'Classified FTEs'!M8+'Classified FTEs'!N8+'Classified FTEs'!O8 | F8: 3.75 | G8: ='Classified FTEs'!E8+'Classified FTEs'!F8+'Classified FTEs'!J8 | H8: 0.75 | I8: 0 | J8: 0 | K8: 0 | L8: 0.25 | M8: 0.2 | N8: ='Classified FTEs'!T8+'Classified FTEs'!U8+'Classified FTEs'!W8+'Classified FTEs'!X8+'Classified FTEs'!AB8+'Classified FTEs'!AD8+'Classified FTEs'!AE8 | O8: =SUM('instruction-districts'!C8:N8)+SUM('support-districts'!C8:N8)
A9: 3 | B9: [Person_1] | C9: 3.5 | D9: ='Classified FTEs'!H9+'Classified FTEs'!K9 | E9: ='Classified FTEs'!I9+'Classified FTEs'!L9+'Classified FTEs'!M9+'Classified FTEs'!N9+'Classified FTEs'!O9 | F9: 25.3 | G9: ='Classified FTEs'!E9+'Classified FTEs'!F9+'Classified FTEs'!J9 | H9: 13 | I9: 2.533 | J9: 0 | K9: 1 | L9: 1 | M9: 3 | N9: ='Classified FTEs'!T9+'Classified FTEs'!U9+'Classified FTEs'!W9+'Classified FTEs'!X9+'Classified FTEs'!AB9+'Classified FTEs'!AD9+'Classified FTEs'!AE9 | O9: =SUM('instruction-districts'!C9:N9)+SUM('support-districts'!C9:N9)
A10: 4 | B10: Cache | C10: 3 | D10: ='Classified FTEs'!H10+'Classified FTEs'!K10 | E10: ='Classified FTEs'!I10+'Classified FTEs'!L10+'Classified FTEs'!M10+'Classified FTEs'!N10+'Classified FTEs'!O10 | F10: 28 | G10: ='Classified FTEs'!E10+'Classified FTEs'!F10+'Classified FTEs'!J10 | H10: 16.253 | I10: 4.3 | J10: 0 | K10: 3.66 | L10: 22 | M10: 2 | N10: ='Classified FTEs'!T10+'Classified FTEs'!U10+'Classified FTEs'!W10+'Classified FTEs'!X10+'Classified FTEs'!AB10+'Classified FTEs'!AD10+'Classified FTEs'!AE10 | O10: =SUM('instruction-districts'!C10:N10)+SUM('support-districts'!C10:N10)
A11: 5 | B11: Carbon | C11: 6 | D11: ='Classified FTEs'!H11+'Classified FTEs'!K11 | E11: ='Classified FTEs'!I11+'Classified FTEs'!L11+'Classified FTEs'!M11+'Classified FTEs'!N11+'Classified FTEs'!O11 | F11: 11 | G11: ='Classified FTEs'!E11+'Classified FTEs'!F11+'Classified FTEs'!J11 | H11: 3.5 | I11: 0 | J11: 2 | K11: 1 | L11: 1 | M11: 0 | N11: ='Classified FTEs'!T11+'Classified FTEs'!U11+'Classified FTEs'!W11+'Classified FTEs'!X11+'Classified FTEs'!AB11+'Classified FTEs'!AD11+'Classified FTEs'!AE11 | O11: =SUM('instruction-districts'!C11:N11)+SUM('support-districts'!C11:N11)
A12: 6 | B12: Daggett | C12: 0.75 | D12: ='Classified FTEs'!H12+'Classified FTEs'!K12 | E12: ='Classified FTEs'!I12+'Classified FTEs'!L12+'Classified FTEs'!M12+'Classified FTEs'!N12+'Classified FTEs'!O12 | F12: 0.35 | G12: ='Classified FTEs'!E12+'Classified FTEs'!F12+'Classified FTEs'!J12 | H12: 0 | I12: 0 | J12: 0 | K12: 0 | L12: 0 | M12: 0.17 | N12: ='Classified FTEs'!T12+'Classified FTEs'!U12+'Classified FTEs'!W12+'Classified FTEs'!X12+'Classified FTEs'!AB12+'Classified FTEs'!AD12+'Classified FTEs'!AE12 | O12: =SUM('instruction-districts'!C12:N12)+SUM('support-districts'!C12:N12)
A13: 7 | B13: [Person_2] | C13: 29.916 | D13: ='Classified FTEs'!H13+'Classified FTEs'!K13 | E13: ='Classified FTEs'!I13+'Classified FTEs'!L13+'Classified FTEs'!M13+'Classified FTEs'!N13+'Classified FTEs'!O13 | F13: 125 | G13: ='Classified FTEs'!E13+'Classified FTEs'!F13+'Classified FTEs'!J13 | H13: 63.607 | I13: 34.08 | J13: 4.75 | K13: 1.4 | L13: 6.45 | M13: 0 | N13: ='Classified FTEs'!T13+'Classified FTEs'!U13+'Classified FTEs'!W13+'Classified FTEs'!X13+'Classified FTEs'!AB13+'Classified FTEs'!AD13+'Classified FTEs'!AE13 | O13: =SUM('instruction-districts'!C13:N13)+SUM('support-districts'!C13:N13)
A14: 8 | B14: Duchesne | C14: 3.5 | D14: ='Classified FTEs'!H14+'Classified FTEs'!K14 | E14: ='Classified FTEs'!I14+'Classified FTEs'!L14+'Classified FTEs'!M14+'Classified FTEs'!N14+'Classified FTEs'!O14 | F14: 13.15 | G14: ='Classified FTEs'!E14+'Classified FTEs'!F14+'Classified FTEs'!J14 | H14: 1 | I14: 1 | J14: 1 | K14: 2 | L14: 1 | M14: 0 | N14: ='Classified FTEs'!T14+'Classified FTEs'!U14+'Classified FTEs'!W14+'Classified FTEs'!X14+'Classified FTEs'!AB14+'Classified FTEs'!AD14+'Classified FTEs'!AE14 | O14: =SUM('instruction-districts'!C14:N14)+SUM('support-districts'!C14:N14)
A15: 9 | B15: Emery | C15: 4 | D15: ='Classified FTEs'!H15+'Classified FTEs'!K15 | E15: ='Classified FTEs'!I15+'Classified FTEs'!L15+'Classified FTEs'!M15+'Classified FTEs'!N15+'Classified FTEs'!O15 | F15: 9.49 | G15: ='Classified FTEs'!E15+'Classified FTEs'!F15+'Classified FTEs'!J15 | H15: 1 | I15: 0 | J15: 0 | K15: 1 | L15: 1 | M15: 0 | N15: ='Classified FTEs'!T15+'Classified FTEs'!U15+'Classified FTEs'!W15+'Classified FTEs'!X15+'Classified FTEs'!AB15+'Classified FTEs'!AD15+'Classified FTEs'!AE15 | O15: =SUM('instruction-districts'!C15:N15)+SUM('support-districts'!C15:N15)
A16: 10 | B16: [Person_3] | C16: 1.631 | D16: ='Classified FTEs'!H16+'Classified FTEs'!K16 | E16: ='Classified FTEs'!I16+'Classified FTEs'!L16+'Classified FTEs'!M16+'Classified FTEs'!N16+'Classified FTEs'!O16 | F16: 5.536 | G16: ='Classified FTEs'!E16+'Classified FTEs'!F16+'Classified FTEs'!J16 | H16: 1 | I16: 0 | J16: 0 | K16: 1 | L16: 1 | M16: 0.5 | N16: ='Classified FTEs'!T16+'Classified FTEs'!U16+'Classified FTEs'!W16+'Classified FTEs'!X16+'Classified FTEs'!AB16+'Classified FTEs'!AD16+'Classified FTEs'!AE16 | O16: =SUM('instruction-districts'!C16:N16)+SUM('support-districts'!C16:N16)
A17: 11 | B17: Grand | C17: 1 | D17: ='Classified FTEs'!H17+'Classified FTEs'!K17 | E17: ='Classified FTEs'!I17+'Classified FTEs'!L17+'Classified FTEs'!M17+'Classified FTEs'!N17+'Classified FTEs'!O17 | F17: 6 | G17: ='Classified FTEs'!E17+'Classified FTEs'!F17+'Classified FTEs'!J17 | H17: 2 | I17: 0 | J17: 0 | K17: 1 | L17: 1 | M17: 0 | N17: ='Classified FTEs'!T17+'Classified FTEs'!U17+'Classified FTEs'!W17+'Classified FTEs'!X17+'Classified FTEs'!AB17+'Classified FTEs'!AD17+'Classified FTEs'!AE17 | O17: =SUM('instruction-districts'!C17:N17)+SUM('support-districts'!C17:N17)
A18: 12 | B18: Granite | C18: 39 | D18: ='Classified FTEs'!H18+'Classified FTEs'!K18 | E18: ='Classified FTEs'!I18+'Classified FTEs'!L18+'Classified FTEs'!M18+'Classified FTEs'!N18+'Classified FTEs'!O18 | F18: 139 | G18: ='Classified FTEs'!E18+'Classified FTEs'!F18+'Classified FTEs'!J18 | H18: 71.83 | I18: 28.5 | J18: 44.814 | K18: 2 | L18: 41.43 | M18: 18.21 | N18: ='Classified FTEs'!T18+'Classified FTEs'!U18+'Classified FTEs'!W18+'Classified FTEs'!X18+'Classified FTEs'!AB18+'Classified FTEs'!AD18+'Classified FTEs'!AE18 | O18: =SUM('instruction-districts'!C18:N18)+SUM('support-districts'!C18:N18)
... A22: 16 | B22: [Person_5] | C22: 1 | D22: ='Classified FTEs'!H22+'Classified FTEs'!K22 | E22: ='Classified FTEs'!I22+'Classified FTEs'!L22+'Classified FTEs'!M22+'Classified FTEs'!N22+'Classified FTEs'!O22 | F22: 2.8 | G22: ='Classified FTEs'!E22+'Classified FTEs'!F22+'Classified FTEs'!J22 | H22: 1 | I22: 0 | J22: 0 | K22: 0.5 | L22: 0.5 | M22: 0 | N22: ='Classified FTEs'!T22+'Classified FTEs'!U22+'Classified FTEs'!W22+'Classified FTEs'!X22+'Classified FTEs'!AB22+'Classified FTEs'!AD22+'Classified FTEs'!AE22 | O22: =SUM('instruction-districts'!C22:N22)+SUM('support-districts'!C22:N22)
A23: 17 | B23: Millard | C23: 2 | D23: ='Classified FTEs'!H24+'Classified FTEs'!K24 | E23: ='Classified FTEs'!I24+'Classified FTEs'!L24+'Classified FTEs'!M24+'Classified FTEs'!N24+'Classified FTEs'!O24 | F23: 8.74 | G23: ='Classified FTEs'!E24+'Classified FTEs'!F24+'Classified FTEs'!J24 | H23: 2 | I23: 2 | J23: 0 | K23: 1 | L23: 1 | M23: 0 | N23: ='Classified FTEs'!T24+'Classified FTEs'!U24+'Classified FTEs'!W24+'Classified FTEs'!X24+'Classified FTEs'!AB24+'Classified FTEs'!AD24+'Classified FTEs'!AE24 | O23: =SUM('instruction-districts'!C23:N23)+SUM('support-districts'!C23:N23)
A24: 18 | B24: Morgan | C24: 1 | D24: ='Classified FTEs'!H25+'Classified FTEs'!K25 | E24: ='Classified FTEs'!I25+'Classified FTEs'!L25+'Classified FTEs'!M25+'Classified FTEs'!N25+'Classified FTEs'!O25 | F24: 4.46 | G24: ='Classified FTEs'!E25+'Classified FTEs'!F25+'Classified FTEs'!J25 | H24: 0 | I24: 0 | J24: 0 | K24: 0.5 | L24: 1 | M24: 0 | N24: ='Classified FTEs'!T25+'Classified FTEs'!U25+'Classified FTEs'!W25+'Classified FTEs'!X25+'Classified FTEs'!AB25+'Classified FTEs'!AD25+'Classified FTEs'!AE25 | O24: =SUM('instruction-districts'!C24:N24)+SUM('support-districts'!C24:N24)
A25: 19 | B25: Nebo | C25: 11 | D25: ='Classified FTEs'!H27+'Classified FTEs'!K27 | E25: ='Classified FTEs'!I27+'Classified FTEs'!L27+'Classified FTEs'!M27+'Classified FTEs'!N27+'Classified FTEs'!O27 | F25: 52.5 | G25: ='Classified FTEs'!E27+'Classified FTEs'!F27+'Classified FTEs'!J27 | H25: 41.578 | I25: 12.6 | J25: 0 | K25: 2 | L25: 1.6 | M25: 0 | N25: ='Classified FTEs'!T27+'Classified FTEs'!U27+'Classified FTEs'!W27+'Classified FTEs'!X27+'Classified FTEs'!AB27+'Classified FTEs'!AD27+'Classified FTEs'!AE27 | O25: =SUM('instruction-districts'!C25:N25)+SUM('support-districts'!C25:N25)
A26: 20 | B26: [Person_6] | C26: 3 | D26: ='Classified FTEs'!H28+'Classified FTEs'!K28 | E26: ='Classified FTEs'!I28+'Classified FTEs'!L28+'Classified FTEs'!M28+'Classified FTEs'!N28+'Classified FTEs'!O28 | F26: 7 | G26: ='Classified FTEs'!E28+'Classified FTEs'!F28+'Classified FTEs'!J28 | H26: 1 | I26: 0 | J26: 0 | K26: 0 | L26: 1 | M26: 0 | N26: ='Classified FTEs'!T28+'Classified FTEs'!U28+'Classified FTEs'!W28+'Classified FTEs'!X28+'Classified FTEs'!AB28+'Classified FTEs'!AD28+'Classified FTEs'!AE28 | O26: =SUM('instruction-districts'!C26:N26)+SUM('support-districts'!C26:N26)
A27: 21 | B27: North Summit | C27: 1 | D27: ='Classified FTEs'!H29+'Classified FTEs'!K29 | E27: ='Classified FTEs'!I29+'Classified FTEs'!L29+'Classified FTEs'!M29+'Classified FTEs'!N29+'Classified FTEs'!O29 | F27: 3.5 | G27: ='Classified FTEs'!E29+'Classified FTEs'!F29+'Classified FTEs'!J29 | H27: 0 | I27: 0 | J27: 0 | K27: 0.5 | L27: 0.5 | M27: 0.5 | N27: ='Classified FTEs'!T29+'Classified FTEs'!U29+'Classified FTEs'!W29+'Classified FTEs'!X29+'Classified FTEs'!AB29+'Classified FTEs'!AD29+'Classified FTEs'!AE29 | O27: =SUM('instruction-districts'!C27:N27)+SUM('support-districts'!C27:N27)
A28: 22 | B28: Park City | C28: 2 | D28: ='Classified FTEs'!H31+'Classified FTEs'!K31 | E28: ='Classified FTEs'!I31+'Classified FTEs'!L31+'Classified FTEs'!M31+'Classified FTEs'!N31+'Classified FTEs'!O31 | F28: 10.5 | G28: ='Classified FTEs'!E31+'Classified FTEs'!F31+'Classified FTEs'!J31 | H28: 2.3 | I28: 0 | J28: 2 | K28: 1 | L28: 1 | M28: 2.08 | N28: ='Classified FTEs'!T31+'Classified FTEs'!U31+'Classified FTEs'!W31+'Classified FTEs'!X31+'Classified FTEs'!AB31+'Classified FTEs'!AD31+'Classified FTEs'!AE31 | O28: =SUM('instruction-districts'!C28:N28)+SUM('support-districts'!C28:N28)
A29: 23 | B29: Piute | C29: 1 | D29: ='Classified FTEs'!H32+'Classified FTEs'!K32 | E29: ='Classified FTEs'!I32+'Classified FTEs'!L32+'Classified FTEs'!M32+'Classified FTEs'!N32+'Classified FTEs'!O32 | F29: 1.12 | G29: ='Classified FTEs'!E32+'Classified FTEs'!F32+'Classified FTEs'!J32 | H29: 0 | I29: 0 | J29: 0 | K29: 0 | L29: 1.12 | M29: 0 | N29: ='Classified FTEs'!T32+'Classified FTEs'!U32+'Classified FTEs'!W32+'Classified FTEs'!X32+'Classified FTEs'!AB32+'Classified FTEs'!AD32+'Classified FTEs'!AE32 | O29: =SUM('instruction-districts'!C29:N29)+SUM('support-districts'!C29:N29)
A30: 24 | B30: Rich | C30: 0.8 | D30: ='Classified FTEs'!H34+'Classified FTEs'!K34 | E30: ='Classified FTEs'!I34+'Classified FTEs'!L34+'Classified FTEs'!M34+'Classified FTEs'!N34+'Classified FTEs'!O34 | F30: 1.97 | G30: ='Classified FTEs'!E34+'Classified FTEs'!F34+'Classified FTEs'!J34 | H30: 0.68 | I30: 0 | J30: 0 | K30: 0.5 | L30: 0.5 | M30: 0 | N30: ='Classified FTEs'!T34+'Classified FTEs'!U34+'Classified FTEs'!W34+'Classified FTEs'!X34+'Classified FTEs'!AB34+'Classified FTEs'!AD34+'Classified FTEs'!AE34 | O30: =SUM('instruction-districts'!C30:N30)+SUM('support-districts'!C30:N30)
A31: 25 | B31: San Juan | C31: 5 | D31: ='Classified FTEs'!H36+'Classified FTEs'!K36 | E31: ='Classified FTEs'!I36+'Classified FTEs'!L36+'Classified FTEs'!M36+'Classified FTEs'!N36+'Classified FTEs'!O36 | F31: 15.47 | G31: ='Classified FTEs'!E36+'Classified FTEs'!F36+'Classified FTEs'!J36 | H31: 2 | I31: 3 | J31: 1 | K31: 1 | L31: 0 | M31: 2 | N31: ='Classified FTEs'!T36+'Classified FTEs'!U36+'Classified FTEs'!W36+'Classified FTEs'!X36+'Classified FTEs'!AB36+'Classified FTEs'!AD36+'Classified FTEs'!AE36 | O31: =SUM('instruction-districts'!C31:N31)+SUM('support-districts'!C31:N31)
A32: 26 | B32: Sevier | C32: 2 | D32: ='Classified FTEs'!H37+'Classified FTEs'!K37 | E32: ='Classified FTEs'!I37+'Classified FTEs'!L37+'Classified FTEs'!M37+'Classified FTEs'!N37+'Classified FTEs'!O37 | F32: 12.647 | G32: ='Classified FTEs'!E37+'Classified FTEs'!F37+'Classified FTEs'!J37 | H32: 2 | I32: 0 | J32: 0 | K32: 1 | L32: 1 | M32: 1 | N32: ='Classified FTEs'!T37+'Classified FTEs'!U37+'Classified FTEs'!W37+'Classified FTEs'!X37+'Classified FTEs'!AB37+'Classified FTEs'!AD37+'Classified FTEs'!AE37 | O32: =SUM('instruction-districts'!C32:N32)+SUM('support-districts'!C32:N32)
A33: 27 | B33: South Sanpete | C33: 4 | D33: ='Classified FTEs'!H38+'Classified FTEs'!K38 | E33: ='Classified FTEs'!I38+'Classified FTEs'!L38+'Classified FTEs'!M38+'Classified FTEs'!N38+'Classified FTEs'!O38 | F33: 12.142 | G33: ='Classified FTEs'!E38+'Classified FTEs'!F38+'Classified FTEs'!J38 | H33: 2.35 | I33: 0 | J33: 0 | K33: 0.5 | L33: 0.75 | M33: 1.1 | N33: ='Classified FTEs'!T38+'Classified FTEs'!U38+'Classified FTEs'!W38+'Classified FTEs'!X38+'Classified FTEs'!AB38+'Classified FTEs'!AD38+'Classified FTEs'!AE38 | O33: =SUM('instruction-districts'!C33:N33)+SUM('support-districts'!C33:N33)
A34: 28 | B34: South Summit | C34: 1 | D34: ='Classified FTEs'!H39+'Classified FTEs'!K39 | E34: ='Classified FTEs'!I39+'Classified FTEs'!L39+'Classified FTEs'!M39+'Classified FTEs'!N39+'Classified FTEs'!O39 | F34: 4 | G34: ='Classified FTEs'!E39+'Classified FTEs'!F39+'Classified FTEs'!J39 | H34: 1.6 | I34: 0 | J34: 0 | K34: 0 | L34: 1 | M34: 1.5 | N34: ='Classified FTEs'!T39+'Classified FTEs'!U39+'Classified FTEs'!W39+'Classified FTEs'!X39+'Classified FTEs'!AB39+'Classified FTEs'!AD39+'Classified FTEs'!AE39 | O34: =SUM('instruction-districts'!C34:N34)+SUM('support-districts'!C34:N34)
A35: 29 | B35: Tintic | C35: 1 | D35: ='Classified FTEs'!H40+'Classified FTEs'!K40 | E35: ='Classified FTEs'!I40+'Classified FTEs'!L40+'Classified FTEs'!M40+'Classified FTEs'!N40+'Classified FTEs'!O40 | F35: 1.2 | G35: ='Classified FTEs'!E40+'Classified FTEs'!F40+'Classified FTEs'!J40 | H35: 0 | I35: 0 | J35: 0 | K35: 0.12 | L35: 0.94 | M35: 0 | N35: ='Classified FTEs'!T40+'Classified FTEs'!U40+'Classified FTEs'!W40+'Classified FTEs'!X40+'Classified FTEs'!AB40+'Classified FTEs'!AD40+'Classified FTEs'!AE40 | O35: =SUM('instruction-districts'!C35:N35)+SUM('support-districts'!C35:N35)
A36: 30 | B36: Tooele | C36: 4.8 | D36: ='Classified FTEs'!H41+'Classified FTEs'!K41 | E36: ='Classified FTEs'!I41+'Classified FTEs'!L41+'Classified FTEs'!M41+'Classified FTEs'!N41+'Classified FTEs'!O41 | F36: 24.864 | G36: ='Classified FTEs'!E41+'Classified FTEs'!F41+'Classified FTEs'!J41 | H36: 10.016 | I36: 2 | J36: 2 | K36: 1 | L36: 1 | M36: 5 | N36: ='Classified FTEs'!T41+'Classified FTEs'!U41+'Classified FTEs'!W41+'Classified FTEs'!X41+'Classified FTEs'!AB41+'Classified FTEs'!AD41+'Classified FTEs'!AE41 | O36: =SUM('instruction-districts'!C36:N36)+SUM('support-districts'!C36:N36)
A37: 31 | B37: Uintah | C37: 3 | D37: ='Classified FTEs'!H42+'Classified FTEs'!K42 | E37: ='Classified FTEs'!I42+'Classified FTEs'!L42+'Classified FTEs'!M42+'Classified FTEs'!N42+'Classified FTEs'!O42 | F37: 14.5 | G37: ='Classified FTEs'!E42+'Classified FTEs'!F42+'Classified FTEs'!J42 | H37: 0.81 | I37: 1 | J37: 0 | K37: 1 | L37: 1 | M37: 3.75 | N37: ='Classified FTEs'!T42+'Classified FTEs'!U42+'Classified FTEs'!W42+'Classified FTEs'!X42+'Classified FTEs'!AB42+'Classified FTEs'!AD42+'Classified FTEs'!AE42 | O37: =SUM('instruction-districts'!C37:N37)+SUM('support-districts'!C37:N37)
A38: 32 | B38: Wasatch | C38: 2 | D38: ='Classified FTEs'!H43+'Classified FTEs'!K43 | E38: ='Classified FTEs'!I43+'Classified FTEs'!L43+'Classified FTEs'!M43+'Classified FTEs'!N43+'Classified FTEs'!O43 | F38: 11 | G38: ='Classified FTEs'!E43+'Classified FTEs'!F43+'Classified FTEs'!J43 | H38: 5.85 | I38: 0 | J38: 1 | K38: 1 | L38: 1 | M38: 0.75 | N38: ='Classified FTEs'!T43+'Classified FTEs'!U43+'Classified FTEs'!W43+'Classified FTEs'!X43+'Classified FTEs'!AB43+'Classified FTEs'!AD43+'Classified FTEs'!AE43 | O38: =SUM('instruction-districts'!C38:N38)+SUM('support-districts'!C38:N38)
A39: 33 | B39: Washington | C39: 11 | D39: ='Classified FTEs'!H44+'Classified FTEs'!K44 | E39: ='Classified FTEs'!I44+'Classified FTEs'!L44+'Classified FTEs'!M44+'Classified FTEs'!N44+'Classified FTEs'!O44 | F39: 57.072 | G39: ='Classified FTEs'!E44+'Classified FTEs'!F44+'Classified FTEs'!J44 | H39: 12.6 | I39: 6 | J39: 0 | K39: 2 | L39: 1 | M39: 11 | N39: ='Classified FTEs'!T44+'Classified FTEs'!U44+'Classified FTEs'!W44+'Classified FTEs'!X44+'Classified FTEs'!AB44+'Classified FTEs'!AD44+'Classified FTEs'!AE44 | O39: =SUM('instruction-districts'!C39:N39)+SUM('support-districts'!C39:N39)
A40: 34 | B40: Wayne | C40: 0.75 | D40: ='Classified FTEs'!H45+'Classified FTEs'!K45 | E40: ='Classified FTEs'!I45+'Classified FTEs'!L45+'Classified FTEs'!M45+'Classified FTEs'!N45+'Classified FTEs'!O45 | F40: 2.19 | G40: ='Classified FTEs'!E45+'Classified FTEs'!F45+'Classified FTEs'!J45 | H40: 0 | I40: 0 | J40: 0 | K40: 0.34 | L40: 0.33 | M40: 0 | N40: ='Classified FTEs'!T45+'Classified FTEs'!U45+'Classified FTEs'!W45+'Classified FTEs'!X45+'Classified FTEs'!AB45+'Classified FTEs'!AD45+'Classified FTEs'!AE45 | O40: =SUM('instruction-districts'!C40:N40)+SUM('support-districts'!C40:N40)
A41: 35 | B41: Weber | C41: 17 | D41: ='Classified FTEs'!H46+'Classified FTEs'!K46 | E41: ='Classified FTEs'!I46+'Classified FTEs'!L46+'Classified FTEs'!M46+'Classified FTEs'!N46+'Classified FTEs'!O46 | F41: 58.67 | G41: ='Classified FTEs'!E46+'Classified FTEs'!F46+'Classified FTEs'!J46 | H41: 33.31 | I41: 2.75 | J41: 6.55 | K41: 2 | L41: 3 | M41: 14 | N41: ='Classified FTEs'!T46+'Classified FTEs'!U46+'Classified FTEs'!W46+'Classified FTEs'!X46+'Classified FTEs'!AB46+'Classified FTEs'!AD46+'Classified FTEs'!AE46 | O41: =SUM('instruction-districts'!C41:N41)+SUM('support-districts'!C41:N41)
A42: 36 | B42: [Person_7] | C42: 18 | D42: ='Classified FTEs'!H35+'Classified FTEs'!K35 | E42: ='Classified FTEs'!I35+'Classified FTEs'!L35+'Classified FTEs'!M35+'Classified FTEs'!N35+'Classified FTEs'!O35 | F42: 53 | G42: ='Classified FTEs'!E35+'Classified FTEs'!F35+'Classified FTEs'!J35 | H42: 22 | I42: 8 | J42: 12 | K42: 1 | L42: 4 | M42: 5.6 | N42: ='Classified FTEs'!T35+'Classified FTEs'!U35+'Classified FTEs'!W35+'Classified FTEs'!X35+'Classified FTEs'!AB35+'Classified FTEs'!AD35+'Classified FTEs'!AE35 | O42: =SUM('instruction-districts'!C42:N42)+SUM('support-districts'!C42:N42)
A43: 37 | B43: Ogden | C43: 10 | D43: ='Classified FTEs'!H30+'Classified FTEs'!K30 | E43: ='Classified FTEs'!I30+'Classified FTEs'!L30+'Classified FTEs'!M30+'Classified FTEs'!N30+'Classified FTEs'!O30 | F43: 27 | G43: ='Classified FTEs'!E30+'Classified FTEs'!F30+'Classified FTEs'!J30 | H43: 10 | I43: 2.95 | J43: 1 | K43: 0 | L43: 0 | M43: 0 | N43: ='Classified FTEs'!T30+'Classified FTEs'!U30+'Classified FTEs'!W30+'Classified FTEs'!X30+'Classified FTEs'!AB30+'Classified FTEs'!AD30+'Classified FTEs'!AE30 | O43: =SUM('instruction-districts'!C43:N43)+SUM('support-districts'!C43:N43)
A44: 38 | B44: Provo | C44: 6 | D44: ='Classified FTEs'!H33+'Classified FTEs'!K33 | E44: ='Classified FTEs'!I33+'Classified FTEs'!L33+'Classified FTEs'!M33+'Classified FTEs'!N33+'Classified FTEs'!O33 | F44: 28.16 | G44: ='Classified FTEs'!E33+'Classified FTEs'!F33+'Classified FTEs'!J33 | H44: 13.5 | I44: 6.2 | J44: 3 | K44: 0.94 | L44: 1 | M44: 0.33 | N44: ='Classified FTEs'!T33+'Classified FTEs'!U33+'Classified FTEs'!W33+'Classified FTEs'!X33+'Classified FTEs'!AB33+'Classified FTEs'!AD33+'Classified FTEs'!AE33 | O44: =SUM('instruction-districts'!C44:N44)+SUM('support-districts'!C44:N44)
A45: 39 | B45: Logan | C45: 6 | D45: ='Classified FTEs'!H23+'Classified FTEs'!K23 | E45: ='Classified FTEs'!I23+'Classified FTEs'!L23+'Classified FTEs'!M23+'Classified FTEs'!N23+'Classified FTEs'!O23 | F45: 11.85 | G45: ='Classified FTEs'!E23+'Classified FTEs'!F23+'Classified FTEs'!J23 | H45: 8.6 | I45: 2 | J45: 0 | K45: 0 | L45: 1 | M45: 1 | N45: ='Classified FTEs'!T23+'Classified FTEs'!U23+'Classified FTEs'!W23+'Classified FTEs'!X23+'Classified FTEs'!AB23+'Classified FTEs'!AD23+'Classified FTEs'!AE23 | O45: =SUM('instruction-districts'!C45:N45)+SUM('support-districts'!C45:N45)
A46: 40 | B46: [Person_8] | C46: 3.5 | D46: ='Classified FTEs'!H26+'Classified FTEs'!K26 | E46: ='Classified FTEs'!I26+'Classified FTEs'!L26+'Classified FTEs'!M26+'Classified FTEs'!N26+'Classified FTEs'!O26 | F46: 14 | G46: ='Classified FTEs'!E26+'Classified FTEs'!F26+'Classified FTEs'!J26 | H46: 5.7 | I46: 1 | J46: 5.6 | K46: 0.4 | L46: 1 | M46: 2.25 | N46: ='Classified FTEs'!T26+'Classified FTEs'!U26+'Classified FTEs'!W26+'Classified FTEs'!X26+'Classified FTEs'!AB26+'Classified FTEs'!AD26+'Classified FTEs'!AE26 | O46: =SUM('instruction-districts'!C46:N46)+SUM('support-districts'!C46:N46)
B47: DISTRICT TOTAL | C47: =SUM(C7:C46) | D47: =SUM(D7:D46) | E47: =SUM(E7:E46) | F47: =SUM(F7:F46) | G47: =SUM(G7:G46) | H47: =SUM(H7:H46) | I47: =SUM(I7:I46) | J47: =SUM(J7:J46) | ... O47: =SUM(O7:O46)
B48: CHARTER TOTAL | C48: 10 | D48: 45.79 | E48: 39.16 | F48: 60.135 | G48: 108.76 | H48: 4.536 | I48: 0 | J48: 1.04 | K48: 0 | L48: 14.68 | M48: 5.53 | N48: 101.9 | O48: 1955.925
B49: GRAND TOTAL | C49: =C47+C48 | D49: =D47+D48 | E49: =E47+E48 | F49: =F47+F48 | G49: =G47+G48 | H49: =H47+H48 | I49: =I47+I48 | J49: =J47+J48 | ... O49: =O47+O48

Sheet support-charters
B1: Local Education Agencies | C1: SUPPORT | O1: TOTAL FTEs
C2: LEA Administrators | E2: [Person_19] Staff | F2: School Administrators | G2: School Administrative Support Staff | H2: Student Support Services Staff | N2: Other Support Staff
H4: Audiologists / Speech Language Pathologists | I4: Psychologists | J4: Social Workers | K4: Student Transportation Supervisors | L4: School Food Services Supervisors | M4: School Nurses
C5: CACTUS Database | D5: Classified Personnel Report | E5: Classified Personnel Report | F5: CACTUS Database | G5: Classified Personnel Report | H5: CACTUS Database | I5: CACTUS Database | J5: CACTUS Database | K5: Classified Personnel Report | L5: Classified Personnel Report | M5: Classified Personnel Report | N5: Classified Personnel Report
B6: CHARTER SCHOOL
A7: 8B | B7: American Leadership Academy | C7: 0 | D7: ='Classified FTEs'!H49+'Classified FTEs'!K49 | E7: ='Classified FTEs'!I49+'Classified FTEs'!L49+'Classified FTEs'!M49+'Classified FTEs'!N49+'Classified FTEs'!O49 | F7: 2.25 | G7: ='Classified FTEs'!E49+'Classified FTEs'!F49+'Classified FTEs'!J49 | H7: 0 | I7: 0 | J7: 0 | K7: 0 | L7: 1 | M7: 0.1 | N7: ='Classified FTEs'!T49+'Classified FTEs'!U49+'Classified FTEs'!W49+'Classified FTEs'!X49+'Classified FTEs'!AB49+'Classified FTEs'!AD49+'Classified FTEs'!AE49 | O7: =SUM('instruction-charters'!C7:N7)+SUM('support-charters'!C7:N7)
A8: 74 | B8: American Preparatory Academy | C8: 0.3 | D8: ='Classified FTEs'!H50+'Classified FTEs'!K50 | E8: ='Classified FTEs'!I50+'Classified FTEs'!L50+'Classified FTEs'!M50+'Classified FTEs'!N50+'Classified FTEs'!O50 | F8: 1.3 | G8: ='Classified FTEs'!E50+'Classified FTEs'!F50+'Classified FTEs'!J50 | H8: 0 | I8: 0 | J8: 0 | K8: 0 | L8: 0 | M8: 0.25 | N8: ='Classified FTEs'!T50+'Classified FTEs'!U50+'Classified FTEs'!W50+'Classified FTEs'!X50+'Classified FTEs'!AB50+'Classified FTEs'!AD50+'Classified FTEs'!AE50 | O8: =SUM('instruction-charters'!C8:N8)+SUM('support-charters'!C8:N8)
A9: 83 | B9: AMES | C9: 0 | D9: ='Classified FTEs'!H51+'Classified FTEs'!K51 | E9: ='Classified FTEs'!I51+'Classified FTEs'!L51+'Classified FTEs'!M51+'Classified FTEs'!N51+'Classified FTEs'!O51 | F9: 2 | G9: ='Classified FTEs'!E51+'Classified FTEs'!F51+'Classified FTEs'!J51 | H9: 0 | I9: 0 | J9: 0 | K9: 0 | L9: 0 | M9: 0 | N9: ='Classified FTEs'!T51+'Classified FTEs'!U51+'Classified FTEs'!W51+'Classified FTEs'!X51+'Classified FTEs'!AB51+'Classified FTEs'!AD51+'Classified FTEs'!AE51 | O9: =SUM('instruction-charters'!C9:N9)+SUM('support-charters'!C9:N9)
A10: 3B | B10: BSTA | C10: 1 | D10: ='Classified FTEs'!H52+'Classified FTEs'!K52 | E10: ='Classified FTEs'!I52+'Classified FTEs'!L52+'Classified FTEs'!M52+'Classified FTEs'!N52+'Classified FTEs'!O52 | F10: 0 | G10: ='Classified FTEs'!E52+'Classified FTEs'!F52+'Classified FTEs'!J52 | H10: 0 | I10: 0 | J10: 0 | K10: 0 | L10: 0 | M10: 0 | N10: ='Classified FTEs'!T52+'Classified FTEs'!U52+'Classified FTEs'!W52+'Classified FTEs'!X52+'Classified FTEs'!AB52+'Classified FTEs'!AD52+'Classified FTEs'!AE52 | O10: =SUM('instruction-charters'!C10:N10)+SUM('support-charters'!C10:N10)
A11: 9D | B11: Canyon Rim Academy | C11: 0 | D11: ='Classified FTEs'!H53+'Classified FTEs'!K53 | E11: ='Classified FTEs'!I53+'Classified FTEs'!L53+'Classified FTEs'!M53+'Classified FTEs'!N53+'Classified FTEs'!O53 | F11: 1 | G11: ='Classified FTEs'!E53+'Classified FTEs'!F53+'Classified FTEs'!J53 | H11: 0 | I11: 0 | J11: 0 | K11: 0 | L11: 0.72 | M11: 0 | N11: ='Classified FTEs'!T53+'Classified FTEs'!U53+'Classified FTEs'!W53+'Classified FTEs'!X53+'Classified FTEs'!AB53+'Classified FTEs'!AD53+'Classified FTEs'!AE53 | O11: =SUM('instruction-charters'!C11:N11)+SUM('support-charters'!C11:N11)
A12: 84 | B12: CBA Center | C12: 0 | D12: ='Classified FTEs'!H54+'Classified FTEs'!K54 | E12: ='Classified FTEs'!I54+'Classified FTEs'!L54+'Classified FTEs'!M54+'Classified FTEs'!N54+'Classified FTEs'!O54 | F12: 0.5 | G12: ='Classified FTEs'!E54+'Classified FTEs'!F54+'Classified FTEs'!J54 | H12: 0 | I12: 0 | J12: 0 | K12: 0 | L12: 0 | M12: 0 | N12: ='Classified FTEs'!T54+'Classified FTEs'!U54+'Classified FTEs'!W54+'Classified FTEs'!X54+'Classified FTEs'!AB54+'Classified FTEs'!AD54+'Classified FTEs'!AE54 | O12: =SUM('instruction-charters'!C12:N12)+SUM('support-charters'!C12:N12)
A13: 2D | B13: [Person_9] | C13: 0 | D13: ='Classified FTEs'!H55+'Classified FTEs'!K55 | E13: ='Classified FTEs'!I55+'Classified FTEs'!L55+'Classified FTEs'!M55+'Classified FTEs'!N55+'Classified FTEs'!O55 | F13: 1.111 | G13: ='Classified FTEs'!E55+'Classified FTEs'!F55+'Classified FTEs'!J55 | H13: 0 | I13: 0 | J13: 0 | K13: 0 | L13: 1 | M13: 0 | N13: ='Classified FTEs'!T55+'Classified FTEs'!U55+'Classified FTEs'!W55+'Classified FTEs'!X55+'Classified FTEs'!AB55+'Classified FTEs'!AD55+'Classified FTEs'!AE55 | O13: =SUM('instruction-charters'!C13:N13)+SUM('support-charters'!C13:N13)
A14: 87 | B14: City Academy | C14: 0 | D14: ='Classified FTEs'!H56+'Classified FTEs'!K56 | E14: ='Classified FTEs'!I56+'Classified FTEs'!L56+'Classified FTEs'!M56+'Classified FTEs'!N56+'Classified FTEs'!O56 | F14: 0.81 | G14: ='Classified FTEs'!E56+'Classified FTEs'!F56+'Classified FTEs'!J56 | H14: 0 | I14: 0 | J14: 0 | K14: 0 | L14: 0 | M14: 0 | N14: ='Classified FTEs'!T56+'Classified FTEs'!U56+'Classified FTEs'!W56+'Classified FTEs'!X56+'Classified FTEs'!AB56+'Classified FTEs'!AD56+'Classified FTEs'!AE56 | O14: =SUM('instruction-charters'!C14:N14)+SUM('support-charters'!C14:N14)
A15: 3E | B15: CS Lewis Academy | C15: 0 | D15: ='Classified FTEs'!H57+'Classified FTEs'!K57 | E15: ='Classified FTEs'!I57+'Classified FTEs'!L57+'Classified FTEs'!M57+'Classified FTEs'!N57+'Classified FTEs'!O57 | F15: 1 | G15: ='Classified FTEs'!E57+'Classified FTEs'!F57+'Classified FTEs'!J57 | H15: 0 | I15: 0 | J15: 0 | K15: 0 | L15: 0 | M15: 0 | N15: ='Classified FTEs'!T57+'Classified FTEs'!U57+'Classified FTEs'!W57+'Classified FTEs'!X57+'Classified FTEs'!AB57+'Classified FTEs'!AD57+'Classified FTEs'!AE57 | O15: =SUM('instruction-charters'!C15:N15)+SUM('support-charters'!C15:N15)
A16: A3 | B16: DaVinci Academy | C16: 0 | D16: ='Classified FTEs'!H58+'Classified FTEs'!K58 | E16: ='Classified FTEs'!I58+'Classified FTEs'!L58+'Classified FTEs'!M58+'Classified FTEs'!N58+'Classified FTEs'!O58 | F16: 0.83 | G16: ='Classified FTEs'!E58+'Classified FTEs'!F58+'Classified FTEs'!J58 | H16: 0 | I16: 0 | J16: 0 | K16: 0 | L16: 0 | M16: 0 | N16: ='Classified FTEs'!T58+'Classified FTEs'!U58+'Classified FTEs'!W58+'Classified FTEs'!X58+'Classified FTEs'!AB58+'Classified FTEs'!AD58+'Classified FTEs'!AE58 | O16: =SUM('instruction-charters'!C16:N16)+SUM('support-charters'!C16:N16)
A17: 4E | B17: Dual Immersion Academy | C17: 0 | D17: ='Classified FTEs'!H59+'Classified FTEs'!K59 | E17: ='Classified FTEs'!I59+'Classified FTEs'!L59+'Classified FTEs'!M59+'Classified FTEs'!N59+'Classified FTEs'!O59 | F17: 0 | G17: ='Classified FTEs'!E59+'Classified FTEs'!F59+'Classified FTEs'!J59 | H17: 0 | I17: 0 | J17: 0 | K17: 0 | L17: 1 | M17: 0 | N17: ='Classified FTEs'!T59+'Classified FTEs'!U59+'Classified FTEs'!W59+'Classified FTEs'!X59+'Classified FTEs'!AB59+'Classified FTEs'!AD59+'Classified FTEs'!AE59 | O17: =SUM('instruction-charters'!C17:N17)+SUM('support-charters'!C17:N17)
A18: A8 | B18: East Hollywood High | C18: 0 | D18: ='Classified FTEs'!H60+'Classified FTEs'!K60 | E18: ='Classified FTEs'!I60+'Classified FTEs'!L60+'Classified FTEs'!M60+'Classified FTEs'!N60+'Classified FTEs'!O60 | F18: 1.136 | G18: ='Classified FTEs'!E60+'Classified FTEs'!F60+'Classified FTEs'!J60 | H18: 0 | I18: 0 | J18: 0 | K18: 0 | L18: 0 | M18: 0 | N18: ='Classified FTEs'!T60+'Classified FTEs'!U60+'Classified FTEs'!W60+'Classified FTEs'!X60+'Classified FTEs'!AB60+'Classified FTEs'!AD60+'Classified FTEs'!AE60 | O18: =SUM('instruction-charters'!C18:N18)+SUM('support-charters'!C18:N18)
A19: 5E | B19: [Person_10] | C19: 0 | D19: ='Classified FTEs'!H61+'Classified FTEs'!K61 | E19: ='Classified FTEs'!I61+'Classified FTEs'!L61+'Classified FTEs'!M61+'Classified FTEs'!N61+'Classified FTEs'!O61 | F19: 1 | G19: ='Classified FTEs'!E61+'Classified FTEs'!F61+'Classified FTEs'!J61 | H19: 0.536 | I19: 0 | J19: 0 | K19: 0 | L19: 1 | M19: 0 | N19: ='Classified FTEs'!T61+'Classified FTEs'!U61+'Classified FTEs'!W61+'Classified FTEs'!X61+'Classified FTEs'!AB61+'Classified FTEs'!AD61+'Classified FTEs'!AE61 | O19: =SUM('instruction-charters'!C19:N19)+SUM('support-charters'!C19:N19)
A20: 3C | B20: Entheos Academy | C20: 0 | D20: ='Classified FTEs'!H62+'Classified FTEs'!K62 | E20: ='Classified FTEs'!I62+'Classified FTEs'!L62+'Classified FTEs'!M62+'Classified FTEs'!N62+'Classified FTEs'!O62 | F20: 1 | G20: ='Classified FTEs'!E62+'Classified FTEs'!F62+'Classified FTEs'!J62 | H20: 0 | I20: 0 | J20: 0 | K20: 0 | L20: 0 | M20: 0 | N20: ='Classified FTEs'!T62+'Classified FTEs'!U62+'Classified FTEs'!W62+'Classified FTEs'!X62+'Classified FTEs'!AB62+'Classified FTEs'!AD62+'Classified FTEs'!AE62 | O20: =SUM('instruction-charters'!C20:N20)+SUM('support-charters'!C20:N20)
A21: 98 | B21: Fast Forward High | C21: 0 | D21: ='Classified FTEs'!H63+'Classified FTEs'!K63 | E21: ='Classified FTEs'!I63+'Classified FTEs'!L63+'Classified FTEs'!M63+'Classified FTEs'!N63+'Classified FTEs'!O63 | F21: 0.84 | G21: ='Classified FTEs'!E63+'Classified FTEs'!F63+'Classified FTEs'!J63 | H21: 0 | I21: 0 | J21: 0 | K21: 0 | L21: 0 | M21: 0 | N21: ='Classified FTEs'!T63+'Classified FTEs'!U63+'Classified FTEs'!W63+'Classified FTEs'!X63+'Classified FTEs'!AB63+'Classified FTEs'!AD63+'Classified FTEs'!AE63 | O21: =SUM('instruction-charters'!C21:N21)+SUM('support-charters'!C21:N21)
A22: 82 | B22: Freedom Academy | C22: 1 | D22: ='Classified FTEs'!H64+'Classified FTEs'!K64 | E22: ='Classified FTEs'!I64+'Classified FTEs'!L64+'Classified FTEs'!M64+'Classified FTEs'!N64+'Classified FTEs'!O64 | F22: 1.5 | G22: ='Classified FTEs'!E64+'Classified FTEs'!F64+'Classified FTEs'!J64 | H22: 0 | I22: 0 | J22: 0 | K22: 0 | L22: 0.8 | M22: 0.8 | N22: ='Classified FTEs'!T64+'Classified FTEs'!U64+'Classified FTEs'!W64+'Classified FTEs'!X64+'Classified FTEs'!AB64+'Classified FTEs'!AD64+'Classified FTEs'!AE64 | O22: =SUM('instruction-charters'!C22:N22)+SUM('support-charters'!C22:N22)
A23: 5D | B23: [Person_11] | C23: 0 | D23: ='Classified FTEs'!H65+'Classified FTEs'!K65 | E23: ='Classified FTEs'!I65+'Classified FTEs'!L65+'Classified FTEs'!M65+'Classified FTEs'!N65+'Classified FTEs'!O65 | F23: 1.3 | G23: ='Classified FTEs'!E65+'Classified FTEs'!F65+'Classified FTEs'!J65 | H23: 0 | I23: 0 | J23: 0 | K23: 0 | L23: 0 | M23: 0 | N23: ='Classified FTEs'!T65+'Classified FTEs'!U65+'Classified FTEs'!W65+'Classified FTEs'!X65+'Classified FTEs'!AB65+'Classified FTEs'!AD65+'Classified FTEs'!AE65 | O23: =SUM('instruction-charters'!C23:N23)+SUM('support-charters'!C23:N23)
A24: 1E | B24: Guadalupe School | C24: 0 | D24: ='Classified FTEs'!H66+'Classified FTEs'!K66 | E24: ='Classified FTEs'!I66+'Classified FTEs'!L66+'Classified FTEs'!M66+'Classified FTEs'!N66+'Classified FTEs'!O66 | F24: 0 | G24: ='Classified FTEs'!E66+'Classified FTEs'!F66+'Classified FTEs'!J66 | H24: 0 | I24: 0 | J24: 0 | K24: 0 | L24: 0 | M24: 0 | N24: ='Classified FTEs'!T66+'Classified FTEs'!U66+'Classified FTEs'!W66+'Classified FTEs'!X66+'Classified FTEs'!AB66+'Classified FTEs'!AD66+'Classified FTEs'!AE66 | O24: =SUM('instruction-charters'!C24:N24)+SUM('support-charters'!C24:N24)
A25: 2C | B25: Intech Collegiate High | C25: 0 | D25: ='Classified FTEs'!H67+'Classified FTEs'!K67 | E25: ='Classified FTEs'!I67+'Classified FTEs'!L67+'Classified FTEs'!M67+'Classified FTEs'!N67+'Classified FTEs'!O67 | F25: 0.822 | G25: ='Classified FTEs'!E67+'Classified FTEs'!F67+'Classified FTEs'!J67 | H25: 0 | I25: 0 | J25: 0 | K25: 0 | L25: 0 | M25: 0 | N25: ='Classified FTEs'!T67+'Classified FTEs'!U67+'Classified FTEs'!W67+'Classified FTEs'!X67+'Classified FTEs'!AB67+'Classified FTEs'!AD67+'Classified FTEs'!AE67 | O25: =SUM('instruction-charters'!C25:N25)+SUM('support-charters'!C25:N25)
A26: A5 | B26: Itineris Early College High | C26: 0 | D26: ='Classified FTEs'!H68+'Classified FTEs'!K68 | E26: ='Classified FTEs'!I68+'Classified FTEs'!L68+'Classified FTEs'!M68+'Classified FTEs'!N68+'Classified FTEs'!O68 | F26: 1 | G26: ='Classified FTEs'!E68+'Classified FTEs'!F68+'Classified FTEs'!J68 | H26: 0 | I26: 0 | J26: 0 | K26: 0 | L26: 0 | M26: 0 | N26: ='Classified FTEs'!T68+'Classified FTEs'!U68+'Classified FTEs'!W68+'Classified FTEs'!X68+'Classified FTEs'!AB68+'Classified FTEs'!AD68+'Classified FTEs'!AE68 | O26: =SUM('instruction-charters'!C26:N26)+SUM('support-charters'!C26:N26)
A27: 93 | B27: [Person_12] | C27: 0 | D27: ='Classified FTEs'!H69+'Classified FTEs'!K69 | E27: ='Classified FTEs'!I69+'Classified FTEs'!L69+'Classified FTEs'!M69+'Classified FTEs'!N69+'Classified FTEs'!O69 | F27: 1 | G27: ='Classified FTEs'!E69+'Classified FTEs'!F69+'Classified FTEs'!J69 | H27: 0 | I27: 0 | J27: 0 | K27: 0 | L27: 0 | M27: 0 | N27: ='Classified FTEs'!T69+'Classified FTEs'!U69+'Classified FTEs'!W69+'Classified FTEs'!X69+'Classified FTEs'!AB69+'Classified FTEs'!AD69+'Classified FTEs'!AE69 | O27: =SUM('instruction-charters'!C27:N27)+SUM('support-charters'!C27:N27)
A28: 2E | B28: [Person_13] | C28: 0 | D28: ='Classified FTEs'!H74+'Classified FTEs'!K74 | E28: ='Classified FTEs'!I74+'Classified FTEs'!L74+'Classified FTEs'!M74+'Classified FTEs'!N74+'Classified FTEs'!O74 | F28: 0.652 | G28: ='Classified FTEs'!E74+'Classified FTEs'!F74+'Classified FTEs'!J74 | H28: 0 | I28: 0 | J28: 0 | K28: 0 | L28: 0 | M28: 0 | N28: ='Classified FTEs'!T74+'Classified FTEs'!U74+'Classified FTEs'!W74+'Classified FTEs'!X74+'Classified FTEs'!AB74+'Classified FTEs'!AD74+'Classified FTEs'!AE74 | O28: =SUM('instruction-charters'!C32:N32)+SUM('support-charters'!C32:N32)
A29: 4C | B29: Lakeview Academy | C29: 0 | D29: ='Classified FTEs'!H70+'Classified FTEs'!K70 | E29: ='Classified FTEs'!I70+'Classified FTEs'!L70+'Classified FTEs'!M70+'Classified FTEs'!N70+'Classified FTEs'!O70 | F29: 2 | G29: ='Classified FTEs'!E70+'Classified FTEs'!F70+'Classified FTEs'!J70 | H29: 0 | I29: 0 | J29: 0 | K29: 0 | L29: 1 | M29: 0 | N29: ='Classified FTEs'!T70+'Classified FTEs'!U70+'Classified FTEs'!W70+'Classified FTEs'!X70+'Classified FTEs'!AB70+'Classified FTEs'!AD70+'Classified FTEs'!AE70 | O29: =SUM('instruction-charters'!C28:N28)+SUM('support-charters'!C28:N28)
A30: 5C | B30: Legacy Prep Academy | C30: 0 | D30: ='Classified FTEs'!H71+'Classified FTEs'!K71 | E30: ='Classified FTEs'!I71+'Classified FTEs'!L71+'Classified FTEs'!M71+'Classified FTEs'!N71+'Classified FTEs'!O71 | F30: 3.22 | G30: ='Classified FTEs'!E71+'Classified FTEs'!F71+'Classified FTEs'!J71 | H30: 0 | I30: 0 | J30: 0 | K30: 0 | L30: 0 | M30: 0 | N30: ='Classified FTEs'!T71+'Classified FTEs'!U71+'Classified FTEs'!W71+'Classified FTEs'!X71+'Classified FTEs'!AB71+'Classified FTEs'!AD71+'Classified FTEs'!AE71 | O30: =SUM('instruction-charters'!C29:N29)+SUM('support-charters'!C29:N29)
A31: 6C | B31: Liberty Academy | C31: 0 | D31: ='Classified FTEs'!H72+'Classified FTEs'!K72 | E31: ='Classified FTEs'!I72+'Classified FTEs'!L72+'Classified FTEs'!M72+'Classified FTEs'!N72+'Classified FTEs'!O72 | F31: 0.5 | G31: ='Classified FTEs'!E72+'Classified FTEs'!F72+'Classified FTEs'!J72 | H31: 0 | I31: 0 | J31: 0 | K31: 0 | L31: 0 | M31: 0 | N31: ='Classified FTEs'!T72+'Classified FTEs'!U72+'Classified FTEs'!W72+'Classified FTEs'!X72+'Classified FTEs'!AB72+'Classified FTEs'!AD72+'Classified FTEs'!AE72 | O31: =SUM('instruction-charters'!C30:N30)+SUM('support-charters'!C30:N30)
A32: 2B | B32: Lincoln Academy | C32: 1.5 | D32: ='Classified FTEs'!H73+'Classified FTEs'!K73 | E32: ='Classified FTEs'!I73+'Classified FTEs'!L73+'Classified FTEs'!M73+'Classified FTEs'!N73+'Classified FTEs'!O73 | F32: 0 | G32: ='Classified FTEs'!E73+'Classified FTEs'!F73+'Classified FTEs'!J73 | H32: 1 | I32: 0 | J32: 0 | K32: 0 | L32: 0 | M32: 0 | N32: ='Classified FTEs'!T73+'Classified FTEs'!U73+'Classified FTEs'!W73+'Classified FTEs'!X73+'Classified FTEs'!AB73+'Classified FTEs'!AD73+'Classified FTEs'!AE73 | O32: =SUM('instruction-charters'!C31:N31)+SUM('support-charters'!C31:N31)
A33: A7 | B33: Moab Community School | C33: 0 | D33: ='Classified FTEs'!H75+'Classified FTEs'!K75 | E33: ='Classified FTEs'!I75+'Classified FTEs'!L75+'Classified FTEs'!M75+'Classified FTEs'!N75+'Classified FTEs'!O75 | F33: 0.672 | G33: ='Classified FTEs'!E75+'Classified FTEs'!F75+'Classified FTEs'!J75 | H33: 0 | I33: 0 | J33: 0 | K33: 0 | L33: 0 | M33: 0 | N33: ='Classified FTEs'!T75+'Classified FTEs'!U75+'Classified FTEs'!W75+'Classified FTEs'!X75+'Classified FTEs'!AB75+'Classified FTEs'!AD75+'Classified FTEs'!AE75 | O33: =SUM('instruction-charters'!C33:N33)+SUM('support-charters'!C33:N33)
A34: 7C | B34: Monticello Academy | C34: 0.803 | D34: ='Classified FTEs'!H76+'Classified FTEs'!K76 | E34: ='Classified FTEs'!I76+'Classified FTEs'!L76+'Classified FTEs'!M76+'Classified FTEs'!N76+'Classified FTEs'!O76 | F34: 1.216 | G34: ='Classified FTEs'!E76+'Classified FTEs'!F76+'Classified FTEs'!J76 | H34: 0 | I34: 0 | J34: 0 | K34: 0 | L34: 1.25 | M34: 0 | N34: ='Classified FTEs'!T76+'Classified FTEs'!U76+'Classified FTEs'!W76+'Classified FTEs'!X76+'Classified FTEs'!AB76+'Classified FTEs'!AD76+'Classified FTEs'!AE76 | O34: =SUM('instruction-charters'!C34:N34)+SUM('support-charters'!C34:N34)
A35: 8C | B35: Mountainville Academy | C35: 0.2 | D35: ='Classified FTEs'!H77+'Classified FTEs'!K77 | E35: ='Classified FTEs'!I77+'Classified FTEs'!L77+'Classified FTEs'!M77+'Classified FTEs'!N77+'Classified FTEs'!O77 | F35: 1 | G35: ='Classified FTEs'!E77+'Classified FTEs'!F77+'Classified FTEs'!J77 | H35: 0 | I35: 0 | J35: 0 | K35: 0 | L35: 0 | M35: 1 | N35: ='Classified FTEs'!T77+'Classified FTEs'!U77+'Classified FTEs'!W77+'Classified FTEs'!X77+'Classified FTEs'!AB77+'Classified FTEs'!AD77+'Classified FTEs'!AE77 | O35: =SUM('instruction-charters'!C35:N35)+SUM('support-charters'!C35:N35)
A36: 9B | B36: Navigator Pointe Academy | C36: 0.944 | D36: ='Classified FTEs'!H78+'Classified FTEs'!K78 | E36: ='Classified FTEs'!I78+'Classified FTEs'!L78+'Classified FTEs'!M78+'Classified FTEs'!N78+'Classified FTEs'!O78 | F36: 1 | G36: ='Classified FTEs'!E78+'Classified FTEs'!F78+'Classified FTEs'!J78 | H36: 0 | I36: 0 | J36: 0 | K36: 0 | L36: 0 | M36: 2.85 | N36: ='Classified FTEs'!T78+'Classified FTEs'!U78+'Classified FTEs'!W78+'Classified FTEs'!X78+'Classified FTEs'!AB78+'Classified FTEs'!AD78+'Classified FTEs'!AE78 | O36: =SUM('instruction-charters'!C36:N36)+SUM('support-charters'!C36:N36)
A37: 6D | B37: Noah Webster Academy | C37: 0 | D37: ='Classified FTEs'!H79+'Classified FTEs'!K79 | E37: ='Classified FTEs'!I79+'Classified FTEs'!L79+'Classified FTEs'!M79+'Classified FTEs'!N79+'Classified FTEs'!O79 | F37: 2 | G37: ='Classified FTEs'!E79+'Classified FTEs'!F79+'Classified FTEs'!J79 | H37: 0 | I37: 0 | J37: 0 | K37: 0 | L37: 0 | M37: 0 | N37: ='Classified FTEs'!T79+'Classified FTEs'!U79+'Classified FTEs'!W79+'Classified FTEs'!X79+'Classified FTEs'!AB79+'Classified FTEs'!AD79+'Classified FTEs'!AE79 | O37: =SUM('instruction-charters'!C37:N37)+SUM('support-charters'!C37:N37)
A38: A6 | B38: [Person_14] | C38: 0 | D38: ='Classified FTEs'!H80+'Classified FTEs'!K80 | E38: ='Classified FTEs'!I80+'Classified FTEs'!L80+'Classified FTEs'!M80+'Classified FTEs'!N80+'Classified FTEs'!O80 | F38: 1 | G38: ='Classified FTEs'!E80+'Classified FTEs'!F80+'Classified FTEs'!J80 | H38: 0 | I38: 0 | J38: 0 | K38: 0 | L38: 1 | M38: 0 | N38: ='Classified FTEs'!T80+'Classified FTEs'!U80+'Classified FTEs'!W80+'Classified FTEs'!X80+'Classified FTEs'!AB80+'Classified FTEs'!AD80+'Classified FTEs'!AE80 | O38: =SUM('instruction-charters'!C38:N38)+SUM('support-charters'!C38:N38)
A39: 5B | B39: North Star Academy | C39: 0 | D39: ='Classified FTEs'!H81+'Classified FTEs'!K81 | E39: ='Classified FTEs'!I81+'Classified FTEs'!L81+'Classified FTEs'!M81+'Classified FTEs'!N81+'Classified FTEs'!O81 | F39: 0 | G39: ='Classified FTEs'!E81+'Classified FTEs'!F81+'Classified FTEs'!J81 | H39: 0 | I39: 0 | J39: 0 | K39: 0 | L39: 0.83 | M39: 0 | N39: ='Classified FTEs'!T81+'Classified FTEs'!U81+'Classified FTEs'!W81+'Classified FTEs'!X81+'Classified FTEs'!AB81+'Classified FTEs'!AD81+'Classified FTEs'!AE81 | O39: =SUM('instruction-charters'!C39:N39)+SUM('support-charters'!C39:N39)
A40: A1 | B40: NUAMES | C40: 0 | D40: ='Classified FTEs'!H82+'Classified FTEs'!K82 | E40: ='Classified FTEs'!I82+'Classified FTEs'!L82+'Classified FTEs'!M82+'Classified FTEs'!N82+'Classified FTEs'!O82 | F40: 1 | G40: ='Classified FTEs'!E82+'Classified FTEs'!F82+'Classified FTEs'!J82 | H40: 0 | I40: 0 | J40: 0 | K40: 0 | L40: 0 | M40: 0 | N40: ='Classified FTEs'!T82+'Classified FTEs'!U82+'Classified FTEs'!W82+'Classified FTEs'!X82+'Classified FTEs'!AB82+'Classified FTEs'!AD82+'Classified FTEs'!AE82 | O40: =SUM('instruction-charters'!C40:N40)+SUM('support-charters'!C40:N40)
A41: 1C | B41: Odyssey | C41: 0 | D41: ='Classified FTEs'!H83+'Classified FTEs'!K83 | E41: ='Classified FTEs'!I83+'Classified FTEs'!L83+'Classified FTEs'!M83+'Classified FTEs'!N83+'Classified FTEs'!O83 | F41: 1 | G41: ='Classified FTEs'!E83+'Classified FTEs'!F83+'Classified FTEs'!J83 | H41: 0 | I41: 0 | J41: 0 | K41: 0 | L41: 0 | M41: 0.48 | N41: ='Classified FTEs'!T83+'Classified FTEs'!U83+'Classified FTEs'!W83+'Classified FTEs'!X83+'Classified FTEs'!AB83+'Classified FTEs'!AD83+'Classified FTEs'!AE83 | O41: =SUM('instruction-charters'!C41:N41)+SUM('support-charters'!C41:N41)
A42: 68 | B42: Ogden Prep Academy | C42: 1 | D42: ='Classified FTEs'!H84+'Classified FTEs'!K84 | E42: ='Classified FTEs'!I84+'Classified FTEs'!L84+'Classified FTEs'!M84+'Classified FTEs'!N84+'Classified FTEs'!O84 | F42: 2 | G42: ='Classified FTEs'!E84+'Classified FTEs'!F84+'Classified FTEs'!J84 | H42: 0 | I42: 0 | J42: 0 | K42: 0 | L42: 1 | M42: 0 | N42: ='Classified FTEs'!T84+'Classified FTEs'!U84+'Classified FTEs'!W84+'Classified FTEs'!X84+'Classified FTEs'!AB84+'Classified FTEs'!AD84+'Classified FTEs'!AE84 | O42: =SUM('instruction-charters'!C42:N42)+SUM('support-charters'!C42:N42)
A43: 8D | B43: Open Classroom | C43: 0 | D43: ='Classified FTEs'!H85+'Classified FTEs'!K85 | E43: ='Classified FTEs'!I85+'Classified FTEs'!L85+'Classified FTEs'!M85+'Classified FTEs'!N85+'Classified FTEs'!O85 | F43: 1 | G43: ='Classified FTEs'!E85+'Classified FTEs'!F85+'Classified FTEs'!J85 | H43: 0 | I43: 0 | J43: 0 | K43: 0 | L43: 0 | M43: 0 | N43: ='Classified FTEs'!T85+'Classified FTEs'!U85+'Classified FTEs'!W85+'Classified FTEs'!X85+'Classified FTEs'!AB85+'Classified FTEs'!AD85+'Classified FTEs'!AE85 | O43: =SUM('instruction-charters'!C43:N43)+SUM('support-charters'!C43:N43)
A44: 9C | B44: Paradigm High School | C44: 1.67 | D44: ='Classified FTEs'!H86+'Classified FTEs'!K86 | E44: ='Classified FTEs'!I86+'Classified FTEs'!L86+'Classified FTEs'!M86+'Classified FTEs'!N86+'Classified FTEs'!O86 | F44: 0 | G44: ='Classified FTEs'!E86+'Classified FTEs'!F86+'Classified FTEs'!J86 | H44: 0 | I44: 0 | J44: 0 | K44: 0 | L44: 0 | M44: 0 | N44: ='Classified FTEs'!T86+'Classified FTEs'!U86+'Classified FTEs'!W86+'Classified FTEs'!X86+'Classified FTEs'!AB86+'Classified FTEs'!AD86+'Classified FTEs'!AE86 | O44: =SUM('instruction-charters'!C44:N44)+SUM('support-charters'!C44:N44)
A45: 86 | B45: Pinnacle Canyon Academy | C45: 1.583 | D45: ='Classified FTEs'!H87+'Classified FTEs'!K87 | E45: ='Classified FTEs'!I87+'Classified FTEs'!L87+'Classified FTEs'!M87+'Classified FTEs'!N87+'Classified FTEs'!O87 | F45: 1.056 | G45: ='Classified FTEs'!E87+'Classified FTEs'!F87+'Classified FTEs'!J87 | H45: 1 | I45: 0 | J45: 0.37 | K45: 0 | L45: 0.25 | M45: 0 | N45: ='Classified FTEs'!T87+'Classified FTEs'!U87+'Classified FTEs'!W87+'Classified FTEs'!X87+'Classified FTEs'!AB87+'Classified FTEs'!AD87+'Classified FTEs'!AE87 | O45: =SUM('instruction-charters'!C45:N45)+SUM('support-charters'!C45:N45)
A46: A2 | B46: Ranches Academy | C46: 0 | D46: ='Classified FTEs'!H88+'Classified FTEs'!K88 | E46: ='Classified FTEs'!I88+'Classified FTEs'!L88+'Classified FTEs'!M88+'Classified FTEs'!N88+'Classified FTEs'!O88 | F46: 0 | G46: ='Classified FTEs'!E88+'Classified FTEs'!F88+'Classified FTEs'!J88 | H46: 0 | I46: 0 | J46: 0 | K46: 0 | L46: 0 | M46: 0 | N46: ='Classified FTEs'!T88+'Classified FTEs'!U88+'Classified FTEs'!W88+'Classified FTEs'!X88+'Classified FTEs'!AB88+'Classified FTEs'!AD88+'Classified FTEs'!AE88 | O46: =SUM('instruction-charters'!C46:N46)+SUM('support-charters'!C46:N46)
A47: 7B | B47: [Person_15] Academy | C47: 0 | D47: ='Classified FTEs'!H89+'Classified FTEs'!K89 | E47: ='Classified FTEs'!I89+'Classified FTEs'!L89+'Classified FTEs'!M89+'Classified FTEs'!N89+'Classified FTEs'!O89 | F47: 1 | G47: ='Classified FTEs'!E89+'Classified FTEs'!F89+'Classified FTEs'!J89 | H47: 0 | I47: 0 | J47: 0 | K47: 0 | L47: 2 | M47: 0 | N47: ='Classified FTEs'!T89+'Classified FTEs'!U89+'Classified FTEs'!W89+'Classified FTEs'!X89+'Classified FTEs'!AB89+'Classified FTEs'!AD89+'Classified FTEs'!AE89 | O47: =SUM('instruction-charters'!C47:N47)+SUM('support-charters'!C47:N47)
A48: 1D | B48: Renaissance Academy | C48: 0 | D48: ='Classified FTEs'!H90+'Classified FTEs'!K90 | E48: ='Classified FTEs'!I90+'Classified FTEs'!L90+'Classified FTEs'!M90+'Classified FTEs'!N90+'Classified FTEs'!O90 | F48: 1.889 | G48: ='Classified FTEs'!E90+'Classified FTEs'!F90+'Classified FTEs'!J90 | H48: 0 | I48: 0 | J48: 0 | K48: 0 | L48: 0 | M48: 0 | N48: ='Classified FTEs'!T90+'Classified FTEs'!U90+'Classified FTEs'!W90+'Classified FTEs'!X90+'Classified FTEs'!AB90+'Classified FTEs'!AD90+'Classified FTEs'!AE90 | O48: =SUM('instruction-charters'!C48:N48)+SUM('support-charters'!C48:N48)
A49: 97 | B49: Salt Lake Arts Academy | C49: 0 | D49: ='Classified FTEs'!H91+'Classified FTEs'!K91 | E49: ='Classified FTEs'!I91+'Classified FTEs'!L91+'Classified FTEs'!M91+'Classified FTEs'!N91+'Classified FTEs'!O91 | F49: 1 | G49: ='Classified FTEs'!E91+'Classified FTEs'!F91+'Classified FTEs'!J91 | H49: 0 | I49: 0 | J49: 0 | K49: 0 | L49: 0 | M49: 0 | N49: ='Classified FTEs'!T91+'Classified FTEs'!U91+'Classified FTEs'!W91+'Classified FTEs'!X91+'Classified FTEs'!AB91+'Classified FTEs'!AD91+'Classified FTEs'!AE91 | O49: =SUM('instruction-charters'!C49:N49)+SUM('support-charters'!C49:N49)
A50: 7D | B50: Salt Lake School for Perf. Arts | C50: 0 | D50: ='Classified FTEs'!H92+'Classified FTEs'!K92 | E50: ='Classified FTEs'!I92+'Classified FTEs'!L92+'Classified FTEs'!M92+'Classified FTEs'!N92+'Classified FTEs'!O92 | F50: 1.88 | G50: ='Classified FTEs'!E92+'Classified FTEs'!F92+'Classified FTEs'!J92 | H50: 0 | I50: 0 | J50: 0 | K50: 0 | L50: 0 | M50: 0 | N50: ='Classified FTEs'!T92+'Classified FTEs'!U92+'Classified FTEs'!W92+'Classified FTEs'!X92+'Classified FTEs'!AB92+'Classified FTEs'!AD92+'Classified FTEs'!AE92 | O50: =SUM('instruction-charters'!C50:N50)+SUM('support-charters'!C50:N50)
A51: 89 | B51: [Person_16] | C51: 0 | D51: ='Classified FTEs'!H93+'Classified FTEs'!K93 | E51: ='Classified FTEs'!I93+'Classified FTEs'!L93+'Classified FTEs'!M93+'Classified FTEs'!N93+'Classified FTEs'!O93 | F51: 0.8 | G51: ='Classified FTEs'!E93+'Classified FTEs'!F93+'Classified FTEs'!J93 | H51: 0 | I51: 0 | J51: 0 | K51: 0 | L51: 0 | M51: 0 | N51: ='Classified FTEs'!T93+'Classified FTEs'!U93+'Classified FTEs'!W93+'Classified FTEs'!X93+'Classified FTEs'!AB93+'Classified FTEs'!AD93+'Classified FTEs'!AE93 | O51: =SUM('instruction-charters'!C51:N51)+SUM('support-charters'!C51:N51)
A52: 3D | B52: Spectrum Academy | C52: 0 | D52: ='Classified FTEs'!H94+'Classified FTEs'!K94 | E52: ='Classified FTEs'!I94+'Classified FTEs'!L94+'Classified FTEs'!M94+'Classified FTEs'!N94+'Classified FTEs'!O94 | F52: 1.111 | G52: ='Classified FTEs'!E94+'Classified FTEs'!F94+'Classified FTEs'!J94 | H52: 1 | I52: 0 | J52: 0 | K52: 0 | L52: 0 | M52: 0.05 | N52: ='Classified FTEs'!T94+'Classified FTEs'!U94+'Classified FTEs'!W94+'Classified FTEs'!X94+'Classified FTEs'!AB94+'Classified FTEs'!AD94+'Classified FTEs'!AE94 | O52: =SUM('instruction-charters'!C52:N52)+SUM('support-charters'!C52:N52)
A53: A9 | B53: SUCCESS Academy | C53: 0 | D53: ='Classified FTEs'!H95+'Classified FTEs'!K95 | E53: ='Classified FTEs'!I95+'Classified FTEs'!L95+'Classified FTEs'!M95+'Classified FTEs'!N95+'Classified FTEs'!O95 | F53: 1 | G53: ='Classified FTEs'!E95+'Classified FTEs'!F95+'Classified FTEs'!J95 | H53: 0 | I53: 0 | J53: 0 | K53: 0 | L53: 0 | M53: 0 | N53: ='Classified FTEs'!T95+'Classified FTEs'!U95+'Classified FTEs'!W95+'Classified FTEs'!X95+'Classified FTEs'!AB95+'Classified FTEs'!AD95+'Classified FTEs'!AE95 | O53: =SUM('instruction-charters'!C53:N53)+SUM('support-charters'!C53:N53)
A54: 88 | B54: Success School | C54: 0 | D54: ='Classified FTEs'!H96+'Classified FTEs'!K96 | E54: ='Classified FTEs'!I96+'Classified FTEs'!L96+'Classified FTEs'!M96+'Classified FTEs'!N96+'Classified FTEs'!O96 | F54: 0 | G54: ='Classified FTEs'!E96+'Classified FTEs'!F96+'Classified FTEs'!J96 | H54: 0 | I54: 0 | J54: 0 | K54: 0 | L54: 0 | M54: 0 | N54: ='Classified FTEs'!T96+'Classified FTEs'!U96+'Classified FTEs'!W96+'Classified FTEs'!X96+'Classified FTEs'!AB96+'Classified FTEs'!AD96+'Classified FTEs'!AE96 | O54: =SUM('instruction-charters'!C54:N54)+SUM('support-charters'!C54:N54)
A55: A4 | B55: Summit Academy | C55: 0 | D55: ='Classified FTEs'!H97+'Classified FTEs'!K97 | E55: ='Classified FTEs'!I97+'Classified FTEs'!L97+'Classified FTEs'!M97+'Classified FTEs'!N97+'Classified FTEs'!O97 | F55: 2 | G55: ='Classified FTEs'!E97+'Classified FTEs'!F97+'Classified FTEs'!J97 | H55: 0 | I55: 0 | J55: 0.67 | K55: 0 | L55: 0 | M55: 0 | N55: ='Classified FTEs'!T97+'Classified FTEs'!U97+'Classified FTEs'!W97+'Classified FTEs'!X97+'Classified FTEs'!AB97+'Classified FTEs'!AD97+'Classified FTEs'!AE97 | O55: =SUM('instruction-charters'!C55:N55)+SUM('support-charters'!C55:N55)
A56: 4D | B56: Syracuse Arts Academy | C56: 0 | D56: ='Classified FTEs'!H98+'Classified FTEs'!K98 | E56: ='Classified FTEs'!I98+'Classified FTEs'!L98+'Classified FTEs'!M98+'Classified FTEs'!N98+'Classified FTEs'!O98 | F56: 1 | G56: ='Classified FTEs'!E98+'Classified FTEs'!F98+'Classified FTEs'!J98 | H56: 0 | I56: 0 | J56: 0 | K56: 0 | L56: 0.68 | M56: 0 | N56: ='Classified FTEs'!T98+'Classified FTEs'!U98+'Classified FTEs'!W98+'Classified FTEs'!X98+'Classified FTEs'!AB98+'Classified FTEs'!AD98+'Classified FTEs'!AE98 | O56: =SUM('instruction-charters'!C56:N56)+SUM('support-charters'!C56:N56)
A57: 94 | B57: [Person_17] | C57: 0 | D57: ='Classified FTEs'!H99+'Classified FTEs'!K99 | E57: ='Classified FTEs'!I99+'Classified FTEs'!L99+'Classified FTEs'!M99+'Classified FTEs'!N99+'Classified FTEs'!O99 | F57: 1 | G57: ='Classified FTEs'!E99+'Classified FTEs'!F99+'Classified FTEs'!J99 | H57: 0 | I57: 0 | J57: 0 | K57: 0 | L57: 0 | M57: 0 | N57: ='Classified FTEs'!T99+'Classified FTEs'!U99+'Classified FTEs'!W99+'Classified FTEs'!X99+'Classified FTEs'!AB99+'Classified FTEs'!AD99+'Classified FTEs'!AE99 | O57: =SUM('instruction-charters'!C57:N57)+SUM('support-charters'!C57:N57)
A58: 6B | B58: [Person_18] | C58: 0 | D58: ='Classified FTEs'!H100+'Classified FTEs'!K100 | E58: ='Classified FTEs'!I100+'Classified FTEs'!L100+'Classified FTEs'!M100+'Classified FTEs'!N100+'Classified FTEs'!O100 | F58: 1 | G58: ='Classified FTEs'!E100+'Classified FTEs'!F100+'Classified FTEs'!J100 | H58: 1 | I58: 0 | J58: 0 | K58: 0 | L58: 0 | M58: 0 | N58: ='Classified FTEs'!T100+'Classified FTEs'!U100+'Classified FTEs'!W100+'Classified FTEs'!X100+'Classified FTEs'!AB100+'Classified FTEs'!AD100+'Classified FTEs'!AE100 | O58: =SUM('instruction-charters'!C58:N58)+SUM('support-charters'!C58:N58)
A59: 95 | B59: Timpanogos Academy | C59: 0 | D59: ='Classified FTEs'!H101+'Classified FTEs'!K101 | E59: ='Classified FTEs'!I101+'Classified FTEs'!L101+'Classified FTEs'!M101+'Classified FTEs'!N101+'Classified FTEs'!O101 | F59: 1 | G59: ='Classified FTEs'!E101+'Classified FTEs'!F101+'Classified FTEs'!J101 | H59: 0 | I59: 0 | J59: 0 | K59: 0 | L59: 0 | M59: 0 | N59: ='Classified FTEs'!T101+'Classified FTEs'!U101+'Classified FTEs'!W101+'Classified FTEs'!X101+'Classified FTEs'!AB101+'Classified FTEs'!AD101+'Classified FTEs'!AE101 | O59: =SUM('instruction-charters'!C59:N59)+SUM('support-charters'!C59:N59)
A60: 90 | B60: Tuacahn High | C60: 0 | D60: ='Classified FTEs'!H102+'Classified FTEs'!K102 | E60: ='Classified FTEs'!I102+'Classified FTEs'!L102+'Classified FTEs'!M102+'Classified FTEs'!N102+'Classified FTEs'!O102 | F60: 2.46 | G60: ='Classified FTEs'!E102+'Classified FTEs'!F102+'Classified FTEs'!J102 | H60: 0 | I60: 0 | J60: 0 | K60: 0 | L60: 0 | M60: 0 | N60: ='Classified FTEs'!T102+'Classified FTEs'!U102+'Classified FTEs'!W102+'Classified FTEs'!X102+'Classified FTEs'!AB102+'Classified FTEs'!AD102+'Classified FTEs'!AE102 | O60: =SUM('instruction-charters'!C60:N60)+SUM('support-charters'!C60:N60)
A61: 1B | B61: UCAS | C61: 0 | D61: ='Classified FTEs'!H103+'Classified FTEs'!K103 | E61: ='Classified FTEs'!I103+'Classified FTEs'!L103+'Classified FTEs'!M103+'Classified FTEs'!N103+'Classified FTEs'!O103 | F61: 1.28 | G61: ='Classified FTEs'!E103+'Classified FTEs'!F103+'Classified FTEs'!J103 | H61: 0 | I61: 0 | J61: 0 | K61: 0 | L61: 0.5 | M61: 0 | N61: ='Classified FTEs'!T103+'Classified FTEs'!U103+'Classified FTEs'!W103+'Classified FTEs'!X103+'Classified FTEs'!AB103+'Classified FTEs'!AD103+'Classified FTEs'!AE103 | O61: =SUM('instruction-charters'!C61:N61)+SUM('support-charters'!C61:N61)
A62: 92 | B62: Uintah River High | C62: 0 | D62: ='Classified FTEs'!H104+'Classified FTEs'!K104 | E62: ='Classified FTEs'!I104+'Classified FTEs'!L104+'Classified FTEs'!M104+'Classified FTEs'!N104+'Classified FTEs'!O104 | F62: 1 | G62: ='Classified FTEs'!E104+'Classified FTEs'!F104+'Classified FTEs'!J104 | H62: 0 | I62: 0 | J62: 0 | K62: 0 | L62: 0 | M62: 0 | N62: ='Classified FTEs'!T104+'Classified FTEs'!U104+'Classified FTEs'!W104+'Classified FTEs'!X104+'Classified FTEs'!AB104+'Classified FTEs'!AD104+'Classified FTEs'!AE104 | O62: =SUM('instruction-charters'!C62:N62)+SUM('support-charters'!C62:N62)
A63: 81 | B63: Walden School of Liberal Arts | C63: 0 | D63: ='Classified FTEs'!H105+'Classified FTEs'!K105 | E63: ='Classified FTEs'!I105+'Classified FTEs'!L105+'Classified FTEs'!M105+'Classified FTEs'!N105+'Classified FTEs'!O105 | F63: 0 | G63: ='Classified FTEs'!E105+'Classified FTEs'!F105+'Classified FTEs'!J105 | H63: 0 | I63: 0 | J63: 0 | K63: 0 | L63: 0 | M63: 0 | N63: ='Classified FTEs'!T105+'Classified FTEs'!U105+'Classified FTEs'!W105+'Classified FTEs'!X105+'Classified FTEs'!AB105+'Classified FTEs'!AD105+'Classified FTEs'!AE105 | O63: =SUM('instruction-charters'!C63:N63)+SUM('support-charters'!C63:N63)
A64: 4B | B64: Wasatch Peak Academy | C64: 0 | D64: ='Classified FTEs'!H106+'Classified FTEs'!K106 | E64: ='Classified FTEs'!I106+'Classified FTEs'!L106+'Classified FTEs'!M106+'Classified FTEs'!N106+'Classified FTEs'!O106 | F64: 1 | G64: ='Classified FTEs'!E106+'Classified FTEs'!F106+'Classified FTEs'!J106 | H64: 0 | I64: 0 | J64: 0 | K64: 0 | L64: 0.65 | M64: 0 | N64: ='Classified FTEs'!T106+'Classified FTEs'!U106+'Classified FTEs'!W106+'Classified FTEs'!X106+'Classified FTEs'!AB106+'Classified FTEs'!AD106+'Classified FTEs'!AE106 | O64: =SUM('instruction-charters'!C64:N64)+SUM('support-charters'!C64:N64)
B65: CHARTER SCHOOL TOTAL | C65: =SUM(C7:C64) | D65: =SUM(D7:D64) | E65: =SUM(E7:E64) | F65: =SUM(F7:F64) | G65: =SUM(G7:G64) | H65: =SUM(H7:H64) | I65: =SUM(I7:I64) | J65: =SUM(J7:J64) | ... O65: =SUM(O7:O64)

Sheet Licensed FTEs
B1: Licensed Educator FTEs
B2: FY2008
C4: INSTRUCTION | X4: SUPPORT | AM4: STUDENT SUPPORT SERVICES STAFF | AV4: TOTAL FTEs
C5: Regular Pre-K | F5: Special Pre-K | I5: Kindergarten | L5: Elementary | O5: Secondary | R5: Special Education | U5: Coordinators & Supervisors | X5: Elem. Guidance Counselors | AA5: Sec. Guidance Counselors | AD5: Librarians & Media Specialists | AG5: LEA Administrators | AJ5: School Administrators | AM5: Audio/Speech Lang. Pathologists | AP5: Psychologists | AS5: Social Workers
B6: District | C6: Total | D6: Female | E6: Male | F6: Total | G6: Female | H6: Male | I6: Total | J6: Female | K6: Male | L6: Total | M6: Female | N6: Male | O6: Total | P6: Female | Q6: Male | R6: Total | S6: Female | T6: Male | U6: Total | V6: Female | W6: Male | X6: Total | Y6: Female | Z6: Male | AA6: Total | AB6: Female | AC6: Male | AD6: Total | AE6: Female | AF6: Male | AG6: Total | AH6: Female | AI6: Male | AJ6: Total | AK6: Female | AL6: Male | AM6: Total | AN6: Female | AO6: Male | AP6: Total | AQ6: Female | AR6: Male | AS6: Total | AT6: Female | AU6: Male
A7: 1 | B7: Alpine | C7: =D7+E7 | D7: 8 | E7: 0 | F7: =G7+H7 | G7: 13.136 | H7: 1 | I7: =J7+K7 | J7: 117.327 | K7: 1 | L7: =M7+N7 | M7: 986.86 | N7: 154.952 | O7: =P7+Q7 | P7: 437.321 | Q7: 394.144 | R7: =S7+T7 | S7: 184.19 | T7: 41.4 | U7: =V7+W7 | V7: 68.142 | W7: 21 | X7: =Y7+Z7 | Y7: 0 | Z7: 0 | AA7: =AB7+AC7 | AB7: 35 | AC7: 28.906 | AD7: =AE7+AF7 | AE7: 14 | AF7: 4.54 | AG7: =AH7+AI7 | AH7: 6 | AI7: 14 | AJ7: =AK7+AL7 | AK7: 32 | AL7: 73 | AM7: =AN7+AO7 | AN7: 40.821 | AO7: 5 | AP7: =AQ7+AR7 | AQ7: 12.35 | AR7: 10 | AS7: =AT7+AU7 | AT7: 0 | AU7: 0 | AV7: =C7+F7+I7+L7+O7+R7+U7+X7+AA7+AD7+AG7+AJ7+AM7+AP7+AS7
A8: 2 | B8: Beaver | C8: =D8+E8 | D8: 0.5 | E8: 0 | F8: =G8+H8 | G8: 0 | H8: 0 | I8: =J8+K8 | J8: 2.5 | K8: 0 | L8: =M8+N8 | M8: 26.5 | N8: 9 | O8: =P8+Q8 | P8: 11.57 | Q8: 18 | R8: =S8+T8 | S8: 2.5 | T8: 2.78 | U8: =V8+W8 | V8: 0 | W8: 1.63 | X8: =Y8+Z8 | Y8: 0 | Z8: 0 | AA8: =AB8+AC8 | AB8: 0 | AC8: 1.84 | AD8: =AE8+AF8 | AE8: 0.26 | AF8: 0 | AG8: =AH8+AI8 | AH8: 0 | AI8: 1.5 | AJ8: =AK8+AL8 | AK8: 0 | AL8: 3.75 | AM8: =AN8+AO8 | AN8: 0.75 | AO8: 0 | AP8: =AQ8+AR8 | AQ8: 0 | AR8: 0 | AS8: =AT8+AU8 | AT8: 0 | AU8: 0 | AV8: =C8+F8+I8+L8+O8+R8+U8+X8+AA8+AD8+AG8+AJ8+AM8+AP8+AS8
A9: 3 | B9: [Person_1] | C9: =D9+E9 | D9: 1 | E9: 0 | F9: =G9+H9 | G9: 7.5 | H9: 0 | I9: =J9+K9 | J9: 24.7 | K9: 0.33 | L9: =M9+N9 | M9: 194.518 | N9: 24.03 | O9: =P9+Q9 | P9: 96.842 | Q9: 94.796 | R9: =S9+T9 | S9: 47.278 | T9: 6 | U9: =V9+W9 | V9: 4.5 | W9: 0.5 | X9: =Y9+Z9 | Y9: 0.5 | Z9: 0 | AA9: =AB9+AC9 | AB9: 10 | AC9: 5 | AD9: =AE9+AF9 | AE9: 3.8 | AF9: 1 | AG9: =AH9+AI9 | AH9: 1 | AI9: 2.5 | AJ9: =AK9+AL9 | AK9: 9 | AL9: 16.3 | AM9: =AN9+AO9 | AN9: 10.8 | AO9: 2.2 | AP9: =AQ9+AR9 | AQ9: 1.533 | AR9: 1 | AS9: =AT9+AU9 | AT9: 0 | AU9: 0 | AV9: =C9+F9+I9+L9+O9+R9+U9+X9+AA9+AD9+AG9+AJ9+AM9+AP9+AS9
A10: 4 | B10: Cache | C10: =D10+E10 | D10: 0 | E10: 0 | F10: =G10+H10 | G10: 10.87 | H10: 1 | I10: =J10+K10 | J10: 28.5 | K10: 0 | L10: =M10+N10 | M10: 227.889 | N10: 37.896 | O10: =P10+Q10 | P10: 141.881 | Q10: 115.078 | R10: =S10+T10 | S10: 51.256 | T10: 5.35 | U10: =V10+W10 | V10: 12.778 | W10: 3.825 | X10: =Y10+Z10 | Y10: 0 | Z10: 0 | AA10: =AB10+AC10 | AB10: 7.942 | AC10: 10.833 | AD10: =AE10+AF10 | AE10: 17 | AF10: 3.269 | AG10: =AH10+AI10 | AH10: 0 | AI10: 3 | AJ10: =AK10+AL10 | AK10: 8 | AL10: 20 | AM10: =AN10+AO10 | AN10: 15.253 | AO10: 1 | AP10: =AQ10+AR10 | AQ10: 1 | AR10: 3.3 | AS10: =AT10+AU10 | AT10: 0 | AU10: 0 | AV10: =C10+F10+I10+L10+O10+R10+U10+X10+AA10+AD10+AG10+AJ10+AM10+AP10+AS10
A11: 5 | B11: Carbon | C11: =D11+E11 | D11: 1 | E11: 0 | F11: =G11+H11 | G11: 2 | H11: 0 | I11: =J11+K11 | J11: 13 | K11: 0 | L11: =M11+N11 | M11: 70.285 | N11: 5.17 | O11: =P11+Q11 | P11: 36.81 | Q11: 37.934 | R11: =S11+T11 | S11: 19.71 | T11: 1.622 | U11: =V11+W11 | V11: 11.5 | W11: 0 | X11: =Y11+Z11 | Y11: 1 | Z11: 0 | AA11: =AB11+AC11 | AB11: 3.6 | AC11: 2.17 | AD11: =AE11+AF11 | AE11: 0.83 | AF11: 1 | AG11: =AH11+AI11 | AH11: 5 | AI11: 1 | AJ11: =AK11+AL11 | AK11: 5 | AL11: 6 | AM11: =AN11+AO11 | AN11: 3.5 | AO11: 0 | AP11: =AQ11+AR11 | AQ11: 0 | AR11: 0 | AS11: =AT11+AU11 | AT11: 2 | AU11: 0 | AV11: =C11+F11+I11+L11+O11+R11+U11+X11+AA11+AD11+AG11+AJ11+AM11+AP11+AS11
A12: 6 | B12: Daggett | C12: =D12+E12 | D12: 0 | E12: 0 | F12: =G12+H12 | G12: 0 | H12: 0 | I12: =J12+K12 | J12: 1 | K12: 0 | L12: =M12+N12 | M12: 4 | N12: 1.07 | O12: =P12+Q12 | P12: 4.17 | Q12: 1.84 | R12: =S12+T12 | S12: 0.75 | T12: 0 | U12: =V12+W12 | V12: 1 | W12: 0.528 | X12: =Y12+Z12 | Y12: 0 | Z12: 0 | AA12: =AB12+AC12 | AB12: 0 | AC12: 0 | AD12: =AE12+AF12 | AE12: 0.25 | AF12: 0 | AG12: =AH12+AI12 | AH12: 0 | AI12: 0.75 | AJ12: =AK12+AL12 | AK12: 0 | AL12: 0.35 | AM12: =AN12+AO12 | AN12: 0 | AO12: 0 | AP12: =AQ12+AR12 | AQ12: 0 | AR12: 0 | AS12: =AT12+AU12 | AT12: 0 | AU12: 0 | AV12: =C12+F12+I12+L12+O12+R12+U12+X12+AA12+AD12+AG12+AJ12+AM12+AP12+AS12
A13: 7 | B13: [Person_2] | C13: =D13+E13 | D13: 0.84 | E13: 0 | F13: =G13+H13 | G13: 20.022 | H13: 1 | I13: =J13+K13 | J13: 128.883 | K13: 1 | L13: =M13+N13 | M13: 1173.025 | N13: 79.61 | O13: =P13+Q13 | P13: 686.821 | Q13: 521.26 | R13: =S13+T13 | S13: 236.452 | T13: 48.671 | U13: =V13+W13 | V13: 70.017 | W13: 22.22 | X13: =Y13+Z13 | Y13: 32 | Z13: 2 | AA13: =AB13+AC13 | AB13: 50.94 | AC13: 22.5 | AD13: =AE13+AF13 | AE13: 12.5 | AF13: 7 | AG13: =AH13+AI13 | AH13: 18.916 | AI13: 11 | AJ13: =AK13+AL13 | AK13: 48 | AL13: 77 | AM13: =AN13+AO13 | AN13: 55.607 | AO13: 8 | AP13: =AQ13+AR13 | AQ13: 21.58 | AR13: 12.5 | AS13: =AT13+AU13 | AT13: 4.75 | AU13: 0 | AV13: =C13+F13+I13+L13+O13+R13+U13+X13+AA13+AD13+AG13+AJ13+AM13+AP13+AS13
A14: 8 | B14: Duchesne | C14: =D14+E14 | D14: 0 | E14: 0 | F14: =G14+H14 | G14: 1 | H14: 0 | I14: =J14+K14 | J14: 12.059 | K14: 0 | L14: =M14+N14 | M14: 81.64 | N14: 13 | O14: =P14+Q14 | P14: 37.318 | Q14: 50.914 | R14: =S14+T14 | S14: 21.744 | T14: 2.8 | U14: =V14+W14 | V14: 0 | W14: 0.5 | X14: =Y14+Z14 | Y14: 0 | Z14: 0 | AA14: =AB14+AC14 | AB14: 3 | AC14: 1.85 | AD14: =AE14+AF14 | AE14: 4 | AF14: 2 | AG14: =AH14+AI14 | AH14: 0 | AI14: 3.5 | AJ14: =AK14+AL14 | AK14: 1 | AL14: 12.15 | AM14: =AN14+AO14 | AN14: 1 | AO14: 0 | AP14: =AQ14+AR14 | AQ14: 0 | AR14: 1 | AS14: =AT14+AU14 | AT14: 0 | AU14: 1 | AV14: =C14+F14+I14+L14+O14+R14+U14+X14+AA14+AD14+AG14+AJ14+AM14+AP14+AS14
A15: 9 | B15: Emery | C15: =D15+E15 | D15: 0 | E15: 0 | F15: =G15+H15 | G15: 1 | H15: 0 | I15: =J15+K15 | J15: 5 | K15: 0 | L15: =M15+N15 | M15: 40.7 | N15: 11.15 | O15: =P15+Q15 | P15: 20.002 | Q15: 37.112 | R15: =S15+T15 | S15: 8 | T15: 3.32 | U15: =V15+W15 | V15: 3 | W15: 0.5 | X15: =Y15+Z15 | Y15: 0 | Z15: 0 | AA15: =AB15+AC15 | AB15: 0 | AC15: 0 | AD15: =AE15+AF15 | AE15: 1 | AF15: 0 | AG15: =AH15+AI15 | AH15: 0 | AI15: 4 | AJ15: =AK15+AL15 | AK15: 1 | AL15: 8.49 | AM15: =AN15+AO15 | AN15: 1 | AO15: 0 | AP15: =AQ15+AR15 | AQ15: 0 | AR15: 0 | AS15: =AT15+AU15 | AT15: 0 | AU15: 0 | AV15: =C15+F15+I15+L15+O15+R15+U15+X15+AA15+AD15+AG15+AJ15+AM15+AP15+AS15
A16: 10 | B16: [Person_3] | C16: =D16+E16 | D16: 0 | E16: 0 | F16: =G16+H16 | G16: 0 | H16: 0 | I16: =J16+K16 | J16: 2.694 | K16: 0 | L16: =M16+N16 | M16: 21.57 | N16: 3 | O16: =P16+Q16 | P16: 15.475 | Q16: 15.304 | R16: =S16+T16 | S16: 5.5 | T16: 0.85 | U16: =V16+W16 | V16: 2.21 | W16: 2.3 | X16: =Y16+Z16 | Y16: 0.6 | Z16: 0.15 | AA16: =AB16+AC16 | AB16: 0.675 | AC16: 0.8 | AD16: =AE16+AF16 | AE16: 0 | AF16: 0 | AG16: =AH16+AI16 | AH16: 0.39 | AI16: 1.241 | AJ16: =AK16+AL16 | AK16: 1.556 | AL16: 3.98 | AM16: =AN16+AO16 | AN16: 1 | AO16: 0 | AP16: =AQ16+AR16 | AQ16: 0 | AR16: 0 | AS16: =AT16+AU16 | AT16: 0 | AU16: 0 | AV16: =C16+F16+I16+L16+O16+R16+U16+X16+AA16+AD16+AG16+AJ16+AM16+AP16+AS16
A17: 11 | B17: Grand | C17: =D17+E17 | D17: 0 | E17: 0 | F17: =G17+H17 | G17: 1 | H17: 0 | I17: =J17+K17 | J17: 5 | K17: 0 | L17: =M17+N17 | M17: 30 | N17: 3 | O17: =P17+Q17 | P17: 16.454 | Q17: 21.67 | R17: =S17+T17 | S17: 7 | T17: 2.706 | U17: =V17+W17 | V17: 0.84 | W17: 0.33 | X17: =Y17+Z17 | Y17: 0 | Z17: 0 | AA17: =AB17+AC17 | AB17: 1 | AC17: 1 | AD17: =AE17+AF17 | AE17: 2 | AF17: 0 | AG17: =AH17+AI17 | AH17: 1 | AI17: 0 | AJ17: =AK17+AL17 | AK17: 3 | AL17: 3 | AM17: =AN17+AO17 | AN17: 2 | AO17: 0 | AP17: =AQ17+AR17 | AQ17: 0 | AR17: 0 | AS17: =AT17+AU17 | AT17: 0 | AU17: 0 | AV17: =C17+F17+I17+L17+O17+R17+U17+X17+AA17+AD17+AG17+AJ17+AM17+AP17+AS17
A18: 12 | B18: Granite | C18: =D18+E18 | D18: 13.256 | E18: 2 | F18: =G18+H18 | G18: 27.75 | H18: 0 | I18: =J18+K18 | J18: 142.216 | K18: 0.5 | L18: =M18+N18 | M18: 1223.251 | N18: 129.516 | O18: =P18+Q18 | P18: 804.128 | Q18: 550.637 | R18: =S18+T18 | S18: 249.094 | T18: 49.245 | U18: =V18+W18 | V18: 73.051 | W18: 20.5 | X18: =Y18+Z18 | Y18: 3 | Z18: 0 | AA18: =AB18+AC18 | AB18: 68.88 | AC18: 26.467 | AD18: =AE18+AF18 | AE18: 15 | AF18: 9 | AG18: =AH18+AI18 | AH18: 20 | AI18: 19 | AJ18: =AK18+AL18 | AK18: 82 | AL18: 57 | AM18: =AN18+AO18 | AN18: 69.83 | AO18: 2 | AP18: =AQ18+AR18 | AQ18: 17 | AR18: 11.5 | AS18: =AT18+AU18 | AT18: 34.814 | AU18: 10 | AV18: =C18+F18+I18+L18+O18+R18+U18+X18+AA18+AD18+AG18+AJ18+AM18+AP18+AS18
A19: 13 | B19: Iron | C19: =D19+E19 | D19: 2 | E19: 0 | F19: =G19+H19 | G19: 6.5 | H19: 0 | I19: =J19+K19 | J19: 21 | K19: 0 | L19: =M19+N19 | M19: 148.631 | N19: 28 | O19: =P19+Q19 | P19: 96.31 | Q19: 70.763 | R19: =S19+T19 | S19: 35.443 | T19: 6.65 | U19: =V19+W19 | V19: 2.6 | W19: 3.5 | X19: =Y19+Z19 | Y19: 4 | Z19: 0 | AA19: =AB19+AC19 | AB19: 5.861 | AC19: 5.5 | AD19: =AE19+AF19 | AE19: 1 | AF19: 2 | AG19: =AH19+AI19 | AH19: 1 | AI19: 3 | AJ19: =AK19+AL19 | AK19: 5.4 | AL19: 14 | AM19: =AN19+AO19 | AN19: =6.52+0.833 | AO19: 0 | AP19: =AQ19+AR19 | AQ19: 0 | AR19: 1 | AS19: =AT19+AU19 | AT19: 0 | AU19: 0 | AV19: =C19+F19+I19+L19+O19+R19+U19+X19+AA19+AD19+AG19+AJ19+AM19+AP19+AS19
A20: 14 | B20: Jordan | C20: =D20+E20 | D20: 5.5 | E20: 0 | F20: =G20+H20 | G20: 30.2 | H20: 0 | I20: =J20+K20 | J20: 132.32 | K20: 2.5 | L20: =M20+N20 | M20: 1374.9 | N20: 129.011 | O20: =P20+Q20 | P20: 804.835 | Q20: 524.631 | R20: =S20+T20 | S20: 264.609 | T20: 45.751 | U20: =V20+W20 | V20: 167.36 | W20: 32.78 | X20: =Y20+Z20 | Y20: 0 | Z20: 2 | AA20: =AB20+AC20 | AB20: 58.492 | AC20: 17.86 | AD20: =AE20+AF20 | AE20: 19.667 | AF20: 7 | AG20: =AH20+AI20 | AH20: 9.178 | AI20: 15 | AJ20: =AK20+AL20 | AK20: 84.59 | AL20: 81 | AM20: =AN20+AO20 | AN20: 84.125 | AO20: 2 | AP20: =AQ20+AR20 | AQ20: 44.67 | AR20: 18.5 | AS20: =AT20+AU20 | AT20: 0 | AU20: 2 | AV20: =C20+F20+I20+L20+O20+R20+U20+X20+AA20+AD20+AG20+AJ20+AM20+AP20+AS20
A21: 15 | B21: [Person_4] | C21: =D21+E21 | D21: 0 | E21: 0 | F21: =G21+H21 | G21: 1 | H21: 0 | I21: =J21+K21 | J21: 5 | K21: 0 | L21: =M21+N21 | M21: 36.543 | N21: 7 | O21: =P21+Q21 | P21: 17.39 | Q21: 17.732 | R21: =S21+T21 | S21: 11.266 | T21: 0 | U21: =V21+W21 | V21: 0 | W21: 0 | X21: =Y21+Z21 | Y21: 1 | Z21: 0 | AA21: =AB21+AC21 | AB21: 1 | AC21: 1 | AD21: =AE21+AF21 | AE21: 0 | AF21: 0 | AG21: =AH21+AI21 | AH21: 0 | AI21: 1.17 | AJ21: =AK21+AL21 | AK21: 2 | AL21: 4 | AM21: =AN21+AO21 | AN21: 0 | AO21: 0 | AP21: =AQ21+AR21 | AQ21: 0 | AR21: 0 | AS21: =AT21+AU21 | AT21: 0 | AU21: 0 | AV21: =C21+F21+I21+L21+O21+R21+U21+X21+AA21+AD21+AG21+AJ21+AM21+AP21+AS21
A22: 16 | B22: [Person_5] | C22: =D22+E22 | D22: 1.5 | E22: 0 | F22: =G22+H22 | G22: 0 | H22: 0 | I22: =J22+K22 | J22: 3.53 | K22: 0 | L22: =M22+N22 | M22: 22.91 | N22: 4.33 | O22: =P22+Q22 | P22: 16.491 | Q22: 16.586 | R22: =S22+T22 | S22: 4.638 | T22: 1.25 | U22: =V22+W22 | V22: 0 | W22: 0 | X22: =Y22+Z22 | Y22: 0 | Z22: 0 | AA22: =AB22+AC22 | AB22: 0 | AC22: 1.57 | AD22: =AE22+AF22 | AE22: 0 | AF22: 0 | AG22: =AH22+AI22 | AH22: 0 | AI22: 1 | AJ22: =AK22+AL22 | AK22: 1 | AL22: 1.8 | AM22: =AN22+AO22 | AN22: 1 | AO22: 0 | AP22: =AQ22+AR22 | AQ22: 0 | AR22: 0 | AS22: =AT22+AU22 | AT22: 0 | AU22: 0 | AV22: =C22+F22+I22+L22+O22+R22+U22+X22+AA22+AD22+AG22+AJ22+AM22+AP22+AS22
A23: 39 | B23: Logan | C23: =D23+E23 | D23: 0 | E23: 0 | F23: =G23+H23 | G23: 2 | H23: 0 | I23: =J23+K23 | J23: 15 | K23: 0 | L23: =M23+N23 | M23: 112.34 | N23: 13.92 | O23: =P23+Q23 | P23: 63.397 | Q23: 67.698 | R23: =S23+T23 | S23: 22.184 | T23: 3 | U23: =V23+W23 | V23: 3.55 | W23: 1 | X23: =Y23+Z23 | Y23: 0 | Z23: 0 | AA23: =AB23+AC23 | AB23: 4 | AC23: 2.8 | AD23: =AE23+AF23 | AE23: 2.9 | AF23: 0 | AG23: =AH23+AI23 | AH23: 2 | AI23: 4 | AJ23: =AK23+AL23 | AK23: 2.9 | AL23: 8.95 | AM23: =AN23+AO23 | AN23: 8.6 | AO23: 0 | AP23: =AQ23+AR23 | AQ23: 1 | AR23: 1 | AS23: =AT23+AU23 | AT23: 0 | AU23: 0 | AV23: =C23+F23+I23+L23+O23+R23+U23+X23+AA23+AD23+AG23+AJ23+AM23+AP23+AS23
A24: 17 | B24: Millard | C24: =D24+E24 | D24: 0 | E24: 0 | F24: =G24+H24 | G24: 3.5 | H24: 0 | I24: =J24+K24 | J24: 8.33 | K24: 0 | L24: =M24+N24 | M24: 50.67 | N24: 6.17 | O24: =P24+Q24 | P24: 25.024 | Q24: 52.32 | R24: =S24+T24 | S24: 13.64 | T24: 0 | U24: =V24+W24 | V24: 0 | W24: 3.27 | X24: =Y24+Z24 | Y24: 0.545 | Z24: 0 | AA24: =AB24+AC24 | AB24: 0.8 | AC24: 1.34 | AD24: =AE24+AF24 | AE24: 1.5 | AF24: 0 | AG24: =AH24+AI24 | AH24: 0 | AI24: 2 | AJ24: =AK24+AL24 | AK24: 1.84 | AL24: 6.9 | AM24: =AN24+AO24 | AN24: 2 | AO24: 0 | AP24: =AQ24+AR24 | AQ24: 1 | AR24: 1 | AS24: =AT24+AU24 | AT24: 0 | AU24: 0 | AV24: =C24+F24+I24+L24+O24+R24+U24+X24+AA24+AD24+AG24+AJ24+AM24+AP24+AS24
A25: 18 | B25: Morgan | C25: =D25+E25 | D25: 0 | E25: 0 | F25: =G25+H25 | G25: 1 | H25: 0 | I25: =J25+K25 | J25: 4 | K25: 0 | L25: =M25+N25 | M25: 36.01 | N25: 6.42 | O25: =P25+Q25 | P25: 25.652 | Q25: 20.767 | R25: =S25+T25 | S25: 5 | T25: 2.8 | U25: =V25+W25 | V25: 0.4 | W25: 0.31 | X25: =Y25+Z25 | Y25: 0 | Z25: 0 | AA25: =AB25+AC25 | AB25: 0.5 | AC25: 0.97 | AD25: =AE25+AF25 | AE25: 0.5 | AF25: 0.54 | AG25: =AH25+AI25 | AH25: 0 | AI25: 1 | AJ25: =AK25+AL25 | AK25: 0.6 | AL25: 3.86 | AM25: =AN25+AO25 | AN25: 0 | AO25: 0 | AP25: =AQ25+AR25 | AQ25: 0 | AR25: 0 | AS25: =AT25+AU25 | AT25: 0 | AU25: 0 | AV25: =C25+F25+I25+L25+O25+R25+U25+X25+AA25+AD25+AG25+AJ25+AM25+AP25+AS25
A26: 40 | B26: [Person_8] | C26: =D26+E26 | D26: 0 | E26: 0 | F26: =G26+H26 | G26: 1.5 | H26: 0 | I26: =J26+K26 | J26: 12.441 | K26: 0 | L26: =M26+N26 | M26: 121 | N26: 7 | O26: =P26+Q26 | P26: 77.513 | Q26: 46.167 | R26: =S26+T26 | S26: 18.529 | T26: 8 | U26: =V26+W26 | V26: 7.77 | W26: 2.156 | X26: =Y26+Z26 | Y26: 1.8 | Z26: 0 | AA26: =AB26+AC26 | AB26: 5 | AC26: 4 | AD26: =AE26+AF26 | AE26: 3 | AF26: 0 | AG26: =AH26+AI26 | AH26: 0 | AI26: 3.5 | AJ26: =AK26+AL26 | AK26: 7 | AL26: 7 | AM26: =AN26+AO26 | AN26: 5.7 | AO26: 0 | AP26: =AQ26+AR26 | AQ26: 0 | AR26: 1 | AS26: =AT26+AU26 | AT26: 4.6 | AU26: 1 | AV26: =C26+F26+I26+L26+O26+R26+U26+X26+AA26+AD26+AG26+AJ26+AM26+AP26+AS26
A27: 19 | B27: Nebo | C27: =D27+E27 | D27: 4 | E27: 0 | F27: =G27+H27 | G27: 13.822 | H27: 0 | I27: =J27+K27 | J27: 59.95 | K27: 2 | L27: =M27+N27 | M27: 452.895 | N27: 65.5 | O27: =P27+Q27 | P27: 213.275 | Q27: 194.385 | R27: =S27+T27 | S27: 96.78 | T27: 16.284 | U27: =V27+W27 | V27: 64.998 | W27: 14.75 | X27: =Y27+Z27 | Y27: 6.5 | Z27: 3.5 | AA27: =AB27+AC27 | AB27: 11 | AC27: 16 | AD27: =AE27+AF27 | AE27: 6.08 | AF27: 4 | AG27: =AH27+AI27 | AH27: 2 | AI27: 9 | AJ27: =AK27+AL27 | AK27: 13 | AL27: 39.5 | AM27: =AN27+AO27 | AN27: 34.778 | AO27: 6.8 | AP27: =AQ27+AR27 | AQ27: 5.1 | AR27: 7.5 | AS27: =AT27+AU27 | AT27: 0 | AU27: 0 | AV27: =C27+F27+I27+L27+O27+R27+U27+X27+AA27+AD27+AG27+AJ27+AM27+AP27+AS27
A28: 20 | B28: [Person_6] | C28: =D28+E28 | D28: 0 | E28: 0 | F28: =G28+H28 | G28: 1 | H28: 0 | I28: =J28+K28 | J28: 6.5 | K28: 0 | L28: =M28+N28 | M28: 46 | N28: 9 | O28: =P28+Q28 | P28: 22.497 | Q28: 30.336 | R28: =S28+T28 | S28: 8.337 | T28: 3.33 | U28: =V28+W28 | V28: 0 | W28: 1 | X28: =Y28+Z28 | Y28: 0 | Z28: 0 | AA28: =AB28+AC28 | AB28: 0 | AC28: 0 | AD28: =AE28+AF28 | AE28: 1 | AF28: 0 | AG28: =AH28+AI28 | AH28: 1 | AI28: 2 | AJ28: =AK28+AL28 | AK28: 1 | AL28: 6 | AM28: =AN28+AO28 | AN28: 1 | AO28: 0 | AP28: =AQ28+AR28 | AQ28: 0 | AR28: 0 | AS28: =AT28+AU28 | AT28: 0 | AU28: 0 | AV28: =C28+F28+I28+L28+O28+R28+U28+X28+AA28+AD28+AG28+AJ28+AM28+AP28+AS28
A29: 21 | B29: North Summit | C29: =D29+E29 | D29: 0.5 | E29: 0 | F29: =G29+H29 | G29: 0 | H29: 0 | I29: =J29+K29 | J29: 2 | K29: 0 | L29: =M29+N29 | M29: 19.35 | N29: 3.66 | O29: =P29+Q29 | P29: 13.14 | Q29: 12.84 | R29: =S29+T29 | S29: 5.34 | T29: 1 | U29: =V29+W29 | V29: 0 | W29: 1 | X29: =Y29+Z29 | Y29: 0.5 | Z29: 0 | AA29: =AB29+AC29 | AB29: 0.5 | AC29: 1 | AD29: =AE29+AF29 | AE29: 1.83 | AF29: 0 | AG29: =AH29+AI29 | AH29: 0 | AI29: 1 | AJ29: =AK29+AL29 | AK29: 1 | AL29: 2.5 | AM29: =AN29+AO29 | AN29: 0 | AO29: 0 | AP29: =AQ29+AR29 | AQ29: 0 | AR29: 0 | AS29: =AT29+AU29 | AT29: 0 | AU29: 0 | AV29: =C29+F29+I29+L29+O29+R29+U29+X29+AA29+AD29+AG29+AJ29+AM29+AP29+AS29
A30: 37 | B30: Ogden | C30: =D30+E30 | D30: 0 | E30: 0 | F30: =G30+H30 | G30: 4 | H30: 0 | I30: =J30+K30 | J30: 36.733 | K30: 1 | L30: =M30+N30 | M30: 202.697 | N30: 26.28 | O30: =P30+Q30 | P30: 116.256 | Q30: 104.621 | R30: =S30+T30 | S30: 42.92 | T30: 12.19 | U30: =V30+W30 | V30: 26.85 | W30: 3.5 | X30: =Y30+Z30 | Y30: 8.5 | Z30: 1.02 | AA30: =AB30+AC30 | AB30: 7.6 | AC30: 4.98 | AD30: =AE30+AF30 | AE30: 14.33 | AF30: 2 | AG30: =AH30+AI30 | AH30: 4 | AI30: 6 | AJ30: =AK30+AL30 | AK30: 15 | AL30: 12 | AM30: =AN30+AO30 | AN30: 10 | AO30: 0 | AP30: =AQ30+AR30 | AQ30: 2.4 | AR30: 0.55 | AS30: =AT30+AU30 | AT30: 0 | AU30: 1 | AV30: =C30+F30+I30+L30+O30+R30+U30+X30+AA30+AD30+AG30+AJ30+AM30+AP30+AS30
A31: 22 | B31: Park City | C31: =D31+E31 | D31: 0.5 | E31: 0 | F31: =G31+H31 | G31: 0 | H31: 0 | I31: =J31+K31 | J31: 6.5 | K31: 1 | L31: =M31+N31 | M31: 83.575 | N31: 13.16 | O31: =P31+Q31 | P31: 73.08 | Q31: 37.814 | R31: =S31+T31 | S31: 18.84 | T31: 1 | U31: =V31+W31 | V31: 8.185 | W31: 2.099 | X31: =Y31+Z31 | Y31: 3 | Z31: 1 | AA31: =AB31+AC31 | AB31: 6.75 | AC31: 1 | AD31: =AE31+AF31 | AE31: 6.585 | AF31: 0 | AG31: =AH31+AI31 | AH31: 0 | AI31: 2 | AJ31: =AK31+AL31 | AK31: 4 | AL31: 6.5 | AM31: =AN31+AO31 | AN31: 2.3 | AO31: 0 | AP31: =AQ31+AR31 | AQ31: 0 | AR31: 0 | AS31: =AT31+AU31 | AT31: 2 | AU31: 0 | AV31: =C31+F31+I31+L31+O31+R31+U31+X31+AA31+AD31+AG31+AJ31+AM31+AP31+AS31
... A34: 24 | B34: Rich | C34: =D34+E34 | D34: 0 | E34: 0 | F34: =G34+H34 | G34: 0 | H34: 0 | I34: =J34+K34 | J34: 2 | K34: 0 | L34: =M34+N34 | M34: 10.46 | N34: 2.23 | O34: =P34+Q34 | P34: 9.54 | Q34: 7.05 | R34: =S34+T34 | S34: 1 | T34: 1 | U34: =V34+W34 | V34: 0.32 | W34: 0 | X34: =Y34+Z34 | Y34: 0 | Z34: 0.5 | AA34: =AB34+AC34 | AB34: 0 | AC34: 0.45 | AD34: =AE34+AF34 | AE34: 0 | AF34: 0 | AG34: =AH34+AI34 | AH34: 0 | AI34: 0.8 | AJ34: =AK34+AL34 | AK34: 0 | AL34: 1.97 | AM34: =AN34+AO34 | AN34: 0.68 | AO34: 0 | AP34: =AQ34+AR34 | AQ34: 0 | AR34: 0 | AS34: =AT34+AU34 | AT34: 0 | AU34: 0 | AV34: =C34+F34+I34+L34+O34+R34+U34+X34+AA34+AD34+AG34+AJ34+AM34+AP34+AS34
A35: 36 | B35: [Person_7] | C35: =D35+E35 | D35: 0 | E35: 0 | F35: =G35+H35 | G35: 7.961 | H35: 0 | I35: =J35+K35 | J35: 74.789 | K35: 4 | L35: =M35+N35 | M35: 425.117 | N35: 67 | O35: =P35+Q35 | P35: =236.29+1 | Q35: 158.877 | R35: =S35+T35 | S35: 132.4 | T35: 26 | U35: =V35+W35 | V35: 75.313 | W35: 19.13 | X35: =Y35+Z35 | Y35: 12.8 | Z35: 1.5 | AA35: =AB35+AC35 | AB35: 16.55 | AC35: 10.5 | AD35: =AE35+AF35 | AE35: 33.72 | AF35: 4 | AG35: =AH35+AI35 | AH35: 13 | AI35: 5 | AJ35: =AK35+AL35 | AK35: 25 | AL35: 28 | AM35: =AN35+AO35 | AN35: 21 | AO35: 1 | AP35: =AQ35+AR35 | AQ35: 7 | AR35: 1 | AS35: =AT35+AU35 | AT35: 10 | AU35: 2 | AV35: =C35+F35+I35+L35+O35+R35+U35+X35+AA35+AD35+AG35+AJ35+AM35+AP35+AS35
A36: 25 | B36: San Juan | C36: =D36+E36 | D36: 1 | E36: 0 | F36: =G36+H36 | G36: 3 | H36: 0 | I36: =J36+K36 | J36: 8.75 | K36: 0 | L36: =M36+N36 | M36: 57.26 | N36: 5.17 | O36: =P36+Q36 | P36: 44.012 | Q36: 55.61 | R36: =S36+T36 | S36: 14 | T36: 2 | U36: =V36+W36 | V36: 4 | W36: 4 | X36: =Y36+Z36 | Y36: 0.33 | Z36: 0 | AA36: =AB36+AC36 | AB36: 2 | AC36: 2.66 | AD36: =AE36+AF36 | AE36: 1.83 | AF36: 3.5 | AG36: =AH36+AI36 | AH36: 2 | AI36: 3 | AJ36: =AK36+AL36 | AK36: 3.83 | AL36: 11.64 | AM36: =AN36+AO36 | AN36: 2 | AO36: 0 | AP36: =AQ36+AR36 | AQ36: 1 | AR36: 2 | AS36: =AT36+AU36 | AT36: 1 | AU36: 0 | AV36: =C36+F36+I36+L36+O36+R36+U36+X36+AA36+AD36+AG36+AJ36+AM36+AP36+AS36
A37: 26 | B37: Sevier | C37: =D37+E37 | D37: 0 | E37: 0 | F37: =G37+H37 | G37: 4.676 | H37: 0 | I37: =J37+K37 | J37: 11.983 | K37: 0 | L37: =M37+N37 | M37: 68.18 | N37: 16.151 | O37: =P37+Q37 | P37: 38.841 | Q37: 54.145 | R37: =S37+T37 | S37: 25.674 | T37: 6 | U37: =V37+W37 | V37: 2.27 | W37: 1.5 | X37: =Y37+Z37 | Y37: 0 | Z37: 0 | AA37: =AB37+AC37 | AB37: 1.5 | AC37: 2.377 | AD37: =AE37+AF37 | AE37: 0 | AF37: 0 | AG37: =AH37+AI37 | AH37: 0 | AI37: 2 | AJ37: =AK37+AL37 | AK37: 3 | AL37: 9.647 | AM37: =AN37+AO37 | AN37: 1 | AO37: 1 | AP37: =AQ37+AR37 | AQ37: 0 | AR37: 0 | AS37: =AT37+AU37 | AT37: 0 | AU37: 0 | AV37: =C37+F37+I37+L37+O37+R37+U37+X37+AA37+AD37+AG37+AJ37+AM37+AP37+AS37
A38: 27 | B38: South Sanpete | C38: =D38+E38 | D38: 0 | E38: 0 | F38: =G38+H38 | G38: 1.714 | H38: 0 | I38: =J38+K38 | J38: 6.5 | K38: 0 | L38: =M38+N38 | M38: 53.36 | N38: 9.83 | O38: =P38+Q38 | P38: 26.698 | Q38: 52.493 | R38: =S38+T38 | S38: 10.756 | T38: 2.284 | U38: =V38+W38 | V38: 3 | W38: 2 | X38: =Y38+Z38 | Y38: 0 | Z38: 0 | AA38: =AB38+AC38 | AB38: 4.417 | AC38: 1.642 | AD38: =AE38+AF38 | AE38: 0 | AF38: 0 | AG38: =AH38+AI38 | AH38: 1 | AI38: 3 | AJ38: =AK38+AL38 | AK38: 2.142 | AL38: 10 | AM38: =AN38+AO38 | AN38: 2.35 | AO38: 0 | AP38: =AQ38+AR38 | AQ38: 0 | AR38: 0 | AS38: =AT38+AU38 | AT38: 0 | AU38: 0 | AV38: =C38+F38+I38+L38+O38+R38+U38+X38+AA38+AD38+AG38+AJ38+AM38+AP38+AS38
A39: 28 | B39: South Summit | C39: =D39+E39 | D39: 0 | E39: 0 | F39: =G39+H39 | G39: 0.13 | H39: 0 | I39: =J39+K39 | J39: 3.5 | K39: 0 | L39: =M39+N39 | M39: 28.8 | N39: 5 | O39: =P39+Q39 | P39: 14.55 | Q39: 18.5 | R39: =S39+T39 | S39: 3.87 | T39: 1 | U39: =V39+W39 | V39: 0.32 | W39: 0 | X39: =Y39+Z39 | Y39: 1 | Z39: 0 | AA39: =AB39+AC39 | AB39: 1 | AC39: 0 | AD39: =AE39+AF39 | AE39: 1 | AF39: 0.5 | AG39: =AH39+AI39 | AH39: 0 | AI39: 1 | AJ39: =AK39+AL39 | AK39: 1 | AL39: 3 | AM39: =AN39+AO39 | AN39: 1.6 | AO39: 0 | AP39: =AQ39+AR39 | AQ39: 0 | AR39: 0 | AS39: =AT39+AU39 | AT39: 0 | AU39: 0 | AV39: =C39+F39+I39+L39+O39+R39+U39+X39+AA39+AD39+AG39+AJ39+AM39+AP39+AS39
A40: 29 | B40: Tintic | C40: =D40+E40 | D40: 0 | E40: 0 | F40: =G40+H40 | G40: 0.5 | H40: 0 | I40: =J40+K40 | J40: 0.6 | K40: 0 | L40: =M40+N40 | M40: 8.3 | N40: 0.5 | O40: =P40+Q40 | P40: 2.972 | Q40: 7.9 | R40: =S40+T40 | S40: 1.85 | T40: 0 | U40: =V40+W40 | V40: 0 | W40: 0 | X40: =Y40+Z40 | Y40: 0.2 | Z40: 0 | AA40: =AB40+AC40 | AB40: 0.5 | AC40: 0 | AD40: =AE40+AF40 | AE40: 0.15 | AF40: 0 | AG40: =AH40+AI40 | AH40: 0 | AI40: 1 | AJ40: =AK40+AL40 | AK40: 0 | AL40: 1.2 | AM40: =AN40+AO40 | AN40: 0 | AO40: 0 | AP40: =AQ40+AR40 | AQ40: 0 | AR40: 0 | AS40: =AT40+AU40 | AT40: 0 | AU40: 0 | AV40: =C40+F40+I40+L40+O40+R40+U40+X40+AA40+AD40+AG40+AJ40+AM40+AP40+AS40
A41: 30 | B41: Tooele | C41: =D41+E41 | D41: 1.31 | E41: 0 | F41: =G41+H41 | G41: 8 | H41: 0 | I41: =J41+K41 | J41: 26.565 | K41: 1 | L41: =M41+N41 | M41: 234.385 | N41: 36.12 | O41: =P41+Q41 | P41: 115.744 | Q41: 112.849 | R41: =S41+T41 | S41: 51.138 | T41: 20.36 | U41: =V41+W41 | V41: 19.167 | W41: 1.83 | X41: =Y41+Z41 | Y41: 2 | Z41: 1 | AA41: =AB41+AC41 | AB41: 6 | AC41: 6.794 | AD41: =AE41+AF41 | AE41: 2 | AF41: 0 | AG41: =AH41+AI41 | AH41: 1.8 | AI41: 3 | AJ41: =AK41+AL41 | AK41: 9.868 | AL41: 14.996 | AM41: =AN41+AO41 | AN41: 8.016 | AO41: 2 | AP41: =AQ41+AR41 | AQ41: 1 | AR41: 1 | AS41: =AT41+AU41 | AT41: 0 | AU41: 2 | AV41: =C41+F41+I41+L41+O41+R41+U41+X41+AA41+AD41+AG41+AJ41+AM41+AP41+AS41
A42: 31 | B42: Uintah | C42: =D42+E42 | D42: 0 | E42: 0 | F42: =G42+H42 | G42: 3 | H42: 0 | I42: =J42+K42 | J42: 16.5 | K42: 0 | L42: =M42+N42 | M42: 108.011 | N42: 14.68 | O42: =P42+Q42 | P42: 54.511 | Q42: 44.05 | R42: =S42+T42 | S42: 26.543 | T42: 3.499 | U42: =V42+W42 | V42: 5.168 | W42: 2 | X42: =Y42+Z42 | Y42: 0.57 | Z42: 0.57 | AA42: =AB42+AC42 | AB42: 4.487 | AC42: 3.848 | AD42: =AE42+AF42 | AE42: 0 | AF42: 1 | AG42: =AH42+AI42 | AH42: 1 | AI42: 2 | AJ42: =AK42+AL42 | AK42: 6.5 | AL42: 8 | AM42: =AN42+AO42 | AN42: 0.81 | AO42: 0 | AP42: =AQ42+AR42 | AQ42: 0 | AR42: 1 | AS42: =AT42+AU42 | AT42: 0 | AU42: 0 | AV42: =C42+F42+I42+L42+O42+R42+U42+X42+AA42+AD42+AG42+AJ42+AM42+AP42+AS42
A43: 32 | B43: Wasatch | C43: =D43+E43 | D43: 0 | E43: 0 | F43: =G43+H43 | G43: 3 | H43: 0 | I43: =J43+K43 | J43: 9 | K43: 0 | L43: =M43+N43 | M43: 81.54 | N43: 16 | O43: =P43+Q43 | P43: 51.853 | Q43: 45.54 | R43: =S43+T43 | S43: 18.176 | T43: 5.882 | U43: =V43+W43 | V43: 12.16 | W43: 0 | X43: =Y43+Z43 | Y43: 1 | Z43: 2 | AA43: =AB43+AC43 | AB43: 2.5 | AC43: 3.1 | AD43: =AE43+AF43 | AE43: 5.57 | AF43: 1 | AG43: =AH43+AI43 | AH43: 1 | AI43: 1 | AJ43: =AK43+AL43 | AK43: 3 | AL43: 8 | AM43: =AN43+AO43 | AN43: 5.85 | AO43: 0 | AP43: =AQ43+AR43 | AQ43: 0 | AR43: 0 | AS43: =AT43+AU43 | AT43: 1 | AU43: 0 | AV43: =C43+F43+I43+L43+O43+R43+U43+X43+AA43+AD43+AG43+AJ43+AM43+AP43+AS43
A44: 33 | B44: Washington | C44: =D44+E44 | D44: 0 | E44: 0 | F44: =G44+H44 | G44: 10.404 | H44: 0 | I44: =J44+K44 | J44: 61.5 | K44: 0 | L44: =M44+N44 | M44: 419.01 | N44: 93.904 | O44: =P44+Q44 | P44: 197.393 | Q44: 246.683 | R44: =S44+T44 | S44: 101.903 | T44: 39.237 | U44: =V44+W44 | V44: 67.064 | W44: 14.738 | X44: =Y44+Z44 | Y44: 7.8 | Z44: 5 | AA44: =AB44+AC44 | AB44: 13.357 | AC44: 13.5 | AD44: =AE44+AF44 | AE44: 10 | AF44: 3.966 | AG44: =AH44+AI44 | AH44: 4 | AI44: 7 | AJ44: =AK44+AL44 | AK44: 16.572 | AL44: 40.5 | AM44: =AN44+AO44 | AN44: 8 | AO44: 4.6 | AP44: =AQ44+AR44 | AQ44: 2 | AR44: 4 | AS44: =AT44+AU44 | AT44: 0 | AU44: 0 | AV44: =C44+F44+I44+L44+O44+R44+U44+X44+AA44+AD44+AG44+AJ44+AM44+AP44+AS44
A45: 34 | B45: Wayne | C45: =D45+E45 | D45: 0 | E45: 0 | F45: =G45+H45 | G45: 0.5 | H45: 0 | I45: =J45+K45 | J45: 1.63 | K45: 0 | L45: =M45+N45 | M45: 11.75 | N45: 1.67 | O45: =P45+Q45 | P45: 9.947 | Q45: 7.83 | R45: =S45+T45 | S45: 2.796 | T45: 0 | U45: =V45+W45 | V45: 1.25 | W45: 0 | X45: =Y45+Z45 | Y45: 0 | Z45: 0 | AA45: =AB45+AC45 | AB45: 0.86 | AC45: 0 | AD45: =AE45+AF45 | AE45: 0 | AF45: 0 | AG45: =AH45+AI45 | AH45: 0.75 | AI45: 0 | AJ45: =AK45+AL45 | AK45: 0.69 | AL45: 1.5 | AM45: =AN45+AO45 | AN45: 0 | AO45: 0 | AP45: =AQ45+AR45 | AQ45: 0 | AR45: 0 | AS45: =AT45+AU45 | AT45: 0 | AU45: 0 | AV45: =C45+F45+I45+L45+O45+R45+U45+X45+AA45+AD45+AG45+AJ45+AM45+AP45+AS45
A46: 35 | B46: Weber | C46: =D46+E46 | D46: 0 | E46: 0 | F46: =G46+H46 | G46: 10 | H46: 0 | I46: =J46+K46 | J46: 64.8 | K46: 0 | L46: =M46+N46 | M46: 544.24 | N46: 49.39 | O46: =P46+Q46 | P46: 283.714 | Q46: 217.09 | R46: =S46+T46 | S46: 132.94 | T46: 30.17 | U46: =V46+W46 | V46: 16.502 | W46: 9.76 | X46: =Y46+Z46 | Y46: 12.75 | Z46: 3.65 | AA46: =AB46+AC46 | AB46: 29.45 | AC46: 13.65 | AD46: =AE46+AF46 | AE46: 7.83 | AF46: 6 | AG46: =AH46+AI46 | AH46: 5 | AI46: 12 | AJ46: =AK46+AL46 | AK46: 23 | AL46: 35.67 | AM46: =AN46+AO46 | AN46: 31.01 | AO46: 2.3 | AP46: =AQ46+AR46 | AQ46: 2 | AR46: 0.75 | AS46: =AT46+AU46 | AT46: 6.55 | AU46: 0 | AV46: =C46+F46+I46+L46+O46+R46+U46+X46+AA46+AD46+AG46+AJ46+AM46+AP46+AS46
B47: DISTRICT TOTAL | C47: =SUM(C7:C46) | D47: =SUM(D7:D46) | E47: =SUM(E7:E46) | F47: =SUM(F7:F46) | G47: =SUM(G7:G46) | H47: =SUM(H7:H46) | I47: =SUM(I7:I46) | J47: =SUM(J7:J46) | ... AU47: =SUM(AU7:AU46) | AV47: =C47+F47+I47+L47+O47+R47+U47+X47+AA47+AD47+AG47+AJ47+AM47+AP47+AS47
B48: Charter School
A49: 8B | B49: American Leadership | C49: =D49+E49 | D49: 1 | E49: 0 | F49: =G49+H49 | G49: 0 | H49: 0 | I49: =J49+K49 | J49: 1 | K49: 0 | L49: =M49+N49 | M49: 20 | N49: 2 | O49: =P49+Q49 | P49: 19.586 | Q49: 17.5 | R49: =S49+T49 | S49: 6 | T49: 1 | U49: =V49+W49 | V49: 0.5 | W49: 1 | X49: =Y49+Z49 | Y49: 0 | Z49: 0 | AA49: =AB49+AC49 | AB49: 0 | AC49: 1 | AD49: =AE49+AF49 | AE49: 1 | AF49: 0 | AG49: =AH49+AI49 | AH49: 0 | AI49: 0 | AJ49: =AK49+AL49 | AK49: 1.25 | AL49: 1 | AM49: =AN49+AO49 | AN49: 0 | AO49: 0 | AP49: =AQ49+AR49 | AQ49: 0 | AR49: 0 | AS49: =AT49+AU49 | AT49: 0 | AU49: 0 | AV49: =C49+F49+I49+L49+O49+R49+U49+X49+AA49+AD49+AG49+AJ49+AM49+AP49+AS49
A50: 74 | B50: American Prep | C50: =D50+E50 | D50: 0 | E50: 0 | F50: =G50+H50 | G50: 0 | H50: 0 | I50: =J50+K50 | J50: 1 | K50: 0 | L50: =M50+N50 | M50: 12.157 | N50: 0 | O50: =P50+Q50 | P50: 5.4 | Q50: 3.7 | R50: =S50+T50 | S50: 0.761 | T50: 0 | U50: =V50+W50 | V50: 0 | W50: 0 | X50: =Y50+Z50 | Y50: 0 | Z50: 0 | AA50: =AB50+AC50 | AB50: 0 | AC50: 0 | AD50: =AE50+AF50 | AE50: 0 | AF50: 0 | AG50: =AH50+AI50 | AH50: 0 | AI50: 0.3 | AJ50: =AK50+AL50 | AK50: 1.3 | AL50: 0 | AM50: =AN50+AO50 | AN50: 0 | AO50: 0 | AP50: =AQ50+AR50 | AQ50: 0 | AR50: 0 | AS50: =AT50+AU50 | AT50: 0 | AU50: 0 | AV50: =C50+F50+I50+L50+O50+R50+U50+X50+AA50+AD50+AG50+AJ50+AM50+AP50+AS50
A51: 83 | B51: AMES | C51: =D51+E51 | D51: 0 | E51: 0 | F51: =G51+H51 | G51: 0 | H51: 0 | I51: =J51+K51 | J51: 0 | K51: 0 | L51: =M51+N51 | M51: 0 | N51: 0 | O51: =P51+Q51 | P51: 9.418 | Q51: 8 | R51: =S51+T51 | S51: 0.5 | T51: 0 | U51: =V51+W51 | V51: 1 | W51: 0 | X51: =Y51+Z51 | Y51: 0 | Z51: 0 | AA51: =AB51+AC51 | AB51: 1 | AC51: 0.67 | AD51: =AE51+AF51 | AE51: 0 | AF51: 0 | AG51: =AH51+AI51 | AH51: 0 | AI51: 0 | AJ51: =AK51+AL51 | AK51: 1 | AL51: 1 | AM51: =AN51+AO51 | AN51: 0 | AO51: 0 | AP51: =AQ51+AR51 | AQ51: 0 | AR51: 0 | AS51: =AT51+AU51 | AT51: 0 | AU51: 0 | AV51: =C51+F51+I51+L51+O51+R51+U51+X51+AA51+AD51+AG51+AJ51+AM51+AP51+AS51
A52: 3B | B52: BSTA | C52: =D52+E52 | D52: 0 | E52: 0 | F52: =G52+H52 | G52: 0 | H52: 0 | I52: =J52+K52 | J52: 0 | K52: 0 | L52: =M52+N52 | M52: 0 | N52: 0 | O52: =P52+Q52 | P52: 3.8 | Q52: 5.967 | R52: =S52+T52 | S52: 0.7 | T52: 0 | U52: =V52+W52 | V52: 0.5 | W52: 0.5 | X52: =Y52+Z52 | Y52: 0 | Z52: 0 | AA52: =AB52+AC52 | AB52: 0 | AC52: 0 | AD52: =AE52+AF52 | AE52: 0 | AF52: 0 | AG52: =AH52+AI52 | AH52: 0 | AI52: 1 | AJ52: =AK52+AL52 | AK52: 0 | AL52: 0 | AM52: =AN52+AO52 | AN52: 0 | AO52: 0 | AP52: =AQ52+AR52 | AQ52: 0 | AR52: 0 | AS52: =AT52+AU52 | AT52: 0 | AU52: 0 | AV52: =C52+F52+I52+L52+O52+R52+U52+X52+AA52+AD52+AG52+AJ52+AM52+AP52+AS52
A53: 9D | B53: Canyon Rim Academy | C53: =D53+E53 | D53: 0 | E53: 0 | F53: =G53+H53 | G53: 0 | H53: 0 | I53: =J53+K53 | J53: 1.5 | K53: 0 | L53: =M53+N53 | M53: 15 | N53: 1 | O53: =P53+Q53 | P53: 1 | Q53: 0 | R53: =S53+T53 | S53: 1 | T53: 0 | U53: =V53+W53 | V53: 0 | W53: 0 | X53: =Y53+Z53 | Y53: 0 | Z53: 0 | AA53: =AB53+AC53 | AB53: 0 | AC53: 0 | AD53: =AE53+AF53 | AE53: 0 | AF53: 0 | AG53: =AH53+AI53 | AH53: 0 | AI53: 0 | AJ53: =AK53+AL53 | AK53: 1 | AL53: 0 | AM53: =AN53+AO53 | AN53: 0 | AO53: 0 | AP53: =AQ53+AR53 | AQ53: 0 | AR53: 0 | AS53: =AT53+AU53 | AT53: 0 | AU53: 0 | AV53: =C53+F53+I53+L53+O53+R53+U53+X53+AA53+AD53+AG53+AJ53+AM53+AP53+AS53
A54: 84 | B54: CBA Center | C54: =D54+E54 | D54: 0 | E54: 0 | F54: =G54+H54 | G54: 0 | H54: 0 | I54: =J54+K54 | J54: 0 | K54: 0 | L54: =M54+N54 | M54: 0 | N54: 0 | O54: =P54+Q54 | P54: 1.83 | Q54: 0.5 | R54: =S54+T54 | S54: 0.17 | T54: 0 | U54: =V54+W54 | V54: 0 | W54: 0 | X54: =Y54+Z54 | Y54: 0 | Z54: 0 | AA54: =AB54+AC54 | AB54: 0 | AC54: 0 | AD54: =AE54+AF54 | AE54: 0 | AF54: 0 | AG54: =AH54+AI54 | AH54: 0 | AI54: 0 | AJ54: =AK54+AL54 | AK54: 0 | AL54: 0.5 | AM54: =AN54+AO54 | AN54: 0 | AO54: 0 | AP54: =AQ54+AR54 | AQ54: 0 | AR54: 0 | AS54: =AT54+AU54 | AT54: 0 | AU54: 0 | AV54: =C54+F54+I54+L54+O54+R54+U54+X54+AA54+AD54+AG54+AJ54+AM54+AP54+AS54
A55: 2D | B55: [Person_9] | C55: =D55+E55 | D55: 0 | E55: 0 | F55: =G55+H55 | G55: 0 | H55: 0 | I55: =J55+K55 | J55: 1 | K55: 1 | L55: =M55+N55 | M55: 17.2 | N55: 2 | O55: =P55+Q55 | P55: 7.04 | Q55: 3 | R55: =S55+T55 | S55: 1.54 | T55: 0 | U55: =V55+W55 | V55: 1.112 | W55: 0 | X55: =Y55+Z55 | Y55: 0 | Z55: 0 | AA55: =AB55+AC55 | AB55: 0 | AC55: 0 | AD55: =AE55+AF55 | AE55: 0 | AF55: 0 | AG55: =AH55+AI55 | AH55: 0 | AI55: 0 | AJ55: =AK55+AL55 | AK55: 1.111 | AL55: 0 | AM55: =AN55+AO55 | AN55: 0 | AO55: 0 | AP55: =AQ55+AR55 | AQ55: 0 | AR55: 0 | AS55: =AT55+AU55 | AT55: 0 | AU55: 0 | AV55: =C55+F55+I55+L55+O55+R55+U55+X55+AA55+AD55+AG55+AJ55+AM55+AP55+AS55
A56: 87 | B56: City Academy | C56: =D56+E56 | D56: 0 | E56: 0 | F56: =G56+H56 | G56: 0 | H56: 0 | I56: =J56+K56 | J56: 0 | K56: 0 | L56: =M56+N56 | M56: 0 | N56: 0 | O56: =P56+Q56 | P56: 7.092 | Q56: 5.116 | R56: =S56+T56 | S56: 0 | T56: 0 | U56: =V56+W56 | V56: 0.72 | W56: 1.111 | X56: =Y56+Z56 | Y56: 0 | Z56: 0 | AA56: =AB56+AC56 | AB56: 0 | AC56: 1 | AD56: =AE56+AF56 | AE56: 0 | AF56: 0 | AG56: =AH56+AI56 | AH56: 0 | AI56: 0 | AJ56: =AK56+AL56 | AK56: 0.81 | AL56: 0 | AM56: =AN56+AO56 | AN56: 0 | AO56: 0 | AP56: =AQ56+AR56 | AQ56: 0 | AR56: 0 | AS56: =AT56+AU56 | AT56: 0 | AU56: 0 | AV56: =C56+F56+I56+L56+O56+R56+U56+X56+AA56+AD56+AG56+AJ56+AM56+AP56+AS56
A57: 3E | B57: CS Lewis Academy | C57: =D57+E57 | D57: 0 | E57: 0 | F57: =G57+H57 | G57: 0 | H57: 0 | I57: =J57+K57 | J57: 3 | K57: 0 | L57: =M57+N57 | M57: 6.75 | N57: 2 | O57: =P57+Q57 | P57: 0 | Q57: 0 | R57: =S57+T57 | S57: 1 | T57: 0 | U57: =V57+W57 | V57: 0.25 | W57: 0 | X57: =Y57+Z57 | Y57: 0 | Z57: 0 | AA57: =AB57+AC57 | AB57: 0 | AC57: 0 | AD57: =AE57+AF57 | AE57: 0 | AF57: 0 | AG57: =AH57+AI57 | AH57: 0 | AI57: 0 | AJ57: =AK57+AL57 | AK57: 0 | AL57: 1 | AM57: =AN57+AO57 | AN57: 0 | AO57: 0 | AP57: =AQ57+AR57 | AQ57: 0 | AR57: 0 | AS57: =AT57+AU57 | AT57: 0 | AU57: 0 | AV57: =C57+F57+I57+L57+O57+R57+U57+X57+AA57+AD57+AG57+AJ57+AM57+AP57+AS57
A58: A3 | B58: DaVinci | C58: =D58+E58 | D58: 0 | E58: 0 | F58: =G58+H58 | G58: 0 | H58: 0 | I58: =J58+K58 | J58: 0 | K58: 0 | L58: =M58+N58 | M58: 0 | N58: 0 | O58: =P58+Q58 | P58: 8.17 | Q58: 4.66 | R58: =S58+T58 | S58: 1 | T58: 1 | U58: =V58+W58 | V58: 0 | W58: 0 | X58: =Y58+Z58 | Y58: 0 | Z58: 0 | AA58: =AB58+AC58 | AB58: 0 | AC58: 1 | AD58: =AE58+AF58 | AE58: 0 | AF58: 0 | AG58: =AH58+AI58 | AH58: 0 | AI58: 0 | AJ58: =AK58+AL58 | AK58: 0.83 | AL58: 0 | AM58: =AN58+AO58 | AN58: 0 | AO58: 0 | AP58: =AQ58+AR58 | AQ58: 0 | AR58: 0 | AS58: =AT58+AU58 | AT58: 0 | AU58: 0 | AV58: =C58+F58+I58+L58+O58+R58+U58+X58+AA58+AD58+AG58+AJ58+AM58+AP58+AS58
A59: 4E | B59: Dual Immersion Academy | C59: =D59+E59 | D59: 0 | E59: 0 | F59: =G59+H59 | G59: 0 | H59: 0 | I59: =J59+K59 | J59: 4 | K59: 0 | L59: =M59+N59 | M59: 8 | N59: 2 | O59: =P59+Q59 | P59: 0 | Q59: 0 | R59: =S59+T59 | S59: 1 | T59: 0 | U59: =V59+W59 | V59: 0 | W59: 0 | X59: =Y59+Z59 | Y59: 0 | Z59: 0 | AA59: =AB59+AC59 | AB59: 0 | AC59: 0 | AD59: =AE59+AF59 | AE59: 0 | AF59: 0 | AG59: =AH59+AI59 | AH59: 0 | AI59: 0 | AJ59: =AK59+AL59 | AK59: 0 | AL59: 0 | AM59: =AN59+AO59 | AN59: 0 | AO59: 0 | AP59: =AQ59+AR59 | AQ59: 0 | AR59: 0 | AS59: =AT59+AU59 | AT59: 0 | AU59: 0 | AV59: =C59+F59+I59+L59+O59+R59+U59+X59+AA59+AD59+AG59+AJ59+AM59+AP59+AS59
A60: A8 | B60: East Hollywood | C60: =D60+E60 | D60: 0 | E60: 0 | F60: =G60+H60 | G60: 0 | H60: 0 | I60: =J60+K60 | J60: 0 | K60: 0 | L60: =M60+N60 | M60: 0 | N60: 0 | O60: =P60+Q60 | P60: 6.15 | Q60: 11.956 | R60: =S60+T60 | S60: 0 | T60: 0 | U60: =V60+W60 | V60: 0 | W60: 0 | X60: =Y60+Z60 | Y60: 0 | Z60: 0 | AA60: =AB60+AC60 | AB60: 1 | AC60: 0 | AD60: =AE60+AF60 | AE60: 0.6 | AF60: 0.13 | AG60: =AH60+AI60 | AH60: 0 | AI60: 0 | AJ60: =AK60+AL60 | AK60: 0 | AL60: 1.136 | AM60: =AN60+AO60 | AN60: 0 | AO60: 0 | AP60: =AQ60+AR60 | AQ60: 0 | AR60: 0 | AS60: =AT60+AU60 | AT60: 0 | AU60: 0 | AV60: =C60+F60+I60+L60+O60+R60+U60+X60+AA60+AD60+AG60+AJ60+AM60+AP60+AS60
A61: 5E | B61: [Person_10] | C61: =D61+E61 | D61: 0 | E61: 0 | F61: =G61+H61 | G61: 0 | H61: 0 | I61: =J61+K61 | J61: 1.079 | K61: 0 | L61: =M61+N61 | M61: 12.426 | N61: 1.072 | O61: =P61+Q61 | P61: 1.072 | Q61: 0 | R61: =S61+T61 | S61: 1 | T61: 0 | U61: =V61+W61 | V61: 0 | W61: 0 | X61: =Y61+Z61 | Y61: 0 | Z61: 0 | AA61: =AB61+AC61 | AB61: 0 | AC61: 0 | AD61: =AE61+AF61 | AE61: 1.3 | AF61: 1.3 | AG61: =AH61+AI61 | AH61: 0 | AI61: 0 | AJ61: =AK61+AL61 | AK61: 0 | AL61: 1 | AM61: =AN61+AO61 | AN61: 0.536 | AO61: 0 | AP61: =AQ61+AR61 | AQ61: 0 | AR61: 0 | AS61: =AT61+AU61 | AT61: 0 | AU61: 0 | AV61: =C61+F61+I61+L61+O61+R61+U61+X61+AA61+AD61+AG61+AJ61+AM61+AP61+AS61
A62: 3C | B62: Entheos | C62: =D62+E62 | D62: 0 | E62: 0 | F62: =G62+H62 | G62: 0 | H62: 0 | I62: =J62+K62 | J62: 2 | K62: 0 | L62: =M62+N62 | M62: 6 | N62: 5.878 | O62: =P62+Q62 | P62: 6 | Q62: 1 | R62: =S62+T62 | S62: 2 | T62: 0 | U62: =V62+W62 | V62: 1 | W62: 0 | X62: =Y62+Z62 | Y62: 0 | Z62: 0 | AA62: =AB62+AC62 | AB62: 0 | AC62: 0 | AD62: =AE62+AF62 | AE62: 0 | AF62: 0 | AG62: =AH62+AI62 | AH62: 0 | AI62: 0 | AJ62: =AK62+AL62 | AK62: 0 | AL62: 1 | AM62: =AN62+AO62 | AN62: 0 | AO62: 0 | AP62: =AQ62+AR62 | AQ62: 0 | AR62: 0 | AS62: =AT62+AU62 | AT62: 0 | AU62: 0 | AV62: =C62+F62+I62+L62+O62+R62+U62+X62+AA62+AD62+AG62+AJ62+AM62+AP62+AS62
A63: 98 | B63: Fast Forward | C63: =D63+E63 | D63: 0 | E63: 0 | F63: =G63+H63 | G63: 0 | H63: 0 | I63: =J63+K63 | J63: 0 | K63: 0 | L63: =M63+N63 | M63: 0 | N63: 0 | O63: =P63+Q63 | P63: 7.125 | Q63: 4.752 | R63: =S63+T63 | S63: 1.33 | T63: 0 | U63: =V63+W63 | V63: 0.67 | W63: 0 | X63: =Y63+Z63 | Y63: 0 | Z63: 0 | AA63: =AB63+AC63 | AB63: 1.1 | AC63: 0 | AD63: =AE63+AF63 | AE63: 0.435 | AF63: 0 | AG63: =AH63+AI63 | AH63: 0 | AI63: 0 | AJ63: =AK63+AL63 | AK63: 0.84 | AL63: 0 | AM63: =AN63+AO63 | AN63: 0 | AO63: 0 | AP63: =AQ63+AR63 | AQ63: 0 | AR63: 0 | AS63: =AT63+AU63 | AT63: 0 | AU63: 0 | AV63: =C63+F63+I63+L63+O63+R63+U63+X63+AA63+AD63+AG63+AJ63+AM63+AP63+AS63
A64: 82 | B64: Freedom Acad | C64: =D64+E64 | D64: 0 | E64: 0 | F64: =G64+H64 | G64: 0 | H64: 0 | I64: =J64+K64 | J64: 2.5 | K64: 0 | L64: =M64+N64 | M64: 21.36 | N64: 3 | O64: =P64+Q64 | P64: 3.64 | Q64: 1 | R64: =S64+T64 | S64: 1 | T64: 1 | U64: =V64+W64 | V64: 0.25 | W64: 0 | X64: =Y64+Z64 | Y64: 0 | Z64: 0 | AA64: =AB64+AC64 | AB64: 0 | AC64: 0 | AD64: =AE64+AF64 | AE64: 1 | AF64: 0 | AG64: =AH64+AI64 | AH64: 0 | AI64: 1 | AJ64: =AK64+AL64 | AK64: 1.5 | AL64: 0 | AM64: =AN64+AO64 | AN64: 0 | AO64: 0 | AP64: =AQ64+AR64 | AQ64: 0 | AR64: 0 | AS64: =AT64+AU64 | AT64: 0 | AU64: 0 | AV64: =C64+F64+I64+L64+O64+R64+U64+X64+AA64+AD64+AG64+AJ64+AM64+AP64+AS64
A65: 5D | B65: [Person_20] | C65: =D65+E65 | D65: 0 | E65: 0 | F65: =G65+H65 | G65: 0 | H65: 0 | I65: =J65+K65 | J65: 2 | K65: 0 | L65: =M65+N65 | M65: 10.75 | N65: 3 | O65: =P65+Q65 | P65: 3 | Q65: 0 | R65: =S65+T65 | S65: 1.5 | T65: 0 | U65: =V65+W65 | V65: 0 | W65: 0 | X65: =Y65+Z65 | Y65: 0 | Z65: 0 | AA65: =AB65+AC65 | AB65: 0 | AC65: 0 | AD65: =AE65+AF65 | AE65: 0 | AF65: 0 | AG65: =AH65+AI65 | AH65: 0 | AI65: 0 | AJ65: =AK65+AL65 | AK65: 1.3 | AL65: 0 | AM65: =AN65+AO65 | AN65: 0 | AO65: 0 | AP65: =AQ65+AR65 | AQ65: 0 | AR65: 0 | AS65: =AT65+AU65 | AT65: 0 | AU65: 0 | AV65: =C65+F65+I65+L65+O65+R65+U65+X65+AA65+AD65+AG65+AJ65+AM65+AP65+AS65
A66: 1E | B66: Guadalupe | C66: =D66+E66 | D66: 0 | E66: 0 | F66: =G66+H66 | G66: 0 | H66: 0 | I66: =J66+K66 | J66: 1 | K66: 0 | L66: =M66+N66 | M66: 2.772 | N66: 0 | O66: =P66+Q66 | P66: 0 | Q66: 0 | R66: =S66+T66 | S66: 0 | T66: 0 | U66: =V66+W66 | V66: 0.5 | W66: 0 | X66: =Y66+Z66 | Y66: 0 | Z66: 0 | AA66: =AB66+AC66 | AB66: 0 | AC66: 0 | AD66: =AE66+AF66 | AE66: 0 | AF66: 0 | AG66: =AH66+AI66 | AH66: 0 | AI66: 0 | AJ66: =AK66+AL66 | AK66: 0 | AL66: 0 | AM66: =AN66+AO66 | AN66: 0 | AO66: 0 | AP66: =AQ66+AR66 | AQ66: 0 | AR66: 0 | AS66: =AT66+AU66 | AT66: 0 | AU66: 0 | AV66: =C66+F66+I66+L66+O66+R66+U66+X66+AA66+AD66+AG66+AJ66+AM66+AP66+AS66
A67: 2C | B67: Intech | C67: =D67+E67 | D67: 0 | E67: 0 | F67: =G67+H67 | G67: 0 | H67: 0 | I67: =J67+K67 | J67: 0 | K67: 0 | L67: =M67+N67 | M67: 0 | N67: 0 | O67: =P67+Q67 | P67: 2.889 | Q67: 2.834 | R67: =S67+T67 | S67: 0 | T67: 0 | U67: =V67+W67 | V67: 0 | W67: 0 | X67: =Y67+Z67 | Y67: 0 | Z67: 0 | AA67: =AB67+AC67 | AB67: 0.75 | AC67: 0 | AD67: =AE67+AF67 | AE67: 0 | AF67: 0 | AG67: =AH67+AI67 | AH67: 0 | AI67: 0 | AJ67: =AK67+AL67 | AK67: 0 | AL67: 0.822 | AM67: =AN67+AO67 | AN67: 0 | AO67: 0 | AP67: =AQ67+AR67 | AQ67: 0 | AR67: 0 | AS67: =AT67+AU67 | AT67: 0 | AU67: 0 | AV67: =C67+F67+I67+L67+O67+R67+U67+X67+AA67+AD67+AG67+AJ67+AM67+AP67+AS67
A68: A5 | B68: Itineris | C68: =D68+E68 | D68: 0 | E68: 0 | F68: =G68+H68 | G68: 0 | H68: 0 | I68: =J68+K68 | J68: 0 | K68: 0 | L68: =M68+N68 | M68: 0 | N68: 0 | O68: =P68+Q68 | P68: 4.751 | Q68: 4.125 | R68: =S68+T68 | S68: 0 | T68: 0 | U68: =V68+W68 | V68: 0 | W68: 0 | X68: =Y68+Z68 | Y68: 0 | Z68: 0 | AA68: =AB68+AC68 | AB68: 0 | AC68: 2 | AD68: =AE68+AF68 | AE68: 0 | AF68: 0 | AG68: =AH68+AI68 | AH68: 0 | AI68: 0 | AJ68: =AK68+AL68 | AK68: 0 | AL68: 1 | AM68: =AN68+AO68 | AN68: 0 | AO68: 0 | AP68: =AQ68+AR68 | AQ68: 0 | AR68: 0 | AS68: =AT68+AU68 | AT68: 0 | AU68: 0 | AV68: =C68+F68+I68+L68+O68+R68+U68+X68+AA68+AD68+AG68+AJ68+AM68+AP68+AS68
A69: 93 | B69: [Person_12] | C69: =D69+E69 | D69: 0 | E69: 0 | F69: =G69+H69 | G69: 0 | H69: 0 | I69: =J69+K69 | J69: 0.731 | K69: 0 | L69: =M69+N69 | M69: 6.956 | N69: 0 | O69: =P69+Q69 | P69: 3.164 | Q69: 0 | R69: =S69+T69 | S69: 0 | T69: 1 | U69: =V69+W69 | V69: 0 | W69: 0 | X69: =Y69+Z69 | Y69: 0 | Z69: 0 | AA69: =AB69+AC69 | AB69: 0 | AC69: 0 | AD69: =AE69+AF69 | AE69: 0 | AF69: 0 | AG69: =AH69+AI69 | AH69: 0 | AI69: 0 | AJ69: =AK69+AL69 | AK69: 1 | AL69: 0 | AM69: =AN69+AO69 | AN69: 0 | AO69: 0 | AP69: =AQ69+AR69 | AQ69: 0 | AR69: 0 | AS69: =AT69+AU69 | AT69: 0 | AU69: 0 | AV69: =C69+F69+I69+L69+O69+R69+U69+X69+AA69+AD69+AG69+AJ69+AM69+AP69+AS69
A70: 4C | B70: Lakeview Acad | C70: =D70+E70 | D70: 0 | E70: 0 | F70: =G70+H70 | G70: 0 | H70: 0 | I70: =J70+K70 | J70: 1.5 | K70: 0 | L70: =M70+N70 | M70: 17 | N70: 4 | O70: =P70+Q70 | P70: 8 | Q70: 3 | R70: =S70+T70 | S70: 2.722 | T70: 0 | U70: =V70+W70 | V70: 1 | W70: 0 | X70: =Y70+Z70 | Y70: 0 | Z70: 0 | AA70: =AB70+AC70 | AB70: 0 | AC70: 0 | AD70: =AE70+AF70 | AE70: 1 | AF70: 0 | AG70: =AH70+AI70 | AH70: 0 | AI70: 0 | AJ70: =AK70+AL70 | AK70: 1 | AL70: 1 | AM70: =AN70+AO70 | AN70: 0 | AO70: 0 | AP70: =AQ70+AR70 | AQ70: 0 | AR70: 0 | AS70: =AT70+AU70 | AT70: 0 | AU70: 0 | AV70: =C70+F70+I70+L70+O70+R70+U70+X70+AA70+AD70+AG70+AJ70+AM70+AP70+AS70
A71: 5C | B71: Legacy Prep | C71: =D71+E71 | D71: 0 | E71: 0 | F71: =G71+H71 | G71: 0 | H71: 0 | I71: =J71+K71 | J71: 0.5 | K71: 0 | L71: =M71+N71 | M71: 12 | N71: 1 | O71: =P71+Q71 | P71: 7.001 | Q71: 2 | R71: =S71+T71 | S71: 1.168 | T71: 0 | U71: =V71+W71 | V71: 0 | W71: 0 | X71: =Y71+Z71 | Y71: 0 | Z71: 0 | AA71: =AB71+AC71 | AB71: 0 | AC71: 0 | AD71: =AE71+AF71 | AE71: 0 | AF71: 0 | AG71: =AH71+AI71 | AH71: 0 | AI71: 0 | AJ71: =AK71+AL71 | AK71: 2 | AL71: 1.22 | AM71: =AN71+AO71 | AN71: 0 | AO71: 0 | AP71: =AQ71+AR71 | AQ71: 0 | AR71: 0 | AS71: =AT71+AU71 | AT71: 0 | AU71: 0 | AV71: =C71+F71+I71+L71+O71+R71+U71+X71+AA71+AD71+AG71+AJ71+AM71+AP71+AS71
A72: 6C | B72: Liberty | C72: =D72+E72 | D72: 0 | E72: 0 | F72: =G72+H72 | G72: 0 | H72: 0 | I72: =J72+K72 | J72: 2 | K72: 0 | L72: =M72+N72 | M72: 6 | N72: 2 | O72: =P72+Q72 | P72: 2.461 | Q72: 1.552 | R72: =S72+T72 | S72: 0.625 | T72: 0 | U72: =V72+W72 | V72: 0.625 | W72: 0.5 | X72: =Y72+Z72 | Y72: 0 | Z72: 0 | AA72: =AB72+AC72 | AB72: 0 | AC72: 0 | AD72: =AE72+AF72 | AE72: 0 | AF72: 0 | AG72: =AH72+AI72 | AH72: 0 | AI72: 0 | AJ72: =AK72+AL72 | AK72: 0 | AL72: 0.5 | AM72: =AN72+AO72 | AN72: 0 | AO72: 0 | AP72: =AQ72+AR72 | AQ72: 0 | AR72: 0 | AS72: =AT72+AU72 | AT72: 0 | AU72: 0 | AV72: =C72+F72+I72+L72+O72+R72+U72+X72+AA72+AD72+AG72+AJ72+AM72+AP72+AS72
A73: 2B | B73: Lincoln Acad | C73: =D73+E73 | D73: 0 | E73: 0 | F73: =G73+H73 | G73: 0 | H73: 0 | I73: =J73+K73 | J73: 1.5 | K73: 0 | L73: =M73+N73 | M73: 7.76 | N73: 3.25 | O73: =P73+Q73 | P73: 3.672 | Q73: 5.75 | R73: =S73+T73 | S73: 2.54 | T73: 0 | U73: =V73+W73 | V73: 0 | W73: 0 | X73: =Y73+Z73 | Y73: 0 | Z73: 0 | AA73: =AB73+AC73 | AB73: 0.5 | AC73: 0 | AD73: =AE73+AF73 | AE73: 0 | AF73: 0 | AG73: =AH73+AI73 | AH73: 0 | AI73: 1.5 | AJ73: =AK73+AL73 | AK73: 0 | AL73: 0 | AM73: =AN73+AO73 | AN73: 1 | AO73: 0 | AP73: =AQ73+AR73 | AQ73: 0 | AR73: 0 | AS73: =AT73+AU73 | AT73: 0 | AU73: 0 | AV73: =C73+F73+I73+L73+O73+R73+U73+X73+AA73+AD73+AG73+AJ73+AM73+AP73+AS73
A74: 2E | B74: [Person_21] | C74: =D74+E74 | D74: 0 | E74: 0 | F74: =G74+H74 | G74: 0 | H74: 0 | I74: =J74+K74 | J74: 0 | K74: 0 | L74: =M74+N74 | M74: 0 | N74: 0 | O74: =P74+Q74 | P74: 1.828 | Q74: 5.012 | R74: =S74+T74 | S74: 0.17 | T74: 0.156 | U74: =V74+W74 | V74: 0 | W74: 0.5 | X74: =Y74+Z74 | Y74: 0 | Z74: 0 | AA74: =AB74+AC74 | AB74: 0 | AC74: 0 | AD74: =AE74+AF74 | AE74: 0 | AF74: 0 | AG74: =AH74+AI74 | AH74: 0 | AI74: 0 | AJ74: =AK74+AL74 | AK74: 0.102 | AL74: 0.55 | AM74: =AN74+AO74 | AN74: 0 | AO74: 0 | AP74: =AQ74+AR74 | AQ74: 0 | AR74: 0 | AS74: =AT74+AU74 | AT74: 0 | AU74: 0 | AV74: =C74+F74+I74+L74+O74+R74+U74+X74+AA74+AD74+AG74+AJ74+AM74+AP74+AS74
A75: A7 | B75: [Person_22] | C75: =D75+E75 | D75: 0 | E75: 0 | F75: =G75+H75 | G75: 0 | H75: 0 | I75: =J75+K75 | J75: 0.308 | K75: 0 | L75: =M75+N75 | M75: 1.409 | N75: 0 | O75: =P75+Q75 | P75: 0 | Q75: 0 | R75: =S75+T75 | S75: 0 | T75: 0 | U75: =V75+W75 | V75: 0 | W75: 0 | X75: =Y75+Z75 | Y75: 0 | Z75: 0 | AA75: =AB75+AC75 | AB75: 0 | AC75: 0 | AD75: =AE75+AF75 | AE75: 0 | AF75: 0 | AG75: =AH75+AI75 | AH75: 0 | AI75: 0 | AJ75: =AK75+AL75 | AK75: 0.672 | AL75: 0 | AM75: =AN75+AO75 | AN75: 0 | AO75: 0 | AP75: =AQ75+AR75 | AQ75: 0 | AR75: 0 | AS75: =AT75+AU75 | AT75: 0 | AU75: 0 | AV75: =C75+F75+I75+L75+O75+R75+U75+X75+AA75+AD75+AG75+AJ75+AM75+AP75+AS75
A76: 7C | B76: Monticello Acad | C76: =D76+E76 | D76: 0 | E76: 0 | F76: =G76+H76 | G76: 0 | H76: 0 | I76: =J76+K76 | J76: 1.515 | K76: 0 | L76: =M76+N76 | M76: 13.678 | N76: 4.798 | O76: =P76+Q76 | P76: 8.735 | Q76: 6.565 | R76: =S76+T76 | S76: 1.01 | T76: 0 | U76: =V76+W76 | V76: 0 | W76: 0.758 | X76: =Y76+Z76 | Y76: 0 | Z76: 0 | AA76: =AB76+AC76 | AB76: 0 | AC76: 0 | AD76: =AE76+AF76 | AE76: 0 | AF76: 0 | AG76: =AH76+AI76 | AH76: 0 | AI76: 0.803 | AJ76: =AK76+AL76 | AK76: 0.583 | AL76: 0.633 | AM76: =AN76+AO76 | AN76: 0 | AO76: 0 | AP76: =AQ76+AR76 | AQ76: 0 | AR76: 0 | AS76: =AT76+AU76 | AT76: 0 | AU76: 0 | AV76: =C76+F76+I76+L76+O76+R76+U76+X76+AA76+AD76+AG76+AJ76+AM76+AP76+AS76
A77: 8C | B77: [Person_23] | C77: =D77+E77 | D77: 0 | E77: 0 | F77: =G77+H77 | G77: 0 | H77: 0 | I77: =J77+K77 | J77: 1.5 | K77: 0 | L77: =M77+N77 | M77: 17.749 | N77: 2.5 | O77: =P77+Q77 | P77: 3.49 | Q77: 3.839 | R77: =S77+T77 | S77: 1 | T77: 0 | U77: =V77+W77 | V77: 0 | W77: 0 | X77: =Y77+Z77 | Y77: 0 | Z77: 0 | AA77: =AB77+AC77 | AB77: 0 | AC77: 0 | AD77: =AE77+AF77 | AE77: 1 | AF77: 0 | AG77: =AH77+AI77 | AH77: 0.2 | AI77: 0 | AJ77: =AK77+AL77 | AK77: 0 | AL77: 1 | AM77: =AN77+AO77 | AN77: 0 | AO77: 0 | AP77: =AQ77+AR77 | AQ77: 0 | AR77: 0 | AS77: =AT77+AU77 | AT77: 0 | AU77: 0 | AV77: =C77+F77+I77+L77+O77+R77+U77+X77+AA77+AD77+AG77+AJ77+AM77+AP77+AS77
A78: 9B | B78: Navigator [Person_24] | C78: =D78+E78 | D78: 0 | E78: 0 | F78: =G78+H78 | G78: 0 | H78: 0 | I78: =J78+K78 | J78: 1.535 | K78: 0 | L78: =M78+N78 | M78: 9.685 | N78: 2.4 | O78: =P78+Q78 | P78: 8.76 | Q78: 3.136 | R78: =S78+T78 | S78: 1.5 | T78: 0 | U78: =V78+W78 | V78: 0 | W78: 0 | X78: =Y78+Z78 | Y78: 0 | Z78: 0 | AA78: =AB78+AC78 | AB78: 0 | AC78: 0 | AD78: =AE78+AF78 | AE78: 0 | AF78: 0 | AG78: =AH78+AI78 | AH78: 0.944 | AI78: 0 | AJ78: =AK78+AL78 | AK78: 1 | AL78: 0 | AM78: =AN78+AO78 | AN78: 0 | AO78: 0 | AP78: =AQ78+AR78 | AQ78: 0 | AR78: 0 | AS78: =AT78+AU78 | AT78: 0 | AU78: 0 | AV78: =C78+F78+I78+L78+O78+R78+U78+X78+AA78+AD78+AG78+AJ78+AM78+AP78+AS78
A79: 6D | B79: [Person_25] | C79: =D79+E79 | D79: 0 | E79: 0 | F79: =G79+H79 | G79: 0 | H79: 0 | I79: =J79+K79 | J79: 2 | K79: 0 | L79: =M79+N79 | M79: 16.8 | N79: 3 | O79: =P79+Q79 | P79: 0 | Q79: 0 | R79: =S79+T79 | S79: 1.63 | T79: 0 | U79: =V79+W79 | V79: 0 | W79: 0 | X79: =Y79+Z79 | Y79: 0 | Z79: 0 | AA79: =AB79+AC79 | AB79: 0 | AC79: 0 | AD79: =AE79+AF79 | AE79: 0 | AF79: 0 | AG79: =AH79+AI79 | AH79: 0 | AI79: 0 | AJ79: =AK79+AL79 | AK79: 1 | AL79: 1 | AM79: =AN79+AO79 | AN79: 0 | AO79: 0 | AP79: =AQ79+AR79 | AQ79: 0 | AR79: 0 | AS79: =AT79+AU79 | AT79: 0 | AU79: 0 | AV79: =C79+F79+I79+L79+O79+R79+U79+X79+AA79+AD79+AG79+AJ79+AM79+AP79+AS79
A80: A6 | B80: [Person_26] | C80: =D80+E80 | D80: 0 | E80: 0 | F80: =G80+H80 | G80: 0 | H80: 0 | I80: =J80+K80 | J80: 1 | K80: 0 | L80: =M80+N80 | M80: 16 | N80: 2 | O80: =P80+Q80 | P80: 0 | Q80: 0 | R80: =S80+T80 | S80: 1.5 | T80: 0 | U80: =V80+W80 | V80: 0 | W80: 0 | X80: =Y80+Z80 | Y80: 0 | Z80: 0 | AA80: =AB80+AC80 | AB80: 0 | AC80: 0 | AD80: =AE80+AF80 | AE80: 0 | AF80: 0 | AG80: =AH80+AI80 | AH80: 0 | AI80: 0 | AJ80: =AK80+AL80 | AK80: 1 | AL80: 0 | AM80: =AN80+AO80 | AN80: 0 | AO80: 0 | AP80: =AQ80+AR80 | AQ80: 0 | AR80: 0 | AS80: =AT80+AU80 | AT80: 0 | AU80: 0 | AV80: =C80+F80+I80+L80+O80+R80+U80+X80+AA80+AD80+AG80+AJ80+AM80+AP80+AS80
A81: 5B | B81: North Star Acad | C81: =D81+E81 | D81: 0 | E81: 0 | F81: =G81+H81 | G81: 0 | H81: 0 | I81: =J81+K81 | J81: 1 | K81: 0 | L81: =M81+N81 | M81: 12.75 | N81: 0 | O81: =P81+Q81 | P81: 6.25 | Q81: 1.25 | R81: =S81+T81 | S81: 1 | T81: 0 | U81: =V81+W81 | V81: 0.5 | W81: 0.75 | X81: =Y81+Z81 | Y81: 0.67 | Z81: 0 | AA81: =AB81+AC81 | AB81: 0.33 | AC81: 0 | AD81: =AE81+AF81 | AE81: 1 | AF81: 0 | AG81: =AH81+AI81 | AH81: 0 | AI81: 0 | AJ81: =AK81+AL81 | AK81: 0 | AL81: 0 | AM81: =AN81+AO81 | AN81: 0 | AO81: 0 | AP81: =AQ81+AR81 | AQ81: 0 | AR81: 0 | AS81: =AT81+AU81 | AT81: 0 | AU81: 0 | AV81: =C81+F81+I81+L81+O81+R81+U81+X81+AA81+AD81+AG81+AJ81+AM81+AP81+AS81
... A83: 1C | B83: Odyssey | C83: =D83+E83 | D83: 0 | E83: 0 | F83: =G83+H83 | G83: 0 | H83: 0 | I83: =J83+K83 | J83: 1 | K83: 0 | L83: =M83+N83 | M83: 11.28 | N83: 3.5 | O83: =P83+Q83 | P83: 3.72 | Q83: 1 | R83: =S83+T83 | S83: 1 | T83: 0 | U83: =V83+W83 | V83: 0 | W83: 0 | X83: =Y83+Z83 | Y83: 0 | Z83: 0 | AA83: =AB83+AC83 | AB83: 0 | AC83: 0 | AD83: =AE83+AF83 | AE83: 0 | AF83: 0 | AG83: =AH83+AI83 | AH83: 0 | AI83: 0 | AJ83: =AK83+AL83 | AK83: 0 | AL83: 1 | AM83: =AN83+AO83 | AN83: 0 | AO83: 0 | AP83: =AQ83+AR83 | AQ83: 0 | AR83: 0 | AS83: =AT83+AU83 | AT83: 0 | AU83: 0 | AV83: =C83+F83+I83+L83+O83+R83+U83+X83+AA83+AD83+AG83+AJ83+AM83+AP83+AS83
A84: 68 | B84: Ogden Prep | C84: =D84+E84 | D84: 0 | E84: 0 | F84: =G84+H84 | G84: 0 | H84: 0 | I84: =J84+K84 | J84: 0 | K84: 1 | L84: =M84+N84 | M84: 13 | N84: 0.33 | O84: =P84+Q84 | P84: 3 | Q84: 4.67 | R84: =S84+T84 | S84: 2.5 | T84: 0 | U84: =V84+W84 | V84: 0 | W84: 0 | X84: =Y84+Z84 | Y84: 0 | Z84: 0 | AA84: =AB84+AC84 | AB84: 0 | AC84: 0 | AD84: =AE84+AF84 | AE84: 1 | AF84: 0 | AG84: =AH84+AI84 | AH84: 1 | AI84: 0 | AJ84: =AK84+AL84 | AK84: 1 | AL84: 1 | AM84: =AN84+AO84 | AN84: 0 | AO84: 0 | AP84: =AQ84+AR84 | AQ84: 0 | AR84: 0 | AS84: =AT84+AU84 | AT84: 0 | AU84: 0 | AV84: =C84+F84+I84+L84+O84+R84+U84+X84+AA84+AD84+AG84+AJ84+AM84+AP84+AS84
A85: 8D | B85: Open Classroom | C85: =D85+E85 | D85: 0 | E85: 0 | F85: =G85+H85 | G85: 0 | H85: 0 | I85: =J85+K85 | J85: 1.5 | K85: 0 | L85: =M85+N85 | M85: 11 | N85: 1 | O85: =P85+Q85 | P85: 1 | Q85: 1 | R85: =S85+T85 | S85: 0 | T85: 1 | U85: =V85+W85 | V85: 1 | W85: 0 | X85: =Y85+Z85 | Y85: 0.5 | Z85: 0 | AA85: =AB85+AC85 | AB85: 0 | AC85: 0 | AD85: =AE85+AF85 | AE85: 0 | AF85: 1 | AG85: =AH85+AI85 | AH85: 0 | AI85: 0 | AJ85: =AK85+AL85 | AK85: 0 | AL85: 1 | AM85: =AN85+AO85 | AN85: 0 | AO85: 0 | AP85: =AQ85+AR85 | AQ85: 0 | AR85: 0 | AS85: =AT85+AU85 | AT85: 0 | AU85: 0 | AV85: =C85+F85+I85+L85+O85+R85+U85+X85+AA85+AD85+AG85+AJ85+AM85+AP85+AS85
A86: 9C | B86: Paradigm High School | C86: =D86+E86 | D86: 0 | E86: 0 | F86: =G86+H86 | G86: 0 | H86: 0 | I86: =J86+K86 | J86: 0 | K86: 0 | L86: =M86+N86 | M86: 0 | N86: 0 | O86: =P86+Q86 | P86: 6 | Q86: 7.051 | R86: =S86+T86 | S86: 0 | T86: 0.5 | U86: =V86+W86 | V86: 0 | W86: 0 | X86: =Y86+Z86 | Y86: 0 | Z86: 0 | AA86: =AB86+AC86 | AB86: 0 | AC86: 0 | AD86: =AE86+AF86 | AE86: 0 | AF86: 0 | AG86: =AH86+AI86 | AH86: 1.67 | AI86: 0 | AJ86: =AK86+AL86 | AK86: 0 | AL86: 0 | AM86: =AN86+AO86 | AN86: 0 | AO86: 0 | AP86: =AQ86+AR86 | AQ86: 0 | AR86: 0 | AS86: =AT86+AU86 | AT86: 0 | AU86: 0 | AV86: =C86+F86+I86+L86+O86+R86+U86+X86+AA86+AD86+AG86+AJ86+AM86+AP86+AS86
A87: 86 | B87: Pinnacle Canyon | C87: =D87+E87 | D87: 0 | E87: 0 | F87: =G87+H87 | G87: 0 | H87: 0 | I87: =J87+K87 | J87: 1 | K87: 0 | L87: =M87+N87 | M87: 6.752 | N87: 2 | O87: =P87+Q87 | P87: 4.698 | Q87: 2.642 | R87: =S87+T87 | S87: 1.552 | T87: 0 | U87: =V87+W87 | V87: 0.814 | W87: 0 | X87: =Y87+Z87 | Y87: 0 | Z87: 0 | AA87: =AB87+AC87 | AB87: 0 | AC87: 0 | AD87: =AE87+AF87 | AE87: 0 | AF87: 0 | AG87: =AH87+AI87 | AH87: 1.583 | AI87: 0 | AJ87: =AK87+AL87 | AK87: 1.056 | AL87: 0 | AM87: =AN87+AO87 | AN87: 1 | AO87: 0 | AP87: =AQ87+AR87 | AQ87: 0 | AR87: 0 | AS87: =AT87+AU87 | AT87: 0.37 | AU87: 0 | AV87: =C87+F87+I87+L87+O87+R87+U87+X87+AA87+AD87+AG87+AJ87+AM87+AP87+AS87
A88: A2 | B88: Ranches | C88: =D88+E88 | D88: 0 | E88: 0 | F88: =G88+H88 | G88: 0 | H88: 0 | I88: =J88+K88 | J88: 1 | K88: 0 | L88: =M88+N88 | M88: 11.55 | N88: 1 | O88: =P88+Q88 | P88: 1.5 | Q88: 1 | R88: =S88+T88 | S88: 1 | T88: 0 | U88: =V88+W88 | V88: 0 | W88: 0 | X88: =Y88+Z88 | Y88: 0 | Z88: 0 | AA88: =AB88+AC88 | AB88: 0 | AC88: 0 | AD88: =AE88+AF88 | AE88: 0 | AF88: 0 | AG88: =AH88+AI88 | AH88: 0 | AI88: 0 | AJ88: =AK88+AL88 | AK88: 0 | AL88: 0 | AM88: =AN88+AO88 | AN88: 0 | AO88: 0 | AP88: =AQ88+AR88 | AQ88: 0 | AR88: 0 | AS88: =AT88+AU88 | AT88: 0 | AU88: 0 | AV88: =C88+F88+I88+L88+O88+R88+U88+X88+AA88+AD88+AG88+AJ88+AM88+AP88+AS88
A89: 7B | B89: [Person_15] Acad | C89: =D89+E89 | D89: 0 | E89: 0 | F89: =G89+H89 | G89: 0 | H89: 0 | I89: =J89+K89 | J89: 2 | K89: 0 | L89: =M89+N89 | M89: 17.375 | N89: 2.5 | O89: =P89+Q89 | P89: 5.597 | Q89: 2.5 | R89: =S89+T89 | S89: 2 | T89: 0 | U89: =V89+W89 | V89: 0.5 | W89: 1 | X89: =Y89+Z89 | Y89: 0 | Z89: 0 | AA89: =AB89+AC89 | AB89: 0 | AC89: 0 | AD89: =AE89+AF89 | AE89: 1 | AF89: 0 | AG89: =AH89+AI89 | AH89: 0 | AI89: 0 | AJ89: =AK89+AL89 | AK89: 0 | AL89: 1 | AM89: =AN89+AO89 | AN89: 0 | AO89: 0 | AP89: =AQ89+AR89 | AQ89: 0 | AR89: 0 | AS89: =AT89+AU89 | AT89: 0 | AU89: 0 | AV89: =C89+F89+I89+L89+O89+R89+U89+X89+AA89+AD89+AG89+AJ89+AM89+AP89+AS89
A90: 1D | B90: Renaissance Acad | C90: =D90+E90 | D90: 0 | E90: 0 | F90: =G90+H90 | G90: 0 | H90: 0 | I90: =J90+K90 | J90: 2 | K90: 0 | L90: =M90+N90 | M90: 17.43 | N90: 3 | O90: =P90+Q90 | P90: 6.391 | Q90: 1 | R90: =S90+T90 | S90: 1 | T90: 0 | U90: =V90+W90 | V90: 1.2 | W90: 0 | X90: =Y90+Z90 | Y90: 0 | Z90: 0 | AA90: =AB90+AC90 | AB90: 0 | AC90: 0 | AD90: =AE90+AF90 | AE90: 0.35 | AF90: 0 | AG90: =AH90+AI90 | AH90: 0 | AI90: 0 | AJ90: =AK90+AL90 | AK90: 1.111 | AL90: 0.778 | AM90: =AN90+AO90 | AN90: 0 | AO90: 0 | AP90: =AQ90+AR90 | AQ90: 0 | AR90: 0 | AS90: =AT90+AU90 | AT90: 0 | AU90: 0 | AV90: =C90+F90+I90+L90+O90+R90+U90+X90+AA90+AD90+AG90+AJ90+AM90+AP90+AS90
A91: 97 | B91: Salt Lake Arts Acad | C91: =D91+E91 | D91: 0 | E91: 0 | F91: =G91+H91 | G91: 0 | H91: 0 | I91: =J91+K91 | J91: 0 | K91: 0 | L91: =M91+N91 | M91: 2 | N91: 1.5 | O91: =P91+Q91 | P91: 6 | Q91: 2.16 | R91: =S91+T91 | S91: 1 | T91: 0 | U91: =V91+W91 | V91: 0 | W91: 0 | X91: =Y91+Z91 | Y91: 0 | Z91: 0 | AA91: =AB91+AC91 | AB91: 0 | AC91: 0 | AD91: =AE91+AF91 | AE91: 0 | AF91: 0 | AG91: =AH91+AI91 | AH91: 0 | AI91: 0 | AJ91: =AK91+AL91 | AK91: 1 | AL91: 0 | AM91: =AN91+AO91 | AN91: 0 | AO91: 0 | AP91: =AQ91+AR91 | AQ91: 0 | AR91: 0 | AS91: =AT91+AU91 | AT91: 0 | AU91: 0 | AV91: =C91+F91+I91+L91+O91+R91+U91+X91+AA91+AD91+AG91+AJ91+AM91+AP91+AS91
A92: 7D | B92: Salt Lake School for Perf. Arts | C92: =D92+E92 | D92: 0 | E92: 0 | F92: =G92+H92 | G92: 0 | H92: 0 | I92: =J92+K92 | J92: 0 | K92: 0 | L92: =M92+N92 | M92: 0 | N92: 0 | O92: =P92+Q92 | P92: 0.683 | Q92: 1.13 | R92: =S92+T92 | S92: 0 | T92: 0 | U92: =V92+W92 | V92: 0 | W92: 0 | X92: =Y92+Z92 | Y92: 0 | Z92: 0 | AA92: =AB92+AC92 | AB92: 1 | AC92: 0 | AD92: =AE92+AF92 | AE92: 0 | AF92: 0 | AG92: =AH92+AI92 | AH92: 0 | AI92: 0 | AJ92: =AK92+AL92 | AK92: 1.88 | AL92: 0 | AM92: =AN92+AO92 | AN92: 0 | AO92: 0 | AP92: =AQ92+AR92 | AQ92: 0 | AR92: 0 | AS92: =AT92+AU92 | AT92: 0 | AU92: 0 | AV92: =C92+F92+I92+L92+O92+R92+U92+X92+AA92+AD92+AG92+AJ92+AM92+AP92+AS92
A93: 89 | B93: [Person_16] | C93: =D93+E93 | D93: 1 | E93: 0 | F93: =G93+H93 | G93: 0 | H93: 0 | I93: =J93+K93 | J93: 0 | K93: 0 | L93: =M93+N93 | M93: 7 | N93: 1 | O93: =P93+Q93 | P93: 0.2 | Q93: 0.2 | R93: =S93+T93 | S93: 0.8 | T93: 0 | U93: =V93+W93 | V93: 0 | W93: 0 | X93: =Y93+Z93 | Y93: 0 | Z93: 0 | AA93: =AB93+AC93 | AB93: 0 | AC93: 0 | AD93: =AE93+AF93 | AE93: 0 | AF93: 0 | AG93: =AH93+AI93 | AH93: 0 | AI93: 0 | AJ93: =AK93+AL93 | AK93: 0 | AL93: 0.8 | AM93: =AN93+AO93 | AN93: 0 | AO93: 0 | AP93: =AQ93+AR93 | AQ93: 0 | AR93: 0 | AS93: =AT93+AU93 | AT93: 0 | AU93: 0 | AV93: =C93+F93+I93+L93+O93+R93+U93+X93+AA93+AD93+AG93+AJ93+AM93+AP93+AS93
A94: 3D | B94: Spectrum Acad | C94: =D94+E94 | D94: 0 | E94: 0 | F94: =G94+H94 | G94: 0 | H94: 0 | I94: =J94+K94 | J94: 0 | K94: 0 | L94: =M94+N94 | M94: 0.5 | N94: 0 | O94: =P94+Q94 | P94: 0 | Q94: 0 | R94: =S94+T94 | S94: =11.667+1 | T94: 0.5 | U94: =V94+W94 | V94: 0 | W94: 0 | X94: =Y94+Z94 | Y94: 0 | Z94: 0 | AA94: =AB94+AC94 | AB94: 0 | AC94: 0 | AD94: =AE94+AF94 | AE94: 0 | AF94: 0 | AG94: =AH94+AI94 | AH94: 0 | AI94: 0 | AJ94: =AK94+AL94 | AK94: 1.111 | AL94: 0 | AM94: =AN94+AO94 | AN94: 1 | AO94: 0 | AP94: =AQ94+AR94 | AQ94: 0 | AR94: 0 | AS94: =AT94+AU94 | AT94: 0 | AU94: 0 | AV94: =C94+F94+I94+L94+O94+R94+U94+X94+AA94+AD94+AG94+AJ94+AM94+AP94+AS94
A95: A9 | B95: SUCCESS Acad | C95: =D95+E95 | D95: 0 | E95: 0 | F95: =G95+H95 | G95: 0 | H95: 0 | I95: =J95+K95 | J95: 0 | K95: 0 | L95: =M95+N95 | M95: 0 | N95: 0 | O95: =P95+Q95 | P95: 2 | Q95: 3 | R95: =S95+T95 | S95: 0 | T95: 0 | U95: =V95+W95 | V95: 0 | W95: 0 | X95: =Y95+Z95 | Y95: 0 | Z95: 0 | AA95: =AB95+AC95 | AB95: 0 | AC95: 1 | AD95: =AE95+AF95 | AE95: 0 | AF95: 0 | AG95: =AH95+AI95 | AH95: 0 | AI95: 0 | AJ95: =AK95+AL95 | AK95: 1 | AL95: 0 | AM95: =AN95+AO95 | AN95: 0 | AO95: 0 | AP95: =AQ95+AR95 | AQ95: 0 | AR95: 0 | AS95: =AT95+AU95 | AT95: 0 | AU95: 0 | AV95: =C95+F95+I95+L95+O95+R95+U95+X95+AA95+AD95+AG95+AJ95+AM95+AP95+AS95
A96: 88 | B96: Success School | C96: =D96+E96 | D96: 0 | E96: 0 | F96: =G96+H96 | G96: 0 | H96: 0 | I96: =J96+K96 | J96: 0 | K96: 0 | L96: =M96+N96 | M96: 0 | N96: 0 | O96: =P96+Q96 | P96: 1 | Q96: 1 | R96: =S96+T96 | S96: 0 | T96: 0 | U96: =V96+W96 | V96: 0 | W96: 0 | X96: =Y96+Z96 | Y96: 0 | Z96: 0 | AA96: =AB96+AC96 | AB96: 0 | AC96: 0 | AD96: =AE96+AF96 | AE96: 0 | AF96: 0 | AG96: =AH96+AI96 | AH96: 0 | AI96: 0 | AJ96: =AK96+AL96 | AK96: 0 | AL96: 0 | AM96: =AN96+AO96 | AN96: 0 | AO96: 0 | AP96: =AQ96+AR96 | AQ96: 0 | AR96: 0 | AS96: =AT96+AU96 | AT96: 0 | AU96: 0 | AV96: =C96+F96+I96+L96+O96+R96+U96+X96+AA96+AD96+AG96+AJ96+AM96+AP96+AS96
A97: A4 | B97: Summit Acad | C97: =D97+E97 | D97: 0 | E97: 0 | F97: =G97+H97 | G97: 0 | H97: 0 | I97: =J97+K97 | J97: 2 | K97: 0 | L97: =M97+N97 | M97: 23.553 | N97: 1 | O97: =P97+Q97 | P97: 8.243 | Q97: 2 | R97: =S97+T97 | S97: 1.285 | T97: 0 | U97: =V97+W97 | V97: 0 | W97: 0 | X97: =Y97+Z97 | Y97: 0 | Z97: 0 | AA97: =AB97+AC97 | AB97: 0 | AC97: 0 | AD97: =AE97+AF97 | AE97: 0 | AF97: 0 | AG97: =AH97+AI97 | AH97: 0 | AI97: 0 | AJ97: =AK97+AL97 | AK97: 1 | AL97: 1 | AM97: =AN97+AO97 | AN97: 0 | AO97: 0 | AP97: =AQ97+AR97 | AQ97: 0 | AR97: 0 | AS97: =AT97+AU97 | AT97: 0.67 | AU97: 0 | AV97: =C97+F97+I97+L97+O97+R97+U97+X97+AA97+AD97+AG97+AJ97+AM97+AP97+AS97
A98: 4D | B98: Syracuse Arts | C98: =D98+E98 | D98: 0 | E98: 0 | F98: =G98+H98 | G98: 0 | H98: 0 | I98: =J98+K98 | J98: 2 | K98: 0 | L98: =M98+N98 | M98: 17 | N98: 2 | O98: =P98+Q98 | P98: 0 | Q98: 0 | R98: =S98+T98 | S98: 1 | T98: 0 | U98: =V98+W98 | V98: 0 | W98: 0 | X98: =Y98+Z98 | Y98: 0 | Z98: 0 | AA98: =AB98+AC98 | AB98: 0 | AC98: 0 | AD98: =AE98+AF98 | AE98: 0 | AF98: 0 | AG98: =AH98+AI98 | AH98: 0 | AI98: 0 | AJ98: =AK98+AL98 | AK98: 1 | AL98: 0 | AM98: =AN98+AO98 | AN98: 0 | AO98: 0 | AP98: =AQ98+AR98 | AQ98: 0 | AR98: 0 | AS98: =AT98+AU98 | AT98: 0 | AU98: 0 | AV98: =C98+F98+I98+L98+O98+R98+U98+X98+AA98+AD98+AG98+AJ98+AM98+AP98+AS98
A99: 94 | B99: [Person_17] | C99: =D99+E99 | D99: 0 | E99: 0 | F99: =G99+H99 | G99: 0 | H99: 0 | I99: =J99+K99 | J99: 1 | K99: 0 | L99: =M99+N99 | M99: 11.3 | N99: 2.4 | O99: =P99+Q99 | P99: 3.2 | Q99: 1.6 | R99: =S99+T99 | S99: 2 | T99: 0 | U99: =V99+W99 | V99: 0 | W99: 0 | X99: =Y99+Z99 | Y99: 0 | Z99: 0 | AA99: =AB99+AC99 | AB99: 0 | AC99: 0 | AD99: =AE99+AF99 | AE99: 0 | AF99: 0 | AG99: =AH99+AI99 | AH99: 0 | AI99: 0 | AJ99: =AK99+AL99 | AK99: 0 | AL99: 1 | AM99: =AN99+AO99 | AN99: 0 | AO99: 0 | AP99: =AQ99+AR99 | AQ99: 0 | AR99: 0 | AS99: =AT99+AU99 | AT99: 0 | AU99: 0 | AV99: =C99+F99+I99+L99+O99+R99+U99+X99+AA99+AD99+AG99+AJ99+AM99+AP99+AS99
A100: 6B | B100: [Person_18] | C100: =D100+E100 | D100: 0 | E100: 0 | F100: =G100+H100 | G100: 0 | H100: 0 | I100: =J100+K100 | J100: 2 | K100: 0 | L100: =M100+N100 | M100: 11 | N100: 3.4 | O100: =P100+Q100 | P100: 3 | Q100: 0.6 | R100: =S100+T100 | S100: 0.944 | T100: 1 | U100: =V100+W100 | V100: 1 | W100: 0 | X100: =Y100+Z100 | Y100: 0 | Z100: 0 | AA100: =AB100+AC100 | AB100: 0 | AC100: 0 | AD100: =AE100+AF100 | AE100: 0 | AF100: 0 | AG100: =AH100+AI100 | AH100: 0 | AI100: 0 | AJ100: =AK100+AL100 | AK100: 0 | AL100: 1 | AM100: =AN100+AO100 | AN100: 1 | AO100: 0 | AP100: =AQ100+AR100 | AQ100: 0 | AR100: 0 | AS100: =AT100+AU100 | AT100: 0 | AU100: 0 | AV100: =C100+F100+I100+L100+O100+R100+U100+X100+AA100+AD100+AG100+AJ100+AM100+AP100+AS100
A101: 95 | B101: [Person_27]. | C101: =D101+E101 | D101: 0 | E101: 0 | F101: =G101+H101 | G101: 0 | H101: 0 | I101: =J101+K101 | J101: 1 | K101: 0 | L101: =M101+N101 | M101: 14.63 | N101: 0.75 | O101: =P101+Q101 | P101: 3.87 | Q101: 3 | R101: =S101+T101 | S101: 0 | T101: 1 | U101: =V101+W101 | V101: 0 | W101: 0 | X101: =Y101+Z101 | Y101: 0 | Z101: 0 | AA101: =AB101+AC101 | AB101: 0 | AC101: 0 | AD101: =AE101+AF101 | AE101: 0 | AF101: 0.75 | AG101: =AH101+AI101 | AH101: 0 | AI101: 0 | AJ101: =AK101+AL101 | AK101: 0 | AL101: 1 | AM101: =AN101+AO101 | AN101: 0 | AO101: 0 | AP101: =AQ101+AR101 | AQ101: 0 | AR101: 0 | AS101: =AT101+AU101 | AT101: 0 | AU101: 0 | AV101: =C101+F101+I101+L101+O101+R101+U101+X101+AA101+AD101+AG101+AJ101+AM101+AP101+AS101
A102: 90 | B102: Tuacahn High | C102: =D102+E102 | D102: 0 | E102: 0 | F102: =G102+H102 | G102: 0 | H102: 0 | I102: =J102+K102 | J102: 0 | K102: 0 | L102: =M102+N102 | M102: 0 | N102: 0 | O102: =P102+Q102 | P102: 6.336 | Q102: 6 | R102: =S102+T102 | S102: 0 | T102: 0 | U102: =V102+W102 | V102: 0 | W102: 0.34 | X102: =Y102+Z102 | Y102: 0 | Z102: 0 | AA102: =AB102+AC102 | AB102: 1 | AC102: 0 | AD102: =AE102+AF102 | AE102: 1 | AF102: 0 | AG102: =AH102+AI102 | AH102: 0 | AI102: 0 | AJ102: =AK102+AL102 | AK102: 0.5 | AL102: 1.96 | AM102: =AN102+AO102 | AN102: 0 | AO102: 0 | AP102: =AQ102+AR102 | AQ102: 0 | AR102: 0 | AS102: =AT102+AU102 | AT102: 0 | AU102: 0 | AV102: =C102+F102+I102+L102+O102+R102+U102+X102+AA102+AD102+AG102+AJ102+AM102+AP102+AS102
A103: 1B | B103: UCAS | C103: =D103+E103 | D103: 0 | E103: 0 | F103: =G103+H103 | G103: 0 | H103: 0 | I103: =J103+K103 | J103: 0 | K103: 0 | L103: =M103+N103 | M103: 0 | N103: 0 | O103: =P103+Q103 | P103: 4.4 | Q103: 5.2 | R103: =S103+T103 | S103: 0 | T103: 0 | U103: =V103+W103 | V103: 0 | W103: 0 | X103: =Y103+Z103 | Y103: 0 | Z103: 0 | AA103: =AB103+AC103 | AB103: 0.9 | AC103: 1.62 | AD103: =AE103+AF103 | AE103: 0 | AF103: 0 | AG103: =AH103+AI103 | AH103: 0 | AI103: 0 | AJ103: =AK103+AL103 | AK103: 0.1 | AL103: 1.18 | AM103: =AN103+AO103 | AN103: 0 | AO103: 0 | AP103: =AQ103+AR103 | AQ103: 0 | AR103: 0 | AS103: =AT103+AU103 | AT103: 0 | AU103: 0 | AV103: =C103+F103+I103+L103+O103+R103+U103+X103+AA103+AD103+AG103+AJ103+AM103+AP103+AS103
A104: 92 | B104: Uintah River | C104: =D104+E104 | D104: 0 | E104: 0 | F104: =G104+H104 | G104: 0 | H104: 0 | I104: =J104+K104 | J104: 0 | K104: 0 | L104: =M104+N104 | M104: 0 | N104: 0 | O104: =P104+Q104 | P104: 1 | Q104: 0.793 | R104: =S104+T104 | S104: 1 | T104: 0 | U104: =V104+W104 | V104: 0 | W104: 0 | X104: =Y104+Z104 | Y104: 0 | Z104: 0 | AA104: =AB104+AC104 | AB104: 0 | AC104: 1 | AD104: =AE104+AF104 | AE104: 0 | AF104: 0 | AG104: =AH104+AI104 | AH104: 0 | AI104: 0 | AJ104: =AK104+AL104 | AK104: 0 | AL104: 1 | AM104: =AN104+AO104 | AN104: 0 | AO104: 0 | AP104: =AQ104+AR104 | AQ104: 0 | AR104: 0 | AS104: =AT104+AU104 | AT104: 0 | AU104: 0 | AV104: =C104+F104+I104+L104+O104+R104+U104+X104+AA104+AD104+AG104+AJ104+AM104+AP104+AS104
...

Sheet Classified FTEs
A1: CLASSIFIED PERSONNEL FTEs
A2: FY 2008
C4: 1000 Instruction | D4: 2000 Support Services | AC4: 3100 School Food Services | AG4: 4000 Facilities Acquistion/ Construction | AJ4: TOTAL CLASSIFIED PERSONNEL
D5: 2100 Students | F5: 2200 Instructional Staff | H5: 2300 District Gen. [Person_28]. | J5: 2400 Sch. Admin. | K5: 2500 Business | Q5: 2600 Maintenance & Operation | U5: 2700 Student Transportation | Z5: 2900 Other
B6: District | C6: Tchr. Aides & Para- professional | D6: Health Services Personnel | E6: Secretary/ Clerical | F6: Secretary/ Clerical | G6: Media Center Aides | H6: Supv. and Directors | I6: Secretary/ Clerical | J6: Secretary/ Clerical | K6: School Business Admin. | L6: Supv. and Directors | M6: Accounting Personnel | N6: Secretary/ Clerical | O6: Other Personnel | P6: TOTAL BUSINESS | Q6: Secretary/ Clerical | R6: Supervisors | S6: Custodians/ Maintenance | T6: TOTAL M&O | U6: Secretary/ Clerical | V6: Supervisors | W6: Bus Drivers | X6: Mechanics/ Garage Personnel | Y6: TOTAL TRANS. | Z6: Supv. and Directors | AA6: Other Personnel | AB6: TOTAL OTHER | AC6: Supv. and Directors | AD6: Secretary/ Clerical | AE6: Food Service Personnel | AF6: TOTAL SCHOOL FOODS | AG6: Building/ Construction | AH6: Supv. and Directors | AI6: TOTAL FACILITY/ CONSTR.
A7: 1 | B7: Alpine | C7: 700.64 | D7: 0 | E7: 10.42 | F7: 29.85 | G7: 57.12 | H7: 0 | I7: 1 | J7: 188.21 | K7: 1 | L7: 8 | M7: 3 | N7: 8.28 | O7: 76.86 | P7: =SUM(K7:O7) | Q7: 2 | R7: 9 | S7: 345.8 | T7: =SUM(Q7:S7) | U7: 6.67 | V7: 4 | W7: 164.38 | X7: 6 | Y7: =SUM(U7:X7) | Z7: 0 | AA7: 0 | AB7: =SUM(Z7:AA7) | AC7: 5 | AD7: 2 | AE7: 269.06 | AF7: =SUM(AC7:AE7) | AG7: 0 | AH7: 0 | AI7: =SUM(AG7:AH7) | AJ7: =SUM(C7:J7)+P7+T7+Y7+AB7+AF7+AI7
A8: 2 | B8: Beaver | C8: 33.15 | D8: 0.2 | E8: 0 | F8: 0 | G8: 2.9 | H8: 0 | I8: 1.49 | J8: 5.54 | K8: 0 | L8: 0 | M8: 0 | N8: 1 | O8: 0 | P8: =SUM(K8:O8) | Q8: 0 | R8: 0 | S8: 13.51 | T8: =SUM(Q8:S8) | U8: 0.35 | V8: 0 | W8: 4.75 | X8: 0 | Y8: =SUM(U8:X8) | Z8: 0 | AA8: 0 | AB8: =SUM(Z8:AA8) | AC8: 0.25 | AD8: 0 | AE8: 7.13 | AF8: =SUM(AC8:AE8) | AG8: 0.5 | AH8: 0.5 | AI8: =SUM(AG8:AH8) | AJ8: =SUM(C8:J8)+P8+T8+Y8+AB8+AF8+AI8
A9: 3 | B9: [Person_1] | C9: 134 | D9: 3 | E9: 8 | F9: 5 | G9: 12 | H9: 0 | I9: 4 | J9: 16 | K9: 1 | L9: 1 | M9: 0 | N9: 3 | O9: 0 | P9: =SUM(K9:O9) | Q9: 1.5 | R9: 16 | S9: 61 | T9: =SUM(Q9:S9) | U9: 2 | V9: 1 | W9: 79 | X9: 3 | Y9: =SUM(U9:X9) | Z9: 0 | AA9: 0 | AB9: =SUM(Z9:AA9) | AC9: 1 | AD9: 1 | AE9: 82 | AF9: =SUM(AC9:AE9) | AG9: 0 | AH9: 0 | AI9: =SUM(AG9:AH9) | AJ9: =SUM(C9:J9)+P9+T9+Y9+AB9+AF9+AI9
A10: 4 | B10: Cache | C10: 299.87 | D10: 2 | E10: 0.39 | F10: 0 | G10: 0 | H10: 0 | I10: 13.93 | J10: 35.85 | K10: 1 | L10: 1 | M10: 1 | N10: 2.86 | O10: 0 | P10: =SUM(K10:O10) | Q10: 0 | R10: 0 | S10: 91.98 | T10: =SUM(Q10:S10) | U10: 3 | V10: 3.66 | W10: 78.48 | X10: 5 | Y10: =SUM(U10:X10) | Z10: 2 | AA10: 17.65 | AB10: =SUM(Z10:AA10) | AC10: 22 | AD10: 1 | AE10: 49.22 | AF10: =SUM(AC10:AE10) | AG10: 2 | AH10: 0 | AI10: =SUM(AG10:AH10) | AJ10: =SUM(C10:J10)+P10+T10+Y10+AB10+AF10+AI10
A11: 5 | B11: Carbon | C11: 81.37 | D11: 0 | E11: 0 | F11: 0 | G11: 4.41 | H11: 2 | I11: 3.58 | J11: 15.95 | K11: 1 | L11: 0 | M11: 3.64 | N11: 2.64 | O11: 0 | P11: =SUM(K11:O11) | Q11: 0.88 | R11: 1 | S11: 33.68 | T11: =SUM(Q11:S11) | U11: 0.48 | V11: 1 | W11: 10.93 | X11: 4 | Y11: =SUM(U11:X11) | Z11: 0 | AA11: 7.88 | AB11: =SUM(Z11:AA11) | AC11: 1 | AD11: 1.66 | AE11: 17.03 | AF11: =SUM(AC11:AE11) | AG11: 0 | AH11: 0 | AI11: =SUM(AG11:AH11) | AJ11: =SUM(C11:J11)+P11+T11+Y11+AB11+AF11+AI11
A12: 6 | B12: Daggett | C12: 4.75 | D12: 0.17 | E12: 0 | F12: 0 | G12: 0 | H12: 0 | I12: 1 | J12: 2 | K12: 0.85 | L12: 0 | M12: 0 | N12: 0 | O12: 0 | P12: =SUM(K12:O12) | Q12: 0 | R12: 0 | S12: 4.48 | T12: =SUM(Q12:S12) | U12: 0.15 | V12: 0 | W12: 1.53 | X12: 0.41 | Y12: =SUM(U12:X12) | Z12: 0 | AA12: 0 | AB12: =SUM(Z12:AA12) | AC12: 0 | AD12: 0 | AE12: 1.92 | AF12: =SUM(AC12:AE12) | AG12: 0 | AH12: 0 | AI12: =SUM(AG12:AH12) | AJ12: =SUM(C12:J12)+P12+T12+Y12+AB12+AF12+AI12
A13: 7 | B13: [Person_2] | C13: 970.47 | D13: 0 | E13: 2 | F13: 54.27 | G13: 60.5 | H13: 8 | I13: 3.06 | J13: 160.85 | K13: 1 | L13: 4 | M13: 11 | N13: 36.52 | O13: 63.88 | P13: =SUM(K13:O13) | Q13: 8.18 | R13: 6 | S13: 498.82 | T13: =SUM(Q13:S13) | U13: 7.86 | V13: 1.4 | W13: 149.12 | X13: 15.41 | Y13: =SUM(U13:X13) | Z13: 4 | AA13: 104.37 | AB13: =SUM(Z13:AA13) | AC13: 6.45 | AD13: 3.65 | AE13: 232.3 | AF13: =SUM(AC13:AE13) | AG13: 12.5 | AH13: 2 | AI13: =SUM(AG13:AH13) | AJ13: =SUM(C13:J13)+P13+T13+Y13+AB13+AF13+AI13
A14: 8 | B14: Duchesne | C14: 86.22 | D14: 0 | E14: 0 | F14: 0 | G14: 4.93 | H14: 0 | I14: 1 | J14: 19.73 | K14: 1 | L14: 0 | M14: 3.5 | N14: 3 | O14: 0 | P14: =SUM(K14:O14) | Q14: 0 | R14: 1 | S14: 42.07 | T14: =SUM(Q14:S14) | U14: 1 | V14: 2 | W14: 18.31 | X14: 3.38 | Y14: =SUM(U14:X14) | Z14: 0 | AA14: 0 | AB14: =SUM(Z14:AA14) | AC14: 1 | AD14: 1 | AE14: 24.74 | AF14: =SUM(AC14:AE14) | AG14: 4 | AH14: 0 | AI14: =SUM(AG14:AH14) | AJ14: =SUM(C14:J14)+P14+T14+Y14+AB14+AF14+AI14
A15: 9 | B15: Emery | C15: 37.81 | D15: 0 | E15: 0.88 | F15: 0 | G15: 5.88 | H15: 0 | I15: 0.5 | J15: 10.46 | K15: 1 | L15: 0 | M15: 2 | N15: 0 | O15: 0 | P15: =SUM(K15:O15) | Q15: 1 | R15: 0 | S15: 32 | T15: =SUM(Q15:S15) | U15: 1 | V15: 1 | W15: 7.96 | X15: 1 | Y15: =SUM(U15:X15) | Z15: 0 | AA15: 0 | AB15: =SUM(Z15:AA15) | AC15: 1 | AD15: 0 | AE15: 11.51 | AF15: =SUM(AC15:AE15) | AG15: 0 | AH15: 1 | AI15: =SUM(AG15:AH15) | AJ15: =SUM(C15:J15)+P15+T15+Y15+AB15+AF15+AI15
A16: 10 | B16: [Person_3] | C16: 26 | D16: 0.5 | E16: 0 | F16: 0 | G16: 4.45 | H16: 0 | I16: 1 | J16: 7 | K16: 0 | L16: 1 | M16: 1 | N16: 1.08 | O16: 0 | P16: =SUM(K16:O16) | Q16: 0 | R16: 0 | S16: 9.08 | T16: =SUM(Q16:S16) | U16: 0 | V16: 1 | W16: 5.84 | X16: 0 | Y16: =SUM(U16:X16) | Z16: 0 | AA16: 0 | AB16: =SUM(Z16:AA16) | AC16: 1 | AD16: 0 | AE16: 8.25 | AF16: =SUM(AC16:AE16) | AG16: 1 | AH16: 1 | AI16: =SUM(AG16:AH16) | AJ16: =SUM(C16:J16)+P16+T16+Y16+AB16+AF16+AI16
A17: 11 | B17: Grand | C17: 45 | D17: 0 | E17: 1 | F17: 0 | G17: 0 | H17: 0 | I17: 2 | J17: 7 | K17: 1 | L17: 1 | M17: 1 | N17: 0 | O17: 0 | P17: =SUM(K17:O17) | Q17: 0 | R17: 1 | S17: 15 | T17: =SUM(Q17:S17) | U17: 0 | V17: 1 | W17: 8 | X17: 1 | Y17: =SUM(U17:X17) | Z17: 2 | AA17: 0.5 | AB17: =SUM(Z17:AA17) | AC17: 1 | AD17: 0 | AE17: 13 | AF17: =SUM(AC17:AE17) | AG17: 0 | AH17: 0 | AI17: =SUM(AG17:AH17) | AJ17: =SUM(C17:J17)+P17+T17+Y17+AB17+AF17+AI17
A18: 12 | B18: Granite | C18: 786.15 | D18: 18.21 | E18: 66.65 | F18: 129.34 | G18: 0 | H18: 3.5 | I18: 6.32 | J18: 135.53 | K18: 1 | L18: 6.17 | M18: 3 | N18: 34.18 | O18: 53.89 | P18: =SUM(K18:O18) | Q18: 9.28 | R18: 25.05 | S18: 472.83 | T18: =SUM(Q18:S18) | U18: 3.5 | V18: 2 | W18: 132.57 | X18: 9.56 | Y18: =SUM(U18:X18) | Z18: 0 | AA18: 0 | AB18: =SUM(Z18:AA18) | AC18: 41.43 | AD18: 21.9 | AE18: 417.07 | AF18: =SUM(AC18:AE18) | AG18: 80.87 | AH18: 1 | AI18: =SUM(AG18:AH18) | AJ18: =SUM(C18:J18)+P18+T18+Y18+AB18+AF18+AI18
... A46: 35 | B46: Weber | C46: 351.35 | D46: 14 | E46: 11.62 | F46: 13.3 | G46: 27.27 | H46: 0 | I46: 4.63 | J46: 68 | K46: 0 | L46: 0 | M46: 15.13 | N46: 0 | O46: 0 | P46: =SUM(K46:O46) | Q46: 2 | R46: 2 | S46: 138.38 | T46: =SUM(Q46:S46) | U46: 3 | V46: 2 | W46: 89.13 | X46: 7 | Y46: =SUM(U46:X46) | Z46: 0 | AA46: 19.5 | AB46: =SUM(Z46:AA46) | AC46: 3 | AD46: 2 | AE46: 169.82 | AF46: =SUM(AC46:AE46) | AG46: 7 | AH46: 0 | AI46: =SUM(AG46:AH46) | AJ46: =SUM(C46:J46)+P46+T46+Y46+AB46+AF46+AI46
B47: DISTRICT TOTAL | C47: =SUM(C7:C46) | D47: =SUM(D7:D46) | E47: =SUM(E7:E46) | F47: =SUM(F7:F46) | G47: =SUM(G7:G46) | H47: =SUM(H7:H46) | I47: =SUM(I7:I46) | J47: =SUM(J7:J46) | ... AI47: =SUM(AI7:AI46) | AJ47: =SUM(C47:J47)+P47+T47+Y47+AB47+AF47+AI47
B48: Charter School | AJ48: =SUM(C48:J48)+P48+T48+Y48+AB48+AF48+AI48
A49: 8B | B49: American Leadership | C49: 20 | D49: 0.1 | E49: 3 | F49: 7 | G49: 0.5 | H49: 5 | I49: 1 | J49: 0 | K49: 0 | L49: 0 | M49: 1 | N49: 0 | O49: 0 | P49: =SUM(K49:O49) | Q49: 0 | R49: 0 | S49: 3 | T49: =SUM(Q49:S49) | U49: 0 | V49: 0 | W49: 1 | X49: 0 | Y49: =SUM(U49:X49) | Z49: 0 | AA49: 0 | AB49: =SUM(Z49:AA49) | AC49: 1 | AD49: 0 | AE49: 0 | AF49: =SUM(AC49:AE49) | AG49: 0 | AH49: 0 | AI49: =SUM(AG49:AH49) | AJ49: =SUM(C49:J49)+P49+T49+Y49+AB49+AF49+AI49
A50: 74 | B50: American Prep | C50: 16.75 | D50: 0.25 | E50: 2 | F50: 1 | G50: 0 | H50: 0 | I50: 0 | J50: 5.25 | K50: 1 | L50: 0 | M50: 0 | N50: 1.75 | O50: 0 | P50: =SUM(K50:O50) | Q50: 0 | R50: 0 | S50: 1.75 | T50: =SUM(Q50:S50) | U50: 0 | V50: 0 | W50: 0 | X50: 0 | Y50: =SUM(U50:X50) | Z50: 0 | AA50: 0 | AB50: =SUM(Z50:AA50) | AC50: 0 | AD50: 0 | AE50: 0 | AF50: =SUM(AC50:AE50) | AG50: 0 | AH50: 0 | AI50: =SUM(AG50:AH50) | AJ50: =SUM(C50:J50)+P50+T50+Y50+AB50+AF50+AI50
A51: 83 | B51: AMES | C51: 1.84 | D51: 0 | E51: 1.32 | F51: 0 | G51: 0.56 | H51: 0 | I51: 0 | J51: 0.91 | K51: 1 | L51: 0 | M51: 0.13 | N51: 0 | O51: 0.13 | P51: =SUM(K51:O51) | Q51: 0 | R51: 0 | S51: 0 | T51: =SUM(Q51:S51) | U51: 0 | V51: 0 | W51: 0 | X51: 0 | Y51: =SUM(U51:X51) | Z51: 0 | AA51: 0 | AB51: =SUM(Z51:AA51) | AC51: 0 | AD51: 0 | AE51: 0 | AF51: =SUM(AC51:AE51) | AG51: 0 | AH51: 0 | AI51: =SUM(AG51:AH51) | AJ51: =SUM(C51:J51)+P51+T51+Y51+AB51+AF51+AI51
A52: 3B | B52: BSTA | C52: 0 | D52: 0 | E52: 0 | F52: 0.4 | G52: 0 | H52: 1 | I52: 0.6 | J52: 1 | K52: 1 | L52: 0 | M52: 0 | N52: 0 | O52: 0 | P52: =SUM(K52:O52) | Q52: 0 | R52: 0 | S52: 1 | T52: =SUM(Q52:S52) | U52: 0 | V52: 0 | W52: 0 | X52: 0 | Y52: =SUM(U52:X52) | Z52: 0 | AA52: 0 | AB52: =SUM(Z52:AA52) | AC52: 0 | AD52: 0 | AE52: 0 | AF52: =SUM(AC52:AE52) | AG52: 0 | AH52: 0 | AI52: =SUM(AG52:AH52) | AJ52: =SUM(C52:J52)+P52+T52+Y52+AB52+AF52+AI52
A53: 9D | B53: Canyon Rim Academy | C53: 8.41 | D53: 0 | E53: 0 | F53: 0 | G53: 0.54 | H53: 0 | I53: 0 | J53: 2.24 | K53: 0 | L53: 0 | M53: 0 | N53: 0 | O53: 0 | P53: =SUM(K53:O53) | Q53: 0 | R53: 1.08 | S53: 0.97 | T53: =SUM(Q53:S53) | U53: 0 | V53: 0 | W53: 0 | X53: 0 | Y53: =SUM(U53:X53) | Z53: 0 | AA53: 0 | AB53: =SUM(Z53:AA53) | AC53: 0.72 | AD53: 0 | AE53: 0.65 | AF53: =SUM(AC53:AE53) | AG53: 0 | AH53: 0 | AI53: =SUM(AG53:AH53) | AJ53: =SUM(C53:J53)+P53+T53+Y53+AB53+AF53+AI53
A54: 84 | B54: CBA Center | C54: 2.22 | D54: 0 | E54: 0 | F54: 0 | G54: 0 | H54: 0 | I54: 0 | J54: 0 | K54: 0 | L54: 0 | M54: 0 | N54: 0 | O54: 0 | P54: =SUM(K54:O54) | Q54: 0 | R54: 0 | S54: 0.31 | T54: =SUM(Q54:S54) | U54: 0 | V54: 0 | W54: 0.47 | X54: 0 | Y54: =SUM(U54:X54) | Z54: 0 | AA54: 0 | AB54: =SUM(Z54:AA54) | AC54: 0 | AD54: 0 | AE54: 0 | AF54: =SUM(AC54:AE54) | AG54: 0 | AH54: 0 | AI54: =SUM(AG54:AH54) | AJ54: =SUM(C54:J54)+P54+T54+Y54+AB54+AF54+AI54
A55: 2D | B55: [Person_9] | C55: 10.1 | D55: 0 | E55: 0 | F55: 0 | G55: 1.63 | H55: 0 | I55: 0 | J55: 1 | K55: 1 | L55: 0 | M55: 0.45 | N55: 0 | O55: 0 | P55: =SUM(K55:O55) | Q55: 0 | R55: 1 | S55: 1.61 | T55: =SUM(Q55:S55) | U55: 0 | V55: 0 | W55: 0 | X55: 0 | Y55: =SUM(U55:X55) | Z55: 0 | AA55: 0 | AB55: =SUM(Z55:AA55) | AC55: 1 | AD55: 0 | AE55: 1.28 | AF55: =SUM(AC55:AE55) | AG55: 0 | AH55: 0 | AI55: =SUM(AG55:AH55) | AJ55: =SUM(C55:J55)+P55+T55+Y55+AB55+AF55+AI55
A56: 87 | B56: City Academy | C56: 2.88 | D56: 0 | E56: 0 | F56: 0 | G56: 0.55 | H56: 0 | I56: 0 | J56: 1.16 | K56: 0.25 | L56: 0.08 | M56: 0 | N56: 0 | O56: 2.2 | P56: =SUM(K56:O56) | Q56: 0 | R56: 1 | S56: 0.55 | T56: =SUM(Q56:S56) | U56: 0 | V56: 0 | W56: 0 | X56: 0 | Y56: =SUM(U56:X56) | Z56: 0 | AA56: 0 | AB56: =SUM(Z56:AA56) | AC56: 0 | AD56: 0 | AE56: 0 | AF56: =SUM(AC56:AE56) | AG56: 0 | AH56: 0 | AI56: =SUM(AG56:AH56) | AJ56: =SUM(C56:J56)+P56+T56+Y56+AB56+AF56+AI56
A57: 3E | B57: CS Lewis Academy | C57: 2 | D57: 0 | E57: 1 | F57: 0 | G57: 0 | H57: 0 | I57: 0 | J57: 2 | K57: 1 | L57: 0 | M57: 0 | N57: 0 | O57: 0 | P57: =SUM(K57:O57) | Q57: 0 | R57: 0 | S57: 1 | T57: =SUM(Q57:S57) | U57: 0 | V57: 0 | W57: 0 | X57: 0 | Y57: =SUM(U57:X57) | Z57: 0 | AA57: 0 | AB57: =SUM(Z57:AA57) | AC57: 0 | AD57: 0 | AE57: 0 | AF57: =SUM(AC57:AE57) | AG57: 0 | AH57: 0 | AI57: =SUM(AG57:AH57) | AJ57: =SUM(C57:J57)+P57+T57+Y57+AB57+AF57+AI57
A58: A3 | B58: DaVinci | C58: 1 | D58: 0 | E58: 1 | F58: 1 | G58: 0 | H58: 0.5 | I58: 0 | J58: 0.5 | K58: 1 | L58: 0 | M58: 0 | N58: 0 | O58: 0 | P58: =SUM(K58:O58) | Q58: 0 | R58: 0 | S58: 1 | T58: =SUM(Q58:S58) | U58: 0 | V58: 0 | W58: 0 | X58: 0 | Y58: =SUM(U58:X58) | Z58: 0 | AA58: 0 | AB58: =SUM(Z58:AA58) | AC58: 0 | AD58: 0 | AE58: 1 | AF58: =SUM(AC58:AE58) | AG58: 0 | AH58: 0 | AI58: =SUM(AG58:AH58) | AJ58: =SUM(C58:J58)+P58+T58+Y58+AB58+AF58+AI58
A59: 4E | B59: Dual Immersion Academy | C59: 3.75 | D59: 0 | E59: 1.5 | F59: 0 | G59: 0 | H59: 3 | I59: 0 | J59: 1 | K59: 0 | L59: 0 | M59: 0 | N59: 0 | O59: 0 | P59: =SUM(K59:O59) | Q59: 0 | R59: 0 | S59: 1.25 | T59: =SUM(Q59:S59) | U59: 0 | V59: 0 | W59: 0 | X59: 0 | Y59: =SUM(U59:X59) | Z59: 0 | AA59: 0 | AB59: =SUM(Z59:AA59) | AC59: 1 | AD59: 0 | AE59: 1.5 | AF59: =SUM(AC59:AE59) | AG59: 0 | AH59: 0 | AI59: =SUM(AG59:AH59) | AJ59: =SUM(C59:J59)+P59+T59+Y59+AB59+AF59+AI59
A60: A8 | B60: East Hollywood | C60: 1 | D60: 0 | E60: 0.75 | F60: 0 | G60: 0 | H60: 0 | I60: 0 | J60: 1 | K60: 0.6 | L60: 0.6 | M60: 0 | N60: 0 | O60: 0 | P60: =SUM(K60:O60) | Q60: 0 | R60: 0 | S60: 2 | T60: =SUM(Q60:S60) | U60: 0 | V60: 0 | W60: 0 | X60: 0 | Y60: =SUM(U60:X60) | Z60: 0 | AA60: 0 | AB60: =SUM(Z60:AA60) | AC60: 0 | AD60: 0 | AE60: 0 | AF60: =SUM(AC60:AE60) | AG60: 0 | AH60: 0 | AI60: =SUM(AG60:AH60) | AJ60: =SUM(C60:J60)+P60+T60+Y60+AB60+AF60+AI60
A61: 5E | B61: [Person_10] | C61: 6.8 | D61: 0 | E61: 0 | F61: 0 | G61: 0 | H61: 0 | I61: 0 | J61: 1.75 | K61: 1 | L61: 0 | M61: 0 | N61: 0 | O61: 1 | P61: =SUM(K61:O61) | Q61: 0 | R61: 0 | S61: 0 | T61: =SUM(Q61:S61) | U61: 0 | V61: 0 | W61: 0 | X61: 0 | Y61: =SUM(U61:X61) | Z61: 0 | AA61: 0 | AB61: =SUM(Z61:AA61) | AC61: 1 | AD61: 0 | AE61: 0.64 | AF61: =SUM(AC61:AE61) | AG61: 0 | AH61: 0 | AI61: =SUM(AG61:AH61) | AJ61: =SUM(C61:J61)+P61+T61+Y61+AB61+AF61+AI61
A62: 3C | B62: Entheos | C62: 8.8 | D62: 0 | E62: 0 | F62: 0 | G62: 0 | H62: 0 | I62: 0 | J62: 0 | K62: 0 | L62: 0 | M62: 0 | N62: 0.2 | O62: 0 | P62: =SUM(K62:O62) | Q62: 0 | R62: 0 | S62: 1 | T62: =SUM(Q62:S62) | U62: 0 | V62: 0 | W62: 0.2 | X62: 0 | Y62: =SUM(U62:X62) | Z62: 0 | AA62: 0 | AB62: =SUM(Z62:AA62) | AC62: 0 | AD62: 0 | AE62: 1.6 | AF62: =SUM(AC62:AE62) | AG62: 0 | AH62: 0 | AI62: =SUM(AG62:AH62) | AJ62: =SUM(C62:J62)+P62+T62+Y62+AB62+AF62+AI62
A63: 98 | B63: Fast Forward | C63: 0.75 | D63: 0 | E63: 0 | F63: 0 | G63: 0 | H63: 0 | I63: 0 | J63: 1 | K63: 0.4 | L63: 0.4 | M63: 0 | N63: 0 | O63: 0.75 | P63: =SUM(K63:O63) | Q63: 0 | R63: 0 | S63: 1 | T63: =SUM(Q63:S63) | U63: 0 | V63: 0 | W63: 0 | X63: 0 | Y63: =SUM(U63:X63) | Z63: 0 | AA63: 0 | AB63: =SUM(Z63:AA63) | AC63: 0 | AD63: 0 | AE63: 0 | AF63: =SUM(AC63:AE63) | AG63: 0 | AH63: 0 | AI63: =SUM(AG63:AH63) | AJ63: =SUM(C63:J63)+P63+T63+Y63+AB63+AF63+AI63
A64: 82 | B64: Freedom Acad | C64: 0.8 | D64: 0.8 | E64: 1 | F64: 0 | G64: 0.4 | H64: 0 | I64: 0 | J64: 0 | K64: 1 | L64: 0 | M64: 0 | N64: 0 | O64: 0 | P64: =SUM(K64:O64) | Q64: 0 | R64: 1 | S64: 1 | T64: =SUM(Q64:S64) | U64: 0 | V64: 0 | W64: 0 | X64: 0 | Y64: =SUM(U64:X64) | Z64: 0 | AA64: 0 | AB64: =SUM(Z64:AA64) | AC64: 0.8 | AD64: 0.8 | AE64: 0.4 | AF64: =SUM(AC64:AE64) | AG64: 0 | AH64: 0 | AI64: =SUM(AG64:AH64) | AJ64: =SUM(C64:J64)+P64+T64+Y64+AB64+AF64+AI64
A65: 5D | B65: [Person_20] | C65: 4.46 | D65: 0 | E65: 0 | F65: 0 | G65: 0 | H65: 0 | I65: 0 | J65: 1.7 | K65: 0 | L65: 0 | M65: 0 | N65: 0 | O65: 0 | P65: =SUM(K65:O65) | Q65: 0 | R65: 0 | S65: 1 | T65: =SUM(Q65:S65) | U65: 0 | V65: 0 | W65: 0 | X65: 0 | Y65: =SUM(U65:X65) | Z65: 0 | AA65: 0 | AB65: =SUM(Z65:AA65) | AC65: 0 | AD65: 0 | AE65: 0 | AF65: =SUM(AC65:AE65) | AG65: 0 | AH65: 0 | AI65: =SUM(AG65:AH65) | AJ65: =SUM(C65:J65)+P65+T65+Y65+AB65+AF65+AI65
A66: 1E | B66: Guadalupe | C66: 4.35 | D66: 0 | E66: 0 | F66: 0 | G66: 0 | H66: 0.3 | I66: 0 | J66: 0.6 | K66: 0 | L66: 0 | M66: 0.6 | N66: 0 | O66: 0 | P66: =SUM(K66:O66) | Q66: 0 | R66: 0 | S66: 0 | T66: =SUM(Q66:S66) | U66: 0 | V66: 0 | W66: 1.8 | X66: 0 | Y66: =SUM(U66:X66) | Z66: 0 | AA66: 0 | AB66: =SUM(Z66:AA66) | AC66: 0 | AD66: 0 | AE66: 1 | AF66: =SUM(AC66:AE66) | AG66: 0 | AH66: 0 | AI66: =SUM(AG66:AH66) | AJ66: =SUM(C66:J66)+P66+T66+Y66+AB66+AF66+AI66
A67: 2C | B67: Intech | C67: 3 | D67: 0 | E67: 0.5 | F67: 0.5 | G67: 0 | H67: 0 | I67: 0 | J67: 0 | K67: 0.5 | L67: 0 | M67: 0.5 | N67: 0 | O67: 0 | P67: =SUM(K67:O67) | Q67: 0 | R67: 0 | S67: 0 | T67: =SUM(Q67:S67) | U67: 0 | V67: 0 | W67: 0 | X67: 0 | Y67: =SUM(U67:X67) | Z67: 0 | AA67: 0 | AB67: =SUM(Z67:AA67) | AC67: 0 | AD67: 0 | AE67: 0 | AF67: =SUM(AC67:AE67) | AG67: 0 | AH67: 0 | AI67: =SUM(AG67:AH67) | AJ67: =SUM(C67:J67)+P67+T67+Y67+AB67+AF67+AI67
A68: A5 | B68: Itineris | C68: 0 | D68: 0 | E68: 0 | F68: 1 | G68: 0 | H68: 0 | I68: 0 | J68: 2.5 | K68: 0 | L68: 0 | M68: 0 | N68: 0 | O68: 0 | P68: =SUM(K68:O68) | Q68: 0 | R68: 0 | S68: 0 | T68: =SUM(Q68:S68) | U68: 0 | V68: 0 | W68: 0 | X68: 0 | Y68: =SUM(U68:X68) | Z68: 0 | AA68: 0 | AB68: =SUM(Z68:AA68) | AC68: 0 | AD68: 0 | AE68: 0 | AF68: =SUM(AC68:AE68) | AG68: 0 | AH68: 0 | AI68: =SUM(AG68:AH68) | AJ68: =SUM(C68:J68)+P68+T68+Y68+AB68+AF68+AI68
A69: 93 | B69: [Person_12] | C69: 3.92 | D69: 0 | E69: 0 | F69: 0 | G69: 0 | H69: 0 | I69: 0 | J69: 0.9 | K69: 1 | L69: 0 | M69: 0 | N69: 0 | O69: 0 | P69: =SUM(K69:O69) | Q69: 0 | R69: 0 | S69: 0 | T69: =SUM(Q69:S69) | U69: 0 | V69: 0 | W69: 0.02 | X69: 0 | Y69: =SUM(U69:X69) | Z69: 0 | AA69: 0 | AB69: =SUM(Z69:AA69) | AC69: 0 | AD69: 0 | AE69: 0 | AF69: =SUM(AC69:AE69) | AG69: 0 | AH69: 0 | AI69: =SUM(AG69:AH69) | AJ69: =SUM(C69:J69)+P69+T69+Y69+AB69+AF69+AI69
A70: 4C | B70: Lakeview Acad | C70: 19 | D70: 0 | E70: 0 | F70: 0 | G70: 0 | H70: 0 | I70: 0 | J70: 2.5 | K70: 0 | L70: 0 | M70: 0 | N70: 0 | O70: 0 | P70: =SUM(K70:O70) | Q70: 0 | R70: 1 | S70: 2 | T70: =SUM(Q70:S70) | U70: 0 | V70: 0 | W70: 0 | X70: 0 | Y70: =SUM(U70:X70) | Z70: 0 | AA70: 0 | AB70: =SUM(Z70:AA70) | AC70: 1 | AD70: 0 | AE70: 1.5 | AF70: =SUM(AC70:AE70) | AG70: 0 | AH70: 0 | AI70: =SUM(AG70:AH70) | AJ70: =SUM(C70:J70)+P70+T70+Y70+AB70+AF70+AI70
A71: 5C | B71: Legacy Prep | C71: 19.45 | D71: 0 | E71: 1 | F71: 0 | G71: 0 | H71: 4 | I71: 2 | J71: 0 | K71: 0 | L71: 1 | M71: 1 | N71: 1 | O71: 0 | P71: =SUM(K71:O71) | Q71: 0 | R71: 0 | S71: 2.13 | T71: =SUM(Q71:S71) | U71: 0 | V71: 0 | W71: 0 | X71: 0 | Y71: =SUM(U71:X71) | Z71: 0 | AA71: 0 | AB71: =SUM(Z71:AA71) | AC71: 0 | AD71: 0 | AE71: 0 | AF71: =SUM(AC71:AE71) | AG71: 0 | AH71: 0 | AI71: =SUM(AG71:AH71) | AJ71: =SUM(C71:J71)+P71+T71+Y71+AB71+AF71+AI71
A72: 6C | B72: Liberty | C72: 1 | D72: 0 | E72: 0 | F72: 0 | G72: 0 | H72: 3 | I72: 0 | J72: 0 | K72: 1 | L72: 0 | M72: 0 | N72: 1 | O72: 0 | P72: =SUM(K72:O72) | Q72: 0 | R72: 0 | S72: 0 | T72: =SUM(Q72:S72) | U72: 0 | V72: 0 | W72: 0 | X72: 0 | Y72: =SUM(U72:X72) | Z72: 0 | AA72: 0 | AB72: =SUM(Z72:AA72) | AC72: 0 | AD72: 0 | AE72: 0 | AF72: =SUM(AC72:AE72) | AG72: 0 | AH72: 0 | AI72: =SUM(AG72:AH72) | AJ72: =SUM(C72:J72)+P72+T72+Y72+AB72+AF72+AI72
A73: 2B | B73: Lincoln Acad | C73: 22.5 | D73: 0 | E73: 0 | F73: 0 | G73: 1 | H73: 1 | I73: 0.1 | J73: 1.9 | K73: 1 | L73: 0 | M73: 1 | N73: 0 | O73: 0.5 | P73: =SUM(K73:O73) | Q73: 0 | R73: 0 | S73: 0 | T73: =SUM(Q73:S73) | U73: 0 | V73: 0 | W73: 0 | X73: 0 | Y73: =SUM(U73:X73) | Z73: 0 | AA73: 0 | AB73: =SUM(Z73:AA73) | AC73: 0 | AD73: 0 | AE73: 0 | AF73: =SUM(AC73:AE73) | AG73: 0 | AH73: 0 | AI73: =SUM(AG73:AH73) | AJ73: =SUM(C73:J73)+P73+T73+Y73+AB73+AF73+AI73
A74: 2E | B74: [Person_21] | C74: 3.78 | D74: 0 | E74: 0.51 | F74: 0.5 | G74: 0 | H74: 1 | I74: 0 | J74: 0.51 | K74: 0 | L74: 0 | M74: 0.34 | N74: 0 | O74: 0 | P74: =SUM(K74:O74) | Q74: 0 | R74: 0 | S74: 0 | T74: =SUM(Q74:S74) | U74: 0 | V74: 0 | W74: 0 | X74: 0 | Y74: =SUM(U74:X74) | Z74: 0 | AA74: 0.06 | AB74: =SUM(Z74:AA74) | AC74: 0 | AD74: 0 | AE74: 0 | AF74: =SUM(AC74:AE74) | AG74: 0 | AH74: 0 | AI74: =SUM(AG74:AH74) | AJ74: =SUM(C74:J74)+P74+T74+Y74+AB74+AF74+AI74
A75: A7 | B75: [Person_22] | C75: 1.81 | D75: 0 | E75: 0 | F75: 0 | G75: 0 | H75: 1 | I75: 0.74 | J75: 0 | K75: 0 | L75: 0 | M75: 0.24 | N75: 0 | O75: 0 | P75: =SUM(K75:O75) | Q75: 0 | R75: 0 | S75: 0 | T75: =SUM(Q75:S75) | U75: 0 | V75: 0 | W75: 0 | X75: 0 | Y75: =SUM(U75:X75) | Z75: 0 | AA75: 0 | AB75: =SUM(Z75:AA75) | AC75: 0 | AD75: 0 | AE75: 0.39 | AF75: =SUM(AC75:AE75) | AG75: 0 | AH75: 0 | AI75: =SUM(AG75:AH75) | AJ75: =SUM(C75:J75)+P75+T75+Y75+AB75+AF75+AI75
A76: 7C | B76: Monticello Acad | C76: 4.21 | D76: 0 | E76: 0 | F76: 0 | G76: 1.2 | H76: 0 | I76: 0 | J76: 0.38 | K76: 0.95 | L76: 0 | M76: 0.41 | N76: 1.4 | O76: 0 | P76: =SUM(K76:O76) | Q76: 0.2 | R76: 0.2 | S76: 2.06 | T76: =SUM(Q76:S76) | U76: 0 | V76: 0 | W76: 0 | X76: 0 | Y76: =SUM(U76:X76) | Z76: 0 | AA76: 0 | AB76: =SUM(Z76:AA76) | AC76: 1.25 | AD76: 0.2 | AE76: 2.94 | AF76: =SUM(AC76:AE76) | AG76: 0 | AH76: 0 | AI76: =SUM(AG76:AH76) | AJ76: =SUM(C76:J76)+P76+T76+Y76+AB76+AF76+AI76
A77: 8C | B77: [Person_23] | C77: 23.5 | D77: 1 | E77: 0 | F77: 0 | G77: 0.25 | H77: 0 | I77: 1 | J77: 2 | K77: 1 | L77: 0 | M77: 0 | N77: 0 | O77: 0 | P77: =SUM(K77:O77) | Q77: 0 | R77: 0 | S77: 1.4 | T77: =SUM(Q77:S77) | U77: 0 | V77: 0 | W77: 0 | X77: 0 | Y77: =SUM(U77:X77) | Z77: 0 | AA77: 0 | AB77: =SUM(Z77:AA77) | AC77: 0 | AD77: 0 | AE77: 0 | AF77: =SUM(AC77:AE77) | AG77: 0 | AH77: 0 | AI77: =SUM(AG77:AH77) | AJ77: =SUM(C77:J77)+P77+T77+Y77+AB77+AF77+AI77
A78: 9B | B78: Navigator [Person_24] | C78: 11.22 | D78: 2.85 | E78: 0 | F78: 0 | G78: 0 | H78: 1 | I78: 0 | J78: 2.65 | K78: 0 | L78: 0 | M78: 0 | N78: 0 | O78: 0 | P78: =SUM(K78:O78) | Q78: 0 | R78: 0 | S78: 1.5 | T78: =SUM(Q78:S78) | U78: 0 | V78: 0 | W78: 0 | X78: 0 | Y78: =SUM(U78:X78) | Z78: 0 | AA78: 0 | AB78: =SUM(Z78:AA78) | AC78: 0 | AD78: 0 | AE78: 0 | AF78: =SUM(AC78:AE78) | AG78: 0 | AH78: 0 | AI78: =SUM(AG78:AH78) | AJ78: =SUM(C78:J78)+P78+T78+Y78+AB78+AF78+AI78
A79: 6D | B79: [Person_25] | C79: 8 | D79: 0 | E79: 0 | F79: 0 | G79: 2.05 | H79: 0 | I79: 0 | J79: 3 | K79: 0 | L79: 0 | M79: 1 | N79: 0 | O79: 1 | P79: =SUM(K79:O79) | Q79: 0 | R79: 0 | S79: 0 | T79: =SUM(Q79:S79) | U79: 0 | V79: 0 | W79: 0 | X79: 0 | Y79: =SUM(U79:X79) | Z79: 0 | AA79: 0 | AB79: =SUM(Z79:AA79) | AC79: 0 | AD79: 0 | AE79: 0 | AF79: =SUM(AC79:AE79) | AG79: 0 | AH79: 0 | AI79: =SUM(AG79:AH79) | AJ79: =SUM(C79:J79)+P79+T79+Y79+AB79+AF79+AI79
A80: A6 | B80: [Person_26] | C80: 7.6 | D80: 0 | E80: 0 | F80: 0 | G80: 0.47 | H80: 0 | I80: 0 | J80: 3.08 | K80: 0 | L80: 0 | M80: 0 | N80: 0 | O80: 0 | P80: =SUM(K80:O80) | Q80: 0 | R80: 0 | S80: 0.82 | T80: =SUM(Q80:S80) | U80: 0 | V80: 0 | W80: 0 | X80: 0 | Y80: =SUM(U80:X80) | Z80: 0 | AA80: 1.22 | AB80: =SUM(Z80:AA80) | AC80: 1 | AD80: 0 | AE80: 0.9 | AF80: =SUM(AC80:AE80) | AG80: 0 | AH80: 0 | AI80: =SUM(AG80:AH80) | AJ80: =SUM(C80:J80)+P80+T80+Y80+AB80+AF80+AI80
A81: 5B | B81: North Star Acad | C81: 13.66 | D81: 0 | E81: 0 | F81: 0 | G81: 0 | H81: 0 | I81: 0 | J81: 2.25 | K81: 0 | L81: 0 | M81: 0 | N81: 0 | O81: 0 | P81: =SUM(K81:O81) | Q81: 0 | R81: 1.08 | S81: 0.68 | T81: =SUM(Q81:S81) | U81: 0 | V81: 0 | W81: 0 | X81: 0 | Y81: =SUM(U81:X81) | Z81: 0 | AA81: 0 | AB81: =SUM(Z81:AA81) | AC81: 0.83 | AD81: 0 | AE81: 0.63 | AF81: =SUM(AC81:AE81) | AG81: 0 | AH81: 0 | AI81: =SUM(AG81:AH81) | AJ81: =SUM(C81:J81)+P81+T81+Y81+AB81+AF81+AI81
... A83: 1C | B83: Odyssey | C83: 13.17 | D83: 0.48 | E83: 0 | F83: 0 | G83: 0.5 | H83: 0 | I83: 0 | J83: 2.13 | K83: 1 | L83: 0 | M83: 0 | N83: 0 | O83: 0 | P83: =SUM(K83:O83) | Q83: 0 | R83: 0 | S83: 1.64 | T83: =SUM(Q83:S83) | U83: 0 | V83: 0 | W83: 0 | X83: 0 | Y83: =SUM(U83:X83) | Z83: 0 | AA83: 0 | AB83: =SUM(Z83:AA83) | AC83: 0 | AD83: 0 | AE83: 0 | AF83: =SUM(AC83:AE83) | AG83: 0 | AH83: 0 | AI83: =SUM(AG83:AH83) | AJ83: =SUM(C83:J83)+P83+T83+Y83+AB83+AF83+AI83
A84: 68 | B84: Ogden Prep | C84: 9.37 | D84: 0 | E84: 0 | F84: 0 | G84: 1.08 | H84: 0 | I84: 0 | J84: 2.91 | K84: 0 | L84: 0 | M84: 0 | N84: 0 | O84: 0 | P84: =SUM(K84:O84) | Q84: 0 | R84: 0 | S84: 0 | T84: =SUM(Q84:S84) | U84: 0 | V84: 0 | W84: 0 | X84: 0 | Y84: =SUM(U84:X84) | Z84: 0 | AA84: 0 | AB84: =SUM(Z84:AA84) | AC84: 1 | AD84: 0 | AE84: 1.73 | AF84: =SUM(AC84:AE84) | AG84: 0 | AH84: 0 | AI84: =SUM(AG84:AH84) | AJ84: =SUM(C84:J84)+P84+T84+Y84+AB84+AF84+AI84
A85: 8D | B85: Open Classroom | C85: 0.82 | D85: 0 | E85: 0 | F85: 0 | G85: 0 | H85: 0 | I85: 0 | J85: 4.73 | K85: 0 | L85: 0 | M85: 0 | N85: 0 | O85: 0 | P85: =SUM(K85:O85) | Q85: 0 | R85: 0 | S85: 1.78 | T85: =SUM(Q85:S85) | U85: 0 | V85: 0 | W85: 0 | X85: 0 | Y85: =SUM(U85:X85) | Z85: 0 | AA85: 0 | AB85: =SUM(Z85:AA85) | AC85: 0 | AD85: 0 | AE85: 1.45 | AF85: =SUM(AC85:AE85) | AG85: 0 | AH85: 0 | AI85: =SUM(AG85:AH85) | AJ85: =SUM(C85:J85)+P85+T85+Y85+AB85+AF85+AI85
A86: 9C | B86: Paradigm High School | C86: 2 | D86: 0 | E86: 0 | F86: 0 | G86: 0 | H86: 1 | I86: 0.83 | J86: 0.83 | K86: 0.34 | L86: 0 | M86: 0 | N86: 0 | O86: 0 | P86: =SUM(K86:O86) | Q86: 0 | R86: 0 | S86: 1 | T86: =SUM(Q86:S86) | U86: 0 | V86: 0 | W86: 1 | X86: 0 | Y86: =SUM(U86:X86) | Z86: 0 | AA86: 0 | AB86: =SUM(Z86:AA86) | AC86: 0 | AD86: 0 | AE86: 0 | AF86: =SUM(AC86:AE86) | AG86: 0 | AH86: 0 | AI86: =SUM(AG86:AH86) | AJ86: =SUM(C86:J86)+P86+T86+Y86+AB86+AF86+AI86
A87: 86 | B87: Pinnacle Canyon | C87: 26.61 | D87: 0 | E87: 1 | F87: 0 | G87: 0.81 | H87: 0 | I87: 0 | J87: 1.16 | K87: 0.5 | L87: 0 | M87: 0 | N87: 0 | O87: 0 | P87: =SUM(K87:O87) | Q87: 0 | R87: 0 | S87: 2.19 | T87: =SUM(Q87:S87) | U87: 0 | V87: 0 | W87: 0 | X87: 0 | Y87: =SUM(U87:X87) | Z87: 0.92 | AA87: 5.22 | AB87: =SUM(Z87:AA87) | AC87: 0.25 | AD87: 0.41 | AE87: 1.46 | AF87: =SUM(AC87:AE87) | AG87: 0 | AH87: 0 | AI87: =SUM(AG87:AH87) | AJ87: =SUM(C87:J87)+P87+T87+Y87+AB87+AF87+AI87
A88: A2 | B88: Ranches | C88: 14.63 | D88: 0 | E88: 0 | F88: 0 | G88: 1.88 | H88: 1 | I88: 0 | J88: 1 | K88: 1 | L88: 0 | M88: 0 | N88: 0 | O88: 0.08 | P88: =SUM(K88:O88) | Q88: 0 | R88: 0 | S88: 0.88 | T88: =SUM(Q88:S88) | U88: 0 | V88: 0 | W88: 0 | X88: 0 | Y88: =SUM(U88:X88) | Z88: 0 | AA88: 0 | AB88: =SUM(Z88:AA88) | AC88: 0 | AD88: 0 | AE88: 0 | AF88: =SUM(AC88:AE88) | AG88: 0 | AH88: 0 | AI88: =SUM(AG88:AH88) | AJ88: =SUM(C88:J88)+P88+T88+Y88+AB88+AF88+AI88
A89: 7B | B89: [Person_15] Acad | C89: 18 | D89: 0 | E89: 2 | F89: 1 | G89: 1.25 | H89: 0 | I89: 0 | J89: 0 | K89: 0 | L89: 0 | M89: 0 | N89: 1 | O89: 0 | P89: =SUM(K89:O89) | Q89: 0 | R89: 0 | S89: 1.5 | T89: =SUM(Q89:S89) | U89: 0 | V89: 0 | W89: 0 | X89: 0 | Y89: =SUM(U89:X89) | Z89: 0 | AA89: 0 | AB89: =SUM(Z89:AA89) | AC89: 2 | AD89: 0 | AE89: 3 | AF89: =SUM(AC89:AE89) | AG89: 0 | AH89: 0 | AI89: =SUM(AG89:AH89) | AJ89: =SUM(C89:J89)+P89+T89+Y89+AB89+AF89+AI89
A90: 1D | B90: Renaissance Acad | C90: 11.83 | D90: 0 | E90: 0 | F90: 0 | G90: 0 | H90: 0 | I90: 3.59 | J90: 0 | K90: 0 | L90: 0 | M90: 0 | N90: 0 | O90: 0 | P90: =SUM(K90:O90) | Q90: 0 | R90: 0 | S90: 1.55 | T90: =SUM(Q90:S90) | U90: 0 | V90: 0 | W90: 0 | X90: 0 | Y90: =SUM(U90:X90) | Z90: 0 | AA90: 0 | AB90: =SUM(Z90:AA90) | AC90: 0 | AD90: 0 | AE90: 0 | AF90: =SUM(AC90:AE90) | AG90: 0 | AH90: 0 | AI90: =SUM(AG90:AH90) | AJ90: =SUM(C90:J90)+P90+T90+Y90+AB90+AF90+AI90
A91: 97 | B91: Salt Lake Arts Acad | C91: 3.25 | D91: 0 | E91: 0 | F91: 0 | G91: 0 | H91: 1 | I91: 1 | J91: 0 | K91: 1 | L91: 0 | M91: 0 | N91: 0 | O91: 1 | P91: =SUM(K91:O91) | Q91: 0 | R91: 0 | S91: 1 | T91: =SUM(Q91:S91) | U91: 0 | V91: 0 | W91: 0 | X91: 0 | Y91: =SUM(U91:X91) | Z91: 0 | AA91: 0 | AB91: =SUM(Z91:AA91) | AC91: 0 | AD91: 0 | AE91: 0 | AF91: =SUM(AC91:AE91) | AG91: 0 | AH91: 0 | AI91: =SUM(AG91:AH91) | AJ91: =SUM(C91:J91)+P91+T91+Y91+AB91+AF91+AI91
A92: 7D | B92: Salt Lake School for Perf. Arts | C92: 0 | D92: 0 | E92: 0 | F92: 0 | G92: 0 | H92: 0 | I92: 0 | J92: 1 | K92: 0 | L92: 0 | M92: 0.94 | N92: 0 | O92: 0 | P92: =SUM(K92:O92) | Q92: 0 | R92: 0 | S92: 0 | T92: =SUM(Q92:S92) | U92: 0 | V92: 0 | W92: 0 | X92: 0 | Y92: =SUM(U92:X92) | Z92: 0 | AA92: 0 | AB92: =SUM(Z92:AA92) | AC92: 0 | AD92: 0 | AE92: 0 | AF92: =SUM(AC92:AE92) | AG92: 0 | AH92: 0 | AI92: =SUM(AG92:AH92) | AJ92: =SUM(C92:J92)+P92+T92+Y92+AB92+AF92+AI92
A93: 89 | B93: [Person_16] | C93: 0 | D93: 0 | E93: 0 | F93: 0 | G93: 0 | H93: 0 | I93: 0 | J93: 1 | K93: 0 | L93: 0 | M93: 0 | N93: 0 | O93: 0 | P93: =SUM(K93:O93) | Q93: 0 | R93: 0 | S93: 0 | T93: =SUM(Q93:S93) | U93: 0 | V93: 0 | W93: 0 | X93: 0 | Y93: =SUM(U93:X93) | Z93: 0 | AA93: 0 | AB93: =SUM(Z93:AA93) | AC93: 0 | AD93: 0 | AE93: 0 | AF93: =SUM(AC93:AE93) | AG93: 0 | AH93: 0 | AI93: =SUM(AG93:AH93) | AJ93: =SUM(C93:J93)+P93+T93+Y93+AB93+AF93+AI93
A94: 3D | B94: Spectrum Acad | C94: 12.62 | D94: 0.05 | E94: 0 | F94: 0 | G94: 0.69 | H94: 0 | I94: 0 | J94: 1 | K94: 1 | L94: 0 | M94: 0 | N94: 1 | O94: 0.1 | P94: =SUM(K94:O94) | Q94: 0 | R94: 0 | S94: 0.21 | T94: =SUM(Q94:S94) | U94: 0 | V94: 0 | W94: 0 | X94: 0 | Y94: =SUM(U94:X94) | Z94: 0 | AA94: 2 | AB94: =SUM(Z94:AA94) | AC94: 0 | AD94: 0 | AE94: 0 | AF94: =SUM(AC94:AE94) | AG94: 0 | AH94: 0 | AI94: =SUM(AG94:AH94) | AJ94: =SUM(C94:J94)+P94+T94+Y94+AB94+AF94+AI94
A95: A9 | B95: SUCCESS Acad | C95: 0.68 | D95: 0 | E95: 0 | F95: 0 | G95: 0 | H95: 0 | I95: 0 | J95: 2 | K95: 0 | L95: 0 | M95: 0 | N95: 0 | O95: 0 | P95: =SUM(K95:O95) | Q95: 0 | R95: 0 | S95: 0 | T95: =SUM(Q95:S95) | U95: 0 | V95: 0 | W95: 0 | X95: 0 | Y95: =SUM(U95:X95) | Z95: 0 | AA95: 0 | AB95: =SUM(Z95:AA95) | AC95: 0 | AD95: 0 | AE95: 0 | AF95: =SUM(AC95:AE95) | AG95: 0 | AH95: 0 | AI95: =SUM(AG95:AH95) | AJ95: =SUM(C95:J95)+P95+T95+Y95+AB95+AF95+AI95
A96: 88 | B96: Success School | C96: 1 | D96: 0 | E96: 0 | F96: 0.75 | G96: 0 | H96: 0 | I96: 0 | J96: 0 | K96: 0 | L96: 0 | M96: 0 | N96: 0 | O96: 0 | P96: =SUM(K96:O96) | Q96: 0 | R96: 0 | S96: 0 | T96: =SUM(Q96:S96) | U96: 0 | V96: 0 | W96: 0 | X96: 0 | Y96: =SUM(U96:X96) | Z96: 0 | AA96: 0 | AB96: =SUM(Z96:AA96) | AC96: 0 | AD96: 0 | AE96: 0 | AF96: =SUM(AC96:AE96) | AG96: 0 | AH96: 0 | AI96: =SUM(AG96:AH96) | AJ96: =SUM(C96:J96)+P96+T96+Y96+AB96+AF96+AI96
A97: A4 | B97: Summit Acad | C97: 16.5 | D97: 0 | E97: 2 | F97: 0 | G97: 1 | H97: 1 | I97: 0 | J97: 3 | K97: 0.3 | L97: 0 | M97: 0 | N97: 0 | O97: 0 | P97: =SUM(K97:O97) | Q97: 0 | R97: 1 | S97: 0 | T97: =SUM(Q97:S97) | U97: 0 | V97: 0 | W97: 0 | X97: 0 | Y97: =SUM(U97:X97) | Z97: 0 | AA97: 0 | AB97: =SUM(Z97:AA97) | AC97: 0 | AD97: 0 | AE97: 1 | AF97: =SUM(AC97:AE97) | AG97: 0 | AH97: 0 | AI97: =SUM(AG97:AH97) | AJ97: =SUM(C97:J97)+P97+T97+Y97+AB97+AF97+AI97
A98: 4D | B98: Syracuse Arts | C98: 5.57 | D98: 0 | E98: 0 | F98: 0 | G98: 0 | H98: 0 | I98: 0 | J98: 2.26 | K98: 0 | L98: 0 | M98: 0 | N98: 0 | O98: 0 | P98: =SUM(K98:O98) | Q98: 0 | R98: 0 | S98: 0.68 | T98: =SUM(Q98:S98) | U98: 0 | V98: 0 | W98: 0 | X98: 0 | Y98: =SUM(U98:X98) | Z98: 0 | AA98: 0.3 | AB98: =SUM(Z98:AA98) | AC98: 0.68 | AD98: 0 | AE98: 0.51 | AF98: =SUM(AC98:AE98) | AG98: 0 | AH98: 0 | AI98: =SUM(AG98:AH98) | AJ98: =SUM(C98:J98)+P98+T98+Y98+AB98+AF98+AI98
A99: 94 | B99: [Person_17] | C99: 12.8 | D99: 0 | E99: 1 | F99: 1 | G99: 0.6 | H99: 0 | I99: 0 | J99: 0 | K99: 0 | L99: 0 | M99: 0 | N99: 0 | O99: 0 | P99: =SUM(K99:O99) | Q99: 0 | R99: 0 | S99: 2 | T99: =SUM(Q99:S99) | U99: 0 | V99: 0 | W99: 0 | X99: 0 | Y99: =SUM(U99:X99) | Z99: 0 | AA99: 0 | AB99: =SUM(Z99:AA99) | AC99: 0 | AD99: 0 | AE99: 0 | AF99: =SUM(AC99:AE99) | AG99: 0 | AH99: 0 | AI99: =SUM(AG99:AH99) | AJ99: =SUM(C99:J99)+P99+T99+Y99+AB99+AF99+AI99
A100: 6B | B100: [Person_18] | C100: 12.8 | D100: 0 | E100: 1 | F100: 1 | G100: 0.6 | H100: 0 | I100: 0 | J100: 0 | K100: 0 | L100: 0 | M100: 0 | N100: 0 | O100: 0 | P100: =SUM(K100:O100) | Q100: 0 | R100: 0 | S100: 2 | T100: =SUM(Q100:S100) | U100: 0 | V100: 0 | W100: 0 | X100: 0 | Y100: =SUM(U100:X100) | Z100: 0 | AA100: 0 | AB100: =SUM(Z100:AA100) | AC100: 0 | AD100: 0 | AE100: 0 | AF100: =SUM(AC100:AE100) | AG100: 0 | AH100: 0 | AI100: =SUM(AG100:AH100) | AJ100: =SUM(C100:J100)+P100+T100+Y100+AB100+AF100+AI100
A101: 95 | B101: [Person_27]. | C101: 7.5 | D101: 0 | E101: 0 | F101: 0 | G101: 0 | H101: 0 | I101: 2 | J101: 0 | K101: 0 | L101: 0 | M101: 1.25 | N101: 0 | O101: 0 | P101: =SUM(K101:O101) | Q101: 0 | R101: 1 | S101: 0 | T101: =SUM(Q101:S101) | U101: 0 | V101: 0 | W101: 0 | X101: 0 | Y101: =SUM(U101:X101) | Z101: 0 | AA101: 0 | AB101: =SUM(Z101:AA101) | AC101: 0 | AD101: 0 | AE101: 0 | AF101: =SUM(AC101:AE101) | AG101: 0 | AH101: 0 | AI101: =SUM(AG101:AH101) | AJ101: =SUM(C101:J101)+P101+T101+Y101+AB101+AF101+AI101
A102: 90 | B102: Tuacahn High | C102: 1 | D102: 0 | E102: 0 | F102: 0 | G102: 0 | H102: 0 | I102: 0 | J102: 1 | K102: 1 | L102: 0 | M102: 0 | N102: 0 | O102: 0 | P102: =SUM(K102:O102) | Q102: 0 | R102: 0 | S102: 0 | T102: =SUM(Q102:S102) | U102: 0 | V102: 0 | W102: 0 | X102: 0 | Y102: =SUM(U102:X102) | Z102: 0 | AA102: 0 | AB102: =SUM(Z102:AA102) | AC102: 0 | AD102: 0 | AE102: 0 | AF102: =SUM(AC102:AE102) | AG102: 0 | AH102: 0 | AI102: =SUM(AG102:AH102) | AJ102: =SUM(C102:J102)+P102+T102+Y102+AB102+AF102+AI102
A103: 1B | B103: UCAS | C103: 0 | D103: 0 | E103: 1.5 | F103: 0 | G103: 0 | H103: 0 | I103: 0 | J103: 1 | K103: 0 | L103: 0 | M103: 0.25 | N103: 0 | O103: 0 | P103: =SUM(K103:O103) | Q103: 0 | R103: 0 | S103: 0 | T103: =SUM(Q103:S103) | U103: 0 | V103: 0 | W103: 0 | X103: 0 | Y103: =SUM(U103:X103) | Z103: 0 | AA103: 0 | AB103: =SUM(Z103:AA103) | AC103: 0.5 | AD103: 0 | AE103: 0 | AF103: =SUM(AC103:AE103) | AG103: 0 | AH103: 0 | AI103: =SUM(AG103:AH103) | AJ103: =SUM(C103:J103)+P103+T103+Y103+AB103+AF103+AI103
A104: 92 | B104: Uintah River | C104: 0 | D104: 0 | E104: 0.1 | F104: 1 | G104: 1 | H104: 0 | I104: 0 | J104: 0 | K104: 0.15 | L104: 0 | M104: 0 | N104: 0 | O104: 0 | P104: =SUM(K104:O104) | Q104: 0 | R104: 0 | S104: 1 | T104: =SUM(Q104:S104) | U104: 0 | V104: 0 | W104: 0 | X104: 0 | Y104: =SUM(U104:X104) | Z104: 0 | AA104: 1 | AB104: =SUM(Z104:AA104) | AC104: 0 | AD104: 0 | AE104: 0 | AF104: =SUM(AC104:AE104) | AG104: 0 | AH104: 0 | AI104: =SUM(AG104:AH104) | AJ104: =SUM(C104:J104)+P104+T104+Y104+AB104+AF104+AI104
A105: 81 | B105: Walden | C105: 5.91 | D105: 0 | E105: 0.9 | F105: 0 | G105: 0 | H105: 0 | I105: 0 | J105: 0 | K105: 0 | L105: 0 | M105: 0 | N105: 0 | O105: 0 | P105: =SUM(K105:O105) | Q105: 0 | R105: 0 | S105: 1.11 | T105: =SUM(Q105:S105) | U105: 0 | V105: 0 | W105: 0 | X105: 0 | Y105: =SUM(U105:X105) | Z105: 0 | AA105: 0 | AB105: =SUM(Z105:AA105) | AC105: 0 | AD105: 0 | AE105: 0.71 | AF105: =SUM(AC105:AE105) | AG105: 0 | AH105: 0 | AI105: =SUM(AG105:AH105) | AJ105: =SUM(C105:J105)+P105+T105+Y105+AB105+AF105+AI105
A106: 4B | B106: Wasatch Peak | C106: 8.19 | D106: 0 | E106: 0 | F106: 0 | G106: 0.45 | H106: 0 | I106: 0 | J106: 1.73 | K106: 0 | L106: 0 | M106: 0 | N106: 0 | O106: 0 | P106: =SUM(K106:O106) | Q106: 0 | R106: 0 | S106: 1.08 | T106: =SUM(Q106:S106) | U106: 0 | V106: 0 | W106: 0 | X106: 0 | Y106: =SUM(U106:X106) | Z106: 0 | AA106: 0 | AB106: =SUM(Z106:AA106) | AC106: 0.65 | AD106: 0 | AE106: 0.83 | AF106: =SUM(AC106:AE106) | AG106: 0 | AH106: 0 | AI106: =SUM(AG106:AH106) | AJ106: =SUM(C106:J106)+P106+T106+Y106+AB106+AF106+AI106
B107: CHARTER SCHOOL TOTAL | C107: =SUM(C49:C106) | D107: =SUM(D49:D106) | E107: =SUM(E49:E106) | F107: =SUM(F49:F106) | G107: =SUM(G49:G106) | H107: =SUM(H49:H106) | I107: =SUM(I49:I106) | J107: =SUM(J49:J106) | ... AI107: =SUM(AI49:AI106) | AJ107: =SUM(C107:J107)+P107+T107+Y107+AB107+AF107+AI107
B108: STATE TOTAL | C108: =C47+C107 | D108: =D47+D107 | E108: =E47+E107 | F108: =F47+F107 | G108: =G47+G107 | H108: =H47+H107 | I108: =I47+I107 | J108: =J47+J107 | ... AI108: =AI47+AI107 | AJ108: =SUM(C108:J108)+P108+T108+Y108+AB108+AF108+AI108
